{"text_format":"3","workbook":"xlsx","n_sheets":26,"sheets":["Итоговый","Отчет_ЦСП","СП_без предварительных","СП_с предварительными","Нормативы","Очки","Ст. секундометрист","Ведомость 6","Техническая один зачет","Именная заявка один зачет","Техническая по возраст группам","Именная по возраст группам","Техническая по возраст груп пар","Именная по возраст группам пар","Техническая_марафон","Именная заявка марафон","Техническая параллельный зачет","Отчет_ГСК_Первенство","Карточка эстафеты","Дистанции взрослые","Рекорды","Протокол прохождения марафон","Протокол_прохождения","Грамоты_МИНСПОРТА","нормы_с_28.02.20","Нормы 2018-1921"],"not_rendered":{"external_links":2,"defined_names":12},"read":"whole","date_system":"1900"}

{"sheet":"Итоговый","index":0,"n_rows":318,"n_cols":10,"rows_kept":318,"merged":[[0,0,0,10],[1,0,1,10],[2,0,2,10],[21,0,21,10],[22,0,22,11],[47,3,47,7],[48,0,48,10],[50,2,50,10],[51,0,51,10],[52,0,52,10],[53,0,53,10],[54,0,54,11],[55,6,55,10],[56,0,56,10],[57,1,57,3],[57,4,57,6],[57,8,57,10],[59,4,59,6],[60,4,60,6],[61,4,61,6],[62,4,62,6],[63,4,63,6],[64,4,64,6],[65,4,65,6],[66,4,66,6],[67,4,67,6],[68,4,68,6],[69,4,69,6],[70,4,70,6],[71,4,71,6],[72,4,72,6],[73,4,73,6],[74,4,74,6],[75,4,75,6],[76,4,76,6],[77,4,77,6],[77,14,78,14],[77,15,78,15],[78,4,78,6],[79,4,79,6],[80,4,80,6],[81,4,81,6],[82,4,82,6],[83,4,83,6],[86,4,86,5],[87,4,87,5],[88,4,88,5],[94,1,94,3],[95,0,95,9],[96,0,96,10],[97,0,97,10],[98,0,98,10],[99,0,99,11],[100,6,100,10],[101,0,101,10],[102,0,102,10],[103,0,104,0],[103,1,104,1],[103,2,104,3],[103,4,104,4],[103,5,104,6],[103,7,103,8],[103,9,104,9],[103,10,104,10],[115,16,115,17]]}
["Главное управление по физической культуре, спорту и туризму администрации города Красноярска"]
["Региональная общественная организация \"Федерация подводного спорта Красноярского края\""]
{"$rows_empty":19}
["Первенство города по подводному спорту "]
["среди юношей и девушек 9-11 лет"]
{"$rows_empty":24}
[{"$nulls":3},"г. Красноярск, бассейн \"Здоровый мир\" 25 м."]
["20 января 2026 г."]
[]
[]
["Главное управление по физической культуре, спорту и туризму администрации города Красноярска"]
["Региональная общественная организация \"Федерация подводного спорта Красноярского края\""]
["Первенство города по подводному спорту "]
["среди юношей и девушек 9-11 лет"]
["20 января 2026 г.",{"$nulls":5},{"$f":"$D$48","v":"г. Красноярск, бассейн \"Здоровый мир\" 25 м."}]
["СПИСОК СУДЕЙ"]
["№ п/п","Должность",null,null,"Фамилия, Имя, Отчество",null,null,"Категория","Город, клуб"]
[]
[1,"Главный судья",null,null,"Фалеева Елена Александровна",null,null,"СС1К","Красноярск"]
[2,"Главный секретарь",null,null,"Реди Елена Владимировна",null,null,"ССВК","Красноярск"]
[3,"Врач",null,null,"Андреянова Ирина Васильевна",{"$nulls":3},"Красноярск"]
[4,"Зам. главного судьи",null,null,"Бабаев Федор Игоревич",null,null,"СС1К","Красноярск"]
[5,"Ст. хронометрист",null,null,"Фалеева Александра Александровна",null,null,"СС3К","Красноярск"]
[6,"Помощник ст.хронометриста",null,null,"Чеботарева Анастасия Денисовна",null,null,"СС","Красноярск"]
[7,"Судья - секундометрист",null,null,"Капитонов Кирилл Артемович",null,null,"СС","Красноярск"]
[8,"Судья - секундометрист",null,null,"Давлячин Илья Александрович",null,null,"СС3К","Красноярск"]
[9,"Судья - секундометрист",null,null,"Фуражкин Максим Владимирович",null,null,"СС","Красноярск"]
[10,"Судья - секундометрист",null,null,"Гончаров Тимофей Александрович",null,null,"СС","Красноярск"]
[11,"Судья - секундометрист",null,null,"Тюклин Максим Витальевич",null,null,"СС3К","Красноярск"]
[12,"Судья - секундометрист",null,null,"Тарасов Владимир Алексеевич",null,null,"СС","Красноярск"]
[13,"Стартер",null,null,"Сарин Алексей Николаевич",null,null,"СС","Красноярск"]
[14,"Судья - информатор",null,null,"Бабаева Анастасия Андреевна",null,null,"СС","Красноярск"]
[15,"Ст. судья на финише",null,null,"Терсков Богдан Иванович",null,null,"СС","Красноярск"]
[16,"Судья на финише",null,null,"Мамонтов Евгений Владимирович",null,null,"СС","Красноярск"]
[17,"Ст. судья при участниках",null,null,"Курпас Елизавета Юрьевна",null,null,"СС3К","Красноярск"]
[18,"Судья при участниках",null,null,"Петровская Ольга Ивановна",null,null,"СС","Красноярск"]
[19,"Судья при участниках",null,null,"Полякова Юлия Вячеславовна",null,null,"СС","Красноярск"]
[20,"Ст. судья на дистанции",null,null,"Крутяков Андрей Владимирович",null,null,"СС1К","Красноярск"]
[21,"Судья на дистанции",null,null,"Нуяксова Диана Юрьевна",null,null,"СС3К","Красноярск"]
[22,"Судья на дистанции",null,null,"Швецова Нина Васильевна",null,null,"СС1К","Красноярск"]
[23,"Секретарь",null,null,"Горохова Мария Павловна",null,null,"СС","Красноярск"]
[24,"Судья на повороте",null,null,"Шлыкова Злата Андреевна",null,null,"СС","Красноярск"]
[25,"Судья на повороте",null,null,"Ковалевич Варвара Андреевна",null,null,"СС","Красноярск"]
[26,"Судья на финише",null,null,"Седайкин Семен Игоревич",null,null,"СС","Красноярск"]
[27,"Судья на дистанции",null,null,"Мальков Михаил Максимович",null,null,"СС","Красноярск"]
{"$rows_empty":10}
["Главное управление по физической культуре, спорту и туризму администрации города Красноярска"]
["Региональная общественная организация \"Федерация подводного спорта Красноярского края\""]
["Первенство города по подводному спорту "]
["среди юношей и девушек 9-11 лет"]
["20 января 2026 г.",{"$nulls":5},"г. Красноярск, б-н \"СФУ\" 25 метров"]
["П Р О Т О К О Л"]
["технических результатов"]
["Место","Разряд,\nзвание","Фамилия, Имя, Отчество",null,"Дата\nрожд-я","Команда",null,"Результат",null,"Норматив"]
[{"$nulls":7},"Предв.","Финал"]
[]
[null,null,"Плавание в  ластах - 50 м,  девушки 2015-2017 г.р. "]
[]
[1,"I юн","Бавтрушко Елизавета","Артемовна","2015-01-08","ДВС",null,null,26.48,{"$f":"IF(ISBLANK(I109),\" \",IF(ISTEXT(I109),\" \",IF(I109<=Нормативы!$H$5,\"КМС\",IF(I109<=Нормативы!$H$6,\"КМС\",IF(I109<=Нормативы!$L$7,\"КМС\",IF(I109<=Нормативы!$L$8,\"I\",IF(I109<=Нормативы!$L$9,\"II\",IF(I109<=Нормативы!$L$10,\"III\",IF(I109<=Нормативы!$L$11,\"I юн\",IF(I109<=Нормативы!$L$12,\"II юн\",IF(I109<=Нормативы!$L$13,\"III юн\",IF(ISTEXT(I109),\" \",IF(ISBLANK(I109),\" \",\"б/р\")))))))))))))","v":"I юн"}]
[2,"I юн","Липкина Полина","Максимовна","2015-02-01","ДВС",null,null,27.45,{"$f":"IF(ISBLANK(I110),\" \",IF(ISTEXT(I110),\" \",IF(I110<=Нормативы!$H$5,\"КМС\",IF(I110<=Нормативы!$H$6,\"КМС\",IF(I110<=Нормативы!$L$7,\"КМС\",IF(I110<=Нормативы!$L$8,\"I\",IF(I110<=Нормативы!$L$9,\"II\",IF(I110<=Нормативы!$L$10,\"III\",IF(I110<=Нормативы!$L$11,\"I юн\",IF(I110<=Нормативы!$L$12,\"II юн\",IF(I110<=Нормативы!$L$13,\"III юн\",IF(ISTEXT(I110),\" \",IF(ISBLANK(I110),\" \",\"б/р\")))))))))))))","v":"II юн"}]
[3,"I юн","Валеева Лейсан","Каримовна","2015-08-28","Дианема",null,null,28.18,{"$f":"IF(ISBLANK(I111),\" \",IF(ISTEXT(I111),\" \",IF(I111<=Нормативы!$H$5,\"КМС\",IF(I111<=Нормативы!$H$6,\"КМС\",IF(I111<=Нормативы!$L$7,\"КМС\",IF(I111<=Нормативы!$L$8,\"I\",IF(I111<=Нормативы!$L$9,\"II\",IF(I111<=Нормативы!$L$10,\"III\",IF(I111<=Нормативы!$L$11,\"I юн\",IF(I111<=Нормативы!$L$12,\"II юн\",IF(I111<=Нормативы!$L$13,\"III юн\",IF(ISTEXT(I111),\" \",IF(ISBLANK(I111),\" \",\"б/р\")))))))))))))","v":"II юн"}]
[4,"I юн","Водясова Ксения","Романовна","2016-05-22","Дианема",null,null,29.94,{"$f":"IF(ISBLANK(I112),\" \",IF(ISTEXT(I112),\" \",IF(I112<=Нормативы!$H$5,\"КМС\",IF(I112<=Нормативы!$H$6,\"КМС\",IF(I112<=Нормативы!$L$7,\"КМС\",IF(I112<=Нормативы!$L$8,\"I\",IF(I112<=Нормативы!$L$9,\"II\",IF(I112<=Нормативы!$L$10,\"III\",IF(I112<=Нормативы!$L$11,\"I юн\",IF(I112<=Нормативы!$L$12,\"II юн\",IF(I112<=Нормативы!$L$13,\"III юн\",IF(ISTEXT(I112),\" \",IF(ISBLANK(I112),\" \",\"б/р\")))))))))))))","v":"III юн"}]
[5,"III юн","Плащенко Дарина","Ивановна","2015-06-24","\"Спутник-Авангард\"",null,null,30.2,{"$f":"IF(ISBLANK(I113),\" \",IF(ISTEXT(I113),\" \",IF(I113<=Нормативы!$H$5,\"КМС\",IF(I113<=Нормативы!$H$6,\"КМС\",IF(I113<=Нормативы!$L$7,\"КМС\",IF(I113<=Нормативы!$L$8,\"I\",IF(I113<=Нормативы!$L$9,\"II\",IF(I113<=Нормативы!$L$10,\"III\",IF(I113<=Нормативы!$L$11,\"I юн\",IF(I113<=Нормативы!$L$12,\"II юн\",IF(I113<=Нормативы!$L$13,\"III юн\",IF(ISTEXT(I113),\" \",IF(ISBLANK(I113),\" \",\"б/р\")))))))))))))","v":"III юн"}]
[6,"III юн","Котнекова Ксения ","Сергеевна","2015-12-19","\"Спутник-Авангард\"",null,null,30.41,{"$f":"IF(ISBLANK(I114),\" \",IF(ISTEXT(I114),\" \",IF(I114<=Нормативы!$H$5,\"КМС\",IF(I114<=Нормативы!$H$6,\"КМС\",IF(I114<=Нормативы!$L$7,\"КМС\",IF(I114<=Нормативы!$L$8,\"I\",IF(I114<=Нормативы!$L$9,\"II\",IF(I114<=Нормативы!$L$10,\"III\",IF(I114<=Нормативы!$L$11,\"I юн\",IF(I114<=Нормативы!$L$12,\"II юн\",IF(I114<=Нормативы!$L$13,\"III юн\",IF(ISTEXT(I114),\" \",IF(ISBLANK(I114),\" \",\"б/р\")))))))))))))","v":"III юн"}]
[7,"II юн","Кругликова Аглая","Сергеевна","2017-03-17","ДВС",null,null,31.43,{"$f":"IF(ISBLANK(I115),\" \",IF(ISTEXT(I115),\" \",IF(I115<=Нормативы!$H$5,\"КМС\",IF(I115<=Нормативы!$H$6,\"КМС\",IF(I115<=Нормативы!$L$7,\"КМС\",IF(I115<=Нормативы!$L$8,\"I\",IF(I115<=Нормативы!$L$9,\"II\",IF(I115<=Нормативы!$L$10,\"III\",IF(I115<=Нормативы!$L$11,\"I юн\",IF(I115<=Нормативы!$L$12,\"II юн\",IF(I115<=Нормативы!$L$13,\"III юн\",IF(ISTEXT(I115),\" \",IF(ISBLANK(I115),\" \",\"б/р\")))))))))))))","v":"III юн"}]
[8,"II юн","Гаджиева Сабина","Низамиевна","2015-09-29","Дианема",null,null,32.38,{"$f":"IF(ISBLANK(I116),\" \",IF(ISTEXT(I116),\" \",IF(I116<=Нормативы!$H$5,\"КМС\",IF(I116<=Нормативы!$H$6,\"КМС\",IF(I116<=Нормативы!$L$7,\"КМС\",IF(I116<=Нормативы!$L$8,\"I\",IF(I116<=Нормативы!$L$9,\"II\",IF(I116<=Нормативы!$L$10,\"III\",IF(I116<=Нормативы!$L$11,\"I юн\",IF(I116<=Нормативы!$L$12,\"II юн\",IF(I116<=Нормативы!$L$13,\"III юн\",IF(ISTEXT(I116),\" \",IF(ISBLANK(I116),\" \",\"б/р\")))))))))))))","v":"б/р"}]
[9,"Iюн","Членова Анастасия","Александровна","2015-04-18","Дианема",null,null,32.8,{"$f":"IF(ISBLANK(I117),\" \",IF(ISTEXT(I117),\" \",IF(I117<=Нормативы!$H$5,\"КМС\",IF(I117<=Нормативы!$H$6,\"КМС\",IF(I117<=Нормативы!$L$7,\"КМС\",IF(I117<=Нормативы!$L$8,\"I\",IF(I117<=Нормативы!$L$9,\"II\",IF(I117<=Нормативы!$L$10,\"III\",IF(I117<=Нормативы!$L$11,\"I юн\",IF(I117<=Нормативы!$L$12,\"II юн\",IF(I117<=Нормативы!$L$13,\"III юн\",IF(ISTEXT(I117),\" \",IF(ISBLANK(I117),\" \",\"б/р\")))))))))))))","v":"б/р"}]
[10,"II юн","Захарова Мария","Денисовна","2015-10-26","Дианема",null,null,34.91,{"$f":"IF(ISBLANK(I118),\" \",IF(ISTEXT(I118),\" \",IF(I118<=Нормативы!$H$5,\"КМС\",IF(I118<=Нормативы!$H$6,\"КМС\",IF(I118<=Нормативы!$L$7,\"КМС\",IF(I118<=Нормативы!$L$8,\"I\",IF(I118<=Нормативы!$L$9,\"II\",IF(I118<=Нормативы!$L$10,\"III\",IF(I118<=Нормативы!$L$11,\"I юн\",IF(I118<=Нормативы!$L$12,\"II юн\",IF(I118<=Нормативы!$L$13,\"III юн\",IF(ISTEXT(I118),\" \",IF(ISBLANK(I118),\" \",\"б/р\")))))))))))))","v":"б/р"}]
[11,"III юн","Малакеева Мирослава","Вячеславовна","01.01.2016\n","Дианема",null,null,36.16,{"$f":"IF(ISBLANK(I119),\" \",IF(ISTEXT(I119),\" \",IF(I119<=Нормативы!$H$5,\"КМС\",IF(I119<=Нормативы!$H$6,\"КМС\",IF(I119<=Нормативы!$L$7,\"КМС\",IF(I119<=Нормативы!$L$8,\"I\",IF(I119<=Нормативы!$L$9,\"II\",IF(I119<=Нормативы!$L$10,\"III\",IF(I119<=Нормативы!$L$11,\"I юн\",IF(I119<=Нормативы!$L$12,\"II юн\",IF(I119<=Нормативы!$L$13,\"III юн\",IF(ISTEXT(I119),\" \",IF(ISBLANK(I119),\" \",\"б/р\")))))))))))))","v":"б/р"}]
[12,"б/р","Швалова Софья","Егоровна","2016-05-22","Дианема",null,null,39.87,{"$f":"IF(ISBLANK(I120),\" \",IF(ISTEXT(I120),\" \",IF(I120<=Нормативы!$H$5,\"КМС\",IF(I120<=Нормативы!$H$6,\"КМС\",IF(I120<=Нормативы!$L$7,\"КМС\",IF(I120<=Нормативы!$L$8,\"I\",IF(I120<=Нормативы!$L$9,\"II\",IF(I120<=Нормативы!$L$10,\"III\",IF(I120<=Нормативы!$L$11,\"I юн\",IF(I120<=Нормативы!$L$12,\"II юн\",IF(I120<=Нормативы!$L$13,\"III юн\",IF(ISTEXT(I120),\" \",IF(ISBLANK(I120),\" \",\"б/р\")))))))))))))","v":"б/р"}]
[13,"3юн","Гончаренко Мирослава","Владимировна","2016-09-01","Дианема",null,null,43.56,{"$f":"IF(ISBLANK(I121),\" \",IF(ISTEXT(I121),\" \",IF(I121<=Нормативы!$H$5,\"КМС\",IF(I121<=Нормативы!$H$6,\"КМС\",IF(I121<=Нормативы!$L$7,\"КМС\",IF(I121<=Нормативы!$L$8,\"I\",IF(I121<=Нормативы!$L$9,\"II\",IF(I121<=Нормативы!$L$10,\"III\",IF(I121<=Нормативы!$L$11,\"I юн\",IF(I121<=Нормативы!$L$12,\"II юн\",IF(I121<=Нормативы!$L$13,\"III юн\",IF(ISTEXT(I121),\" \",IF(ISBLANK(I121),\" \",\"б/р\")))))))))))))","v":"б/р"}]
[null,"б/р","Понкратова Полина","Ивановна","2017-11-10","Дианема",null,null,"ф/с"]
[]
[null,null,"Плавание в  ластах - 50 м,  юноши 2015-2017 г.р. "]
[]
[1,"III юн","Кондратьев Михаил ","Дмитриевич","2016-02-12","\"Спутник-Авангард\"",null,null,24.65,{"$f":"IF(ISBLANK(I126),\" \",IF(ISTEXT(I126),\" \",IF(I126<=Нормативы!$H$16,\"КМС\",IF(I126<=Нормативы!$H$17,\"КМС\",IF(I126<=Нормативы!$L$18,\"КМС\",IF(I126<=Нормативы!$L$19,\"I\",IF(I126<=Нормативы!$L$20,\"II\",IF(I126<=Нормативы!$L$21,\"III\",IF(I126<=Нормативы!$L$22,\"I юн\",IF(I126<=Нормативы!$L$23,\"II юн\",IF(I126<=Нормативы!$L$24,\"III юн\",\"б/р\")))))))))))","v":"II юн"}]
[2,"I юн","Сисько Илья","Сергеевич","2015-04-15","Дианема ",null,null,25.01,{"$f":"IF(ISBLANK(I127),\" \",IF(ISTEXT(I127),\" \",IF(I127<=Нормативы!$H$16,\"КМС\",IF(I127<=Нормативы!$H$17,\"КМС\",IF(I127<=Нормативы!$L$18,\"КМС\",IF(I127<=Нормативы!$L$19,\"I\",IF(I127<=Нормативы!$L$20,\"II\",IF(I127<=Нормативы!$L$21,\"III\",IF(I127<=Нормативы!$L$22,\"I юн\",IF(I127<=Нормативы!$L$23,\"II юн\",IF(I127<=Нормативы!$L$24,\"III юн\",\"б/р\")))))))))))","v":"II юн"}]
[3,"III юн","Провалинский Артём ","Андреевич","2015-12-26","\"Спутник-Авангард\"",null,null,28.63,{"$f":"IF(ISBLANK(I128),\" \",IF(ISTEXT(I128),\" \",IF(I128<=Нормативы!$H$16,\"КМС\",IF(I128<=Нормативы!$H$17,\"КМС\",IF(I128<=Нормативы!$L$18,\"КМС\",IF(I128<=Нормативы!$L$19,\"I\",IF(I128<=Нормативы!$L$20,\"II\",IF(I128<=Нормативы!$L$21,\"III\",IF(I128<=Нормативы!$L$22,\"I юн\",IF(I128<=Нормативы!$L$23,\"II юн\",IF(I128<=Нормативы!$L$24,\"III юн\",\"б/р\")))))))))))","v":"б/р"}]
[4,"II юн","Кондратьев Вячеслав","Александрович","2016-08-28","Дианема ",null,null,28.71,{"$f":"IF(ISBLANK(I129),\" \",IF(ISTEXT(I129),\" \",IF(I129<=Нормативы!$H$16,\"КМС\",IF(I129<=Нормативы!$H$17,\"КМС\",IF(I129<=Нормативы!$L$18,\"КМС\",IF(I129<=Нормативы!$L$19,\"I\",IF(I129<=Нормативы!$L$20,\"II\",IF(I129<=Нормативы!$L$21,\"III\",IF(I129<=Нормативы!$L$22,\"I юн\",IF(I129<=Нормативы!$L$23,\"II юн\",IF(I129<=Нормативы!$L$24,\"III юн\",\"б/р\")))))))))))","v":"б/р"}]
[5,"II юн","Бутылин Макар","Денисович","2016-05-18","Дианема ",null,null,30.38,{"$f":"IF(ISBLANK(I130),\" \",IF(ISTEXT(I130),\" \",IF(I130<=Нормативы!$H$16,\"КМС\",IF(I130<=Нормативы!$H$17,\"КМС\",IF(I130<=Нормативы!$L$18,\"КМС\",IF(I130<=Нормативы!$L$19,\"I\",IF(I130<=Нормативы!$L$20,\"II\",IF(I130<=Нормативы!$L$21,\"III\",IF(I130<=Нормативы!$L$22,\"I юн\",IF(I130<=Нормативы!$L$23,\"II юн\",IF(I130<=Нормативы!$L$24,\"III юн\",\"б/р\")))))))))))","v":"б/р"}]
[6,"III юн","Абдулхаков Дмитрий ","Алексеевич","2015-12-15","Дианема ",null,null,32.26,{"$f":"IF(ISBLANK(I131),\" \",IF(ISTEXT(I131),\" \",IF(I131<=Нормативы!$H$16,\"КМС\",IF(I131<=Нормативы!$H$17,\"КМС\",IF(I131<=Нормативы!$L$18,\"КМС\",IF(I131<=Нормативы!$L$19,\"I\",IF(I131<=Нормативы!$L$20,\"II\",IF(I131<=Нормативы!$L$21,\"III\",IF(I131<=Нормативы!$L$22,\"I юн\",IF(I131<=Нормативы!$L$23,\"II юн\",IF(I131<=Нормативы!$L$24,\"III юн\",\"б/р\")))))))))))","v":"б/р"}]
[7,"б/р","Кремез Роман","Николаевич","2015-04-02","Дианема ",null,null,32.42,{"$f":"IF(ISBLANK(I132),\" \",IF(ISTEXT(I132),\" \",IF(I132<=Нормативы!$H$16,\"КМС\",IF(I132<=Нормативы!$H$17,\"КМС\",IF(I132<=Нормативы!$L$18,\"КМС\",IF(I132<=Нормативы!$L$19,\"I\",IF(I132<=Нормативы!$L$20,\"II\",IF(I132<=Нормативы!$L$21,\"III\",IF(I132<=Нормативы!$L$22,\"I юн\",IF(I132<=Нормативы!$L$23,\"II юн\",IF(I132<=Нормативы!$L$24,\"III юн\",\"б/р\")))))))))))","v":"б/р"}]
[8,"б/р","Дворников Аким","Мксимович","2017-05-31","Дианема ",null,null,32.45,{"$f":"IF(ISBLANK(I133),\" \",IF(ISTEXT(I133),\" \",IF(I133<=Нормативы!$H$16,\"КМС\",IF(I133<=Нормативы!$H$17,\"КМС\",IF(I133<=Нормативы!$L$18,\"КМС\",IF(I133<=Нормативы!$L$19,\"I\",IF(I133<=Нормативы!$L$20,\"II\",IF(I133<=Нормативы!$L$21,\"III\",IF(I133<=Нормативы!$L$22,\"I юн\",IF(I133<=Нормативы!$L$23,\"II юн\",IF(I133<=Нормативы!$L$24,\"III юн\",\"б/р\")))))))))))","v":"б/р"}]
[9,"II юн","Пичкуров Савелий","Сергеевич","2015-06-22","ДВС",null,null,32.69,{"$f":"IF(ISBLANK(I134),\" \",IF(ISTEXT(I134),\" \",IF(I134<=Нормативы!$H$16,\"КМС\",IF(I134<=Нормативы!$H$17,\"КМС\",IF(I134<=Нормативы!$L$18,\"КМС\",IF(I134<=Нормативы!$L$19,\"I\",IF(I134<=Нормативы!$L$20,\"II\",IF(I134<=Нормативы!$L$21,\"III\",IF(I134<=Нормативы!$L$22,\"I юн\",IF(I134<=Нормативы!$L$23,\"II юн\",IF(I134<=Нормативы!$L$24,\"III юн\",\"б/р\")))))))))))","v":"б/р"}]
[10,"II юн","Малоканов Илья","Александрович","2015-08-03","ДВС",null,null,33.71,{"$f":"IF(ISBLANK(I135),\" \",IF(ISTEXT(I135),\" \",IF(I135<=Нормативы!$H$16,\"КМС\",IF(I135<=Нормативы!$H$17,\"КМС\",IF(I135<=Нормативы!$L$18,\"КМС\",IF(I135<=Нормативы!$L$19,\"I\",IF(I135<=Нормативы!$L$20,\"II\",IF(I135<=Нормативы!$L$21,\"III\",IF(I135<=Нормативы!$L$22,\"I юн\",IF(I135<=Нормативы!$L$23,\"II юн\",IF(I135<=Нормативы!$L$24,\"III юн\",\"б/р\")))))))))))","v":"б/р"}]
[11,"б/р","Ребушев Данил","Романович","2015-06-29","К;атран",null,null,34.18,{"$f":"IF(ISBLANK(I136),\" \",IF(ISTEXT(I136),\" \",IF(I136<=Нормативы!$H$16,\"КМС\",IF(I136<=Нормативы!$H$17,\"КМС\",IF(I136<=Нормативы!$L$18,\"КМС\",IF(I136<=Нормативы!$L$19,\"I\",IF(I136<=Нормативы!$L$20,\"II\",IF(I136<=Нормативы!$L$21,\"III\",IF(I136<=Нормативы!$L$22,\"I юн\",IF(I136<=Нормативы!$L$23,\"II юн\",IF(I136<=Нормативы!$L$24,\"III юн\",\"б/р\")))))))))))","v":"б/р"}]
[12,"б/р","Николаев Дмитрий ","Ильич","2016-03-18","\"Спутник-Авангард\"",null,null,35,{"$f":"IF(ISBLANK(I137),\" \",IF(ISTEXT(I137),\" \",IF(I137<=Нормативы!$H$16,\"КМС\",IF(I137<=Нормативы!$H$17,\"КМС\",IF(I137<=Нормативы!$L$18,\"КМС\",IF(I137<=Нормативы!$L$19,\"I\",IF(I137<=Нормативы!$L$20,\"II\",IF(I137<=Нормативы!$L$21,\"III\",IF(I137<=Нормативы!$L$22,\"I юн\",IF(I137<=Нормативы!$L$23,\"II юн\",IF(I137<=Нормативы!$L$24,\"III юн\",\"б/р\")))))))))))","v":"б/р"}]
[13,"III юн","Мокров Ярослав","Александрович","2015-05-15","\"Спутник-Авангард\"",null,null,38.2,{"$f":"IF(ISBLANK(I138),\" \",IF(ISTEXT(I138),\" \",IF(I138<=Нормативы!$H$16,\"КМС\",IF(I138<=Нормативы!$H$17,\"КМС\",IF(I138<=Нормативы!$L$18,\"КМС\",IF(I138<=Нормативы!$L$19,\"I\",IF(I138<=Нормативы!$L$20,\"II\",IF(I138<=Нормативы!$L$21,\"III\",IF(I138<=Нормативы!$L$22,\"I юн\",IF(I138<=Нормативы!$L$23,\"II юн\",IF(I138<=Нормативы!$L$24,\"III юн\",\"б/р\")))))))))))","v":"б/р"}]
[14,"б/р","Бутылин Фёдор","Денисович","2017-10-30","Дианема ",null,null,43.19,{"$f":"IF(ISBLANK(I139),\" \",IF(ISTEXT(I139),\" \",IF(I139<=Нормативы!$H$16,\"КМС\",IF(I139<=Нормативы!$H$17,\"КМС\",IF(I139<=Нормативы!$L$18,\"КМС\",IF(I139<=Нормативы!$L$19,\"I\",IF(I139<=Нормативы!$L$20,\"II\",IF(I139<=Нормативы!$L$21,\"III\",IF(I139<=Нормативы!$L$22,\"I юн\",IF(I139<=Нормативы!$L$23,\"II юн\",IF(I139<=Нормативы!$L$24,\"III юн\",\"б/р\")))))))))))","v":"б/р"}]
[15,"б/р","Ганенко Артем","Сергеевич","2017-10-17","Дианема ",null,null,54.96,{"$f":"IF(ISBLANK(I140),\" \",IF(ISTEXT(I140),\" \",IF(I140<=Нормативы!$H$16,\"КМС\",IF(I140<=Нормативы!$H$17,\"КМС\",IF(I140<=Нормативы!$L$18,\"КМС\",IF(I140<=Нормативы!$L$19,\"I\",IF(I140<=Нормативы!$L$20,\"II\",IF(I140<=Нормативы!$L$21,\"III\",IF(I140<=Нормативы!$L$22,\"I юн\",IF(I140<=Нормативы!$L$23,\"II юн\",IF(I140<=Нормативы!$L$24,\"III юн\",\"б/р\")))))))))))","v":"б/р"}]
[]
[null,null,"Плавание в  классических ластах - 50 м,  девушки 2015-2017 г.р. "]
[]
[1,"III","Харсекина Злата ","Витальевна","2016-08-04","ПК \"Авангард\"",null,null,28.81,{"$f":"IF(ISBLANK(I144),\" \",IF(ISTEXT(I144),\" \",IF(I144<=Нормативы!$H$27,\"КМС\",IF(I144<=Нормативы!$H$28,\"КМС\",IF(I144<=Нормативы!$L$29,\"КМС\",IF(I144<=Нормативы!$L$30,\"I\",IF(I144<=Нормативы!$L$31,\"II\",IF(I144<=Нормативы!$L$32,\"III\",IF(I144<=Нормативы!$L$33,\"I юн\",IF(I144<=Нормативы!$L$34,\"II юн\",IF(I144<=Нормативы!$L$35,\"III юн\",\"б/р\")))))))))))","v":"III"}]
[2,"I юн","Миронова Валерия","Егоровна","2016-09-01","ДВС",null,null,30.89,{"$f":"IF(ISBLANK(I145),\" \",IF(ISTEXT(I145),\" \",IF(I145<=Нормативы!$H$27,\"КМС\",IF(I145<=Нормативы!$H$28,\"КМС\",IF(I145<=Нормативы!$L$29,\"КМС\",IF(I145<=Нормативы!$L$30,\"I\",IF(I145<=Нормативы!$L$31,\"II\",IF(I145<=Нормативы!$L$32,\"III\",IF(I145<=Нормативы!$L$33,\"I юн\",IF(I145<=Нормативы!$L$34,\"II юн\",IF(I145<=Нормативы!$L$35,\"III юн\",\"б/р\")))))))))))","v":"I юн"}]
[3,"I юн","Росс Елизавета","Александровна","2015-07-13","ДВС",null,null,31.44,{"$f":"IF(ISBLANK(I146),\" \",IF(ISTEXT(I146),\" \",IF(I146<=Нормативы!$H$27,\"КМС\",IF(I146<=Нормативы!$H$28,\"КМС\",IF(I146<=Нормативы!$L$29,\"КМС\",IF(I146<=Нормативы!$L$30,\"I\",IF(I146<=Нормативы!$L$31,\"II\",IF(I146<=Нормативы!$L$32,\"III\",IF(I146<=Нормативы!$L$33,\"I юн\",IF(I146<=Нормативы!$L$34,\"II юн\",IF(I146<=Нормативы!$L$35,\"III юн\",\"б/р\")))))))))))","v":"I юн"}]
[4,"II юн","Пономарева Виктория","Сергеевна","2015-03-06","\"Спутник-Авангард\"",null,null,32.07,{"$f":"IF(ISBLANK(I147),\" \",IF(ISTEXT(I147),\" \",IF(I147<=Нормативы!$H$27,\"КМС\",IF(I147<=Нормативы!$H$28,\"КМС\",IF(I147<=Нормативы!$L$29,\"КМС\",IF(I147<=Нормативы!$L$30,\"I\",IF(I147<=Нормативы!$L$31,\"II\",IF(I147<=Нормативы!$L$32,\"III\",IF(I147<=Нормативы!$L$33,\"I юн\",IF(I147<=Нормативы!$L$34,\"II юн\",IF(I147<=Нормативы!$L$35,\"III юн\",\"б/р\")))))))))))","v":"I юн"}]
[5,"I юн","Млынарь Милана ","Алексеевна","2015-08-08","ПК \"Авангард\"",null,null,32.1,{"$f":"IF(ISBLANK(I148),\" \",IF(ISTEXT(I148),\" \",IF(I148<=Нормативы!$H$27,\"КМС\",IF(I148<=Нормативы!$H$28,\"КМС\",IF(I148<=Нормативы!$L$29,\"КМС\",IF(I148<=Нормативы!$L$30,\"I\",IF(I148<=Нормативы!$L$31,\"II\",IF(I148<=Нормативы!$L$32,\"III\",IF(I148<=Нормативы!$L$33,\"I юн\",IF(I148<=Нормативы!$L$34,\"II юн\",IF(I148<=Нормативы!$L$35,\"III юн\",\"б/р\")))))))))))","v":"I юн"}]
[6,"I юн","Анкудинова Полина ","Васильевна","2015-06-20","ПК \"Авангард\"",null,null,32.79,{"$f":"IF(ISBLANK(I149),\" \",IF(ISTEXT(I149),\" \",IF(I149<=Нормативы!$H$27,\"КМС\",IF(I149<=Нормативы!$H$28,\"КМС\",IF(I149<=Нормативы!$L$29,\"КМС\",IF(I149<=Нормативы!$L$30,\"I\",IF(I149<=Нормативы!$L$31,\"II\",IF(I149<=Нормативы!$L$32,\"III\",IF(I149<=Нормативы!$L$33,\"I юн\",IF(I149<=Нормативы!$L$34,\"II юн\",IF(I149<=Нормативы!$L$35,\"III юн\",\"б/р\")))))))))))","v":"I юн"}]
[7,"I юн","Барановская Виктория"," Евгеньевна","2017-09-30","ПК \"Авангард\"",null,null,32.79,{"$f":"IF(ISBLANK(I150),\" \",IF(ISTEXT(I150),\" \",IF(I150<=Нормативы!$H$27,\"КМС\",IF(I150<=Нормативы!$H$28,\"КМС\",IF(I150<=Нормативы!$L$29,\"КМС\",IF(I150<=Нормативы!$L$30,\"I\",IF(I150<=Нормативы!$L$31,\"II\",IF(I150<=Нормативы!$L$32,\"III\",IF(I150<=Нормативы!$L$33,\"I юн\",IF(I150<=Нормативы!$L$34,\"II юн\",IF(I150<=Нормативы!$L$35,\"III юн\",\"б/р\")))))))))))","v":"I юн"}]
[8,"II юн","Семина Евгения","Алексеевна","2016-03-21","ДВС",null,null,33.5,{"$f":"IF(ISBLANK(I151),\" \",IF(ISTEXT(I151),\" \",IF(I151<=Нормативы!$H$27,\"КМС\",IF(I151<=Нормативы!$H$28,\"КМС\",IF(I151<=Нормативы!$L$29,\"КМС\",IF(I151<=Нормативы!$L$30,\"I\",IF(I151<=Нормативы!$L$31,\"II\",IF(I151<=Нормативы!$L$32,\"III\",IF(I151<=Нормативы!$L$33,\"I юн\",IF(I151<=Нормативы!$L$34,\"II юн\",IF(I151<=Нормативы!$L$35,\"III юн\",\"б/р\")))))))))))","v":"II юн"}]
[9,"II юн","Коновалова Ксения","Андреевна","2015-04-20","ДВС",null,null,35.11,{"$f":"IF(ISBLANK(I152),\" \",IF(ISTEXT(I152),\" \",IF(I152<=Нормативы!$H$27,\"КМС\",IF(I152<=Нормативы!$H$28,\"КМС\",IF(I152<=Нормативы!$L$29,\"КМС\",IF(I152<=Нормативы!$L$30,\"I\",IF(I152<=Нормативы!$L$31,\"II\",IF(I152<=Нормативы!$L$32,\"III\",IF(I152<=Нормативы!$L$33,\"I юн\",IF(I152<=Нормативы!$L$34,\"II юн\",IF(I152<=Нормативы!$L$35,\"III юн\",\"б/р\")))))))))))","v":"II юн"}]
[10,"II юн","Верховина Екатерина ","Ивановна","2015-06-22","ПК \"Авангард\"",null,null,36,{"$f":"IF(ISBLANK(I153),\" \",IF(ISTEXT(I153),\" \",IF(I153<=Нормативы!$H$27,\"КМС\",IF(I153<=Нормативы!$H$28,\"КМС\",IF(I153<=Нормативы!$L$29,\"КМС\",IF(I153<=Нормативы!$L$30,\"I\",IF(I153<=Нормативы!$L$31,\"II\",IF(I153<=Нормативы!$L$32,\"III\",IF(I153<=Нормативы!$L$33,\"I юн\",IF(I153<=Нормативы!$L$34,\"II юн\",IF(I153<=Нормативы!$L$35,\"III юн\",\"б/р\")))))))))))","v":"II юн"}]
[11,"3 юн","Плякина Елизавета","Игоревна","2015-11-06","К;атран",null,null,36.12,{"$f":"IF(ISBLANK(I154),\" \",IF(ISTEXT(I154),\" \",IF(I154<=Нормативы!$H$27,\"КМС\",IF(I154<=Нормативы!$H$28,\"КМС\",IF(I154<=Нормативы!$L$29,\"КМС\",IF(I154<=Нормативы!$L$30,\"I\",IF(I154<=Нормативы!$L$31,\"II\",IF(I154<=Нормативы!$L$32,\"III\",IF(I154<=Нормативы!$L$33,\"I юн\",IF(I154<=Нормативы!$L$34,\"II юн\",IF(I154<=Нормативы!$L$35,\"III юн\",\"б/р\")))))))))))","v":"III юн"}]
[12,"III юн","Виноградова Арина","Максимовна","2016-04-26","ДВС",null,null,36.87,{"$f":"IF(ISBLANK(I155),\" \",IF(ISTEXT(I155),\" \",IF(I155<=Нормативы!$H$27,\"КМС\",IF(I155<=Нормативы!$H$28,\"КМС\",IF(I155<=Нормативы!$L$29,\"КМС\",IF(I155<=Нормативы!$L$30,\"I\",IF(I155<=Нормативы!$L$31,\"II\",IF(I155<=Нормативы!$L$32,\"III\",IF(I155<=Нормативы!$L$33,\"I юн\",IF(I155<=Нормативы!$L$34,\"II юн\",IF(I155<=Нормативы!$L$35,\"III юн\",\"б/р\")))))))))))","v":"III юн"}]
[13,"III юн","Кокорина Василиса ","Васильевна","2017-07-27","ПК \"Авангард\"",null,null,37.01,{"$f":"IF(ISBLANK(I156),\" \",IF(ISTEXT(I156),\" \",IF(I156<=Нормативы!$H$27,\"КМС\",IF(I156<=Нормативы!$H$28,\"КМС\",IF(I156<=Нормативы!$L$29,\"КМС\",IF(I156<=Нормативы!$L$30,\"I\",IF(I156<=Нормативы!$L$31,\"II\",IF(I156<=Нормативы!$L$32,\"III\",IF(I156<=Нормативы!$L$33,\"I юн\",IF(I156<=Нормативы!$L$34,\"II юн\",IF(I156<=Нормативы!$L$35,\"III юн\",\"б/р\")))))))))))","v":"III юн"}]
[14,"III юн","Сугак Алиса","Александровна","2017-03-24","ДВС",null,null,37.15,{"$f":"IF(ISBLANK(I157),\" \",IF(ISTEXT(I157),\" \",IF(I157<=Нормативы!$H$27,\"КМС\",IF(I157<=Нормативы!$H$28,\"КМС\",IF(I157<=Нормативы!$L$29,\"КМС\",IF(I157<=Нормативы!$L$30,\"I\",IF(I157<=Нормативы!$L$31,\"II\",IF(I157<=Нормативы!$L$32,\"III\",IF(I157<=Нормативы!$L$33,\"I юн\",IF(I157<=Нормативы!$L$34,\"II юн\",IF(I157<=Нормативы!$L$35,\"III юн\",\"б/р\")))))))))))","v":"III юн"}]
[15,"б/р","Сакова Софья ","Николаевна","2017-05-17","ПК \"Авангард\"",null,null,37.35,{"$f":"IF(ISBLANK(I158),\" \",IF(ISTEXT(I158),\" \",IF(I158<=Нормативы!$H$27,\"КМС\",IF(I158<=Нормативы!$H$28,\"КМС\",IF(I158<=Нормативы!$L$29,\"КМС\",IF(I158<=Нормативы!$L$30,\"I\",IF(I158<=Нормативы!$L$31,\"II\",IF(I158<=Нормативы!$L$32,\"III\",IF(I158<=Нормативы!$L$33,\"I юн\",IF(I158<=Нормативы!$L$34,\"II юн\",IF(I158<=Нормативы!$L$35,\"III юн\",\"б/р\")))))))))))","v":"III юн"}]
[16,"III юн","Малакеева Мирослава","Вячеславовна","01.01.2016\n","Дианема ",null,null,37.48,{"$f":"IF(ISBLANK(I159),\" \",IF(ISTEXT(I159),\" \",IF(I159<=Нормативы!$H$27,\"КМС\",IF(I159<=Нормативы!$H$28,\"КМС\",IF(I159<=Нормативы!$L$29,\"КМС\",IF(I159<=Нормативы!$L$30,\"I\",IF(I159<=Нормативы!$L$31,\"II\",IF(I159<=Нормативы!$L$32,\"III\",IF(I159<=Нормативы!$L$33,\"I юн\",IF(I159<=Нормативы!$L$34,\"II юн\",IF(I159<=Нормативы!$L$35,\"III юн\",\"б/р\")))))))))))","v":"III юн"}]
[17,"б/р","Некрасова Варвара","Евгеньевна","2017-08-20","Дианема ",null,null,39.4,{"$f":"IF(ISBLANK(I160),\" \",IF(ISTEXT(I160),\" \",IF(I160<=Нормативы!$H$27,\"КМС\",IF(I160<=Нормативы!$H$28,\"КМС\",IF(I160<=Нормативы!$L$29,\"КМС\",IF(I160<=Нормативы!$L$30,\"I\",IF(I160<=Нормативы!$L$31,\"II\",IF(I160<=Нормативы!$L$32,\"III\",IF(I160<=Нормативы!$L$33,\"I юн\",IF(I160<=Нормативы!$L$34,\"II юн\",IF(I160<=Нормативы!$L$35,\"III юн\",\"б/р\")))))))))))","v":"б/р"}]
[18,"III юн","Голованова Ольга ","Владимировна","2017-03-21","ПК \"Авангард\"",null,null,39.76,{"$f":"IF(ISBLANK(I161),\" \",IF(ISTEXT(I161),\" \",IF(I161<=Нормативы!$H$27,\"КМС\",IF(I161<=Нормативы!$H$28,\"КМС\",IF(I161<=Нормативы!$L$29,\"КМС\",IF(I161<=Нормативы!$L$30,\"I\",IF(I161<=Нормативы!$L$31,\"II\",IF(I161<=Нормативы!$L$32,\"III\",IF(I161<=Нормативы!$L$33,\"I юн\",IF(I161<=Нормативы!$L$34,\"II юн\",IF(I161<=Нормативы!$L$35,\"III юн\",\"б/р\")))))))))))","v":"б/р"}]
[19,"3юн","Гончаренко Мирослава","Владимировна","2016-09-01","Дианема ",null,null,41.13,{"$f":"IF(ISBLANK(I162),\" \",IF(ISTEXT(I162),\" \",IF(I162<=Нормативы!$H$27,\"КМС\",IF(I162<=Нормативы!$H$28,\"КМС\",IF(I162<=Нормативы!$L$29,\"КМС\",IF(I162<=Нормативы!$L$30,\"I\",IF(I162<=Нормативы!$L$31,\"II\",IF(I162<=Нормативы!$L$32,\"III\",IF(I162<=Нормативы!$L$33,\"I юн\",IF(I162<=Нормативы!$L$34,\"II юн\",IF(I162<=Нормативы!$L$35,\"III юн\",\"б/р\")))))))))))","v":"б/р"}]
[20,"б/р","Понкратова Полина","Ивановна","2017-11-10","Дианема ",null,null,42.65,{"$f":"IF(ISBLANK(I163),\" \",IF(ISTEXT(I163),\" \",IF(I163<=Нормативы!$H$27,\"КМС\",IF(I163<=Нормативы!$H$28,\"КМС\",IF(I163<=Нормативы!$L$29,\"КМС\",IF(I163<=Нормативы!$L$30,\"I\",IF(I163<=Нормативы!$L$31,\"II\",IF(I163<=Нормативы!$L$32,\"III\",IF(I163<=Нормативы!$L$33,\"I юн\",IF(I163<=Нормативы!$L$34,\"II юн\",IF(I163<=Нормативы!$L$35,\"III юн\",\"б/р\")))))))))))","v":"б/р"}]
[]
[null,null,"Плавание в  классических ластах - 50 м,  юноши 2015-2017 г.р. "]
[]
[1,"I юн","Сисько Илья","Сергеевич","2015-04-15","Дианема ",null,null,27.26,{"$f":"IF(ISBLANK(I167),\" \",IF(ISTEXT(I167),\" \",IF(I167<=Нормативы!$H$38,\"КМС\",IF(I167<=Нормативы!$H$39,\"КМС\",IF(I167<=Нормативы!$L$40,\"КМС\",IF(I167<=Нормативы!$L$41,\"I\",IF(I167<=Нормативы!$L$42,\"II\",IF(I167<=Нормативы!$L$43,\"III\",IF(I167<=Нормативы!$L$44,\"I юн\",IF(I167<=Нормативы!$L$45,\"II юн\",IF(I167<=Нормативы!$L$46,\"III юн\",\"б/р\")))))))))))","v":"I юн"}]
[2,"I юн","Марусенко Артём","Александрович","2015-04-09","Дианема ",null,null,27.76,{"$f":"IF(ISBLANK(I168),\" \",IF(ISTEXT(I168),\" \",IF(I168<=Нормативы!$H$38,\"КМС\",IF(I168<=Нормативы!$H$39,\"КМС\",IF(I168<=Нормативы!$L$40,\"КМС\",IF(I168<=Нормативы!$L$41,\"I\",IF(I168<=Нормативы!$L$42,\"II\",IF(I168<=Нормативы!$L$43,\"III\",IF(I168<=Нормативы!$L$44,\"I юн\",IF(I168<=Нормативы!$L$45,\"II юн\",IF(I168<=Нормативы!$L$46,\"III юн\",\"б/р\")))))))))))","v":"I юн"}]
[3,"1юн","Савельев Тимофей","Павлович","2015-12-18","Дианема ",null,null,28.88,{"$f":"IF(ISBLANK(I169),\" \",IF(ISTEXT(I169),\" \",IF(I169<=Нормативы!$H$38,\"КМС\",IF(I169<=Нормативы!$H$39,\"КМС\",IF(I169<=Нормативы!$L$40,\"КМС\",IF(I169<=Нормативы!$L$41,\"I\",IF(I169<=Нормативы!$L$42,\"II\",IF(I169<=Нормативы!$L$43,\"III\",IF(I169<=Нормативы!$L$44,\"I юн\",IF(I169<=Нормативы!$L$45,\"II юн\",IF(I169<=Нормативы!$L$46,\"III юн\",\"б/р\")))))))))))","v":"I юн"}]
[4,"I юн","Мясников Матвей","Александрович","2015-08-06","Дианема ",null,null,30.46,{"$f":"IF(ISBLANK(I170),\" \",IF(ISTEXT(I170),\" \",IF(I170<=Нормативы!$H$38,\"КМС\",IF(I170<=Нормативы!$H$39,\"КМС\",IF(I170<=Нормативы!$L$40,\"КМС\",IF(I170<=Нормативы!$L$41,\"I\",IF(I170<=Нормативы!$L$42,\"II\",IF(I170<=Нормативы!$L$43,\"III\",IF(I170<=Нормативы!$L$44,\"I юн\",IF(I170<=Нормативы!$L$45,\"II юн\",IF(I170<=Нормативы!$L$46,\"III юн\",\"б/р\")))))))))))","v":"II юн"}]
[5,"3юн","Мануил Евгений","Станиславович","2017-07-02","Дианема ",null,null,31.23,{"$f":"IF(ISBLANK(I171),\" \",IF(ISTEXT(I171),\" \",IF(I171<=Нормативы!$H$38,\"КМС\",IF(I171<=Нормативы!$H$39,\"КМС\",IF(I171<=Нормативы!$L$40,\"КМС\",IF(I171<=Нормативы!$L$41,\"I\",IF(I171<=Нормативы!$L$42,\"II\",IF(I171<=Нормативы!$L$43,\"III\",IF(I171<=Нормативы!$L$44,\"I юн\",IF(I171<=Нормативы!$L$45,\"II юн\",IF(I171<=Нормативы!$L$46,\"III юн\",\"б/р\")))))))))))","v":"II юн"}]
[6,"II юн","Пичкуров Савелий","Сергеевич","2015-06-22","ДВС",null,null,31.98,{"$f":"IF(ISBLANK(I172),\" \",IF(ISTEXT(I172),\" \",IF(I172<=Нормативы!$H$38,\"КМС\",IF(I172<=Нормативы!$H$39,\"КМС\",IF(I172<=Нормативы!$L$40,\"КМС\",IF(I172<=Нормативы!$L$41,\"I\",IF(I172<=Нормативы!$L$42,\"II\",IF(I172<=Нормативы!$L$43,\"III\",IF(I172<=Нормативы!$L$44,\"I юн\",IF(I172<=Нормативы!$L$45,\"II юн\",IF(I172<=Нормативы!$L$46,\"III юн\",\"б/р\")))))))))))","v":"III юн"}]
[7,"III юн","Илиенц Денис","Максимович","2015-10-13","Дианема ",null,null,32.39,{"$f":"IF(ISBLANK(I173),\" \",IF(ISTEXT(I173),\" \",IF(I173<=Нормативы!$H$38,\"КМС\",IF(I173<=Нормативы!$H$39,\"КМС\",IF(I173<=Нормативы!$L$40,\"КМС\",IF(I173<=Нормативы!$L$41,\"I\",IF(I173<=Нормативы!$L$42,\"II\",IF(I173<=Нормативы!$L$43,\"III\",IF(I173<=Нормативы!$L$44,\"I юн\",IF(I173<=Нормативы!$L$45,\"II юн\",IF(I173<=Нормативы!$L$46,\"III юн\",\"б/р\")))))))))))","v":"III юн"}]
[8,"III юн","Абдулхаков Дмитрий ","Алексеевич","2015-12-15","Дианема ",null,null,32.7,{"$f":"IF(ISBLANK(I174),\" \",IF(ISTEXT(I174),\" \",IF(I174<=Нормативы!$H$38,\"КМС\",IF(I174<=Нормативы!$H$39,\"КМС\",IF(I174<=Нормативы!$L$40,\"КМС\",IF(I174<=Нормативы!$L$41,\"I\",IF(I174<=Нормативы!$L$42,\"II\",IF(I174<=Нормативы!$L$43,\"III\",IF(I174<=Нормативы!$L$44,\"I юн\",IF(I174<=Нормативы!$L$45,\"II юн\",IF(I174<=Нормативы!$L$46,\"III юн\",\"б/р\")))))))))))","v":"III юн"}]
[9,"III юн","Блудов Руслан ","Геннадьевич","2015-08-02","ПК \"Авангард\"",null,null,33.29,{"$f":"IF(ISBLANK(I175),\" \",IF(ISTEXT(I175),\" \",IF(I175<=Нормативы!$H$38,\"КМС\",IF(I175<=Нормативы!$H$39,\"КМС\",IF(I175<=Нормативы!$L$40,\"КМС\",IF(I175<=Нормативы!$L$41,\"I\",IF(I175<=Нормативы!$L$42,\"II\",IF(I175<=Нормативы!$L$43,\"III\",IF(I175<=Нормативы!$L$44,\"I юн\",IF(I175<=Нормативы!$L$45,\"II юн\",IF(I175<=Нормативы!$L$46,\"III юн\",\"б/р\")))))))))))","v":"III юн"}]
[10,"3 юн","Ивашко Федор","Алексеевич","2015-02-09","К;атран",null,null,33.7,{"$f":"IF(ISBLANK(I176),\" \",IF(ISTEXT(I176),\" \",IF(I176<=Нормативы!$H$38,\"КМС\",IF(I176<=Нормативы!$H$39,\"КМС\",IF(I176<=Нормативы!$L$40,\"КМС\",IF(I176<=Нормативы!$L$41,\"I\",IF(I176<=Нормативы!$L$42,\"II\",IF(I176<=Нормативы!$L$43,\"III\",IF(I176<=Нормативы!$L$44,\"I юн\",IF(I176<=Нормативы!$L$45,\"II юн\",IF(I176<=Нормативы!$L$46,\"III юн\",\"б/р\")))))))))))","v":"III юн"}]
[11,"б,р ","Пашенных Прохор","Семенович","2015-09-10","К;атран",null,null,33.73,{"$f":"IF(ISBLANK(I177),\" \",IF(ISTEXT(I177),\" \",IF(I177<=Нормативы!$H$38,\"КМС\",IF(I177<=Нормативы!$H$39,\"КМС\",IF(I177<=Нормативы!$L$40,\"КМС\",IF(I177<=Нормативы!$L$41,\"I\",IF(I177<=Нормативы!$L$42,\"II\",IF(I177<=Нормативы!$L$43,\"III\",IF(I177<=Нормативы!$L$44,\"I юн\",IF(I177<=Нормативы!$L$45,\"II юн\",IF(I177<=Нормативы!$L$46,\"III юн\",\"б/р\")))))))))))","v":"III юн"}]
[12,"III юн","Зверев Артем ","Константинович","2015-01-17","ПК \"Авангард\"",null,null,33.73,{"$f":"IF(ISBLANK(I178),\" \",IF(ISTEXT(I178),\" \",IF(I178<=Нормативы!$H$38,\"КМС\",IF(I178<=Нормативы!$H$39,\"КМС\",IF(I178<=Нормативы!$L$40,\"КМС\",IF(I178<=Нормативы!$L$41,\"I\",IF(I178<=Нормативы!$L$42,\"II\",IF(I178<=Нормативы!$L$43,\"III\",IF(I178<=Нормативы!$L$44,\"I юн\",IF(I178<=Нормативы!$L$45,\"II юн\",IF(I178<=Нормативы!$L$46,\"III юн\",\"б/р\")))))))))))","v":"III юн"}]
[13,"б/р","Дворников Аким","Мксимович","2017-05-31","Дианема ",null,null,34.33,{"$f":"IF(ISBLANK(I179),\" \",IF(ISTEXT(I179),\" \",IF(I179<=Нормативы!$H$38,\"КМС\",IF(I179<=Нормативы!$H$39,\"КМС\",IF(I179<=Нормативы!$L$40,\"КМС\",IF(I179<=Нормативы!$L$41,\"I\",IF(I179<=Нормативы!$L$42,\"II\",IF(I179<=Нормативы!$L$43,\"III\",IF(I179<=Нормативы!$L$44,\"I юн\",IF(I179<=Нормативы!$L$45,\"II юн\",IF(I179<=Нормативы!$L$46,\"III юн\",\"б/р\")))))))))))","v":"III юн"}]
[14,"б/р","Антипин Михаил","Николаевич","2017-12-19","Дианема ",null,null,34.76,{"$f":"IF(ISBLANK(I180),\" \",IF(ISTEXT(I180),\" \",IF(I180<=Нормативы!$H$38,\"КМС\",IF(I180<=Нормативы!$H$39,\"КМС\",IF(I180<=Нормативы!$L$40,\"КМС\",IF(I180<=Нормативы!$L$41,\"I\",IF(I180<=Нормативы!$L$42,\"II\",IF(I180<=Нормативы!$L$43,\"III\",IF(I180<=Нормативы!$L$44,\"I юн\",IF(I180<=Нормативы!$L$45,\"II юн\",IF(I180<=Нормативы!$L$46,\"III юн\",\"б/р\")))))))))))","v":"III юн"}]
[15,"б/р","Николаев Дмитрий ","Ильич","2016-03-18","\"Спутник-Авангард\"",null,null,34.95,{"$f":"IF(ISBLANK(I181),\" \",IF(ISTEXT(I181),\" \",IF(I181<=Нормативы!$H$38,\"КМС\",IF(I181<=Нормативы!$H$39,\"КМС\",IF(I181<=Нормативы!$L$40,\"КМС\",IF(I181<=Нормативы!$L$41,\"I\",IF(I181<=Нормативы!$L$42,\"II\",IF(I181<=Нормативы!$L$43,\"III\",IF(I181<=Нормативы!$L$44,\"I юн\",IF(I181<=Нормативы!$L$45,\"II юн\",IF(I181<=Нормативы!$L$46,\"III юн\",\"б/р\")))))))))))","v":"III юн"}]
[16,"б/р","Кремез Роман","Николаевич","2015-04-02","Дианема ",null,null,35.11,{"$f":"IF(ISBLANK(I182),\" \",IF(ISTEXT(I182),\" \",IF(I182<=Нормативы!$H$38,\"КМС\",IF(I182<=Нормативы!$H$39,\"КМС\",IF(I182<=Нормативы!$L$40,\"КМС\",IF(I182<=Нормативы!$L$41,\"I\",IF(I182<=Нормативы!$L$42,\"II\",IF(I182<=Нормативы!$L$43,\"III\",IF(I182<=Нормативы!$L$44,\"I юн\",IF(I182<=Нормативы!$L$45,\"II юн\",IF(I182<=Нормативы!$L$46,\"III юн\",\"б/р\")))))))))))","v":"б/р"}]
[17,"б/р","Широбоков Михаил ","Андреевич","2015-11-04","ПК \"Авангард\"",null,null,35.14,{"$f":"IF(ISBLANK(I183),\" \",IF(ISTEXT(I183),\" \",IF(I183<=Нормативы!$H$38,\"КМС\",IF(I183<=Нормативы!$H$39,\"КМС\",IF(I183<=Нормативы!$L$40,\"КМС\",IF(I183<=Нормативы!$L$41,\"I\",IF(I183<=Нормативы!$L$42,\"II\",IF(I183<=Нормативы!$L$43,\"III\",IF(I183<=Нормативы!$L$44,\"I юн\",IF(I183<=Нормативы!$L$45,\"II юн\",IF(I183<=Нормативы!$L$46,\"III юн\",\"б/р\")))))))))))","v":"б/р"}]
[18,"б/р","Старостин Михаил","Александрович","2015-12-03","ПК Авангард",null,null,35.17,{"$f":"IF(ISBLANK(I184),\" \",IF(ISTEXT(I184),\" \",IF(I184<=Нормативы!$H$38,\"КМС\",IF(I184<=Нормативы!$H$39,\"КМС\",IF(I184<=Нормативы!$L$40,\"КМС\",IF(I184<=Нормативы!$L$41,\"I\",IF(I184<=Нормативы!$L$42,\"II\",IF(I184<=Нормативы!$L$43,\"III\",IF(I184<=Нормативы!$L$44,\"I юн\",IF(I184<=Нормативы!$L$45,\"II юн\",IF(I184<=Нормативы!$L$46,\"III юн\",\"б/р\")))))))))))","v":"б/р"}]
[19,"III юн","Горобец Иван","Максимович","2015-03-02","ПК Авангард",null,null,35.84,{"$f":"IF(ISBLANK(I185),\" \",IF(ISTEXT(I185),\" \",IF(I185<=Нормативы!$H$38,\"КМС\",IF(I185<=Нормативы!$H$39,\"КМС\",IF(I185<=Нормативы!$L$40,\"КМС\",IF(I185<=Нормативы!$L$41,\"I\",IF(I185<=Нормативы!$L$42,\"II\",IF(I185<=Нормативы!$L$43,\"III\",IF(I185<=Нормативы!$L$44,\"I юн\",IF(I185<=Нормативы!$L$45,\"II юн\",IF(I185<=Нормативы!$L$46,\"III юн\",\"б/р\")))))))))))","v":"б/р"}]
[20,"б/р","Сухов Александр ","Антонович","2015-12-17","ПК \"Авангард\"",null,null,35.95,{"$f":"IF(ISBLANK(I186),\" \",IF(ISTEXT(I186),\" \",IF(I186<=Нормативы!$H$38,\"КМС\",IF(I186<=Нормативы!$H$39,\"КМС\",IF(I186<=Нормативы!$L$40,\"КМС\",IF(I186<=Нормативы!$L$41,\"I\",IF(I186<=Нормативы!$L$42,\"II\",IF(I186<=Нормативы!$L$43,\"III\",IF(I186<=Нормативы!$L$44,\"I юн\",IF(I186<=Нормативы!$L$45,\"II юн\",IF(I186<=Нормативы!$L$46,\"III юн\",\"б/р\")))))))))))","v":"б/р"}]
[21,"III юн","Котнеков Константин ","Сергеевич","2015-12-19","\"Спутник-Авангард\"",null,null,36.29,{"$f":"IF(ISBLANK(I187),\" \",IF(ISTEXT(I187),\" \",IF(I187<=Нормативы!$H$38,\"КМС\",IF(I187<=Нормативы!$H$39,\"КМС\",IF(I187<=Нормативы!$L$40,\"КМС\",IF(I187<=Нормативы!$L$41,\"I\",IF(I187<=Нормативы!$L$42,\"II\",IF(I187<=Нормативы!$L$43,\"III\",IF(I187<=Нормативы!$L$44,\"I юн\",IF(I187<=Нормативы!$L$45,\"II юн\",IF(I187<=Нормативы!$L$46,\"III юн\",\"б/р\")))))))))))","v":"б/р"}]
[22,"б/р","Пичугин Семён","Константинович","2015-10-08","Дианема ",null,null,36.77,{"$f":"IF(ISBLANK(I188),\" \",IF(ISTEXT(I188),\" \",IF(I188<=Нормативы!$H$38,\"КМС\",IF(I188<=Нормативы!$H$39,\"КМС\",IF(I188<=Нормативы!$L$40,\"КМС\",IF(I188<=Нормативы!$L$41,\"I\",IF(I188<=Нормативы!$L$42,\"II\",IF(I188<=Нормативы!$L$43,\"III\",IF(I188<=Нормативы!$L$44,\"I юн\",IF(I188<=Нормативы!$L$45,\"II юн\",IF(I188<=Нормативы!$L$46,\"III юн\",\"б/р\")))))))))))","v":"б/р"}]
[23,"б/р","Стрельч Елисей ","Иванович","2016-11-23","К;атран",null,null,37.07,{"$f":"IF(ISBLANK(I189),\" \",IF(ISTEXT(I189),\" \",IF(I189<=Нормативы!$H$38,\"КМС\",IF(I189<=Нормативы!$H$39,\"КМС\",IF(I189<=Нормативы!$L$40,\"КМС\",IF(I189<=Нормативы!$L$41,\"I\",IF(I189<=Нормативы!$L$42,\"II\",IF(I189<=Нормативы!$L$43,\"III\",IF(I189<=Нормативы!$L$44,\"I юн\",IF(I189<=Нормативы!$L$45,\"II юн\",IF(I189<=Нормативы!$L$46,\"III юн\",\"б/р\")))))))))))","v":"б/р"}]
[24,"б/р","Бутылин Фёдор","Денисович","2017-10-30","Дианема ",null,null,37.23,{"$f":"IF(ISBLANK(I190),\" \",IF(ISTEXT(I190),\" \",IF(I190<=Нормативы!$H$38,\"КМС\",IF(I190<=Нормативы!$H$39,\"КМС\",IF(I190<=Нормативы!$L$40,\"КМС\",IF(I190<=Нормативы!$L$41,\"I\",IF(I190<=Нормативы!$L$42,\"II\",IF(I190<=Нормативы!$L$43,\"III\",IF(I190<=Нормативы!$L$44,\"I юн\",IF(I190<=Нормативы!$L$45,\"II юн\",IF(I190<=Нормативы!$L$46,\"III юн\",\"б/р\")))))))))))","v":"б/р"}]
[25,"б/р","Ребушев Данил","Романович","2015-06-29","К;атран",null,null,38.22,{"$f":"IF(ISBLANK(I191),\" \",IF(ISTEXT(I191),\" \",IF(I191<=Нормативы!$H$38,\"КМС\",IF(I191<=Нормативы!$H$39,\"КМС\",IF(I191<=Нормативы!$L$40,\"КМС\",IF(I191<=Нормативы!$L$41,\"I\",IF(I191<=Нормативы!$L$42,\"II\",IF(I191<=Нормативы!$L$43,\"III\",IF(I191<=Нормативы!$L$44,\"I юн\",IF(I191<=Нормативы!$L$45,\"II юн\",IF(I191<=Нормативы!$L$46,\"III юн\",\"б/р\")))))))))))","v":"б/р"}]
[26,"III юн","Мокров Ярослав","Александрович","2015-05-15","\"Спутник-Авангард\"",null,null,38.33,{"$f":"IF(ISBLANK(I192),\" \",IF(ISTEXT(I192),\" \",IF(I192<=Нормативы!$H$38,\"КМС\",IF(I192<=Нормативы!$H$39,\"КМС\",IF(I192<=Нормативы!$L$40,\"КМС\",IF(I192<=Нормативы!$L$41,\"I\",IF(I192<=Нормативы!$L$42,\"II\",IF(I192<=Нормативы!$L$43,\"III\",IF(I192<=Нормативы!$L$44,\"I юн\",IF(I192<=Нормативы!$L$45,\"II юн\",IF(I192<=Нормативы!$L$46,\"III юн\",\"б/р\")))))))))))","v":"б/р"}]
[27,"б/р","Науменко Семен ","Романович","2016-03-24","ПК \"Авангард\"",null,null,40.58,{"$f":"IF(ISBLANK(I193),\" \",IF(ISTEXT(I193),\" \",IF(I193<=Нормативы!$H$38,\"КМС\",IF(I193<=Нормативы!$H$39,\"КМС\",IF(I193<=Нормативы!$L$40,\"КМС\",IF(I193<=Нормативы!$L$41,\"I\",IF(I193<=Нормативы!$L$42,\"II\",IF(I193<=Нормативы!$L$43,\"III\",IF(I193<=Нормативы!$L$44,\"I юн\",IF(I193<=Нормативы!$L$45,\"II юн\",IF(I193<=Нормативы!$L$46,\"III юн\",\"б/р\")))))))))))","v":"б/р"}]
[28,"б/р","Назаркин Дмитрий ","Игоревич","2016-03-17","ПК \"Авангард\"",null,null,41.2,{"$f":"IF(ISBLANK(I194),\" \",IF(ISTEXT(I194),\" \",IF(I194<=Нормативы!$H$38,\"КМС\",IF(I194<=Нормативы!$H$39,\"КМС\",IF(I194<=Нормативы!$L$40,\"КМС\",IF(I194<=Нормативы!$L$41,\"I\",IF(I194<=Нормативы!$L$42,\"II\",IF(I194<=Нормативы!$L$43,\"III\",IF(I194<=Нормативы!$L$44,\"I юн\",IF(I194<=Нормативы!$L$45,\"II юн\",IF(I194<=Нормативы!$L$46,\"III юн\",\"б/р\")))))))))))","v":"б/р"}]
[29,"б/р","Степанов Кирилл","Вадимович","2017-07-03","ДВС",null,null,47.4,{"$f":"IF(ISBLANK(I195),\" \",IF(ISTEXT(I195),\" \",IF(I195<=Нормативы!$H$38,\"КМС\",IF(I195<=Нормативы!$H$39,\"КМС\",IF(I195<=Нормативы!$L$40,\"КМС\",IF(I195<=Нормативы!$L$41,\"I\",IF(I195<=Нормативы!$L$42,\"II\",IF(I195<=Нормативы!$L$43,\"III\",IF(I195<=Нормативы!$L$44,\"I юн\",IF(I195<=Нормативы!$L$45,\"II юн\",IF(I195<=Нормативы!$L$46,\"III юн\",\"б/р\")))))))))))","v":"б/р"}]
[30,"б/р","Ганенко Артем","Сергеевич","2017-10-17","Дианема ",null,null,50.19,{"$f":"IF(ISBLANK(I196),\" \",IF(ISTEXT(I196),\" \",IF(I196<=Нормативы!$H$38,\"КМС\",IF(I196<=Нормативы!$H$39,\"КМС\",IF(I196<=Нормативы!$L$40,\"КМС\",IF(I196<=Нормативы!$L$41,\"I\",IF(I196<=Нормативы!$L$42,\"II\",IF(I196<=Нормативы!$L$43,\"III\",IF(I196<=Нормативы!$L$44,\"I юн\",IF(I196<=Нормативы!$L$45,\"II юн\",IF(I196<=Нормативы!$L$46,\"III юн\",\"б/р\")))))))))))","v":"б/р"}]
[null,"б/р","Кандеев Федор ","Михапйлович","2014-11-10","К;атран",null,null,32.01,{"$f":"IF(ISBLANK(I197),\" \",IF(ISTEXT(I197),\" \",IF(I197<=Нормативы!$H$38,\"КМС\",IF(I197<=Нормативы!$H$39,\"КМС\",IF(I197<=Нормативы!$L$40,\"КМС\",IF(I197<=Нормативы!$L$41,\"I\",IF(I197<=Нормативы!$L$42,\"II\",IF(I197<=Нормативы!$L$43,\"III\",IF(I197<=Нормативы!$L$44,\"I юн\",IF(I197<=Нормативы!$L$45,\"II юн\",IF(I197<=Нормативы!$L$46,\"III юн\",\"б/р\")))))))))))","v":"III юн"}]
[]
[null,null,"Плавание в  ластах - 100 м,  девушки 2015-2017 г.р. "]
[]
[1,"I юн","Валеева Лейсан","Каримовна","2015-08-28","Дианема ",null,null,105.38,{"$f":"IF(ISBLANK(I201),\" \",IF(ISTEXT(I201),\" \",IF(I201<=Нормативы!$H$49,\"КМС\",IF(I201<=Нормативы!$H$50,\"КМС\",IF(I201<=Нормативы!$L$51,\"КМС\",IF(I201<=Нормативы!$L$52,\"I\",IF(I201<=Нормативы!$L$53,\"II\",IF(I201<=Нормативы!$L$54,\"III\",IF(I201<=Нормативы!$L$55,\"I юн\",IF(I201<=Нормативы!$L$56,\"II юн\",IF(I201<=Нормативы!$L$57,\"III юн\",\"б/р\")))))))))))","v":"II юн"}]
[2,"III юн","Плащенко Дарина","Ивановна","2015-06-24","\"Спутник-Авангард\"",null,null,109.71,{"$f":"IF(ISBLANK(I202),\" \",IF(ISTEXT(I202),\" \",IF(I202<=Нормативы!$H$49,\"КМС\",IF(I202<=Нормативы!$H$50,\"КМС\",IF(I202<=Нормативы!$L$51,\"КМС\",IF(I202<=Нормативы!$L$52,\"I\",IF(I202<=Нормативы!$L$53,\"II\",IF(I202<=Нормативы!$L$54,\"III\",IF(I202<=Нормативы!$L$55,\"I юн\",IF(I202<=Нормативы!$L$56,\"II юн\",IF(I202<=Нормативы!$L$57,\"III юн\",\"б/р\")))))))))))","v":"III юн"}]
[3,"III юн","Котнекова Ксения ","Сергеевна","2015-12-19","\"Спутник-Авангард\"",null,null,109.71,{"$f":"IF(ISBLANK(I203),\" \",IF(ISTEXT(I203),\" \",IF(I203<=Нормативы!$H$49,\"КМС\",IF(I203<=Нормативы!$H$50,\"КМС\",IF(I203<=Нормативы!$L$51,\"КМС\",IF(I203<=Нормативы!$L$52,\"I\",IF(I203<=Нормативы!$L$53,\"II\",IF(I203<=Нормативы!$L$54,\"III\",IF(I203<=Нормативы!$L$55,\"I юн\",IF(I203<=Нормативы!$L$56,\"II юн\",IF(I203<=Нормативы!$L$57,\"III юн\",\"б/р\")))))))))))","v":"III юн"}]
[4,"II юн","Кругликова Аглая","Сергеевна","2017-03-17","ДВС",null,null,113.21,{"$f":"IF(ISBLANK(I204),\" \",IF(ISTEXT(I204),\" \",IF(I204<=Нормативы!$H$49,\"КМС\",IF(I204<=Нормативы!$H$50,\"КМС\",IF(I204<=Нормативы!$L$51,\"КМС\",IF(I204<=Нормативы!$L$52,\"I\",IF(I204<=Нормативы!$L$53,\"II\",IF(I204<=Нормативы!$L$54,\"III\",IF(I204<=Нормативы!$L$55,\"I юн\",IF(I204<=Нормативы!$L$56,\"II юн\",IF(I204<=Нормативы!$L$57,\"III юн\",\"б/р\")))))))))))","v":"б/р"}]
[5,"I юн","Водясова Ксения","Романовна","2016-05-22","Дианема ",null,null,115.13,{"$f":"IF(ISBLANK(I205),\" \",IF(ISTEXT(I205),\" \",IF(I205<=Нормативы!$H$49,\"КМС\",IF(I205<=Нормативы!$H$50,\"КМС\",IF(I205<=Нормативы!$L$51,\"КМС\",IF(I205<=Нормативы!$L$52,\"I\",IF(I205<=Нормативы!$L$53,\"II\",IF(I205<=Нормативы!$L$54,\"III\",IF(I205<=Нормативы!$L$55,\"I юн\",IF(I205<=Нормативы!$L$56,\"II юн\",IF(I205<=Нормативы!$L$57,\"III юн\",\"б/р\")))))))))))","v":"б/р"}]
[6,"II юн","Гаджиева Сабина","Низамиевна","2015-09-29","Дианема ",null,null,116.53,{"$f":"IF(ISBLANK(I206),\" \",IF(ISTEXT(I206),\" \",IF(I206<=Нормативы!$H$49,\"КМС\",IF(I206<=Нормативы!$H$50,\"КМС\",IF(I206<=Нормативы!$L$51,\"КМС\",IF(I206<=Нормативы!$L$52,\"I\",IF(I206<=Нормативы!$L$53,\"II\",IF(I206<=Нормативы!$L$54,\"III\",IF(I206<=Нормативы!$L$55,\"I юн\",IF(I206<=Нормативы!$L$56,\"II юн\",IF(I206<=Нормативы!$L$57,\"III юн\",\"б/р\")))))))))))","v":"б/р"}]
[7,"Iюн","Членова Анастасия","Александровна","2015-04-18","Дианема ",null,null,121.65,{"$f":"IF(ISBLANK(I207),\" \",IF(ISTEXT(I207),\" \",IF(I207<=Нормативы!$H$49,\"КМС\",IF(I207<=Нормативы!$H$50,\"КМС\",IF(I207<=Нормативы!$L$51,\"КМС\",IF(I207<=Нормативы!$L$52,\"I\",IF(I207<=Нормативы!$L$53,\"II\",IF(I207<=Нормативы!$L$54,\"III\",IF(I207<=Нормативы!$L$55,\"I юн\",IF(I207<=Нормативы!$L$56,\"II юн\",IF(I207<=Нормативы!$L$57,\"III юн\",\"б/р\")))))))))))","v":"б/р"}]
[8,"II юн","Захарова Мария","Денисовна","2015-10-26","Дианема ",null,null,149.89,{"$f":"IF(ISBLANK(I208),\" \",IF(ISTEXT(I208),\" \",IF(I208<=Нормативы!$H$49,\"КМС\",IF(I208<=Нормативы!$H$50,\"КМС\",IF(I208<=Нормативы!$L$51,\"КМС\",IF(I208<=Нормативы!$L$52,\"I\",IF(I208<=Нормативы!$L$53,\"II\",IF(I208<=Нормативы!$L$54,\"III\",IF(I208<=Нормативы!$L$55,\"I юн\",IF(I208<=Нормативы!$L$56,\"II юн\",IF(I208<=Нормативы!$L$57,\"III юн\",\"б/р\")))))))))))","v":"б/р"}]
[]
[null,null,"Плавание в  ластах - 100 м,  юноши 2015-2017 г.р. "]
[]
[1,"III юн","Кондратьев Михаил ","Дмитриевич","2016-02-12","\"Спутник-Авангард\"",null,null,57.01,{"$f":"IF(ISBLANK(I212),\" \",IF(ISTEXT(I212),\" \",IF(I212<=Нормативы!$H$60,\"КМС\",IF(I212<=Нормативы!$H$61,\"КМС\",IF(I212<=Нормативы!$L$62,\"КМС\",IF(I212<=Нормативы!$L$63,\"I\",IF(I212<=Нормативы!$L$64,\"II\",IF(I212<=Нормативы!$L$65,\"III\",IF(I212<=Нормативы!$L$66,\"I юн\",IF(I212<=Нормативы!$L$67,\"II юн\",IF(I212<=Нормативы!$L$68,\"III юн\",\"б/р\")))))))))))","v":"II юн"}]
[2,"II юн","Фёдоров Константин","Романович","2016-05-12","Дианема ",null,null,102.04,{"$f":"IF(ISBLANK(I213),\" \",IF(ISTEXT(I213),\" \",IF(I213<=Нормативы!$H$60,\"КМС\",IF(I213<=Нормативы!$H$61,\"КМС\",IF(I213<=Нормативы!$L$62,\"КМС\",IF(I213<=Нормативы!$L$63,\"I\",IF(I213<=Нормативы!$L$64,\"II\",IF(I213<=Нормативы!$L$65,\"III\",IF(I213<=Нормативы!$L$66,\"I юн\",IF(I213<=Нормативы!$L$67,\"II юн\",IF(I213<=Нормативы!$L$68,\"III юн\",\"б/р\")))))))))))","v":"III юн"}]
[3,"III юн","Провалинский Артём ","Андреевич","2015-12-26","\"Спутник-Авангард\"",null,null,104.46,{"$f":"IF(ISBLANK(I214),\" \",IF(ISTEXT(I214),\" \",IF(I214<=Нормативы!$H$60,\"КМС\",IF(I214<=Нормативы!$H$61,\"КМС\",IF(I214<=Нормативы!$L$62,\"КМС\",IF(I214<=Нормативы!$L$63,\"I\",IF(I214<=Нормативы!$L$64,\"II\",IF(I214<=Нормативы!$L$65,\"III\",IF(I214<=Нормативы!$L$66,\"I юн\",IF(I214<=Нормативы!$L$67,\"II юн\",IF(I214<=Нормативы!$L$68,\"III юн\",\"б/р\")))))))))))","v":"б/р"}]
[4,"III юн","Илиенц Денис","Максимович","2015-10-13","Дианема ",null,null,108.14,{"$f":"IF(ISBLANK(I215),\" \",IF(ISTEXT(I215),\" \",IF(I215<=Нормативы!$H$60,\"КМС\",IF(I215<=Нормативы!$H$61,\"КМС\",IF(I215<=Нормативы!$L$62,\"КМС\",IF(I215<=Нормативы!$L$63,\"I\",IF(I215<=Нормативы!$L$64,\"II\",IF(I215<=Нормативы!$L$65,\"III\",IF(I215<=Нормативы!$L$66,\"I юн\",IF(I215<=Нормативы!$L$67,\"II юн\",IF(I215<=Нормативы!$L$68,\"III юн\",\"б/р\")))))))))))","v":"б/р"}]
[5,"3юн","Мануил Евгений","Станиславович","2017-07-02","Дианема ",null,null,114.03,{"$f":"IF(ISBLANK(I216),\" \",IF(ISTEXT(I216),\" \",IF(I216<=Нормативы!$H$60,\"КМС\",IF(I216<=Нормативы!$H$61,\"КМС\",IF(I216<=Нормативы!$L$62,\"КМС\",IF(I216<=Нормативы!$L$63,\"I\",IF(I216<=Нормативы!$L$64,\"II\",IF(I216<=Нормативы!$L$65,\"III\",IF(I216<=Нормативы!$L$66,\"I юн\",IF(I216<=Нормативы!$L$67,\"II юн\",IF(I216<=Нормативы!$L$68,\"III юн\",\"б/р\")))))))))))","v":"б/р"}]
[6,"II юн","Бутылин Макар","Денисович","2016-05-18","Дианема ",null,null,117.28,{"$f":"IF(ISBLANK(I217),\" \",IF(ISTEXT(I217),\" \",IF(I217<=Нормативы!$H$60,\"КМС\",IF(I217<=Нормативы!$H$61,\"КМС\",IF(I217<=Нормативы!$L$62,\"КМС\",IF(I217<=Нормативы!$L$63,\"I\",IF(I217<=Нормативы!$L$64,\"II\",IF(I217<=Нормативы!$L$65,\"III\",IF(I217<=Нормативы!$L$66,\"I юн\",IF(I217<=Нормативы!$L$67,\"II юн\",IF(I217<=Нормативы!$L$68,\"III юн\",\"б/р\")))))))))))","v":"б/р"}]
[7,"II юн","Малоканов Илья","Александрович","2015-08-03","ДВС",null,null,120.84,{"$f":"IF(ISBLANK(I218),\" \",IF(ISTEXT(I218),\" \",IF(I218<=Нормативы!$H$60,\"КМС\",IF(I218<=Нормативы!$H$61,\"КМС\",IF(I218<=Нормативы!$L$62,\"КМС\",IF(I218<=Нормативы!$L$63,\"I\",IF(I218<=Нормативы!$L$64,\"II\",IF(I218<=Нормативы!$L$65,\"III\",IF(I218<=Нормативы!$L$66,\"I юн\",IF(I218<=Нормативы!$L$67,\"II юн\",IF(I218<=Нормативы!$L$68,\"III юн\",\"б/р\")))))))))))","v":"б/р"}]
[8,"III юн","Калякин Тимофей","Сергеевич","2016-12-16","Дианема ",null,null,122.5,{"$f":"IF(ISBLANK(I219),\" \",IF(ISTEXT(I219),\" \",IF(I219<=Нормативы!$H$60,\"КМС\",IF(I219<=Нормативы!$H$61,\"КМС\",IF(I219<=Нормативы!$L$62,\"КМС\",IF(I219<=Нормативы!$L$63,\"I\",IF(I219<=Нормативы!$L$64,\"II\",IF(I219<=Нормативы!$L$65,\"III\",IF(I219<=Нормативы!$L$66,\"I юн\",IF(I219<=Нормативы!$L$67,\"II юн\",IF(I219<=Нормативы!$L$68,\"III юн\",\"б/р\")))))))))))","v":"б/р"}]
[null,"II юн","Кондратьев Вячеслав","Александрович","2016-08-28","Дианема ",null,null,"DSQ"]
[]
[null,null,"Плавание в  классических ластах - 100 м,  девушки 2015-2017 г.р. "]
[]
[1,"I юн","Бавтрушко Елизавета","Артемовна","2015-01-08","ДВС",null,null,102.81,{"$f":"IF(ISBLANK(I224),\" \",IF(ISTEXT(I224),\" \",IF(I224<=Нормативы!$H$71,\"КМС\",IF(I224<=Нормативы!$H$72,\"КМС\",IF(I224<=Нормативы!$L$73,\"КМС\",IF(I224<=Нормативы!$L$74,\"I\",IF(I224<=Нормативы!$L$75,\"II\",IF(I224<=Нормативы!$L$76,\"III\",IF(I224<=Нормативы!$L$77,\"I юн\",IF(I224<=Нормативы!$L$78,\"II юн\",IF(I224<=Нормативы!$L$79,\"III юн\",\"б/р\")))))))))))","v":"III"}]
[2,"III","Харсекина Злата ","Витальевна","2016-08-04","ПК \"Авангард\"",null,null,105.31,{"$f":"IF(ISBLANK(I225),\" \",IF(ISTEXT(I225),\" \",IF(I225<=Нормативы!$H$71,\"КМС\",IF(I225<=Нормативы!$H$72,\"КМС\",IF(I225<=Нормативы!$L$73,\"КМС\",IF(I225<=Нормативы!$L$74,\"I\",IF(I225<=Нормативы!$L$75,\"II\",IF(I225<=Нормативы!$L$76,\"III\",IF(I225<=Нормативы!$L$77,\"I юн\",IF(I225<=Нормативы!$L$78,\"II юн\",IF(I225<=Нормативы!$L$79,\"III юн\",\"б/р\")))))))))))","v":"III"}]
[3,"I юн","Липкина Полина","Максимовна","2015-02-01","ДВС",null,null,106.5,{"$f":"IF(ISBLANK(I226),\" \",IF(ISTEXT(I226),\" \",IF(I226<=Нормативы!$H$71,\"КМС\",IF(I226<=Нормативы!$H$72,\"КМС\",IF(I226<=Нормативы!$L$73,\"КМС\",IF(I226<=Нормативы!$L$74,\"I\",IF(I226<=Нормативы!$L$75,\"II\",IF(I226<=Нормативы!$L$76,\"III\",IF(I226<=Нормативы!$L$77,\"I юн\",IF(I226<=Нормативы!$L$78,\"II юн\",IF(I226<=Нормативы!$L$79,\"III юн\",\"б/р\")))))))))))","v":"III"}]
[4,"I юн","Миронова Валерия","Егоровна","2016-09-01","ДВС",null,null,110.64,{"$f":"IF(ISBLANK(I227),\" \",IF(ISTEXT(I227),\" \",IF(I227<=Нормативы!$H$71,\"КМС\",IF(I227<=Нормативы!$H$72,\"КМС\",IF(I227<=Нормативы!$L$73,\"КМС\",IF(I227<=Нормативы!$L$74,\"I\",IF(I227<=Нормативы!$L$75,\"II\",IF(I227<=Нормативы!$L$76,\"III\",IF(I227<=Нормативы!$L$77,\"I юн\",IF(I227<=Нормативы!$L$78,\"II юн\",IF(I227<=Нормативы!$L$79,\"III юн\",\"б/р\")))))))))))","v":"I юн"}]
[5,"I юн","Росс Елизавета","Александровна","2015-07-13","ДВС",null,null,111.86,{"$f":"IF(ISBLANK(I228),\" \",IF(ISTEXT(I228),\" \",IF(I228<=Нормативы!$H$71,\"КМС\",IF(I228<=Нормативы!$H$72,\"КМС\",IF(I228<=Нормативы!$L$73,\"КМС\",IF(I228<=Нормативы!$L$74,\"I\",IF(I228<=Нормативы!$L$75,\"II\",IF(I228<=Нормативы!$L$76,\"III\",IF(I228<=Нормативы!$L$77,\"I юн\",IF(I228<=Нормативы!$L$78,\"II юн\",IF(I228<=Нормативы!$L$79,\"III юн\",\"б/р\")))))))))))","v":"I юн"}]
[6,"II юн","Семина Евгения","Алексеевна","2016-03-21","ДВС",null,null,116.88,{"$f":"IF(ISBLANK(I229),\" \",IF(ISTEXT(I229),\" \",IF(I229<=Нормативы!$H$71,\"КМС\",IF(I229<=Нормативы!$H$72,\"КМС\",IF(I229<=Нормативы!$L$73,\"КМС\",IF(I229<=Нормативы!$L$74,\"I\",IF(I229<=Нормативы!$L$75,\"II\",IF(I229<=Нормативы!$L$76,\"III\",IF(I229<=Нормативы!$L$77,\"I юн\",IF(I229<=Нормативы!$L$78,\"II юн\",IF(I229<=Нормативы!$L$79,\"III юн\",\"б/р\")))))))))))","v":"II юн"}]
[7,"I юн","Барановская Виктория"," Евгеньевна","2017-09-30","ПК \"Авангард\"",null,null,117.01,{"$f":"IF(ISBLANK(I230),\" \",IF(ISTEXT(I230),\" \",IF(I230<=Нормативы!$H$71,\"КМС\",IF(I230<=Нормативы!$H$72,\"КМС\",IF(I230<=Нормативы!$L$73,\"КМС\",IF(I230<=Нормативы!$L$74,\"I\",IF(I230<=Нормативы!$L$75,\"II\",IF(I230<=Нормативы!$L$76,\"III\",IF(I230<=Нормативы!$L$77,\"I юн\",IF(I230<=Нормативы!$L$78,\"II юн\",IF(I230<=Нормативы!$L$79,\"III юн\",\"б/р\")))))))))))","v":"II юн"}]
[8,"I юн","Млынарь Милана ","Алексеевна","2015-08-08","ПК \"Авангард\"",null,null,117.26,{"$f":"IF(ISBLANK(I231),\" \",IF(ISTEXT(I231),\" \",IF(I231<=Нормативы!$H$71,\"КМС\",IF(I231<=Нормативы!$H$72,\"КМС\",IF(I231<=Нормативы!$L$73,\"КМС\",IF(I231<=Нормативы!$L$74,\"I\",IF(I231<=Нормативы!$L$75,\"II\",IF(I231<=Нормативы!$L$76,\"III\",IF(I231<=Нормативы!$L$77,\"I юн\",IF(I231<=Нормативы!$L$78,\"II юн\",IF(I231<=Нормативы!$L$79,\"III юн\",\"б/р\")))))))))))","v":"II юн"}]
[9,"II юн","Коновалова Ксения","Андреевна","2015-04-20","ДВС",null,null,117.73,{"$f":"IF(ISBLANK(I232),\" \",IF(ISTEXT(I232),\" \",IF(I232<=Нормативы!$H$71,\"КМС\",IF(I232<=Нормативы!$H$72,\"КМС\",IF(I232<=Нормативы!$L$73,\"КМС\",IF(I232<=Нормативы!$L$74,\"I\",IF(I232<=Нормативы!$L$75,\"II\",IF(I232<=Нормативы!$L$76,\"III\",IF(I232<=Нормативы!$L$77,\"I юн\",IF(I232<=Нормативы!$L$78,\"II юн\",IF(I232<=Нормативы!$L$79,\"III юн\",\"б/р\")))))))))))","v":"II юн"}]
[10,"I юн","Анкудинова Полина ","Васильевна","2015-06-20","ПК \"Авангард\"",null,null,117.73,{"$f":"IF(ISBLANK(I233),\" \",IF(ISTEXT(I233),\" \",IF(I233<=Нормативы!$H$71,\"КМС\",IF(I233<=Нормативы!$H$72,\"КМС\",IF(I233<=Нормативы!$L$73,\"КМС\",IF(I233<=Нормативы!$L$74,\"I\",IF(I233<=Нормативы!$L$75,\"II\",IF(I233<=Нормативы!$L$76,\"III\",IF(I233<=Нормативы!$L$77,\"I юн\",IF(I233<=Нормативы!$L$78,\"II юн\",IF(I233<=Нормативы!$L$79,\"III юн\",\"б/р\")))))))))))","v":"II юн"}]
[11,"II юн","Верховина Екатерина ","Ивановна","2015-06-22","ПК \"Авангард\"",null,null,124,{"$f":"IF(ISBLANK(I234),\" \",IF(ISTEXT(I234),\" \",IF(I234<=Нормативы!$H$71,\"КМС\",IF(I234<=Нормативы!$H$72,\"КМС\",IF(I234<=Нормативы!$L$73,\"КМС\",IF(I234<=Нормативы!$L$74,\"I\",IF(I234<=Нормативы!$L$75,\"II\",IF(I234<=Нормативы!$L$76,\"III\",IF(I234<=Нормативы!$L$77,\"I юн\",IF(I234<=Нормативы!$L$78,\"II юн\",IF(I234<=Нормативы!$L$79,\"III юн\",\"б/р\")))))))))))","v":"III юн"}]
[12,"3 юн","Плякина Елизавета","Игоревна","2015-11-06","К;атран",null,null,124.63,{"$f":"IF(ISBLANK(I235),\" \",IF(ISTEXT(I235),\" \",IF(I235<=Нормативы!$H$71,\"КМС\",IF(I235<=Нормативы!$H$72,\"КМС\",IF(I235<=Нормативы!$L$73,\"КМС\",IF(I235<=Нормативы!$L$74,\"I\",IF(I235<=Нормативы!$L$75,\"II\",IF(I235<=Нормативы!$L$76,\"III\",IF(I235<=Нормативы!$L$77,\"I юн\",IF(I235<=Нормативы!$L$78,\"II юн\",IF(I235<=Нормативы!$L$79,\"III юн\",\"б/р\")))))))))))","v":"III юн"}]
[13,"III юн","Виноградова Арина","Максимовна","2016-04-26","ДВС",null,null,125.17,{"$f":"IF(ISBLANK(I236),\" \",IF(ISTEXT(I236),\" \",IF(I236<=Нормативы!$H$71,\"КМС\",IF(I236<=Нормативы!$H$72,\"КМС\",IF(I236<=Нормативы!$L$73,\"КМС\",IF(I236<=Нормативы!$L$74,\"I\",IF(I236<=Нормативы!$L$75,\"II\",IF(I236<=Нормативы!$L$76,\"III\",IF(I236<=Нормативы!$L$77,\"I юн\",IF(I236<=Нормативы!$L$78,\"II юн\",IF(I236<=Нормативы!$L$79,\"III юн\",\"б/р\")))))))))))","v":"б/р"}]
[14,"III юн","Сугак Алиса","Александровна","2017-03-24","ДВС",null,null,126.11,{"$f":"IF(ISBLANK(I237),\" \",IF(ISTEXT(I237),\" \",IF(I237<=Нормативы!$H$71,\"КМС\",IF(I237<=Нормативы!$H$72,\"КМС\",IF(I237<=Нормативы!$L$73,\"КМС\",IF(I237<=Нормативы!$L$74,\"I\",IF(I237<=Нормативы!$L$75,\"II\",IF(I237<=Нормативы!$L$76,\"III\",IF(I237<=Нормативы!$L$77,\"I юн\",IF(I237<=Нормативы!$L$78,\"II юн\",IF(I237<=Нормативы!$L$79,\"III юн\",\"б/р\")))))))))))","v":"б/р"}]
[15,"III юн","Кокорина Василиса ","Васильевна","2017-07-27","ПК \"Авангард\"",null,null,128.54,{"$f":"IF(ISBLANK(I238),\" \",IF(ISTEXT(I238),\" \",IF(I238<=Нормативы!$H$71,\"КМС\",IF(I238<=Нормативы!$H$72,\"КМС\",IF(I238<=Нормативы!$L$73,\"КМС\",IF(I238<=Нормативы!$L$74,\"I\",IF(I238<=Нормативы!$L$75,\"II\",IF(I238<=Нормативы!$L$76,\"III\",IF(I238<=Нормативы!$L$77,\"I юн\",IF(I238<=Нормативы!$L$78,\"II юн\",IF(I238<=Нормативы!$L$79,\"III юн\",\"б/р\")))))))))))","v":"б/р"}]
[16,"б/р","Некрасова Варвара","Евгеньевна","2017-08-20","Дианема ",null,null,131.26,{"$f":"IF(ISBLANK(I239),\" \",IF(ISTEXT(I239),\" \",IF(I239<=Нормативы!$H$71,\"КМС\",IF(I239<=Нормативы!$H$72,\"КМС\",IF(I239<=Нормативы!$L$73,\"КМС\",IF(I239<=Нормативы!$L$74,\"I\",IF(I239<=Нормативы!$L$75,\"II\",IF(I239<=Нормативы!$L$76,\"III\",IF(I239<=Нормативы!$L$77,\"I юн\",IF(I239<=Нормативы!$L$78,\"II юн\",IF(I239<=Нормативы!$L$79,\"III юн\",\"б/р\")))))))))))","v":"б/р"}]
[null,"б/р","Сакова Софья ","Николаевна","2017-05-17","ПК \"Авангард\"",null,null,"DSQ"]
[null,"II юн","Пономарева Виктория","Сергеевна","2015-03-06","\"Спутник-Авангард\"",null,null,"DSQ"]
[]
[null,null,"Плавание в  классических ластах - 100 м,  юноши2015-2017 г.р. "]
[]
[1,"1юн","Савельев Тимофей","Павлович","2015-12-18","Дианема",null,null,103.54,{"$f":"IF(ISBLANK(I245),\" \",IF(ISTEXT(I245),\" \",IF(I245<=Нормативы!$H$82,\"КМС\",IF(I245<=Нормативы!$H$83,\"КМС\",IF(I245<=Нормативы!$L$84,\"КМС\",IF(I245<=Нормативы!$L$85,\"I\",IF(I245<=Нормативы!$L$86,\"II\",IF(I245<=Нормативы!$L$87,\"III\",IF(I245<=Нормативы!$L$88,\"I юн\",IF(I245<=Нормативы!$L$89,\"II юн\",IF(I245<=Нормативы!$L$90,\"III юн\",\"б/р\")))))))))))","v":"I юн"}]
[2,"I юн","Марусенко Артём","Александрович","2015-04-09","Дианема",null,null,103.76,{"$f":"IF(ISBLANK(I246),\" \",IF(ISTEXT(I246),\" \",IF(I246<=Нормативы!$H$82,\"КМС\",IF(I246<=Нормативы!$H$83,\"КМС\",IF(I246<=Нормативы!$L$84,\"КМС\",IF(I246<=Нормативы!$L$85,\"I\",IF(I246<=Нормативы!$L$86,\"II\",IF(I246<=Нормативы!$L$87,\"III\",IF(I246<=Нормативы!$L$88,\"I юн\",IF(I246<=Нормативы!$L$89,\"II юн\",IF(I246<=Нормативы!$L$90,\"III юн\",\"б/р\")))))))))))","v":"I юн"}]
[3,"I юн","Мясников Матвей","Александрович","2015-08-06","Дианема",null,null,108.79,{"$f":"IF(ISBLANK(I247),\" \",IF(ISTEXT(I247),\" \",IF(I247<=Нормативы!$H$82,\"КМС\",IF(I247<=Нормативы!$H$83,\"КМС\",IF(I247<=Нормативы!$L$84,\"КМС\",IF(I247<=Нормативы!$L$85,\"I\",IF(I247<=Нормативы!$L$86,\"II\",IF(I247<=Нормативы!$L$87,\"III\",IF(I247<=Нормативы!$L$88,\"I юн\",IF(I247<=Нормативы!$L$89,\"II юн\",IF(I247<=Нормативы!$L$90,\"III юн\",\"б/р\")))))))))))","v":"II юн"}]
[4,"II юн","Фёдоров Константин","Романович","2016-05-12","Дианема",null,null,108.9,{"$f":"IF(ISBLANK(I248),\" \",IF(ISTEXT(I248),\" \",IF(I248<=Нормативы!$H$82,\"КМС\",IF(I248<=Нормативы!$H$83,\"КМС\",IF(I248<=Нормативы!$L$84,\"КМС\",IF(I248<=Нормативы!$L$85,\"I\",IF(I248<=Нормативы!$L$86,\"II\",IF(I248<=Нормативы!$L$87,\"III\",IF(I248<=Нормативы!$L$88,\"I юн\",IF(I248<=Нормативы!$L$89,\"II юн\",IF(I248<=Нормативы!$L$90,\"III юн\",\"б/р\")))))))))))","v":"II юн"}]
[5,"б/р","Широбоков Михаил ","Андреевич","2015-11-04","ПК \"Авангард\"",null,null,117.83,{"$f":"IF(ISBLANK(I249),\" \",IF(ISTEXT(I249),\" \",IF(I249<=Нормативы!$H$82,\"КМС\",IF(I249<=Нормативы!$H$83,\"КМС\",IF(I249<=Нормативы!$L$84,\"КМС\",IF(I249<=Нормативы!$L$85,\"I\",IF(I249<=Нормативы!$L$86,\"II\",IF(I249<=Нормативы!$L$87,\"III\",IF(I249<=Нормативы!$L$88,\"I юн\",IF(I249<=Нормативы!$L$89,\"II юн\",IF(I249<=Нормативы!$L$90,\"III юн\",\"б/р\")))))))))))","v":"б/р"}]
[6,"III юн","Зверев Артем ","Константинович","2015-01-17","ПК \"Авангард\"",null,null,120.13,{"$f":"IF(ISBLANK(I250),\" \",IF(ISTEXT(I250),\" \",IF(I250<=Нормативы!$H$82,\"КМС\",IF(I250<=Нормативы!$H$83,\"КМС\",IF(I250<=Нормативы!$L$84,\"КМС\",IF(I250<=Нормативы!$L$85,\"I\",IF(I250<=Нормативы!$L$86,\"II\",IF(I250<=Нормативы!$L$87,\"III\",IF(I250<=Нормативы!$L$88,\"I юн\",IF(I250<=Нормативы!$L$89,\"II юн\",IF(I250<=Нормативы!$L$90,\"III юн\",\"б/р\")))))))))))","v":"б/р"}]
[7,"III юн","Блудов Руслан ","Геннадьевич","2015-08-02","ПК \"Авангард\"",null,null,120.28,{"$f":"IF(ISBLANK(I251),\" \",IF(ISTEXT(I251),\" \",IF(I251<=Нормативы!$H$82,\"КМС\",IF(I251<=Нормативы!$H$83,\"КМС\",IF(I251<=Нормативы!$L$84,\"КМС\",IF(I251<=Нормативы!$L$85,\"I\",IF(I251<=Нормативы!$L$86,\"II\",IF(I251<=Нормативы!$L$87,\"III\",IF(I251<=Нормативы!$L$88,\"I юн\",IF(I251<=Нормативы!$L$89,\"II юн\",IF(I251<=Нормативы!$L$90,\"III юн\",\"б/р\")))))))))))","v":"б/р"}]
[8,"3 юн","Ивашко Федор","Алексеевич","09.02ю2015","К;атран",null,null,120.51,{"$f":"IF(ISBLANK(I252),\" \",IF(ISTEXT(I252),\" \",IF(I252<=Нормативы!$H$82,\"КМС\",IF(I252<=Нормативы!$H$83,\"КМС\",IF(I252<=Нормативы!$L$84,\"КМС\",IF(I252<=Нормативы!$L$85,\"I\",IF(I252<=Нормативы!$L$86,\"II\",IF(I252<=Нормативы!$L$87,\"III\",IF(I252<=Нормативы!$L$88,\"I юн\",IF(I252<=Нормативы!$L$89,\"II юн\",IF(I252<=Нормативы!$L$90,\"III юн\",\"б/р\")))))))))))","v":"б/р"}]
[9,"III юн","Калякин Тимофей","Сергеевич","2016-12-16","Дианема",null,null,120.65,{"$f":"IF(ISBLANK(I253),\" \",IF(ISTEXT(I253),\" \",IF(I253<=Нормативы!$H$82,\"КМС\",IF(I253<=Нормативы!$H$83,\"КМС\",IF(I253<=Нормативы!$L$84,\"КМС\",IF(I253<=Нормативы!$L$85,\"I\",IF(I253<=Нормативы!$L$86,\"II\",IF(I253<=Нормативы!$L$87,\"III\",IF(I253<=Нормативы!$L$88,\"I юн\",IF(I253<=Нормативы!$L$89,\"II юн\",IF(I253<=Нормативы!$L$90,\"III юн\",\"б/р\")))))))))))","v":"б/р"}]
[10,"б,р ","Пашенных Прохор","Семенович","2015-09-10","К;атран",null,null,120.82,{"$f":"IF(ISBLANK(I254),\" \",IF(ISTEXT(I254),\" \",IF(I254<=Нормативы!$H$82,\"КМС\",IF(I254<=Нормативы!$H$83,\"КМС\",IF(I254<=Нормативы!$L$84,\"КМС\",IF(I254<=Нормативы!$L$85,\"I\",IF(I254<=Нормативы!$L$86,\"II\",IF(I254<=Нормативы!$L$87,\"III\",IF(I254<=Нормативы!$L$88,\"I юн\",IF(I254<=Нормативы!$L$89,\"II юн\",IF(I254<=Нормативы!$L$90,\"III юн\",\"б/р\")))))))))))","v":"б/р"}]
[11,"б/р","Пичугин Семён","Константинович","2015-10-08","Дианема",null,null,120.97,{"$f":"IF(ISBLANK(I255),\" \",IF(ISTEXT(I255),\" \",IF(I255<=Нормативы!$H$82,\"КМС\",IF(I255<=Нормативы!$H$83,\"КМС\",IF(I255<=Нормативы!$L$84,\"КМС\",IF(I255<=Нормативы!$L$85,\"I\",IF(I255<=Нормативы!$L$86,\"II\",IF(I255<=Нормативы!$L$87,\"III\",IF(I255<=Нормативы!$L$88,\"I юн\",IF(I255<=Нормативы!$L$89,\"II юн\",IF(I255<=Нормативы!$L$90,\"III юн\",\"б/р\")))))))))))","v":"б/р"}]
[12,"III юн","Котнеков Константин ","Сергеевич","2015-12-19","\"Спутник-Авангард\"",null,null,123.5,{"$f":"IF(ISBLANK(I256),\" \",IF(ISTEXT(I256),\" \",IF(I256<=Нормативы!$H$82,\"КМС\",IF(I256<=Нормативы!$H$83,\"КМС\",IF(I256<=Нормативы!$L$84,\"КМС\",IF(I256<=Нормативы!$L$85,\"I\",IF(I256<=Нормативы!$L$86,\"II\",IF(I256<=Нормативы!$L$87,\"III\",IF(I256<=Нормативы!$L$88,\"I юн\",IF(I256<=Нормативы!$L$89,\"II юн\",IF(I256<=Нормативы!$L$90,\"III юн\",\"б/р\")))))))))))","v":"б/р"}]
[13,"III юн","Горобец Иван","Максимович","2015-03-02","ПК Авангард",null,null,123.9,{"$f":"IF(ISBLANK(I257),\" \",IF(ISTEXT(I257),\" \",IF(I257<=Нормативы!$H$82,\"КМС\",IF(I257<=Нормативы!$H$83,\"КМС\",IF(I257<=Нормативы!$L$84,\"КМС\",IF(I257<=Нормативы!$L$85,\"I\",IF(I257<=Нормативы!$L$86,\"II\",IF(I257<=Нормативы!$L$87,\"III\",IF(I257<=Нормативы!$L$88,\"I юн\",IF(I257<=Нормативы!$L$89,\"II юн\",IF(I257<=Нормативы!$L$90,\"III юн\",\"б/р\")))))))))))","v":"б/р"}]
[14,"б/р","Антипин Михаил","Николаевич","2017-12-19","Дианема",null,null,124.92,{"$f":"IF(ISBLANK(I258),\" \",IF(ISTEXT(I258),\" \",IF(I258<=Нормативы!$H$82,\"КМС\",IF(I258<=Нормативы!$H$83,\"КМС\",IF(I258<=Нормативы!$L$84,\"КМС\",IF(I258<=Нормативы!$L$85,\"I\",IF(I258<=Нормативы!$L$86,\"II\",IF(I258<=Нормативы!$L$87,\"III\",IF(I258<=Нормативы!$L$88,\"I юн\",IF(I258<=Нормативы!$L$89,\"II юн\",IF(I258<=Нормативы!$L$90,\"III юн\",\"б/р\")))))))))))","v":"б/р"}]
[15,"б/р","Сухов Александр ","Антонович","2015-12-17","ПК \"Авангард\"",null,null,126.34,{"$f":"IF(ISBLANK(I259),\" \",IF(ISTEXT(I259),\" \",IF(I259<=Нормативы!$H$82,\"КМС\",IF(I259<=Нормативы!$H$83,\"КМС\",IF(I259<=Нормативы!$L$84,\"КМС\",IF(I259<=Нормативы!$L$85,\"I\",IF(I259<=Нормативы!$L$86,\"II\",IF(I259<=Нормативы!$L$87,\"III\",IF(I259<=Нормативы!$L$88,\"I юн\",IF(I259<=Нормативы!$L$89,\"II юн\",IF(I259<=Нормативы!$L$90,\"III юн\",\"б/р\")))))))))))","v":"б/р"}]
[16,"б/р","Стрельч Елисей ","Иванович","2016-11-23","К;атран",null,null,127.58,{"$f":"IF(ISBLANK(I260),\" \",IF(ISTEXT(I260),\" \",IF(I260<=Нормативы!$H$82,\"КМС\",IF(I260<=Нормативы!$H$83,\"КМС\",IF(I260<=Нормативы!$L$84,\"КМС\",IF(I260<=Нормативы!$L$85,\"I\",IF(I260<=Нормативы!$L$86,\"II\",IF(I260<=Нормативы!$L$87,\"III\",IF(I260<=Нормативы!$L$88,\"I юн\",IF(I260<=Нормативы!$L$89,\"II юн\",IF(I260<=Нормативы!$L$90,\"III юн\",\"б/р\")))))))))))","v":"б/р"}]
[17,"б/р","Науменко Семен ","Романович","2016-03-24","ПК \"Авангард\"",null,null,136.95,{"$f":"IF(ISBLANK(I261),\" \",IF(ISTEXT(I261),\" \",IF(I261<=Нормативы!$H$82,\"КМС\",IF(I261<=Нормативы!$H$83,\"КМС\",IF(I261<=Нормативы!$L$84,\"КМС\",IF(I261<=Нормативы!$L$85,\"I\",IF(I261<=Нормативы!$L$86,\"II\",IF(I261<=Нормативы!$L$87,\"III\",IF(I261<=Нормативы!$L$88,\"I юн\",IF(I261<=Нормативы!$L$89,\"II юн\",IF(I261<=Нормативы!$L$90,\"III юн\",\"б/р\")))))))))))","v":"б/р"}]
[null,"б/р","Назаркин Дмитрий ","Игоревич","2016-03-17","ПК \"Авангард\"",null,null,"DSQ"]
[null,"б/р","Степанов Кирилл","Вадимович","2017-07-03","ДВС",null,null,"DSQ"]
[]
[null,"б/р","Кандеев Федор ","Михайлович","2014-11-10","К;атран",null,null,113.87,{"$f":"IF(ISBLANK(I265),\" \",IF(ISTEXT(I265),\" \",IF(I265<=Нормативы!$H$82,\"КМС\",IF(I265<=Нормативы!$H$83,\"КМС\",IF(I265<=Нормативы!$L$84,\"КМС\",IF(I265<=Нормативы!$L$85,\"I\",IF(I265<=Нормативы!$L$86,\"II\",IF(I265<=Нормативы!$L$87,\"III\",IF(I265<=Нормативы!$L$88,\"I юн\",IF(I265<=Нормативы!$L$89,\"II юн\",IF(I265<=Нормативы!$L$90,\"III юн\",\"б/р\")))))))))))","v":"III юн"}]
[]
[null,null,"Эстафета 4по50 метров плавание в ластах (смешаная)"]
[]
[1,{"$nulls":4},"\"Спутник-Авангард\"",null,null,156.45]
[null,"III юн","Кондратьев Михаил ","Дмитриевич","2016-02-12",{"$nulls":3},24.5,{"$f":"IF(ISBLANK(I270),\" \",IF(ISTEXT(I270),\" \",IF(I270<=Нормативы!$H$16,\"КМС\",IF(I270<=Нормативы!$H$17,\"КМС\",IF(I270<=Нормативы!$L$18,\"КМС\",IF(I270<=Нормативы!$L$19,\"I\",IF(I270<=Нормативы!$L$20,\"II\",IF(I270<=Нормативы!$L$21,\"III\",IF(I270<=Нормативы!$L$22,\"I юн\",IF(I270<=Нормативы!$L$23,\"II юн\",IF(I270<=Нормативы!$L$24,\"III юн\",\"б/р\")))))))))))","v":"II юн"}]
[null,"III юн","Котнекова Ксения ","Сергеевна","2015-12-19"]
[null,"III юн","Провалинский Артём ","Андреевич","2015-12-26"]
[null,"III юн","Плащенко Дарина","Ивановна","2015-06-24"]
[]
[2,{"$nulls":4},"Дианема",null,null,156.65]
[null,"I юн","Сисько Илья","Сергеевич","2015-04-15",{"$nulls":3},{"v":26.8,"d":"26.80"},{"$f":"IF(ISBLANK(I276),\" \",IF(ISTEXT(I276),\" \",IF(I276<=Нормативы!$H$16,\"КМС\",IF(I276<=Нормативы!$H$17,\"КМС\",IF(I276<=Нормативы!$L$18,\"КМС\",IF(I276<=Нормативы!$L$19,\"I\",IF(I276<=Нормативы!$L$20,\"II\",IF(I276<=Нормативы!$L$21,\"III\",IF(I276<=Нормативы!$L$22,\"I юн\",IF(I276<=Нормативы!$L$23,\"II юн\",IF(I276<=Нормативы!$L$24,\"III юн\",\"б/р\")))))))))))","v":"III юн"}]
[null,"I юн","Валеева Лейсан","Каримовна","2015-08-28"]
[null,"II юн","Фёдоров Константин","Романович","2016-05-12"]
[null,"I юн","Водясова Ксения","Романовна","2016-05-22"]
[]
[3,{"$nulls":4},"ДВС",null,null,204.01]
[null,"II юн","Пичкуров Савелий","Сергеевич","2015-06-22",{"$nulls":3},32.78,{"$f":"IF(ISBLANK(I282),\" \",IF(ISTEXT(I282),\" \",IF(I282<=Нормативы!$H$16,\"КМС\",IF(I282<=Нормативы!$H$17,\"КМС\",IF(I282<=Нормативы!$L$18,\"КМС\",IF(I282<=Нормативы!$L$19,\"I\",IF(I282<=Нормативы!$L$20,\"II\",IF(I282<=Нормативы!$L$21,\"III\",IF(I282<=Нормативы!$L$22,\"I юн\",IF(I282<=Нормативы!$L$23,\"II юн\",IF(I282<=Нормативы!$L$24,\"III юн\",\"б/р\")))))))))))","v":"б/р"}]
[null,"I юн","Липкина Полина","Максимовна","2015-02-01"]
[null,"II юн","Малоканов Илья","Александрович","2015-08-03"]
[null,"I юн","Бавтрушко Елизавета","Артемовна","2015-01-08"]
[]
[4,{"$nulls":4},"Дианема-1",null,null,212.94]
[null,"II юн","Кондратьев Вячеслав","Александрович","2016-08-28",{"$nulls":3},{"v":26.8,"d":"26.80"},{"$f":"IF(ISBLANK(I288),\" \",IF(ISTEXT(I288),\" \",IF(I288<=Нормативы!$H$16,\"КМС\",IF(I288<=Нормативы!$H$17,\"КМС\",IF(I288<=Нормативы!$L$18,\"КМС\",IF(I288<=Нормативы!$L$19,\"I\",IF(I288<=Нормативы!$L$20,\"II\",IF(I288<=Нормативы!$L$21,\"III\",IF(I288<=Нормативы!$L$22,\"I юн\",IF(I288<=Нормативы!$L$23,\"II юн\",IF(I288<=Нормативы!$L$24,\"III юн\",\"б/р\")))))))))))","v":"III юн"}]
[null,"II юн","Гаджиева Сабина","Низамиевна","2015-09-29"]
[null,"III юн","Абдулхаков Дмитрий ","Алексеевич","2015-12-15"]
[null,"б/р","Некрасова Варвара","Евгеньевна","2017-08-20"]
[]
[]
[null,null,"Эстафета 4по100 метров плавание в классических ластах (смешаная)"]
[]
[1,{"$nulls":4},"Дианема",null,null,451.2]
[null,"I юн","Марусенко Артём","Александрович","2015-04-09",{"$nulls":3},104,{"$f":"IF(ISBLANK(I297),\" \",IF(ISTEXT(I297),\" \",IF(I297<=Нормативы!$H$82,\"КМС\",IF(I297<=Нормативы!$H$83,\"КМС\",IF(I297<=Нормативы!$L$84,\"КМС\",IF(I297<=Нормативы!$L$85,\"I\",IF(I297<=Нормативы!$L$86,\"II\",IF(I297<=Нормативы!$L$87,\"III\",IF(I297<=Нормативы!$L$88,\"I юн\",IF(I297<=Нормативы!$L$89,\"II юн\",IF(I297<=Нормативы!$L$90,\"III юн\",\"б/р\")))))))))))","v":"I юн"}]
[null,"II юн","Захарова Мария","Денисовна","2015-10-26"]
[null,"1юн","Савельев Тимофей","Павлович","2015-12-18"]
[null,"Iюн","Членова Анастасия","Александровна","2015-04-18"]
[]
[2,{"$nulls":4},"Дианема-1",null,null,516.26]
[null,"I юн","Мясников Матвей","Александрович","2015-08-06",{"$nulls":3},107.77,{"$f":"IF(ISBLANK(I303),\" \",IF(ISTEXT(I303),\" \",IF(I303<=Нормативы!$H$82,\"КМС\",IF(I303<=Нормативы!$H$83,\"КМС\",IF(I303<=Нормативы!$L$84,\"КМС\",IF(I303<=Нормативы!$L$85,\"I\",IF(I303<=Нормативы!$L$86,\"II\",IF(I303<=Нормативы!$L$87,\"III\",IF(I303<=Нормативы!$L$88,\"I юн\",IF(I303<=Нормативы!$L$89,\"II юн\",IF(I303<=Нормативы!$L$90,\"III юн\",\"б/р\")))))))))))","v":"II юн"}]
[null,"III юн","Малакеева Мирослава","Вячеславовна","01.01.2016\n"]
[null,"II юн","Бутылин Макар","Денисович","2016-05-18"]
[null,"3юн","Гончаренко Мирослава","Владимировна","2016-09-01"]
[]
[3,{"$nulls":4},"\"Спутник-Авангард\"",null,null,517.76]
[null,"III юн","Котнеков Константин ","Сергеевич","2015-12-19",{"$nulls":3},124.14,{"$f":"IF(ISBLANK(I309),\" \",IF(ISTEXT(I309),\" \",IF(I309<=Нормативы!$H$82,\"КМС\",IF(I309<=Нормативы!$H$83,\"КМС\",IF(I309<=Нормативы!$L$84,\"КМС\",IF(I309<=Нормативы!$L$85,\"I\",IF(I309<=Нормативы!$L$86,\"II\",IF(I309<=Нормативы!$L$87,\"III\",IF(I309<=Нормативы!$L$88,\"I юн\",IF(I309<=Нормативы!$L$89,\"II юн\",IF(I309<=Нормативы!$L$90,\"III юн\",\"б/р\")))))))))))","v":"б/р"}]
[null,"III юн","Котнекова Ксения ","Сергеевна","2015-12-19"]
[null,"б/р","Николаев Дмитрий ","Ильич","2016-03-18"]
[null,"II юн","Пономарева Виктория","Сергеевна","2015-03-06"]
[]
[4,{"$nulls":4},"ДВС",null,null,"DSQ"]
[null,"II юн","Пичкуров Савелий","Сергеевич","2015-06-22",{"$nulls":3},106.88,{"$f":"IF(ISBLANK(I315),\" \",IF(ISTEXT(I315),\" \",IF(I315<=Нормативы!$H$82,\"КМС\",IF(I315<=Нормативы!$H$83,\"КМС\",IF(I315<=Нормативы!$L$84,\"КМС\",IF(I315<=Нормативы!$L$85,\"I\",IF(I315<=Нормативы!$L$86,\"II\",IF(I315<=Нормативы!$L$87,\"III\",IF(I315<=Нормативы!$L$88,\"I юн\",IF(I315<=Нормативы!$L$89,\"II юн\",IF(I315<=Нормативы!$L$90,\"III юн\",\"б/р\")))))))))))","v":"II юн"}]
[null,"I юн","Росс Елизавета","Александровна","2015-07-13"]
[null,"II юн","Малоканов Илья","Александрович","2015-08-03"]
[null,"I юн","Миронова Валерия","Егоровна","2016-09-01"]

{"sheet":"Отчет_ЦСП","index":1,"n_rows":128,"n_cols":18,"rows_kept":128,"merged":[[7,0,7,17],[9,0,9,17],[10,0,10,16],[11,0,11,17],[12,1,12,4],[12,5,12,15],[14,0,14,16],[16,0,16,16],[40,0,41,2],[40,3,41,3],[40,4,40,17],[41,4,41,5],[41,6,41,7],[41,8,41,9],[41,10,41,11],[41,12,41,13],[41,14,41,15],[41,16,41,17],[42,0,42,2],[42,4,42,5],[42,6,42,7],[42,8,42,9],[42,10,42,11],[42,12,42,13],[42,14,42,15],[42,16,42,17],[43,0,43,2],[43,4,43,5],[43,6,43,7],[43,8,43,9],[43,10,43,11],[43,12,43,13],[43,14,43,15],[43,16,43,17],[44,0,44,2],[44,4,44,5],[44,6,44,7],[44,8,44,9],[44,10,44,11],[44,12,44,13],[44,14,44,15],[44,16,44,17],[45,12,45,13],[48,0,48,17],[49,1,49,14],[52,0,53,0],[52,1,53,8],[52,9,53,17],[54,9,73,17],[78,0,78,17],[81,1,81,8],[81,9,81,10],[81,11,81,15],[81,16,81,17],[82,1,82,8],[82,9,82,10],[82,11,82,15],[82,16,82,17],[83,1,83,8],[83,9,83,10],[83,11,83,15],[83,16,83,17],[84,1,84,8],[84,9,84,10],[84,11,84,15],[84,16,84,17],[85,1,85,8],[85,9,85,10],[85,11,85,15],[85,16,85,17],[86,1,86,8],[86,9,86,10],[86,11,86,15],[86,16,86,17],[87,1,87,8],[87,9,87,10],[87,11,87,15],[87,16,87,17],[88,1,88,8],[88,9,88,10],[88,11,88,15],[88,16,88,17],[89,1,89,8],[89,9,89,10],[89,11,89,15],[89,16,89,17],[90,1,90,8],[90,9,90,10],[90,11,90,15],[90,16,90,17],[91,1,91,8],[91,9,91,10],[91,11,91,15],[91,16,91,17],[92,1,92,8],[92,9,92,10],[92,11,92,15],[92,16,92,17],[93,1,93,8],[93,9,93,10],[93,11,93,15],[93,16,93,17],[94,1,94,8],[94,9,94,10],[94,11,94,15],[94,16,94,17],[95,1,95,8],[95,9,95,10],[95,11,95,15],[95,16,95,17],[96,1,96,8],[96,9,96,10],[96,11,96,15],[96,16,96,17],[97,1,97,8],[97,9,97,10],[97,11,97,15],[97,16,97,17],[98,1,98,8],[98,9,98,10],[98,11,98,15],[98,16,98,17],[99,1,99,8],[99,9,99,10],[99,11,99,15],[99,16,99,17],[100,1,100,8],[100,9,100,10],[100,11,100,15],[100,16,100,17],[101,1,101,8],[101,9,101,10],[101,11,101,15],[101,16,101,17],[102,1,102,8],[102,9,102,10],[102,11,102,15],[102,16,102,17],[103,1,103,8],[103,9,103,10],[103,11,103,15],[103,16,103,17],[104,1,104,8],[104,9,104,10],[104,11,104,15],[104,16,104,17],[105,1,105,8],[105,9,105,10],[105,11,105,15],[105,16,105,17],[106,1,106,8],[106,9,106,10],[106,11,106,15],[106,16,106,17],[107,1,107,8],[107,9,107,10],[107,11,107,15],[107,16,107,17],[108,1,108,8],[108,9,108,10],[108,11,108,15],[108,16,108,17],[109,1,109,8],[109,9,109,10],[109,11,109,15],[109,16,109,17],[110,1,110,8],[110,9,110,10],[110,11,110,15],[110,16,110,17],[111,1,111,8],[111,9,111,10],[111,11,111,15],[111,16,111,17],[112,1,112,8],[112,9,112,10],[112,11,112,15],[112,16,112,17],[113,1,113,8],[113,9,113,10],[113,11,113,15],[113,16,113,17],[114,1,114,8],[114,9,114,10],[114,11,114,15],[114,16,114,17],[115,1,115,8],[115,9,115,10],[115,11,115,15],[115,16,115,17],[116,1,116,8],[116,9,116,10],[116,11,116,15],[116,16,116,17],[117,1,117,8],[117,9,117,10],[117,11,117,15],[117,16,117,17],[118,1,118,8],[118,9,118,10],[118,11,118,15],[118,16,118,17],[120,0,120,6],[120,8,120,11],[121,8,121,11],[121,13,121,17],[123,0,123,6],[123,8,123,11],[124,8,124,11],[124,13,124,17],[126,0,126,6],[126,8,126,11],[127,8,127,11],[127,13,127,17]]}
[{"$nulls":12},"УТВЕРЖДАЮ"]
[{"$nulls":11},"Заместитель директора"]
[{"$nulls":11},"по работе со сборными командами"]
[{"$nulls":11},"и проведению мероприятий"]
[{"$nulls":11},"КГАУ \"ЦСП\""]
[{"$nulls":17},"__________________ В.И. Мусиенко"]
[]
["Отчет главного судьи"]
[]
[{"$f":"#REF!","v":{"$error":"#REF!"}}]
["(наименование согласно положению/регламенту о соревновании)"]
[{"$f":"#REF!","v":{"$error":"#REF!"}}]
[]
["Место проведения:",{"$nulls":3},{"$f":"#REF!","v":{"$error":"#REF!"}}]
["(город/район края, поселок/село, наименование спортивного сооружения)"]
["Сроки проведения:",{"$nulls":3},{"$f":"#REF!&\" \"&\"(четыре дня)\"","v":{"$error":"#REF!"}}]
["(число, месяц, количество соревновательных/игровых дней)"]
["I.","УЧАСТНИКИ:",null,null,3,"региона (гг. Красноярск, Ачинск, Зеленогорск)"]
[{"$nulls":4},{"$f":"COUNTIF(#REF!,\"*г.*\")+COUNTIF(#REF!,\"*обл*\")+COUNTIF(#REF!,\"*край*\")+COUNTIF(#REF!,\"*город*\")+COUNTIF(#REF!,\"*респ*\")","v":{"$error":"#REF!"}},"команд, ",null,{"$f":"#REF!","v":{"$error":"#REF!"}},"участник(ов)"]
[{"$nulls":4},{"$f":"#REF!","v":{"$error":"#REF!"}},{"$nulls":4},"-",{"$f":"COUNTIF(#REF!,E20)","v":{"$error":"#REF!"}},"чел."]
[{"$nulls":4},{"$f":"#REF!","v":{"$error":"#REF!"}},{"$nulls":4},"-",{"$f":"COUNTIF(#REF!,E21)","v":{"$error":"#REF!"}},"чел."]
[{"$nulls":4},{"$f":"#REF!","v":{"$error":"#REF!"}},{"$nulls":4},"-",{"$f":"COUNTIF(#REF!,E22)","v":{"$error":"#REF!"}},"чел."]
[{"$nulls":4},{"$f":"#REF!","v":{"$error":"#REF!"}},{"$nulls":4},"-",{"$f":"COUNTIF(#REF!,E23)","v":{"$error":"#REF!"}},"чел."]
[{"$nulls":4},{"$f":"#REF!","v":{"$error":"#REF!"}},{"$nulls":4},"-",{"$f":"COUNTIF(#REF!,E24)","v":{"$error":"#REF!"}},"чел."]
[{"$nulls":4},{"$f":"#REF!","v":{"$error":"#REF!"}},{"$nulls":4},"-",{"$f":"COUNTIF(#REF!,E25)","v":{"$error":"#REF!"}},"чел."]
[{"$nulls":4},{"$f":"#REF!","v":{"$error":"#REF!"}},{"$nulls":4},"-",{"$f":"COUNTIF(#REF!,E26)","v":{"$error":"#REF!"}},"чел."]
[{"$nulls":4},{"$f":"#REF!","v":{"$error":"#REF!"}},{"$nulls":4},"-",{"$f":"COUNTIF(#REF!,E27)","v":{"$error":"#REF!"}},"чел."]
[{"$nulls":4},{"$f":"#REF!","v":{"$error":"#REF!"}},{"$nulls":4},"-",{"$f":"COUNTIF(#REF!,E28)","v":{"$error":"#REF!"}},"чел."]
[{"$nulls":4},{"$f":"#REF!","v":{"$error":"#REF!"}},{"$nulls":4},"-",{"$f":"COUNTIF(#REF!,E29)","v":{"$error":"#REF!"}},"чел."]
[{"$nulls":4},{"$f":"#REF!","v":{"$error":"#REF!"}},{"$nulls":4},"-",{"$f":"COUNTIF(#REF!,E30)","v":{"$error":"#REF!"}},"чел."]
[{"$nulls":4},{"$f":"#REF!","v":{"$error":"#REF!"}},{"$nulls":4},"-",{"$f":"COUNTIF(#REF!,E31)","v":{"$error":"#REF!"}},"чел."]
[{"$nulls":4},{"$f":"#REF!","v":{"$error":"#REF!"}},{"$nulls":4},"-",{"$f":"COUNTIF(#REF!,E32)","v":{"$error":"#REF!"}},"чел."]
[{"$nulls":4},{"$f":"#REF!","v":{"$error":"#REF!"}},{"$nulls":4},"-",{"$f":"COUNTIF(#REF!,E33)","v":{"$error":"#REF!"}},"чел."]
[{"$nulls":4},{"$f":"#REF!","v":{"$error":"#REF!"}},{"$nulls":4},"-",{"$f":"COUNTIF(#REF!,E34)","v":{"$error":"#REF!"}},"чел."]
[{"$nulls":4},{"$f":"#REF!","v":{"$error":"#REF!"}},{"$nulls":4},"-",{"$f":"COUNTIF(#REF!,E35)","v":{"$error":"#REF!"}},"чел."]
[{"$nulls":4},{"$f":"#REF!","v":{"$error":"#REF!"}},{"$nulls":4},"-",{"$f":"COUNTIF(#REF!,E36)","v":{"$error":"#REF!"}},"чел."]
[{"$nulls":4},{"$f":"#REF!","v":{"$error":"#REF!"}},{"$nulls":4},"-",{"$f":"COUNTIF(#REF!,E37)","v":{"$error":"#REF!"}},"чел."]
[{"$nulls":4},{"$f":"#REF!","v":{"$error":"#REF!"}},{"$nulls":4},"-",{"$f":"COUNTIF(#REF!,E38)","v":{"$error":"#REF!"}},"чел."]
[{"$nulls":4},{"$f":"#REF!","v":{"$error":"#REF!"}},{"$nulls":4},"-",{"$f":"COUNTIF(#REF!,E39)","v":{"$error":"#REF!"}},"чел."]
[]
["Участники",null,null,"Всего","в том числе имеющие спортивние звания и разряды"]
[{"$nulls":4},"ЗМС",null,"МСМК",null,"МС",null,"I",null,"II",null,"III",null,"Массовые разряды"]
["Девушки",null,null,{"$f":"COUNTIF(#REF!,\"Ж\")","v":{"$error":"#REF!"}},{"$f":"COUNTIFS(#REF!,E42,#REF!,\"Ж\")","v":{"$error":"#REF!"}},null,{"$f":"COUNTIFS(#REF!,G42,#REF!,\"Ж\")","v":{"$error":"#REF!"}},null,{"$f":"COUNTIFS(#REF!,I42,#REF!,\"Ж\")","v":{"$error":"#REF!"}},null,{"$f":"COUNTIFS(#REF!,K42,#REF!,\"Ж\")","v":{"$error":"#REF!"}},null,{"$f":"COUNTIFS(#REF!,M42,#REF!,\"Ж\")","v":{"$error":"#REF!"}},null,{"$f":"COUNTIFS(#REF!,O42,#REF!,\"Ж\")","v":{"$error":"#REF!"}},null,{"$f":"COUNTIFS(#REF!,\"I юн\",#REF!,\"Ж\")+COUNTIFS(#REF!,\"II юн\",#REF!,\"Ж\")+COUNTIFS(#REF!,\"III юн\",#REF!,\"Ж\")","v":{"$error":"#REF!"}}]
["Юноши",null,null,{"$f":"COUNTIF(#REF!,\"М\")","v":{"$error":"#REF!"}},{"$f":"COUNTIFS(#REF!,E42,#REF!,\"М\")","v":{"$error":"#REF!"}},null,{"$f":"COUNTIFS(#REF!,G42,#REF!,\"М\")","v":{"$error":"#REF!"}},null,{"$f":"COUNTIFS(#REF!,I42,#REF!,\"М\")","v":{"$error":"#REF!"}},null,{"$f":"COUNTIFS(#REF!,K42,#REF!,\"М\")","v":{"$error":"#REF!"}},null,{"$f":"COUNTIFS(#REF!,M42,#REF!,\"М\")","v":{"$error":"#REF!"}},null,{"$f":"COUNTIFS(#REF!,O42,#REF!,\"М\")","v":{"$error":"#REF!"}},null,{"$f":"COUNTIFS(#REF!,\"I юн\",#REF!,\"М\")+COUNTIFS(#REF!,\"II юн\",#REF!,\"М\")+COUNTIFS(#REF!,\"III юн\",#REF!,\"М\")","v":{"$error":"#REF!"}}]
["ИТОГО:",null,null,{"$f":"SUM(D43:D44)","v":{"$error":"#REF!"}},{"$f":"SUM(E43:F44)","v":{"$error":"#REF!"}},null,{"$f":"SUM(G43:H44)","v":{"$error":"#REF!"}},null,{"$f":"SUM(I43:J44)","v":{"$error":"#REF!"}},null,{"$f":"SUM(K43:L44)","v":{"$error":"#REF!"}},null,{"$f":"SUM(M43:N44)","v":{"$error":"#REF!"}},null,{"$f":"SUM(O43:P44)","v":{"$error":"#REF!"}},null,{"$f":"SUM(Q44:R44)","v":{"$error":"#REF!"}}]
["Количество зрителей, посетивших спортивное соревнование:",{"$nulls":11},150,null,"человек"]
[]
["II.","СПОРТИВНАЯ БАЗА:"]
["Место проведения соревнований соответствовали правилам ТБ и СанПиНам. Акт готовности спортивного объекта имеется."]
[]
["III.","РЕЗУЛЬТАТЫ СОРЕВНОВАНИЙ:"]
[]
["Место","Командные",{"$nulls":7},"Личные"]
[]
[1,{"$f":"#REF!","v":{"$error":"#REF!"}},{"$nulls":7},"Протоколы прилагаются"]
[2,{"$f":"#REF!","v":{"$error":"#REF!"}}]
[3,{"$f":"#REF!","v":{"$error":"#REF!"}}]
[4,{"$f":"#REF!","v":{"$error":"#REF!"}}]
[5,{"$f":"#REF!","v":{"$error":"#REF!"}}]
[6,{"$f":"#REF!","v":{"$error":"#REF!"}}]
[7,{"$f":"#REF!","v":{"$error":"#REF!"}}]
[8,{"$f":"#REF!","v":{"$error":"#REF!"}}]
[9,{"$f":"#REF!","v":{"$error":"#REF!"}}]
[10,{"$f":"#REF!","v":{"$error":"#REF!"}}]
[3,{"$f":"#REF!","v":{"$error":"#REF!"}}]
[4,{"$f":"#REF!","v":{"$error":"#REF!"}}]
[5,{"$f":"#REF!","v":{"$error":"#REF!"}}]
[6,{"$f":"#REF!","v":{"$error":"#REF!"}}]
[7,{"$f":"#REF!","v":{"$error":"#REF!"}}]
[8,{"$f":"#REF!","v":{"$error":"#REF!"}}]
[9,{"$f":"#REF!","v":{"$error":"#REF!"}}]
[8,{"$f":"#REF!","v":{"$error":"#REF!"}}]
[9,{"$f":"#REF!","v":{"$error":"#REF!"}}]
[10,{"$f":"#REF!","v":{"$error":"#REF!"}}]
[]
["IV.","ЗАКЛЮЧЕНИЕ ВРАЧА:"]
[]
["За время проведения соревнований травм и жалоб на здоровье участников не было"]
["(указать ФИО спортсменов, получивших травму, характер травмы)"]
["V.","СПИСОК СУДЕЙСКОЙ КОЛЛЕГИИ"]
[]
["№ п/п","Ф.И.О. \n(полностью)",{"$nulls":7},"Судейская категория",null,"Судейская должность",{"$nulls":4},"Оценка"]
[{"$f":"#REF!","v":{"$error":"#REF!"}},{"$f":"#REF!","v":{"$error":"#REF!"}},{"$nulls":7},{"$f":"#REF!","v":{"$error":"#REF!"}},null,{"$f":"#REF!","v":{"$error":"#REF!"}},{"$nulls":4},"отлично"]
[{"$f":"#REF!","v":{"$error":"#REF!"}},{"$f":"#REF!","v":{"$error":"#REF!"}},{"$nulls":7},{"$f":"#REF!","v":{"$error":"#REF!"}},null,{"$f":"#REF!","v":{"$error":"#REF!"}},{"$nulls":4},"отлично"]
[{"$f":"#REF!","v":{"$error":"#REF!"}},{"$f":"#REF!","v":{"$error":"#REF!"}},{"$nulls":7},{"$f":"#REF!","v":{"$error":"#REF!"}},null,{"$f":"#REF!","v":{"$error":"#REF!"}},{"$nulls":4},"отлично"]
[{"$f":"#REF!","v":{"$error":"#REF!"}},{"$f":"#REF!","v":{"$error":"#REF!"}},{"$nulls":7},{"$f":"#REF!","v":{"$error":"#REF!"}},null,{"$f":"#REF!","v":{"$error":"#REF!"}},{"$nulls":4},"отлично"]
[{"$f":"#REF!","v":{"$error":"#REF!"}},{"$f":"#REF!","v":{"$error":"#REF!"}},{"$nulls":7},{"$f":"#REF!","v":{"$error":"#REF!"}},null,{"$f":"#REF!","v":{"$error":"#REF!"}},{"$nulls":4},"отлично"]
[{"$f":"#REF!","v":{"$error":"#REF!"}},{"$f":"#REF!","v":{"$error":"#REF!"}},{"$nulls":7},{"$f":"#REF!","v":{"$error":"#REF!"}},null,{"$f":"#REF!","v":{"$error":"#REF!"}},{"$nulls":4},"отлично"]
[{"$f":"#REF!","v":{"$error":"#REF!"}},{"$f":"#REF!","v":{"$error":"#REF!"}},{"$nulls":7},{"$f":"#REF!","v":{"$error":"#REF!"}},null,{"$f":"#REF!","v":{"$error":"#REF!"}},{"$nulls":4},"отлично"]
[{"$f":"#REF!","v":{"$error":"#REF!"}},{"$f":"#REF!","v":{"$error":"#REF!"}},{"$nulls":7},{"$f":"#REF!","v":{"$error":"#REF!"}},null,{"$f":"#REF!","v":{"$error":"#REF!"}},{"$nulls":4},"отлично"]
[{"$f":"#REF!","v":{"$error":"#REF!"}},{"$f":"#REF!","v":{"$error":"#REF!"}},{"$nulls":7},{"$f":"#REF!","v":{"$error":"#REF!"}},null,{"$f":"#REF!","v":{"$error":"#REF!"}},{"$nulls":4},"отлично"]
[{"$f":"#REF!","v":{"$error":"#REF!"}},{"$f":"#REF!","v":{"$error":"#REF!"}},{"$nulls":7},{"$f":"#REF!","v":{"$error":"#REF!"}},null,{"$f":"#REF!","v":{"$error":"#REF!"}},{"$nulls":4},"отлично"]
[{"$f":"#REF!","v":{"$error":"#REF!"}},{"$f":"#REF!","v":{"$error":"#REF!"}},{"$nulls":7},{"$f":"#REF!","v":{"$error":"#REF!"}},null,{"$f":"#REF!","v":{"$error":"#REF!"}},{"$nulls":4},"отлично"]
[{"$f":"#REF!","v":{"$error":"#REF!"}},{"$f":"#REF!","v":{"$error":"#REF!"}},{"$nulls":7},{"$f":"#REF!","v":{"$error":"#REF!"}},null,{"$f":"#REF!","v":{"$error":"#REF!"}},{"$nulls":4},"отлично"]
[{"$f":"#REF!","v":{"$error":"#REF!"}},{"$f":"#REF!","v":{"$error":"#REF!"}},{"$nulls":7},{"$f":"#REF!","v":{"$error":"#REF!"}},null,{"$f":"#REF!","v":{"$error":"#REF!"}},{"$nulls":4},"отлично"]
[{"$f":"#REF!","v":{"$error":"#REF!"}},{"$f":"#REF!","v":{"$error":"#REF!"}},{"$nulls":7},{"$f":"#REF!","v":{"$error":"#REF!"}},null,{"$f":"#REF!","v":{"$error":"#REF!"}},{"$nulls":4},"отлично"]
[{"$f":"#REF!","v":{"$error":"#REF!"}},{"$f":"#REF!","v":{"$error":"#REF!"}},{"$nulls":7},{"$f":"#REF!","v":{"$error":"#REF!"}},null,{"$f":"#REF!","v":{"$error":"#REF!"}},{"$nulls":4},"отлично"]
[{"$f":"#REF!","v":{"$error":"#REF!"}},{"$f":"#REF!","v":{"$error":"#REF!"}},{"$nulls":7},{"$f":"#REF!","v":{"$error":"#REF!"}},null,{"$f":"#REF!","v":{"$error":"#REF!"}},{"$nulls":4},"отлично"]
[{"$f":"#REF!","v":{"$error":"#REF!"}},{"$f":"#REF!","v":{"$error":"#REF!"}},{"$nulls":7},{"$f":"#REF!","v":{"$error":"#REF!"}},null,{"$f":"#REF!","v":{"$error":"#REF!"}},{"$nulls":4},"отлично"]
[{"$f":"#REF!","v":{"$error":"#REF!"}},{"$f":"#REF!","v":{"$error":"#REF!"}},{"$nulls":7},{"$f":"#REF!","v":{"$error":"#REF!"}},null,{"$f":"#REF!","v":{"$error":"#REF!"}},{"$nulls":4},"отлично"]
[{"$f":"#REF!","v":{"$error":"#REF!"}},{"$f":"#REF!","v":{"$error":"#REF!"}},{"$nulls":7},{"$f":"#REF!","v":{"$error":"#REF!"}},null,{"$f":"#REF!","v":{"$error":"#REF!"}},{"$nulls":4},"отлично"]
[{"$f":"#REF!","v":{"$error":"#REF!"}},{"$f":"#REF!","v":{"$error":"#REF!"}},{"$nulls":7},{"$f":"#REF!","v":{"$error":"#REF!"}},null,{"$f":"#REF!","v":{"$error":"#REF!"}},{"$nulls":4},"отлично"]
[{"$f":"#REF!","v":{"$error":"#REF!"}},{"$f":"#REF!","v":{"$error":"#REF!"}},{"$nulls":7},{"$f":"#REF!","v":{"$error":"#REF!"}},null,{"$f":"#REF!","v":{"$error":"#REF!"}},{"$nulls":4},"отлично"]
[{"$f":"#REF!","v":{"$error":"#REF!"}},{"$f":"#REF!","v":{"$error":"#REF!"}},{"$nulls":7},{"$f":"#REF!","v":{"$error":"#REF!"}},null,{"$f":"#REF!","v":{"$error":"#REF!"}},{"$nulls":4},"отлично"]
[{"$f":"#REF!","v":{"$error":"#REF!"}},{"$f":"#REF!","v":{"$error":"#REF!"}},{"$nulls":7},{"$f":"#REF!","v":{"$error":"#REF!"}},null,{"$f":"#REF!","v":{"$error":"#REF!"}},{"$nulls":4},"отлично"]
[{"$f":"#REF!","v":{"$error":"#REF!"}},{"$f":"#REF!","v":{"$error":"#REF!"}},{"$nulls":7},{"$f":"#REF!","v":{"$error":"#REF!"}},null,{"$f":"#REF!","v":{"$error":"#REF!"}},{"$nulls":4},"отлично"]
[{"$f":"#REF!","v":{"$error":"#REF!"}},{"$f":"#REF!","v":{"$error":"#REF!"}},{"$nulls":7},{"$f":"#REF!","v":{"$error":"#REF!"}},null,{"$f":"#REF!","v":{"$error":"#REF!"}},{"$nulls":4},"отлично"]
[{"$f":"#REF!","v":{"$error":"#REF!"}},{"$f":"#REF!","v":{"$error":"#REF!"}},{"$nulls":7},{"$f":"#REF!","v":{"$error":"#REF!"}},null,{"$f":"#REF!","v":{"$error":"#REF!"}},{"$nulls":4},"отлично"]
[{"$f":"#REF!","v":{"$error":"#REF!"}},{"$f":"#REF!","v":{"$error":"#REF!"}},{"$nulls":7},{"$f":"#REF!","v":{"$error":"#REF!"}},null,{"$f":"#REF!","v":{"$error":"#REF!"}},{"$nulls":4},"отлично"]
[{"$f":"#REF!","v":{"$error":"#REF!"}},{"$f":"#REF!","v":{"$error":"#REF!"}},{"$nulls":7},{"$f":"#REF!","v":{"$error":"#REF!"}},null,{"$f":"#REF!","v":{"$error":"#REF!"}},{"$nulls":4},"отлично"]
[{"$f":"#REF!","v":{"$error":"#REF!"}},{"$f":"#REF!","v":{"$error":"#REF!"}},{"$nulls":7},{"$f":"#REF!","v":{"$error":"#REF!"}},null,{"$f":"#REF!","v":{"$error":"#REF!"}},{"$nulls":4},"отлично"]
[{"$f":"#REF!","v":{"$error":"#REF!"}},{"$f":"#REF!","v":{"$error":"#REF!"}},{"$nulls":7},{"$f":"#REF!","v":{"$error":"#REF!"}},null,{"$f":"#REF!","v":{"$error":"#REF!"}},{"$nulls":4},"отлично"]
[{"$f":"#REF!","v":{"$error":"#REF!"}},{"$f":"#REF!","v":{"$error":"#REF!"}},{"$nulls":7},{"$f":"#REF!","v":{"$error":"#REF!"}},null,{"$f":"#REF!","v":{"$error":"#REF!"}},{"$nulls":4},"отлично"]
[{"$f":"#REF!","v":{"$error":"#REF!"}},{"$f":"#REF!","v":{"$error":"#REF!"}},{"$nulls":7},{"$f":"#REF!","v":{"$error":"#REF!"}},null,{"$f":"#REF!","v":{"$error":"#REF!"}},{"$nulls":4},"отлично"]
[{"$f":"#REF!","v":{"$error":"#REF!"}},{"$f":"#REF!","v":{"$error":"#REF!"}},{"$nulls":7},{"$f":"#REF!","v":{"$error":"#REF!"}},null,{"$f":"#REF!","v":{"$error":"#REF!"}},{"$nulls":4},"отлично"]
[{"$f":"#REF!","v":{"$error":"#REF!"}},{"$f":"#REF!","v":{"$error":"#REF!"}},{"$nulls":7},{"$f":"#REF!","v":{"$error":"#REF!"}},null,{"$f":"#REF!","v":{"$error":"#REF!"}},{"$nulls":4},"отлично"]
[{"$f":"#REF!","v":{"$error":"#REF!"}},{"$f":"#REF!","v":{"$error":"#REF!"}},{"$nulls":7},{"$f":"#REF!","v":{"$error":"#REF!"}},null,{"$f":"#REF!","v":{"$error":"#REF!"}},{"$nulls":4},"отлично"]
[{"$f":"IF(ISBLANK(#REF!),\" \",#REF!)","v":{"$error":"#REF!"}},{"$f":"#REF!","v":{"$error":"#REF!"}},{"$nulls":7},{"$f":"IF(ISBLANK(#REF!),\" \",#REF!)","v":{"$error":"#REF!"}},null,{"$f":"#REF!","v":{"$error":"#REF!"}},{"$nulls":4},"отлично"]
[{"$f":"IF(ISBLANK(#REF!),\" \",#REF!)","v":{"$error":"#REF!"}},{"$f":"#REF!","v":{"$error":"#REF!"}},{"$nulls":7},{"$f":"#REF!","v":{"$error":"#REF!"}},null,{"$f":"#REF!","v":{"$error":"#REF!"}},{"$nulls":4},"отлично"]
[]
[{"$f":"#REF!","v":{"$error":"#REF!"}},{"$nulls":7},{"$f":"#REF!","v":{"$error":"#REF!"}}]
[{"$nulls":8},"(расшифровка подписи)",{"$nulls":4},"(подпись) "]
[]
[{"$f":"#REF!","v":{"$error":"#REF!"}},{"$nulls":7},{"$f":"#REF!","v":{"$error":"#REF!"}}]
[{"$nulls":8},"(расшифровка подписи)",{"$nulls":4},"(подпись) "]
[]
["Ответственный за проведение",{"$nulls":7},"Букина Галина"]
[{"$nulls":8},"(расшифровка подписи)",{"$nulls":4},"(подпись) "]

{"sheet":"СП_без предварительных","index":2,"n_rows":67,"n_cols":21,"rows_kept":67,"merged":[[7,2,7,3],[7,5,7,6],[7,7,7,8],[7,9,7,10]]}
[]
[]
[]
["СОРЕВНОВАНИЯ\nпо плаванию в ластах"]
[]
[]
["СТАРТОВЫЙ ПРОТОКОЛ"]
["Дорожка","Разряд,\nзвание","Фамилия, имя",null,"Год \nрожд.","Команда",null,"Предварительный\nрезультат",null,"Зачет"]
[]
[null,null,"Плавание в ластах - 50 м (1460081811Я),  женщины",{"$nulls":12},"Шаг 4"]
[null,"для 6 дорожек",{"$nulls":10},"шаг 1","шаг 2",null,"оставить единицы"]
[{"$nulls":3},"Заплыв №",{"$f":"INT(A13/10)","v":0}]
[1,{"$nulls":11},{"$f":"IF(MOD($A13,6)=1,6,IF(MOD($A13,6)=2,1,IF(MOD($A13,6)=3,5,IF(MOD($A13,6)=4,2,IF(MOD($A13,6)=5,4,IF(MOD($A13,6)=0,3))))))","v":6},{"$f":"M13+10","v":16},null,{"$f":"IF(MOD($A13,10)<10,MOD($A13,10),IF($A13/10>8,MOD($A13,80),IF($A13/10>7,MOD($A13,70),IF($A13/10>6,MOD($A13,60),IF($A13/10>5,MOD($A13,50),IF($A13/10>4,MOD($A13,40),IF($A13/10>3,MOD($A13,30),IF($A13/10>2,MOD($A13,20),MOD($A13,100)))))))))","v":1}]
[{"$f":"A13+1","v":2},{"$nulls":11},{"$f":"IF(MOD($A14,6)=1,6,IF(MOD($A14,6)=2,1,IF(MOD($A14,6)=3,5,IF(MOD($A14,6)=4,2,IF(MOD($A14,6)=5,4,IF(MOD($A14,6)=0,3))))))","v":1},11,null,2]
[3,"КМС","Фамилия Имя 6",null,2002,"ЗамКлуб",null,30,{"$nulls":4},5,15,null,3]
[4,"I юн","Фамилия Имя 11",null,2002,"ЗамКлуб",null,30,{"$nulls":4},2,12,null,4]
[5,"III юн","Фамилия Имя 30",null,2000,"ЗамКлуб",null,29.8,{"$nulls":4},4,14,null,5]
[6,"ЗМС","Фамилия Имя 20",null,1999,"ЗамКлуб",null,29.7,null,null,"лично",null,3,13,null,6]
[7,"II юн","Фамилия Имя 29",null,1999,"ЗамКлуб",null,29.7,null,null,"лично",null,6,{"$f":"N13+10","v":26},"шаг3",7]
[8,"ЗМС","Фамилия Имя 3",null,1999,"ЗамКлуб",null,29.5,{"$nulls":4},1,21,null,8]
[9,"II","Фамилия Имя 17",null,2003,"ЗамКлуб",null,27.5,{"$nulls":4},5,25,null,9]
[10,"I юн","Фамилия Имя 33",null,1996,"ЗамКлуб",null,20.4,{"$nulls":4},2,22,null,0]
[11,"I","Фамилия Имя 10",null,2001,"ЗамКлуб",null,20,{"$nulls":4},4,24,null,1]
[12,"КМС","Фамилия Имя 24",null,2004,"ЗамКлуб",null,18.7,{"$nulls":4},3,23]
[null,"для 8 дорожек"]
[{"$nulls":3},"Заплыв №",{"$f":"INT(A27/10)","v":0}]
[1,{"$nulls":11},{"$f":"IF(MOD($A27,8)=1,8,IF(MOD($A27,8)=2,1,IF(MOD($A27,8)=3,7,IF(MOD($A27,8)=4,2,IF(MOD($A27,8)=5,6,IF(MOD($A27,8)=6,3,IF(MOD($A27,8)=7,5,IF(MOD($A27,8)=0,4))))))))","v":8},{"$f":"M27+10","v":18}]
[{"$f":"A27+1","v":2},{"$nulls":11},{"$f":"IF(MOD($A28,8)=1,8,IF(MOD($A28,8)=2,1,IF(MOD($A28,8)=3,7,IF(MOD($A28,8)=4,2,IF(MOD($A28,8)=5,6,IF(MOD($A28,8)=6,3,IF(MOD($A28,8)=7,5,IF(MOD($A28,8)=0,4))))))))","v":1},{"$f":"M28+10","v":11}]
[3,{"$nulls":11},7,17]
[4,"КМС","Фамилия Имя 6",null,2002,"ЗамКлуб",null,30,{"$nulls":4},2,12]
[5,"I юн","Фамилия Имя 11",null,2002,"ЗамКлуб",null,30,{"$nulls":4},6,16]
[6,"II юн","Фамилия Имя 12",null,1998,"ЗамКлуб",null,30,{"$nulls":4},3,13]
[7,"I","Фамилия Имя 16",null,2002,"ЗамКлуб",null,30,{"$nulls":4},5,15]
[8,"МС","Фамилия Имя 22",null,2001,"ЗамКлуб",null,30,{"$nulls":4},4,14]
[9,"КМС","Фамилия Имя 26",null,2006,"ЗамКлуб",null,30,{"$nulls":4},8,{"$f":"N27+10","v":28},"шаг3"]
[10,"I юн","Фамилия Имя 31",null,2001,"ЗамКлуб",null,30,{"$nulls":4},1,{"$f":"N28+10","v":21}]
[11,"III юн","Фамилия Имя 30",null,2000,"ЗамКлуб",null,29.8,{"$nulls":4},7,27]
[12,"ЗМС","Фамилия Имя 20",null,1999,"ЗамКлуб",null,29.7,null,null,"лично",null,2,22]
[13,"II юн","Фамилия Имя 29",null,1999,"ЗамКлуб",null,29.7,null,null,"лично",null,6,26]
[14,"I","Фамилия Имя 2",null,1998,"ЗамКлуб",null,25.2,{"$nulls":4},3,23]
[15,"II юн","Фамилия Имя 34",null,2006,"ЗамКлуб",null,23.2,{"$nulls":4},5,25]
[16,"I","Фамилия Имя 9",null,2000,"ЗамКлуб",null,18.5,{"$nulls":4},4,24]
[]
[]
[{"$nulls":3},"Эстафета 4х100м",{"$nulls":7},"Шаг 1","Шаг 2",null,"Шаг 1","Шаг 2",null,"Шаг 1","Шаг 2",null,"Шаг 4"]
[{"$nulls":11},"8 дорожек",null,null,"4 дорожки",null,null,"6 дорожек",null,null,"оставить единицы"]
[{"$nulls":3},"Заплыв №",{"$f":"INT(A48/10)","v":20}]
[{"$f":"A49","v":203},{"$nulls":4},{"$f":"F49","v":"Клуб 12"},null,{"$f":"H49","v":2000},{"$nulls":12},{"$f":"IF(MOD($A48,10)<10,MOD($A48,10),IF($A48/10>8,MOD($A48,80),IF($A48/10>7,MOD($A48,70),IF($A48/10>6,MOD($A48,60),IF($A48/10>5,MOD($A48,50),IF($A48/10>4,MOD($A48,40),IF($A48/10>3,MOD($A48,30),IF($A48/10>2,MOD($A48,20),MOD($A48,100)))))))))","v":3}]
[203,"II","Фамилия Имя 53",null,2001,"Клуб 12",null,2000,1,null,null,{"$f":"IF($A49/4<=1,8,IF($A49/4<=2,1,IF($A49/4<=3,7,IF($A49/4<=4,2,IF($A49/4<=5,6,IF($A49/4<=6,3,IF($A49/4<=7,5,IF($A49/4<=8,4,IF($A49/4<=9,8,IF($A49/4<=10,1,IF($A49/4<=11,7,IF($A49/4<=12,2,IF($A49/4<=13,6,IF($A49/4<=14,3,IF($A49/4<=15,5,IF($A49/4<=16,4,IF($A49/4<=17,8,IF($A49/4<=18,1,IF($A49/4<=19,7,IF($A49/4<=20,2,IF($A49/4<=21,6,IF($A49/4<=22,3,IF($A49/4<=23,5,IF($A49/4<=24,4,IF($A49/4<=25,8,IF($A49/4<=26,1,IF($A49/4<=27,7,IF($A49/4<=28,2,IF($A49/4<=29,6,IF($A49/4<=30,3,IF($A49/4<=31,5,IF($A49/4<=32,4,IF($A49/4<=33,8,IF($A49/4<=34,1,IF($A49/4<=35,7,IF($A49/4<=36,2,IF($A49/4<=37,6,IF($A49/4<=38,3,IF($A49/4<=39,5,IF($A49/4<=40,4))))))))))))))))))))))))))))))))))))))))","v":false},{"$f":"L49+200","v":200},null,{"$f":"IF($A49/4<=1,4,IF($A49/4<=2,1,IF($A49/4<=3,3,IF($A49/4<=4,2,IF($A49/4<=5,4,IF($A49/4<=6,1,IF($A49/4<=7,3,IF($A49/4<=8,2,IF($A49/4<=9,4,IF($A49/4<=10,1,IF($A49/4<=11,3,IF($A49/4<=12,2,IF($A49/4<=13,4,IF($A49/4<=14,1,IF($A49/4<=15,3,IF($A49/4<=16,2,IF($A49/4<=17,4,IF($A49/4<=18,1,IF($A49/4<=19,3,IF($A49/4<=20,2,IF($A49/4<=21,4,IF($A49/4<=22,1,IF($A49/4<=23,3,IF($A49/4<=24,2,IF($A49/4<=25,4,IF($A49/4<=26,1,IF($A49/4<=27,3,IF($A49/4<=28,2,IF($A49/4<=29,4,IF($A49/4<=30,1,IF($A49/4<=31,3,IF($A49/4<=32,2,IF($A49/4<=33,4,IF($A49/4<=34,1,IF($A49/4<=35,3,IF($A49/4<=36,2))))))))))))))))))))))))))))))))))))","v":false},{"$f":"P41+10","v":10},null,{"$f":"IF($A49/4<=1,6,IF($A49/4<=2,1,IF($A49/4<=3,5,IF($A49/4<=4,2,IF($A49/4<=5,4,IF($A49/4<=6,3,IF($A49/4<=7,6,IF($A49/4<=8,1,IF($A49/4<=9,5,IF($A49/4<=10,2,IF($A49/4<=11,4,IF($A49/4<=12,3,IF($A49/4<=13,6,IF($A49/4<=14,1,IF($A49/4<=15,5,IF($A49/4<=16,2,IF($A49/4<=17,4,IF($A49/4<=18,3,IF($A49/4<=19,6,IF($A49/4<=20,1,IF($A49/4<=21,5,IF($A49/4<=22,2,IF($A49/4<=23,4,IF($A49/4<=24,3,IF($A49/4<=25,6,IF($A49/4<=26,1,IF($A49/4<=27,5,IF($A49/4<=28,2,IF($A49/4<=29,4,IF($A49/4<=30,3,IF($A49/4<=31,6,IF($A49/4<=32,1,IF($A49/4<=33,5,IF($A49/4<=34,2,IF($A49/4<=35,4,IF($A49/4<=36,3))))))))))))))))))))))))))))))))))))","v":false},{"$f":"R49+200","v":200},null,3]
[203,"III","Фамилия Имя 54",null,2001,"Клуб 12",null,2000,2,null,null,{"$f":"IF($A50/4<=1,8,IF($A50/4<=2,1,IF($A50/4<=3,7,IF($A50/4<=4,2,IF($A50/4<=5,6,IF($A50/4<=6,3,IF($A50/4<=7,5,IF($A50/4<=8,4,IF($A50/4<=9,8,IF($A50/4<=10,1,IF($A50/4<=11,7,IF($A50/4<=12,2,IF($A50/4<=13,6,IF($A50/4<=14,3,IF($A50/4<=15,5,IF($A50/4<=16,4,IF($A50/4<=17,8,IF($A50/4<=18,1,IF($A50/4<=19,7,IF($A50/4<=20,2,IF($A50/4<=21,6,IF($A50/4<=22,3,IF($A50/4<=23,5,IF($A50/4<=24,4,IF($A50/4<=25,8,IF($A50/4<=26,1,IF($A50/4<=27,7,IF($A50/4<=28,2,IF($A50/4<=29,6,IF($A50/4<=30,3,IF($A50/4<=31,5,IF($A50/4<=32,4,IF($A50/4<=33,8,IF($A50/4<=34,1,IF($A50/4<=35,7,IF($A50/4<=36,2,IF($A50/4<=37,6,IF($A50/4<=38,3,IF($A50/4<=39,5,IF($A50/4<=40,4))))))))))))))))))))))))))))))))))))))))","v":false},{"$f":"L50+200","v":200},null,{"$f":"IF($A50/4<=1,4,IF($A50/4<=2,1,IF($A50/4<=3,3,IF($A50/4<=4,2,IF($A50/4<=5,4,IF($A50/4<=6,1,IF($A50/4<=7,3,IF($A50/4<=8,2,IF($A50/4<=9,4,IF($A50/4<=10,1,IF($A50/4<=11,3,IF($A50/4<=12,2,IF($A50/4<=13,4,IF($A50/4<=14,1,IF($A50/4<=15,3,IF($A50/4<=16,2,IF($A50/4<=17,4,IF($A50/4<=18,1,IF($A50/4<=19,3,IF($A50/4<=20,2,IF($A50/4<=21,4,IF($A50/4<=22,1,IF($A50/4<=23,3,IF($A50/4<=24,2,IF($A50/4<=25,4,IF($A50/4<=26,1,IF($A50/4<=27,3,IF($A50/4<=28,2,IF($A50/4<=29,4,IF($A50/4<=30,1,IF($A50/4<=31,3,IF($A50/4<=32,2,IF($A50/4<=33,4,IF($A50/4<=34,1,IF($A50/4<=35,3,IF($A50/4<=36,2))))))))))))))))))))))))))))))))))))","v":false},{"$f":"P42+10","v":10},null,{"$f":"IF($A50/4<=1,6,IF($A50/4<=2,1,IF($A50/4<=3,5,IF($A50/4<=4,2,IF($A50/4<=5,4,IF($A50/4<=6,3,IF($A50/4<=7,6,IF($A50/4<=8,1,IF($A50/4<=9,5,IF($A50/4<=10,2,IF($A50/4<=11,4,IF($A50/4<=12,3,IF($A50/4<=13,6,IF($A50/4<=14,1,IF($A50/4<=15,5,IF($A50/4<=16,2,IF($A50/4<=17,4,IF($A50/4<=18,3,IF($A50/4<=19,6,IF($A50/4<=20,1,IF($A50/4<=21,5,IF($A50/4<=22,2,IF($A50/4<=23,4,IF($A50/4<=24,3,IF($A50/4<=25,6,IF($A50/4<=26,1,IF($A50/4<=27,5,IF($A50/4<=28,2,IF($A50/4<=29,4,IF($A50/4<=30,3,IF($A50/4<=31,6,IF($A50/4<=32,1,IF($A50/4<=33,5,IF($A50/4<=34,2,IF($A50/4<=35,4,IF($A50/4<=36,3))))))))))))))))))))))))))))))))))))","v":false},{"$f":"R50+200","v":200},null,3]
[203,"I юн","Фамилия Имя 55",null,2003,"Клуб 12",null,2000,3,null,null,{"$f":"IF($A51/4<=1,8,IF($A51/4<=2,1,IF($A51/4<=3,7,IF($A51/4<=4,2,IF($A51/4<=5,6,IF($A51/4<=6,3,IF($A51/4<=7,5,IF($A51/4<=8,4,IF($A51/4<=9,8,IF($A51/4<=10,1,IF($A51/4<=11,7,IF($A51/4<=12,2,IF($A51/4<=13,6,IF($A51/4<=14,3,IF($A51/4<=15,5,IF($A51/4<=16,4,IF($A51/4<=17,8,IF($A51/4<=18,1,IF($A51/4<=19,7,IF($A51/4<=20,2,IF($A51/4<=21,6,IF($A51/4<=22,3,IF($A51/4<=23,5,IF($A51/4<=24,4,IF($A51/4<=25,8,IF($A51/4<=26,1,IF($A51/4<=27,7,IF($A51/4<=28,2,IF($A51/4<=29,6,IF($A51/4<=30,3,IF($A51/4<=31,5,IF($A51/4<=32,4,IF($A51/4<=33,8,IF($A51/4<=34,1,IF($A51/4<=35,7,IF($A51/4<=36,2,IF($A51/4<=37,6,IF($A51/4<=38,3,IF($A51/4<=39,5,IF($A51/4<=40,4))))))))))))))))))))))))))))))))))))))))","v":false},{"$f":"L51+200","v":200},null,{"$f":"IF($A51/4<=1,4,IF($A51/4<=2,1,IF($A51/4<=3,3,IF($A51/4<=4,2,IF($A51/4<=5,4,IF($A51/4<=6,1,IF($A51/4<=7,3,IF($A51/4<=8,2,IF($A51/4<=9,4,IF($A51/4<=10,1,IF($A51/4<=11,3,IF($A51/4<=12,2,IF($A51/4<=13,4,IF($A51/4<=14,1,IF($A51/4<=15,3,IF($A51/4<=16,2,IF($A51/4<=17,4,IF($A51/4<=18,1,IF($A51/4<=19,3,IF($A51/4<=20,2,IF($A51/4<=21,4,IF($A51/4<=22,1,IF($A51/4<=23,3,IF($A51/4<=24,2,IF($A51/4<=25,4,IF($A51/4<=26,1,IF($A51/4<=27,3,IF($A51/4<=28,2,IF($A51/4<=29,4,IF($A51/4<=30,1,IF($A51/4<=31,3,IF($A51/4<=32,2,IF($A51/4<=33,4,IF($A51/4<=34,1,IF($A51/4<=35,3,IF($A51/4<=36,2))))))))))))))))))))))))))))))))))))","v":false},{"$f":"P43+10","v":10},null,{"$f":"IF($A51/4<=1,6,IF($A51/4<=2,1,IF($A51/4<=3,5,IF($A51/4<=4,2,IF($A51/4<=5,4,IF($A51/4<=6,3,IF($A51/4<=7,6,IF($A51/4<=8,1,IF($A51/4<=9,5,IF($A51/4<=10,2,IF($A51/4<=11,4,IF($A51/4<=12,3,IF($A51/4<=13,6,IF($A51/4<=14,1,IF($A51/4<=15,5,IF($A51/4<=16,2,IF($A51/4<=17,4,IF($A51/4<=18,3,IF($A51/4<=19,6,IF($A51/4<=20,1,IF($A51/4<=21,5,IF($A51/4<=22,2,IF($A51/4<=23,4,IF($A51/4<=24,3,IF($A51/4<=25,6,IF($A51/4<=26,1,IF($A51/4<=27,5,IF($A51/4<=28,2,IF($A51/4<=29,4,IF($A51/4<=30,3,IF($A51/4<=31,6,IF($A51/4<=32,1,IF($A51/4<=33,5,IF($A51/4<=34,2,IF($A51/4<=35,4,IF($A51/4<=36,3))))))))))))))))))))))))))))))))))))","v":false},{"$f":"R51+200","v":200},null,3]
[203,"III","Фамилия Имя 56",null,2003,"Клуб 12",null,2000,4,null,null,{"$f":"IF($A52/4<=1,8,IF($A52/4<=2,1,IF($A52/4<=3,7,IF($A52/4<=4,2,IF($A52/4<=5,6,IF($A52/4<=6,3,IF($A52/4<=7,5,IF($A52/4<=8,4,IF($A52/4<=9,8,IF($A52/4<=10,1,IF($A52/4<=11,7,IF($A52/4<=12,2,IF($A52/4<=13,6,IF($A52/4<=14,3,IF($A52/4<=15,5,IF($A52/4<=16,4,IF($A52/4<=17,8,IF($A52/4<=18,1,IF($A52/4<=19,7,IF($A52/4<=20,2,IF($A52/4<=21,6,IF($A52/4<=22,3,IF($A52/4<=23,5,IF($A52/4<=24,4,IF($A52/4<=25,8,IF($A52/4<=26,1,IF($A52/4<=27,7,IF($A52/4<=28,2,IF($A52/4<=29,6,IF($A52/4<=30,3,IF($A52/4<=31,5,IF($A52/4<=32,4,IF($A52/4<=33,8,IF($A52/4<=34,1,IF($A52/4<=35,7,IF($A52/4<=36,2,IF($A52/4<=37,6,IF($A52/4<=38,3,IF($A52/4<=39,5,IF($A52/4<=40,4))))))))))))))))))))))))))))))))))))))))","v":false},{"$f":"L52+200","v":200},null,{"$f":"IF($A52/4<=1,4,IF($A52/4<=2,1,IF($A52/4<=3,3,IF($A52/4<=4,2,IF($A52/4<=5,4,IF($A52/4<=6,1,IF($A52/4<=7,3,IF($A52/4<=8,2,IF($A52/4<=9,4,IF($A52/4<=10,1,IF($A52/4<=11,3,IF($A52/4<=12,2,IF($A52/4<=13,4,IF($A52/4<=14,1,IF($A52/4<=15,3,IF($A52/4<=16,2,IF($A52/4<=17,4,IF($A52/4<=18,1,IF($A52/4<=19,3,IF($A52/4<=20,2,IF($A52/4<=21,4,IF($A52/4<=22,1,IF($A52/4<=23,3,IF($A52/4<=24,2,IF($A52/4<=25,4,IF($A52/4<=26,1,IF($A52/4<=27,3,IF($A52/4<=28,2,IF($A52/4<=29,4,IF($A52/4<=30,1,IF($A52/4<=31,3,IF($A52/4<=32,2,IF($A52/4<=33,4,IF($A52/4<=34,1,IF($A52/4<=35,3,IF($A52/4<=36,2))))))))))))))))))))))))))))))))))))","v":false},{"$f":"P44+10","v":10},null,{"$f":"IF($A52/4<=1,6,IF($A52/4<=2,1,IF($A52/4<=3,5,IF($A52/4<=4,2,IF($A52/4<=5,4,IF($A52/4<=6,3,IF($A52/4<=7,6,IF($A52/4<=8,1,IF($A52/4<=9,5,IF($A52/4<=10,2,IF($A52/4<=11,4,IF($A52/4<=12,3,IF($A52/4<=13,6,IF($A52/4<=14,1,IF($A52/4<=15,5,IF($A52/4<=16,2,IF($A52/4<=17,4,IF($A52/4<=18,3,IF($A52/4<=19,6,IF($A52/4<=20,1,IF($A52/4<=21,5,IF($A52/4<=22,2,IF($A52/4<=23,4,IF($A52/4<=24,3,IF($A52/4<=25,6,IF($A52/4<=26,1,IF($A52/4<=27,5,IF($A52/4<=28,2,IF($A52/4<=29,4,IF($A52/4<=30,3,IF($A52/4<=31,6,IF($A52/4<=32,1,IF($A52/4<=33,5,IF($A52/4<=34,2,IF($A52/4<=35,4,IF($A52/4<=36,3))))))))))))))))))))))))))))))))))))","v":false},{"$f":"R52+200","v":200},null,3]
[{"$f":"A54","v":204},{"$nulls":4},{"$f":"F54","v":"Клуб 9"},null,{"$f":"H54","v":350},{"$nulls":12},4]
[204,"I","Фамилия Имя 41",null,2001,"Клуб 9",null,350,1,null,null,{"$f":"IF($A54/4<=1,8,IF($A54/4<=2,1,IF($A54/4<=3,7,IF($A54/4<=4,2,IF($A54/4<=5,6,IF($A54/4<=6,3,IF($A54/4<=7,5,IF($A54/4<=8,4,IF($A54/4<=9,8,IF($A54/4<=10,1,IF($A54/4<=11,7,IF($A54/4<=12,2,IF($A54/4<=13,6,IF($A54/4<=14,3,IF($A54/4<=15,5,IF($A54/4<=16,4,IF($A54/4<=17,8,IF($A54/4<=18,1,IF($A54/4<=19,7,IF($A54/4<=20,2,IF($A54/4<=21,6,IF($A54/4<=22,3,IF($A54/4<=23,5,IF($A54/4<=24,4,IF($A54/4<=25,8,IF($A54/4<=26,1,IF($A54/4<=27,7,IF($A54/4<=28,2,IF($A54/4<=29,6,IF($A54/4<=30,3,IF($A54/4<=31,5,IF($A54/4<=32,4,IF($A54/4<=33,8,IF($A54/4<=34,1,IF($A54/4<=35,7,IF($A54/4<=36,2,IF($A54/4<=37,6,IF($A54/4<=38,3,IF($A54/4<=39,5,IF($A54/4<=40,4))))))))))))))))))))))))))))))))))))))))","v":false},{"$f":"L54+200","v":200},null,{"$f":"IF($A54/4<=1,4,IF($A54/4<=2,1,IF($A54/4<=3,3,IF($A54/4<=4,2,IF($A54/4<=5,4,IF($A54/4<=6,1,IF($A54/4<=7,3,IF($A54/4<=8,2,IF($A54/4<=9,4,IF($A54/4<=10,1,IF($A54/4<=11,3,IF($A54/4<=12,2,IF($A54/4<=13,4,IF($A54/4<=14,1,IF($A54/4<=15,3,IF($A54/4<=16,2,IF($A54/4<=17,4,IF($A54/4<=18,1,IF($A54/4<=19,3,IF($A54/4<=20,2,IF($A54/4<=21,4,IF($A54/4<=22,1,IF($A54/4<=23,3,IF($A54/4<=24,2,IF($A54/4<=25,4,IF($A54/4<=26,1,IF($A54/4<=27,3,IF($A54/4<=28,2,IF($A54/4<=29,4,IF($A54/4<=30,1,IF($A54/4<=31,3,IF($A54/4<=32,2,IF($A54/4<=33,4,IF($A54/4<=34,1,IF($A54/4<=35,3,IF($A54/4<=36,2))))))))))))))))))))))))))))))))))))","v":false},{"$f":"#REF!+10","v":{"$error":"#REF!"}},null,{"$f":"IF($A54/4<=1,6,IF($A54/4<=2,1,IF($A54/4<=3,5,IF($A54/4<=4,2,IF($A54/4<=5,4,IF($A54/4<=6,3,IF($A54/4<=7,6,IF($A54/4<=8,1,IF($A54/4<=9,5,IF($A54/4<=10,2,IF($A54/4<=11,4,IF($A54/4<=12,3,IF($A54/4<=13,6,IF($A54/4<=14,1,IF($A54/4<=15,5,IF($A54/4<=16,2,IF($A54/4<=17,4,IF($A54/4<=18,3,IF($A54/4<=19,6,IF($A54/4<=20,1,IF($A54/4<=21,5,IF($A54/4<=22,2,IF($A54/4<=23,4,IF($A54/4<=24,3,IF($A54/4<=25,6,IF($A54/4<=26,1,IF($A54/4<=27,5,IF($A54/4<=28,2,IF($A54/4<=29,4,IF($A54/4<=30,3,IF($A54/4<=31,6,IF($A54/4<=32,1,IF($A54/4<=33,5,IF($A54/4<=34,2,IF($A54/4<=35,4,IF($A54/4<=36,3))))))))))))))))))))))))))))))))))))","v":false},{"$f":"S37+10","v":10},null,4]
[204,"I","Фамилия Имя 42",null,2001,"Клуб 9",null,350,2,null,null,{"$f":"IF($A55/4<=1,8,IF($A55/4<=2,1,IF($A55/4<=3,7,IF($A55/4<=4,2,IF($A55/4<=5,6,IF($A55/4<=6,3,IF($A55/4<=7,5,IF($A55/4<=8,4,IF($A55/4<=9,8,IF($A55/4<=10,1,IF($A55/4<=11,7,IF($A55/4<=12,2,IF($A55/4<=13,6,IF($A55/4<=14,3,IF($A55/4<=15,5,IF($A55/4<=16,4,IF($A55/4<=17,8,IF($A55/4<=18,1,IF($A55/4<=19,7,IF($A55/4<=20,2,IF($A55/4<=21,6,IF($A55/4<=22,3,IF($A55/4<=23,5,IF($A55/4<=24,4,IF($A55/4<=25,8,IF($A55/4<=26,1,IF($A55/4<=27,7,IF($A55/4<=28,2,IF($A55/4<=29,6,IF($A55/4<=30,3,IF($A55/4<=31,5,IF($A55/4<=32,4,IF($A55/4<=33,8,IF($A55/4<=34,1,IF($A55/4<=35,7,IF($A55/4<=36,2,IF($A55/4<=37,6,IF($A55/4<=38,3,IF($A55/4<=39,5,IF($A55/4<=40,4))))))))))))))))))))))))))))))))))))))))","v":false},{"$f":"L55+200","v":200},null,{"$f":"IF($A55/4<=1,4,IF($A55/4<=2,1,IF($A55/4<=3,3,IF($A55/4<=4,2,IF($A55/4<=5,4,IF($A55/4<=6,1,IF($A55/4<=7,3,IF($A55/4<=8,2,IF($A55/4<=9,4,IF($A55/4<=10,1,IF($A55/4<=11,3,IF($A55/4<=12,2,IF($A55/4<=13,4,IF($A55/4<=14,1,IF($A55/4<=15,3,IF($A55/4<=16,2,IF($A55/4<=17,4,IF($A55/4<=18,1,IF($A55/4<=19,3,IF($A55/4<=20,2,IF($A55/4<=21,4,IF($A55/4<=22,1,IF($A55/4<=23,3,IF($A55/4<=24,2,IF($A55/4<=25,4,IF($A55/4<=26,1,IF($A55/4<=27,3,IF($A55/4<=28,2,IF($A55/4<=29,4,IF($A55/4<=30,1,IF($A55/4<=31,3,IF($A55/4<=32,2,IF($A55/4<=33,4,IF($A55/4<=34,1,IF($A55/4<=35,3,IF($A55/4<=36,2))))))))))))))))))))))))))))))))))))","v":false},{"$f":"P45+10","v":{"$error":"#VALUE!"}},null,{"$f":"IF($A55/4<=1,6,IF($A55/4<=2,1,IF($A55/4<=3,5,IF($A55/4<=4,2,IF($A55/4<=5,4,IF($A55/4<=6,3,IF($A55/4<=7,6,IF($A55/4<=8,1,IF($A55/4<=9,5,IF($A55/4<=10,2,IF($A55/4<=11,4,IF($A55/4<=12,3,IF($A55/4<=13,6,IF($A55/4<=14,1,IF($A55/4<=15,5,IF($A55/4<=16,2,IF($A55/4<=17,4,IF($A55/4<=18,3,IF($A55/4<=19,6,IF($A55/4<=20,1,IF($A55/4<=21,5,IF($A55/4<=22,2,IF($A55/4<=23,4,IF($A55/4<=24,3,IF($A55/4<=25,6,IF($A55/4<=26,1,IF($A55/4<=27,5,IF($A55/4<=28,2,IF($A55/4<=29,4,IF($A55/4<=30,3,IF($A55/4<=31,6,IF($A55/4<=32,1,IF($A55/4<=33,5,IF($A55/4<=34,2,IF($A55/4<=35,4,IF($A55/4<=36,3))))))))))))))))))))))))))))))))))))","v":false},{"$f":"S38+10","v":10},null,4]
[204,"I","Фамилия Имя 43",null,2001,"Клуб 9",null,350,3,null,null,{"$f":"IF($A56/4<=1,8,IF($A56/4<=2,1,IF($A56/4<=3,7,IF($A56/4<=4,2,IF($A56/4<=5,6,IF($A56/4<=6,3,IF($A56/4<=7,5,IF($A56/4<=8,4,IF($A56/4<=9,8,IF($A56/4<=10,1,IF($A56/4<=11,7,IF($A56/4<=12,2,IF($A56/4<=13,6,IF($A56/4<=14,3,IF($A56/4<=15,5,IF($A56/4<=16,4,IF($A56/4<=17,8,IF($A56/4<=18,1,IF($A56/4<=19,7,IF($A56/4<=20,2,IF($A56/4<=21,6,IF($A56/4<=22,3,IF($A56/4<=23,5,IF($A56/4<=24,4,IF($A56/4<=25,8,IF($A56/4<=26,1,IF($A56/4<=27,7,IF($A56/4<=28,2,IF($A56/4<=29,6,IF($A56/4<=30,3,IF($A56/4<=31,5,IF($A56/4<=32,4,IF($A56/4<=33,8,IF($A56/4<=34,1,IF($A56/4<=35,7,IF($A56/4<=36,2,IF($A56/4<=37,6,IF($A56/4<=38,3,IF($A56/4<=39,5,IF($A56/4<=40,4))))))))))))))))))))))))))))))))))))))))","v":false},{"$f":"L56+200","v":200},null,{"$f":"IF($A56/4<=1,4,IF($A56/4<=2,1,IF($A56/4<=3,3,IF($A56/4<=4,2,IF($A56/4<=5,4,IF($A56/4<=6,1,IF($A56/4<=7,3,IF($A56/4<=8,2,IF($A56/4<=9,4,IF($A56/4<=10,1,IF($A56/4<=11,3,IF($A56/4<=12,2,IF($A56/4<=13,4,IF($A56/4<=14,1,IF($A56/4<=15,3,IF($A56/4<=16,2,IF($A56/4<=17,4,IF($A56/4<=18,1,IF($A56/4<=19,3,IF($A56/4<=20,2,IF($A56/4<=21,4,IF($A56/4<=22,1,IF($A56/4<=23,3,IF($A56/4<=24,2,IF($A56/4<=25,4,IF($A56/4<=26,1,IF($A56/4<=27,3,IF($A56/4<=28,2,IF($A56/4<=29,4,IF($A56/4<=30,1,IF($A56/4<=31,3,IF($A56/4<=32,2,IF($A56/4<=33,4,IF($A56/4<=34,1,IF($A56/4<=35,3,IF($A56/4<=36,2))))))))))))))))))))))))))))))))))))","v":false},{"$f":"P47+10","v":10},null,{"$f":"IF($A56/4<=1,6,IF($A56/4<=2,1,IF($A56/4<=3,5,IF($A56/4<=4,2,IF($A56/4<=5,4,IF($A56/4<=6,3,IF($A56/4<=7,6,IF($A56/4<=8,1,IF($A56/4<=9,5,IF($A56/4<=10,2,IF($A56/4<=11,4,IF($A56/4<=12,3,IF($A56/4<=13,6,IF($A56/4<=14,1,IF($A56/4<=15,5,IF($A56/4<=16,2,IF($A56/4<=17,4,IF($A56/4<=18,3,IF($A56/4<=19,6,IF($A56/4<=20,1,IF($A56/4<=21,5,IF($A56/4<=22,2,IF($A56/4<=23,4,IF($A56/4<=24,3,IF($A56/4<=25,6,IF($A56/4<=26,1,IF($A56/4<=27,5,IF($A56/4<=28,2,IF($A56/4<=29,4,IF($A56/4<=30,3,IF($A56/4<=31,6,IF($A56/4<=32,1,IF($A56/4<=33,5,IF($A56/4<=34,2,IF($A56/4<=35,4,IF($A56/4<=36,3))))))))))))))))))))))))))))))))))))","v":false},{"$f":"S39+10","v":10},null,4]
[204,"II","Фамилия Имя 44",null,2001,"Клуб 9",null,350,4,null,null,{"$f":"IF($A57/4<=1,8,IF($A57/4<=2,1,IF($A57/4<=3,7,IF($A57/4<=4,2,IF($A57/4<=5,6,IF($A57/4<=6,3,IF($A57/4<=7,5,IF($A57/4<=8,4,IF($A57/4<=9,8,IF($A57/4<=10,1,IF($A57/4<=11,7,IF($A57/4<=12,2,IF($A57/4<=13,6,IF($A57/4<=14,3,IF($A57/4<=15,5,IF($A57/4<=16,4,IF($A57/4<=17,8,IF($A57/4<=18,1,IF($A57/4<=19,7,IF($A57/4<=20,2,IF($A57/4<=21,6,IF($A57/4<=22,3,IF($A57/4<=23,5,IF($A57/4<=24,4,IF($A57/4<=25,8,IF($A57/4<=26,1,IF($A57/4<=27,7,IF($A57/4<=28,2,IF($A57/4<=29,6,IF($A57/4<=30,3,IF($A57/4<=31,5,IF($A57/4<=32,4,IF($A57/4<=33,8,IF($A57/4<=34,1,IF($A57/4<=35,7,IF($A57/4<=36,2,IF($A57/4<=37,6,IF($A57/4<=38,3,IF($A57/4<=39,5,IF($A57/4<=40,4))))))))))))))))))))))))))))))))))))))))","v":false},{"$f":"L57+200","v":200},null,{"$f":"IF($A57/4<=1,4,IF($A57/4<=2,1,IF($A57/4<=3,3,IF($A57/4<=4,2,IF($A57/4<=5,4,IF($A57/4<=6,1,IF($A57/4<=7,3,IF($A57/4<=8,2,IF($A57/4<=9,4,IF($A57/4<=10,1,IF($A57/4<=11,3,IF($A57/4<=12,2,IF($A57/4<=13,4,IF($A57/4<=14,1,IF($A57/4<=15,3,IF($A57/4<=16,2,IF($A57/4<=17,4,IF($A57/4<=18,1,IF($A57/4<=19,3,IF($A57/4<=20,2,IF($A57/4<=21,4,IF($A57/4<=22,1,IF($A57/4<=23,3,IF($A57/4<=24,2,IF($A57/4<=25,4,IF($A57/4<=26,1,IF($A57/4<=27,3,IF($A57/4<=28,2,IF($A57/4<=29,4,IF($A57/4<=30,1,IF($A57/4<=31,3,IF($A57/4<=32,2,IF($A57/4<=33,4,IF($A57/4<=34,1,IF($A57/4<=35,3,IF($A57/4<=36,2))))))))))))))))))))))))))))))))))))","v":false},{"$f":"P46+10","v":10},null,{"$f":"IF($A57/4<=1,6,IF($A57/4<=2,1,IF($A57/4<=3,5,IF($A57/4<=4,2,IF($A57/4<=5,4,IF($A57/4<=6,3,IF($A57/4<=7,6,IF($A57/4<=8,1,IF($A57/4<=9,5,IF($A57/4<=10,2,IF($A57/4<=11,4,IF($A57/4<=12,3,IF($A57/4<=13,6,IF($A57/4<=14,1,IF($A57/4<=15,5,IF($A57/4<=16,2,IF($A57/4<=17,4,IF($A57/4<=18,3,IF($A57/4<=19,6,IF($A57/4<=20,1,IF($A57/4<=21,5,IF($A57/4<=22,2,IF($A57/4<=23,4,IF($A57/4<=24,3,IF($A57/4<=25,6,IF($A57/4<=26,1,IF($A57/4<=27,5,IF($A57/4<=28,2,IF($A57/4<=29,4,IF($A57/4<=30,3,IF($A57/4<=31,6,IF($A57/4<=32,1,IF($A57/4<=33,5,IF($A57/4<=34,2,IF($A57/4<=35,4,IF($A57/4<=36,3))))))))))))))))))))))))))))))))))))","v":false},{"$f":"S40+10","v":10},null,4]
[{"$f":"A59","v":205},{"$nulls":4},{"$f":"F59","v":"Клуб 10"},null,{"$f":"H59","v":402.35},{"$nulls":12},5]
[205,"I","Фамилия Имя 45",null,2001,"Клуб 10",null,402.35,1,null,null,{"$f":"IF($A59/4<=1,8,IF($A59/4<=2,1,IF($A59/4<=3,7,IF($A59/4<=4,2,IF($A59/4<=5,6,IF($A59/4<=6,3,IF($A59/4<=7,5,IF($A59/4<=8,4,IF($A59/4<=9,8,IF($A59/4<=10,1,IF($A59/4<=11,7,IF($A59/4<=12,2,IF($A59/4<=13,6,IF($A59/4<=14,3,IF($A59/4<=15,5,IF($A59/4<=16,4,IF($A59/4<=17,8,IF($A59/4<=18,1,IF($A59/4<=19,7,IF($A59/4<=20,2,IF($A59/4<=21,6,IF($A59/4<=22,3,IF($A59/4<=23,5,IF($A59/4<=24,4,IF($A59/4<=25,8,IF($A59/4<=26,1,IF($A59/4<=27,7,IF($A59/4<=28,2,IF($A59/4<=29,6,IF($A59/4<=30,3,IF($A59/4<=31,5,IF($A59/4<=32,4,IF($A59/4<=33,8,IF($A59/4<=34,1,IF($A59/4<=35,7,IF($A59/4<=36,2,IF($A59/4<=37,6,IF($A59/4<=38,3,IF($A59/4<=39,5,IF($A59/4<=40,4))))))))))))))))))))))))))))))))))))))))","v":false},{"$f":"L59+200","v":200},null,{"$f":"IF($A59/4<=1,4,IF($A59/4<=2,1,IF($A59/4<=3,3,IF($A59/4<=4,2,IF($A59/4<=5,4,IF($A59/4<=6,1,IF($A59/4<=7,3,IF($A59/4<=8,2,IF($A59/4<=9,4,IF($A59/4<=10,1,IF($A59/4<=11,3,IF($A59/4<=12,2,IF($A59/4<=13,4,IF($A59/4<=14,1,IF($A59/4<=15,3,IF($A59/4<=16,2,IF($A59/4<=17,4,IF($A59/4<=18,1,IF($A59/4<=19,3,IF($A59/4<=20,2,IF($A59/4<=21,4,IF($A59/4<=22,1,IF($A59/4<=23,3,IF($A59/4<=24,2,IF($A59/4<=25,4,IF($A59/4<=26,1,IF($A59/4<=27,3,IF($A59/4<=28,2,IF($A59/4<=29,4,IF($A59/4<=30,1,IF($A59/4<=31,3,IF($A59/4<=32,2,IF($A59/4<=33,4,IF($A59/4<=34,1,IF($A59/4<=35,3,IF($A59/4<=36,2))))))))))))))))))))))))))))))))))))","v":false},{"$f":"#REF!+10","v":{"$error":"#REF!"}},null,{"$f":"IF($A59/4<=1,6,IF($A59/4<=2,1,IF($A59/4<=3,5,IF($A59/4<=4,2,IF($A59/4<=5,4,IF($A59/4<=6,3,IF($A59/4<=7,6,IF($A59/4<=8,1,IF($A59/4<=9,5,IF($A59/4<=10,2,IF($A59/4<=11,4,IF($A59/4<=12,3,IF($A59/4<=13,6,IF($A59/4<=14,1,IF($A59/4<=15,5,IF($A59/4<=16,2,IF($A59/4<=17,4,IF($A59/4<=18,3,IF($A59/4<=19,6,IF($A59/4<=20,1,IF($A59/4<=21,5,IF($A59/4<=22,2,IF($A59/4<=23,4,IF($A59/4<=24,3,IF($A59/4<=25,6,IF($A59/4<=26,1,IF($A59/4<=27,5,IF($A59/4<=28,2,IF($A59/4<=29,4,IF($A59/4<=30,3,IF($A59/4<=31,6,IF($A59/4<=32,1,IF($A59/4<=33,5,IF($A59/4<=34,2,IF($A59/4<=35,4,IF($A59/4<=36,3))))))))))))))))))))))))))))))))))))","v":false},{"$f":"S41+10","v":10},"Шаг 3",5]
[205,"I","Фамилия Имя 46",null,2001,"Клуб 10",null,402.35,2,null,null,{"$f":"IF($A60/4<=1,8,IF($A60/4<=2,1,IF($A60/4<=3,7,IF($A60/4<=4,2,IF($A60/4<=5,6,IF($A60/4<=6,3,IF($A60/4<=7,5,IF($A60/4<=8,4,IF($A60/4<=9,8,IF($A60/4<=10,1,IF($A60/4<=11,7,IF($A60/4<=12,2,IF($A60/4<=13,6,IF($A60/4<=14,3,IF($A60/4<=15,5,IF($A60/4<=16,4,IF($A60/4<=17,8,IF($A60/4<=18,1,IF($A60/4<=19,7,IF($A60/4<=20,2,IF($A60/4<=21,6,IF($A60/4<=22,3,IF($A60/4<=23,5,IF($A60/4<=24,4,IF($A60/4<=25,8,IF($A60/4<=26,1,IF($A60/4<=27,7,IF($A60/4<=28,2,IF($A60/4<=29,6,IF($A60/4<=30,3,IF($A60/4<=31,5,IF($A60/4<=32,4,IF($A60/4<=33,8,IF($A60/4<=34,1,IF($A60/4<=35,7,IF($A60/4<=36,2,IF($A60/4<=37,6,IF($A60/4<=38,3,IF($A60/4<=39,5,IF($A60/4<=40,4))))))))))))))))))))))))))))))))))))))))","v":false},{"$f":"L60+200","v":200},null,{"$f":"IF($A60/4<=1,4,IF($A60/4<=2,1,IF($A60/4<=3,3,IF($A60/4<=4,2,IF($A60/4<=5,4,IF($A60/4<=6,1,IF($A60/4<=7,3,IF($A60/4<=8,2,IF($A60/4<=9,4,IF($A60/4<=10,1,IF($A60/4<=11,3,IF($A60/4<=12,2,IF($A60/4<=13,4,IF($A60/4<=14,1,IF($A60/4<=15,3,IF($A60/4<=16,2,IF($A60/4<=17,4,IF($A60/4<=18,1,IF($A60/4<=19,3,IF($A60/4<=20,2,IF($A60/4<=21,4,IF($A60/4<=22,1,IF($A60/4<=23,3,IF($A60/4<=24,2,IF($A60/4<=25,4,IF($A60/4<=26,1,IF($A60/4<=27,3,IF($A60/4<=28,2,IF($A60/4<=29,4,IF($A60/4<=30,1,IF($A60/4<=31,3,IF($A60/4<=32,2,IF($A60/4<=33,4,IF($A60/4<=34,1,IF($A60/4<=35,3,IF($A60/4<=36,2))))))))))))))))))))))))))))))))))))","v":false},{"$f":"#REF!+10","v":{"$error":"#REF!"}},null,{"$f":"IF($A60/4<=1,6,IF($A60/4<=2,1,IF($A60/4<=3,5,IF($A60/4<=4,2,IF($A60/4<=5,4,IF($A60/4<=6,3,IF($A60/4<=7,6,IF($A60/4<=8,1,IF($A60/4<=9,5,IF($A60/4<=10,2,IF($A60/4<=11,4,IF($A60/4<=12,3,IF($A60/4<=13,6,IF($A60/4<=14,1,IF($A60/4<=15,5,IF($A60/4<=16,2,IF($A60/4<=17,4,IF($A60/4<=18,3,IF($A60/4<=19,6,IF($A60/4<=20,1,IF($A60/4<=21,5,IF($A60/4<=22,2,IF($A60/4<=23,4,IF($A60/4<=24,3,IF($A60/4<=25,6,IF($A60/4<=26,1,IF($A60/4<=27,5,IF($A60/4<=28,2,IF($A60/4<=29,4,IF($A60/4<=30,3,IF($A60/4<=31,6,IF($A60/4<=32,1,IF($A60/4<=33,5,IF($A60/4<=34,2,IF($A60/4<=35,4,IF($A60/4<=36,3))))))))))))))))))))))))))))))))))))","v":false},{"$f":"S42+10","v":10},null,5]
[205,"II","Фамилия Имя 47",null,2001,"Клуб 10",null,402.35,3,null,null,{"$f":"IF($A61/4<=1,8,IF($A61/4<=2,1,IF($A61/4<=3,7,IF($A61/4<=4,2,IF($A61/4<=5,6,IF($A61/4<=6,3,IF($A61/4<=7,5,IF($A61/4<=8,4,IF($A61/4<=9,8,IF($A61/4<=10,1,IF($A61/4<=11,7,IF($A61/4<=12,2,IF($A61/4<=13,6,IF($A61/4<=14,3,IF($A61/4<=15,5,IF($A61/4<=16,4,IF($A61/4<=17,8,IF($A61/4<=18,1,IF($A61/4<=19,7,IF($A61/4<=20,2,IF($A61/4<=21,6,IF($A61/4<=22,3,IF($A61/4<=23,5,IF($A61/4<=24,4,IF($A61/4<=25,8,IF($A61/4<=26,1,IF($A61/4<=27,7,IF($A61/4<=28,2,IF($A61/4<=29,6,IF($A61/4<=30,3,IF($A61/4<=31,5,IF($A61/4<=32,4,IF($A61/4<=33,8,IF($A61/4<=34,1,IF($A61/4<=35,7,IF($A61/4<=36,2,IF($A61/4<=37,6,IF($A61/4<=38,3,IF($A61/4<=39,5,IF($A61/4<=40,4))))))))))))))))))))))))))))))))))))))))","v":false},{"$f":"L61+200","v":200},null,{"$f":"IF($A61/4<=1,4,IF($A61/4<=2,1,IF($A61/4<=3,3,IF($A61/4<=4,2,IF($A61/4<=5,4,IF($A61/4<=6,1,IF($A61/4<=7,3,IF($A61/4<=8,2,IF($A61/4<=9,4,IF($A61/4<=10,1,IF($A61/4<=11,3,IF($A61/4<=12,2,IF($A61/4<=13,4,IF($A61/4<=14,1,IF($A61/4<=15,3,IF($A61/4<=16,2,IF($A61/4<=17,4,IF($A61/4<=18,1,IF($A61/4<=19,3,IF($A61/4<=20,2,IF($A61/4<=21,4,IF($A61/4<=22,1,IF($A61/4<=23,3,IF($A61/4<=24,2,IF($A61/4<=25,4,IF($A61/4<=26,1,IF($A61/4<=27,3,IF($A61/4<=28,2,IF($A61/4<=29,4,IF($A61/4<=30,1,IF($A61/4<=31,3,IF($A61/4<=32,2,IF($A61/4<=33,4,IF($A61/4<=34,1,IF($A61/4<=35,3,IF($A61/4<=36,2))))))))))))))))))))))))))))))))))))","v":false},{"$f":"#REF!+10","v":{"$error":"#REF!"}},null,{"$f":"IF($A61/4<=1,6,IF($A61/4<=2,1,IF($A61/4<=3,5,IF($A61/4<=4,2,IF($A61/4<=5,4,IF($A61/4<=6,3,IF($A61/4<=7,6,IF($A61/4<=8,1,IF($A61/4<=9,5,IF($A61/4<=10,2,IF($A61/4<=11,4,IF($A61/4<=12,3,IF($A61/4<=13,6,IF($A61/4<=14,1,IF($A61/4<=15,5,IF($A61/4<=16,2,IF($A61/4<=17,4,IF($A61/4<=18,3,IF($A61/4<=19,6,IF($A61/4<=20,1,IF($A61/4<=21,5,IF($A61/4<=22,2,IF($A61/4<=23,4,IF($A61/4<=24,3,IF($A61/4<=25,6,IF($A61/4<=26,1,IF($A61/4<=27,5,IF($A61/4<=28,2,IF($A61/4<=29,4,IF($A61/4<=30,3,IF($A61/4<=31,6,IF($A61/4<=32,1,IF($A61/4<=33,5,IF($A61/4<=34,2,IF($A61/4<=35,4,IF($A61/4<=36,3))))))))))))))))))))))))))))))))))))","v":false},{"$f":"S43+10","v":10},null,5]
[205,"I","Фамилия Имя 48",null,1998,"Клуб 10",null,402.35,4,null,null,{"$f":"IF($A62/4<=1,8,IF($A62/4<=2,1,IF($A62/4<=3,7,IF($A62/4<=4,2,IF($A62/4<=5,6,IF($A62/4<=6,3,IF($A62/4<=7,5,IF($A62/4<=8,4,IF($A62/4<=9,8,IF($A62/4<=10,1,IF($A62/4<=11,7,IF($A62/4<=12,2,IF($A62/4<=13,6,IF($A62/4<=14,3,IF($A62/4<=15,5,IF($A62/4<=16,4,IF($A62/4<=17,8,IF($A62/4<=18,1,IF($A62/4<=19,7,IF($A62/4<=20,2,IF($A62/4<=21,6,IF($A62/4<=22,3,IF($A62/4<=23,5,IF($A62/4<=24,4,IF($A62/4<=25,8,IF($A62/4<=26,1,IF($A62/4<=27,7,IF($A62/4<=28,2,IF($A62/4<=29,6,IF($A62/4<=30,3,IF($A62/4<=31,5,IF($A62/4<=32,4,IF($A62/4<=33,8,IF($A62/4<=34,1,IF($A62/4<=35,7,IF($A62/4<=36,2,IF($A62/4<=37,6,IF($A62/4<=38,3,IF($A62/4<=39,5,IF($A62/4<=40,4))))))))))))))))))))))))))))))))))))))))","v":false},{"$f":"L62+200","v":200},null,{"$f":"IF($A62/4<=1,4,IF($A62/4<=2,1,IF($A62/4<=3,3,IF($A62/4<=4,2,IF($A62/4<=5,4,IF($A62/4<=6,1,IF($A62/4<=7,3,IF($A62/4<=8,2,IF($A62/4<=9,4,IF($A62/4<=10,1,IF($A62/4<=11,3,IF($A62/4<=12,2,IF($A62/4<=13,4,IF($A62/4<=14,1,IF($A62/4<=15,3,IF($A62/4<=16,2,IF($A62/4<=17,4,IF($A62/4<=18,1,IF($A62/4<=19,3,IF($A62/4<=20,2,IF($A62/4<=21,4,IF($A62/4<=22,1,IF($A62/4<=23,3,IF($A62/4<=24,2,IF($A62/4<=25,4,IF($A62/4<=26,1,IF($A62/4<=27,3,IF($A62/4<=28,2,IF($A62/4<=29,4,IF($A62/4<=30,1,IF($A62/4<=31,3,IF($A62/4<=32,2,IF($A62/4<=33,4,IF($A62/4<=34,1,IF($A62/4<=35,3,IF($A62/4<=36,2))))))))))))))))))))))))))))))))))))","v":false},{"$f":"#REF!+10","v":{"$error":"#REF!"}},null,{"$f":"IF($A62/4<=1,6,IF($A62/4<=2,1,IF($A62/4<=3,5,IF($A62/4<=4,2,IF($A62/4<=5,4,IF($A62/4<=6,3,IF($A62/4<=7,6,IF($A62/4<=8,1,IF($A62/4<=9,5,IF($A62/4<=10,2,IF($A62/4<=11,4,IF($A62/4<=12,3,IF($A62/4<=13,6,IF($A62/4<=14,1,IF($A62/4<=15,5,IF($A62/4<=16,2,IF($A62/4<=17,4,IF($A62/4<=18,3,IF($A62/4<=19,6,IF($A62/4<=20,1,IF($A62/4<=21,5,IF($A62/4<=22,2,IF($A62/4<=23,4,IF($A62/4<=24,3,IF($A62/4<=25,6,IF($A62/4<=26,1,IF($A62/4<=27,5,IF($A62/4<=28,2,IF($A62/4<=29,4,IF($A62/4<=30,3,IF($A62/4<=31,6,IF($A62/4<=32,1,IF($A62/4<=33,5,IF($A62/4<=34,2,IF($A62/4<=35,4,IF($A62/4<=36,3))))))))))))))))))))))))))))))))))))","v":false},{"$f":"S44+10","v":10},null,5]
[{"$f":"A64","v":206},{"$nulls":4},{"$f":"F64","v":"Клуб 11"},null,{"$f":"H64","v":2000},{"$nulls":12},6]
[206,"II","Фамилия Имя 49",null,2002,"Клуб 11",null,2000,1,null,null,{"$f":"IF($A64/4<=1,8,IF($A64/4<=2,1,IF($A64/4<=3,7,IF($A64/4<=4,2,IF($A64/4<=5,6,IF($A64/4<=6,3,IF($A64/4<=7,5,IF($A64/4<=8,4,IF($A64/4<=9,8,IF($A64/4<=10,1,IF($A64/4<=11,7,IF($A64/4<=12,2,IF($A64/4<=13,6,IF($A64/4<=14,3,IF($A64/4<=15,5,IF($A64/4<=16,4,IF($A64/4<=17,8,IF($A64/4<=18,1,IF($A64/4<=19,7,IF($A64/4<=20,2,IF($A64/4<=21,6,IF($A64/4<=22,3,IF($A64/4<=23,5,IF($A64/4<=24,4,IF($A64/4<=25,8,IF($A64/4<=26,1,IF($A64/4<=27,7,IF($A64/4<=28,2,IF($A64/4<=29,6,IF($A64/4<=30,3,IF($A64/4<=31,5,IF($A64/4<=32,4,IF($A64/4<=33,8,IF($A64/4<=34,1,IF($A64/4<=35,7,IF($A64/4<=36,2,IF($A64/4<=37,6,IF($A64/4<=38,3,IF($A64/4<=39,5,IF($A64/4<=40,4))))))))))))))))))))))))))))))))))))))))","v":false},{"$f":"L64+200","v":200},null,{"$f":"IF($A64/4<=1,4,IF($A64/4<=2,1,IF($A64/4<=3,3,IF($A64/4<=4,2,IF($A64/4<=5,4,IF($A64/4<=6,1,IF($A64/4<=7,3,IF($A64/4<=8,2,IF($A64/4<=9,4,IF($A64/4<=10,1,IF($A64/4<=11,3,IF($A64/4<=12,2,IF($A64/4<=13,4,IF($A64/4<=14,1,IF($A64/4<=15,3,IF($A64/4<=16,2,IF($A64/4<=17,4,IF($A64/4<=18,1,IF($A64/4<=19,3,IF($A64/4<=20,2,IF($A64/4<=21,4,IF($A64/4<=22,1,IF($A64/4<=23,3,IF($A64/4<=24,2,IF($A64/4<=25,4,IF($A64/4<=26,1,IF($A64/4<=27,3,IF($A64/4<=28,2,IF($A64/4<=29,4,IF($A64/4<=30,1,IF($A64/4<=31,3,IF($A64/4<=32,2,IF($A64/4<=33,4,IF($A64/4<=34,1,IF($A64/4<=35,3,IF($A64/4<=36,2))))))))))))))))))))))))))))))))))))","v":false},{"$f":"#REF!+10","v":{"$error":"#REF!"}},"Шаг 3",{"$f":"IF($A64/4<=1,6,IF($A64/4<=2,1,IF($A64/4<=3,5,IF($A64/4<=4,2,IF($A64/4<=5,4,IF($A64/4<=6,3,IF($A64/4<=7,6,IF($A64/4<=8,1,IF($A64/4<=9,5,IF($A64/4<=10,2,IF($A64/4<=11,4,IF($A64/4<=12,3,IF($A64/4<=13,6,IF($A64/4<=14,1,IF($A64/4<=15,5,IF($A64/4<=16,2,IF($A64/4<=17,4,IF($A64/4<=18,3,IF($A64/4<=19,6,IF($A64/4<=20,1,IF($A64/4<=21,5,IF($A64/4<=22,2,IF($A64/4<=23,4,IF($A64/4<=24,3,IF($A64/4<=25,6,IF($A64/4<=26,1,IF($A64/4<=27,5,IF($A64/4<=28,2,IF($A64/4<=29,4,IF($A64/4<=30,3,IF($A64/4<=31,6,IF($A64/4<=32,1,IF($A64/4<=33,5,IF($A64/4<=34,2,IF($A64/4<=35,4,IF($A64/4<=36,3))))))))))))))))))))))))))))))))))))","v":false},{"$f":"R64+200","v":200},null,6]
[206,"II","Фамилия Имя 50",null,2002,"Клуб 11",null,2000,2,null,null,false,200,null,false,{"$f":"#REF!+10","v":{"$error":"#REF!"}},null,false,200,null,6]
[206,"II","Фамилия Имя 51",null,2002,"Клуб 11",null,2000,3,null,null,false,200,null,false,{"$f":"#REF!+10","v":{"$error":"#REF!"}},null,false,200,null,6]
[206,"II","Фамилия Имя 52",null,2001,"Клуб 11",null,2000,4,null,null,false,200,null,false,{"$f":"#REF!+10","v":{"$error":"#REF!"}},null,false,200,null,6]

{"sheet":"СП_с предварительными","index":3,"n_rows":91,"n_cols":16,"rows_kept":91,"merged":[[7,2,7,3],[7,5,7,6],[7,7,7,8],[7,9,7,10]]}
[]
[]
[]
["СОРЕВНОВАНИЯ"]
[]
[{"$nulls":12},"Кол-во заплывов",null,"Кол-во дорожек"]
["СТАРТОВЫЙ ПРОТОКОЛ",{"$nulls":11},{"$f":"ROUNDUP(A48/O7,0)","v":5},null,8]
["Дорожка","Разряд,\nзвание","Фамилия, имя",null,"Год \nрожд.","Команда",null,"Предварительный\nрезультат",null,"Зачет"]
[]
[null,null,"Плавание в ластах - 50 м (1460081811Я),  женщины"]
[null,"для 6 дорожек",{"$nulls":10},"шаг 1","шаг 2",null,"Шаг 4"]
[{"$nulls":3},"Заплыв №",{"$f":"INT(A49/10)","v":0}]
[1,{"$nulls":11},{"$f":"IF($A13/$M$7<=1,6,IF($A13/$M$7<=2,1,IF($A13/$M$7<=3,5,IF($A13/$M$7<=4,2,IF($A13/$M$7<=5,4,IF($A13/$M$7<=6,3))))))","v":6},{"$f":"M13+10","v":16},null,{"$f":"IF(MOD($A13,10)<10,MOD($A13,10),IF($A13/10>8,MOD($A13,80),IF($A13/10>7,MOD($A13,70),IF($A13/10>6,MOD($A13,60),IF($A13/10>5,MOD($A13,50),IF($A13/10>4,MOD($A13,40),IF($A13/10>3,MOD($A13,30),IF($A13/10>2,MOD($A13,20),MOD($A13,100)))))))))","v":1}]
[{"$f":"A13+1","v":2},{"$nulls":11},6,{"$f":"M14+20","v":26},null,2]
[{"$f":"A14+1","v":3},"КМС","Фамилия Имя 6",null,2002,"ЗамКлуб",null,30,{"$nulls":4},6,{"$f":"M15+30","v":36},null,3]
[4,"I юн","Фамилия Имя 11",null,2002,"ЗамКлуб",null,30,{"$nulls":4},6,{"$f":"M16+40","v":46},null,4]
[5,"II юн","Фамилия Имя 12",null,1998,"ЗамКлуб",null,30,{"$nulls":4},6,{"$f":"M17+50","v":56},null,5]
[6,"I","Фамилия Имя 16",null,2002,"ЗамКлуб",null,30,{"$nulls":4},1,{"$f":"M18+10","v":11},"шаг 3",6]
[7,"МС","Фамилия Имя 22",null,2001,"ЗамКлуб",null,30,{"$nulls":4},1,{"$f":"M19+20","v":21},null,7]
[8,"КМС","Фамилия Имя 26",null,2006,"ЗамКлуб",null,30,{"$nulls":4},1,{"$f":"M20+30","v":31},null,8]
[9,"I юн","Фамилия Имя 31",null,2001,"ЗамКлуб",null,30,{"$nulls":4},1,{"$f":"M21+40","v":41},null,9]
[10,"МС","Фамилия Имя 5",null,2001,"ЗамКлуб",null,29.8,{"$nulls":4},1,{"$f":"M22+50","v":51},null,0]
[11,"МСМК","Фамилия Имя 14",null,2000,"ЗамКлуб",null,29.8,{"$nulls":4},5,{"$f":"M23+50","v":55},null,1]
[12,"МС","Фамилия Имя 15",null,2001,"ЗамКлуб",null,29.8,{"$nulls":4},5,{"$f":"M24+60","v":65},null,2]
[13,"МСМК","Фамилия Имя 21",null,2000,"ЗамКлуб",null,29.8,{"$nulls":4},5,{"$f":"M25+10","v":15},null,3]
[14,"КМС","Фамилия Имя 25",null,2005,"ЗамКлуб",null,29.8,{"$nulls":4},5,{"$f":"M26+20","v":25},null,4]
[15,"III юн","Фамилия Имя 30",null,2000,"ЗамКлуб",null,29.8,{"$nulls":4},5,{"$f":"M27+30","v":35},null,5]
[16,"ЗМС","Фамилия Имя 20",null,1999,"ЗамКлуб",null,29.7,null,null,"лично",null,2,{"$f":"M28+40","v":42},null,6]
[17,"II юн","Фамилия Имя 29",null,1999,"ЗамКлуб",null,29.7,null,null,"лично",null,2,{"$f":"M29+50","v":52},null,7]
[18,"ЗМС","Фамилия Имя 3",null,1999,"ЗамКлуб",null,29.5,{"$nulls":4},2,{"$f":"M30+60","v":62},null,8]
[19,"III юн","Фамилия Имя 13",null,1999,"ЗамКлуб",null,29.5,{"$nulls":4},2,{"$f":"M31+10","v":12},null,9]
[20,"II","Фамилия Имя 19",null,1998,"ЗамКлуб",null,29.5,{"$nulls":4},2,{"$f":"M32+20","v":22},null,0]
[21,"КМС","Фамилия Имя 28",null,2008,"ЗамКлуб",null,29.5,{"$nulls":4},4,{"$f":"M33+30","v":34},null,1]
[22,"II","Фамилия Имя 17",null,2003,"ЗамКлуб",null,27.5,{"$nulls":4},4,{"$f":"M34+40","v":44},null,2]
[23,"III юн","Фамилия Имя 18",null,1996,"ЗамКлуб",null,27.5,{"$nulls":4},4,{"$f":"M35+50","v":54},null,3]
[24,"II юн","Фамилия Имя 1",null,2000,"ЗамКлуб",null,26.9,{"$nulls":4},4,{"$f":"M36+60","v":64},null,4]
[25,"I","Фамилия Имя 2",null,1998,"ЗамКлуб",null,25.2,{"$nulls":4},4,{"$f":"M37+10","v":14},null,5]
[26,"II юн","Фамилия Имя 34",null,2006,"ЗамКлуб",null,23.2,{"$nulls":4},3,{"$f":"M38+20","v":23},null,6]
[27,"III","Фамилия Имя 32",null,2002,"ЗамКлуб",null,22.8,{"$nulls":4},3,{"$f":"M39+30","v":33},null,7]
[28,"КМС","Фамилия Имя 27",null,2007,"ЗамКлуб",null,22.5,{"$nulls":4},3,{"$f":"M40+40","v":43},null,8]
[29,"I","Фамилия Имя 8",null,1999,"ЗамКлуб",null,22.1,{"$nulls":4},3,{"$f":"M41+50","v":53},null,9]
[30,"I","Фамилия Имя 7",null,1998,"ЗамКлуб",null,21.8,{"$nulls":4},3,{"$f":"M42+60","v":63},null,0]
[31,"МСМК","Фамилия Имя 4",null,2000,"ЗамКлуб",null,21.5,{"$nulls":4},false,{"$f":"M43+10","v":10},null,1]
[32,"I юн","Фамилия Имя 33",null,1996,"ЗамКлуб",null,20.4,{"$nulls":4},false,{"$f":"M44+20","v":20},null,2]
[33,"I","Фамилия Имя 10",null,2001,"ЗамКлуб",null,20,{"$nulls":4},false,{"$f":"M45+30","v":30},null,3]
[34,"КМС","Фамилия Имя 24",null,2004,"ЗамКлуб",null,18.7,{"$nulls":4},false,{"$f":"M46+40","v":40},null,4]
[35,"КМС","Фамилия Имя 23",null,2002,"ЗамКлуб",null,18.6,{"$nulls":4},false,{"$f":"M47+50","v":50},null,5]
[36,"I","Фамилия Имя 9",null,2000,"ЗамКлуб",null,18.5,{"$nulls":4},false,{"$f":"M48+60","v":60},null,6]
[]
[null,"для 8 дорожек"]
[{"$nulls":3},"Заплыв №",{"$f":"INT(A92/10)","v":0},{"$nulls":7},"шаг 1","шаг 2"]
[1,{"$nulls":11},{"$f":"IF($A52/$M$7<=1,8,IF($A52/$M$7<=2,1,IF($A52/$M$7<=3,7,IF($A52/$M$7<=4,2,IF($A52/$M$7<=5,6,IF($A52/$M$7<=6,3,IF($A52/$M$7<=7,5,IF($A52/$M$7<=8,4))))))))","v":8},{"$f":"M52+10","v":18}]
[{"$f":"A52+1","v":2},{"$nulls":11},8,{"$f":"M53+20","v":28}]
[{"$f":"A53+1","v":3},{"$nulls":11},8,{"$f":"M54+30","v":38}]
[4,{"$nulls":11},8,{"$f":"M55+40","v":48}]
[5,{"$nulls":11},8,{"$f":"M56+50","v":58}]
[6,{"$nulls":11},1,{"$f":"M57+10","v":11},"шаг3"]
[7,"КМС","Фамилия Имя 6",null,2002,"ЗамКлуб",null,30,{"$nulls":4},1,{"$f":"M58+20","v":21}]
[8,"I юн","Фамилия Имя 11",null,2002,"ЗамКлуб",null,30,{"$nulls":4},1,{"$f":"M59+30","v":31}]
[9,"II юн","Фамилия Имя 12",null,1998,"ЗамКлуб",null,30,{"$nulls":4},1,{"$f":"M60+40","v":41}]
[10,"I","Фамилия Имя 16",null,2002,"ЗамКлуб",null,30,{"$nulls":4},1,{"$f":"M61+50","v":51}]
[11,"МС","Фамилия Имя 22",null,2001,"ЗамКлуб",null,30,{"$nulls":4},7,{"$f":"M62+10","v":17}]
[12,"КМС","Фамилия Имя 26",null,2006,"ЗамКлуб",null,30,{"$nulls":4},7,{"$f":"M63+20","v":27}]
[13,"I юн","Фамилия Имя 31",null,2001,"ЗамКлуб",null,30,{"$nulls":4},7,{"$f":"M64+30","v":37}]
[14,"МС","Фамилия Имя 5",null,2001,"ЗамКлуб",null,29.8,{"$nulls":4},7,{"$f":"M65+40","v":47}]
[15,"МСМК","Фамилия Имя 14",null,2000,"ЗамКлуб",null,29.8,{"$nulls":4},7,{"$f":"M66+50","v":57}]
[16,"МС","Фамилия Имя 15",null,2001,"ЗамКлуб",null,29.8,{"$nulls":4},2,{"$f":"M67+10","v":12}]
[17,"МСМК","Фамилия Имя 21",null,2000,"ЗамКлуб",null,29.8,{"$nulls":4},2,{"$f":"M68+20","v":22}]
[18,"КМС","Фамилия Имя 25",null,2005,"ЗамКлуб",null,29.8,{"$nulls":4},2,{"$f":"M69+30","v":32}]
[19,"III юн","Фамилия Имя 30",null,2000,"ЗамКлуб",null,29.8,{"$nulls":4},2,{"$f":"M70+40","v":42}]
[20,"ЗМС","Фамилия Имя 20",null,1999,"ЗамКлуб",null,29.7,null,null,"лично",null,2,{"$f":"M71+50","v":52}]
[21,"II юн","Фамилия Имя 29",null,1999,"ЗамКлуб",null,29.7,null,null,"лично",null,6,{"$f":"M72+10","v":16}]
[22,"ЗМС","Фамилия Имя 3",null,1999,"ЗамКлуб",null,29.5,{"$nulls":4},6,{"$f":"M73+20","v":26}]
[23,"III юн","Фамилия Имя 13",null,1999,"ЗамКлуб",null,29.5,{"$nulls":4},6,{"$f":"M74+30","v":36}]
[24,"II","Фамилия Имя 19",null,1998,"ЗамКлуб",null,29.5,{"$nulls":4},6,{"$f":"M75+40","v":46}]
[25,"КМС","Фамилия Имя 28",null,2008,"ЗамКлуб",null,29.5,{"$nulls":4},6,{"$f":"M76+50","v":56}]
[26,"II","Фамилия Имя 17",null,2003,"ЗамКлуб",null,27.5,{"$nulls":4},3,{"$f":"M77+10","v":13}]
[27,"III юн","Фамилия Имя 18",null,1996,"ЗамКлуб",null,27.5,{"$nulls":4},3,{"$f":"M78+20","v":23}]
[28,"II юн","Фамилия Имя 1",null,2000,"ЗамКлуб",null,26.9,{"$nulls":4},3,{"$f":"M79+30","v":33}]
[29,"I","Фамилия Имя 2",null,1998,"ЗамКлуб",null,25.2,{"$nulls":4},3,{"$f":"M80+40","v":43}]
[30,"II юн","Фамилия Имя 34",null,2006,"ЗамКлуб",null,23.2,{"$nulls":4},3,{"$f":"M81+50","v":53}]
[31,"III","Фамилия Имя 32",null,2002,"ЗамКлуб",null,22.8,{"$nulls":4},5,{"$f":"M82+10","v":15}]
[32,"КМС","Фамилия Имя 27",null,2007,"ЗамКлуб",null,22.5,{"$nulls":4},5,{"$f":"M83+20","v":25}]
[33,"I","Фамилия Имя 8",null,1999,"ЗамКлуб",null,22.1,{"$nulls":4},5,{"$f":"M84+30","v":35}]
[34,"I","Фамилия Имя 7",null,1998,"ЗамКлуб",null,21.8,{"$nulls":4},5,{"$f":"M85+40","v":45}]
[35,"МСМК","Фамилия Имя 4",null,2000,"ЗамКлуб",null,21.5,{"$nulls":4},5,{"$f":"M86+50","v":55}]
[36,"I юн","Фамилия Имя 33",null,1996,"ЗамКлуб",null,20.4,{"$nulls":4},4,{"$f":"M87+10","v":14}]
[37,"I","Фамилия Имя 10",null,2001,"ЗамКлуб",null,20,{"$nulls":4},4,{"$f":"M88+20","v":24}]
[38,"КМС","Фамилия Имя 24",null,2004,"ЗамКлуб",null,18.7,{"$nulls":4},4,{"$f":"M89+30","v":34}]
[39,"КМС","Фамилия Имя 23",null,2002,"ЗамКлуб",null,18.6,{"$nulls":4},4,{"$f":"M90+40","v":44}]
[40,"I","Фамилия Имя 9",null,2000,"ЗамКлуб",null,18.5,{"$nulls":4},4,{"$f":"M91+50","v":54}]

{"sheet":"Нормативы","index":4,"n_rows":509,"n_cols":19,"rows_kept":509,"merged":[[0,7,0,9],[1,8,1,9],[1,12,1,13]]}
[{"$nulls":7},"Автохронометраж",{"$nulls":3},"Ручной хронометраж"]
[{"$nulls":8},"Результат",{"$nulls":3},"Результат"]
[{"$nulls":8},"финал","предв.",null,null,"финал","предв."]
[null,null,"Плавание в ластах - 50 м (1460081811Я),  женщины"]
[{"$nulls":7},18,{"$f":"IF(ISBLANK(H5),\" \",IF(ISTEXT(H5),\" \",IF(H5<=Нормативы!$H$5,\"МСМК\",IF(H5<=Нормативы!$H$6,\"МС\",IF(H5<=Нормативы!$H$7,\"КМС\",IF(H5<=Нормативы!$H$8,\"I\",IF(H5<=Нормативы!$H$9,\"II\",IF(H5<=Нормативы!$H$10,\"III\",IF(H5<=Нормативы!$H$11,\"I юн\",IF(H5<=Нормативы!$H$12,\"II юн\",IF(H5<=Нормативы!$H$13,\"III юн\",IF(ISTEXT(H5),\" \",IF(ISBLANK(H5),\" \",\"б/р\")))))))))))))","v":"МСМК"},{"$f":"IF(ISBLANK(H5),\" \",IF(ISTEXT(H5),\" \",IF(H5<=Нормативы!$H$5,\"МСМК\",IF(H5<=Нормативы!$H$6,\"МС\",IF(H5<=Нормативы!$H$7,\"КМС\",IF(H5<=Нормативы!$H$8,\"I\",IF(H5<=Нормативы!$H$9,\"II\",IF(H5<=Нормативы!$H$10,\"III\",IF(H5<=Нормативы!$H$11,\"I юн\",IF(H5<=Нормативы!$H$12,\"II юн\",IF(H5<=Нормативы!$H$13,\"III юн\",IF(ISTEXT(H5),\" \",IF(ISBLANK(H5),\" \",\"б/р\")))))))))))))","v":"МСМК"},null,null,{"$f":"IF(ISBLANK(L5),\" \",IF(ISTEXT(L5),\" \",IF(L5<=Нормативы!$H$5,\"КМС\",IF(L5<=Нормативы!$H$6,\"КМС\",IF(L5<=Нормативы!$L$7,\"КМС\",IF(L5<=Нормативы!$L$8,\"I\",IF(L5<=Нормативы!$L$9,\"II\",IF(L5<=Нормативы!$L$10,\"III\",IF(L5<=Нормативы!$L$11,\"I юн\",IF(L5<=Нормативы!$L$12,\"II юн\",IF(L5<=Нормативы!$L$13,\"III юн\",IF(ISTEXT(L5),\" \",IF(ISBLANK(L5),\" \",\"б/р\")))))))))))))","v":" "},{"$f":"IF(ISBLANK(L5),\" \",IF(ISTEXT(L5),\" \",IF(L5<=18.1,\"МСМК\",IF(L5<=19,\"МС\",IF(L5<=19.7,\"КМС\",IF(L5<=21.1,\"I\",IF(L5<=22.9,\"II\",IF(L5<=24.8,\"III\",IF(L5<=27.4,\"I юн\",IF(L5<=30,\"II юн\",IF(L5<=32.4,\"III юн\",IF(ISTEXT(L5),\" \",IF(ISBLANK(L5),\" \",\"б/р\")))))))))))))","v":" "},null,null,{"$f":"IF(ISBLANK(P5),\" \",IF(ISTEXT(P5),\" \",IF(P5<=$H$5,\"МСМК\",IF(P5<=$H$6,\"МС\",IF(P5<=$H$7,\"КМС\",IF(P5<=$H$8,\"I\",IF(P5<=$H$9,\"II\",IF(P5<=$H$10,\"III\",IF(P5<=$H$11,\"I юн\",IF(P5<=$H$12,\"II юн\",IF(P5<=$H$13,\"III юн\",IF(ISTEXT(P5),\" \",IF(ISBLANK(P5),\" \",\"б/р\")))))))))))))","v":" "}]
[{"$nulls":7},18.7,{"$f":"IF(ISBLANK(H6),\" \",IF(ISTEXT(H6),\" \",IF(H6<=Нормативы!$H$5,\"МСМК\",IF(H6<=Нормативы!$H$6,\"МС\",IF(H6<=Нормативы!$H$7,\"КМС\",IF(H6<=Нормативы!$H$8,\"I\",IF(H6<=Нормативы!$H$9,\"II\",IF(H6<=Нормативы!$H$10,\"III\",IF(H6<=Нормативы!$H$11,\"I юн\",IF(H6<=Нормативы!$H$12,\"II юн\",IF(H6<=Нормативы!$H$13,\"III юн\",IF(ISTEXT(H6),\" \",IF(ISBLANK(H6),\" \",\"б/р\")))))))))))))","v":"МС"},{"$f":"IF(ISBLANK(H6),\" \",IF(ISTEXT(H6),\" \",IF(H6<=Нормативы!$H$5,\"МСМК\",IF(H6<=Нормативы!$H$6,\"МС\",IF(H6<=Нормативы!$H$7,\"КМС\",IF(H6<=Нормативы!$H$8,\"I\",IF(H6<=Нормативы!$H$9,\"II\",IF(H6<=Нормативы!$H$10,\"III\",IF(H6<=Нормативы!$H$11,\"I юн\",IF(H6<=Нормативы!$H$12,\"II юн\",IF(H6<=Нормативы!$H$13,\"III юн\",IF(ISTEXT(H6),\" \",IF(ISBLANK(H6),\" \",\"б/р\")))))))))))))","v":"МС"},null,null,{"$f":"IF(ISBLANK(L6),\" \",IF(ISTEXT(L6),\" \",IF(L6<=Нормативы!$H$5,\"КМС\",IF(L6<=Нормативы!$H$6,\"КМС\",IF(L6<=Нормативы!$L$7,\"КМС\",IF(L6<=Нормативы!$L$8,\"I\",IF(L6<=Нормативы!$L$9,\"II\",IF(L6<=Нормативы!$L$10,\"III\",IF(L6<=Нормативы!$L$11,\"I юн\",IF(L6<=Нормативы!$L$12,\"II юн\",IF(L6<=Нормативы!$L$13,\"III юн\",IF(ISTEXT(L6),\" \",IF(ISBLANK(L6),\" \",\"б/р\")))))))))))))","v":" "},{"$f":"IF(ISBLANK(L6),\" \",IF(ISTEXT(L6),\" \",IF(L6<=18.1,\"МСМК\",IF(L6<=19,\"МС\",IF(L6<=19.7,\"КМС\",IF(L6<=21.1,\"I\",IF(L6<=22.9,\"II\",IF(L6<=24.8,\"III\",IF(L6<=27.4,\"I юн\",IF(L6<=30,\"II юн\",IF(L6<=32.4,\"III юн\",IF(ISTEXT(L6),\" \",IF(ISBLANK(L6),\" \",\"б/р\")))))))))))))","v":" "},null,null,{"$f":"IF(ISBLANK(P6),\" \",IF(ISTEXT(P6),\" \",IF(P6<=$H$5,\"МСМК\",IF(P6<=$H$6,\"МС\",IF(P6<=$H$7,\"КМС\",IF(P6<=$H$8,\"I\",IF(P6<=$H$9,\"II\",IF(P6<=$H$10,\"III\",IF(P6<=$H$11,\"I юн\",IF(P6<=$H$12,\"II юн\",IF(P6<=$H$13,\"III юн\",IF(ISTEXT(P6),\" \",IF(ISBLANK(P6),\" \",\"б/р\")))))))))))))","v":" "}]
[{"$nulls":7},19.7,{"$f":"IF(ISBLANK(H7),\" \",IF(ISTEXT(H7),\" \",IF(H7<=Нормативы!$H$5,\"МСМК\",IF(H7<=Нормативы!$H$6,\"МС\",IF(H7<=Нормативы!$H$7,\"КМС\",IF(H7<=Нормативы!$H$8,\"I\",IF(H7<=Нормативы!$H$9,\"II\",IF(H7<=Нормативы!$H$10,\"III\",IF(H7<=Нормативы!$H$11,\"I юн\",IF(H7<=Нормативы!$H$12,\"II юн\",IF(H7<=Нормативы!$H$13,\"III юн\",IF(ISTEXT(H7),\" \",IF(ISBLANK(H7),\" \",\"б/р\")))))))))))))","v":"КМС"},{"$f":"IF(ISBLANK(H7),\" \",IF(ISTEXT(H7),\" \",IF(H7<=Нормативы!$H$5,\"МСМК\",IF(H7<=Нормативы!$H$6,\"МС\",IF(H7<=Нормативы!$H$7,\"КМС\",IF(H7<=Нормативы!$H$8,\"I\",IF(H7<=Нормативы!$H$9,\"II\",IF(H7<=Нормативы!$H$10,\"III\",IF(H7<=Нормативы!$H$11,\"I юн\",IF(H7<=Нормативы!$H$12,\"II юн\",IF(H7<=Нормативы!$H$13,\"III юн\",IF(ISTEXT(H7),\" \",IF(ISBLANK(H7),\" \",\"б/р\")))))))))))))","v":"КМС"},null,{"$f":"H7-0.2","v":19.5},{"$f":"IF(ISBLANK(L7),\" \",IF(ISTEXT(L7),\" \",IF(L7<=Нормативы!$H$5,\"КМС\",IF(L7<=Нормативы!$H$6,\"КМС\",IF(L7<=Нормативы!$L$7,\"КМС\",IF(L7<=Нормативы!$L$8,\"I\",IF(L7<=Нормативы!$L$9,\"II\",IF(L7<=Нормативы!$L$10,\"III\",IF(L7<=Нормативы!$L$11,\"I юн\",IF(L7<=Нормативы!$L$12,\"II юн\",IF(L7<=Нормативы!$L$13,\"III юн\",IF(ISTEXT(L7),\" \",IF(ISBLANK(L7),\" \",\"б/р\")))))))))))))","v":"КМС"},{"$f":"IF(ISBLANK(L7),\" \",IF(ISTEXT(L7),\" \",IF(L7<=Нормативы!$H$5,\"КМС\",IF(L7<=Нормативы!$H$6,\"КМС\",IF(L7<=Нормативы!$L$7,\"КМС\",IF(L7<=Нормативы!$L$8,\"I\",IF(L7<=Нормативы!$L$9,\"II\",IF(L7<=Нормативы!$L$10,\"III\",IF(L7<=Нормативы!$L$11,\"I юн\",IF(L7<=Нормативы!$L$12,\"II юн\",IF(L7<=Нормативы!$L$13,\"III юн\",IF(ISTEXT(L7),\" \",IF(ISBLANK(L7),\" \",\"б/р\")))))))))))))","v":"КМС"},null,null,{"$f":"IF(ISBLANK(P7),\" \",IF(ISTEXT(P7),\" \",IF(P7<=$H$5,\"МСМК\",IF(P7<=$H$6,\"МС\",IF(P7<=$H$7,\"КМС\",IF(P7<=$H$8,\"I\",IF(P7<=$H$9,\"II\",IF(P7<=$H$10,\"III\",IF(P7<=$H$11,\"I юн\",IF(P7<=$H$12,\"II юн\",IF(P7<=$H$13,\"III юн\",IF(ISTEXT(P7),\" \",IF(ISBLANK(P7),\" \",\"б/р\")))))))))))))","v":" "}]
[{"$nulls":7},21,{"$f":"IF(ISBLANK(H8),\" \",IF(ISTEXT(H8),\" \",IF(H8<=Нормативы!$H$5,\"МСМК\",IF(H8<=Нормативы!$H$6,\"МС\",IF(H8<=Нормативы!$H$7,\"КМС\",IF(H8<=Нормативы!$H$8,\"I\",IF(H8<=Нормативы!$H$9,\"II\",IF(H8<=Нормативы!$H$10,\"III\",IF(H8<=Нормативы!$H$11,\"I юн\",IF(H8<=Нормативы!$H$12,\"II юн\",IF(H8<=Нормативы!$H$13,\"III юн\",IF(ISTEXT(H8),\" \",IF(ISBLANK(H8),\" \",\"б/р\")))))))))))))","v":"I"},{"$f":"IF(ISBLANK(H8),\" \",IF(ISTEXT(H8),\" \",IF(H8<=Нормативы!$H$5,\"МСМК\",IF(H8<=Нормативы!$H$6,\"МС\",IF(H8<=Нормативы!$H$7,\"КМС\",IF(H8<=Нормативы!$H$8,\"I\",IF(H8<=Нормативы!$H$9,\"II\",IF(H8<=Нормативы!$H$10,\"III\",IF(H8<=Нормативы!$H$11,\"I юн\",IF(H8<=Нормативы!$H$12,\"II юн\",IF(H8<=Нормативы!$H$13,\"III юн\",IF(ISTEXT(H8),\" \",IF(ISBLANK(H8),\" \",\"б/р\")))))))))))))","v":"I"},null,{"$f":"H8-0.2","v":20.8},{"$f":"IF(ISBLANK(L8),\" \",IF(ISTEXT(L8),\" \",IF(L8<=Нормативы!$H$5,\"КМС\",IF(L8<=Нормативы!$H$6,\"КМС\",IF(L8<=Нормативы!$L$7,\"КМС\",IF(L8<=Нормативы!$L$8,\"I\",IF(L8<=Нормативы!$L$9,\"II\",IF(L8<=Нормативы!$L$10,\"III\",IF(L8<=Нормативы!$L$11,\"I юн\",IF(L8<=Нормативы!$L$12,\"II юн\",IF(L8<=Нормативы!$L$13,\"III юн\",IF(ISTEXT(L8),\" \",IF(ISBLANK(L8),\" \",\"б/р\")))))))))))))","v":"I"},{"$f":"IF(ISBLANK(L8),\" \",IF(ISTEXT(L8),\" \",IF(L8<=Нормативы!$H$5,\"КМС\",IF(L8<=Нормативы!$H$6,\"КМС\",IF(L8<=Нормативы!$L$7,\"КМС\",IF(L8<=Нормативы!$L$8,\"I\",IF(L8<=Нормативы!$L$9,\"II\",IF(L8<=Нормативы!$L$10,\"III\",IF(L8<=Нормативы!$L$11,\"I юн\",IF(L8<=Нормативы!$L$12,\"II юн\",IF(L8<=Нормативы!$L$13,\"III юн\",IF(ISTEXT(L8),\" \",IF(ISBLANK(L8),\" \",\"б/р\")))))))))))))","v":"I"},null,null,{"$f":"IF(ISBLANK(P8),\" \",IF(ISTEXT(P8),\" \",IF(P8<=$H$5,\"МСМК\",IF(P8<=$H$6,\"МС\",IF(P8<=$H$7,\"КМС\",IF(P8<=$H$8,\"I\",IF(P8<=$H$9,\"II\",IF(P8<=$H$10,\"III\",IF(P8<=$H$11,\"I юн\",IF(P8<=$H$12,\"II юн\",IF(P8<=$H$13,\"III юн\",IF(ISTEXT(P8),\" \",IF(ISBLANK(P8),\" \",\"б/р\")))))))))))))","v":" "}]
[{"$nulls":7},22.9,{"$f":"IF(ISBLANK(H9),\" \",IF(ISTEXT(H9),\" \",IF(H9<=Нормативы!$H$5,\"МСМК\",IF(H9<=Нормативы!$H$6,\"МС\",IF(H9<=Нормативы!$H$7,\"КМС\",IF(H9<=Нормативы!$H$8,\"I\",IF(H9<=Нормативы!$H$9,\"II\",IF(H9<=Нормативы!$H$10,\"III\",IF(H9<=Нормативы!$H$11,\"I юн\",IF(H9<=Нормативы!$H$12,\"II юн\",IF(H9<=Нормативы!$H$13,\"III юн\",IF(ISTEXT(H9),\" \",IF(ISBLANK(H9),\" \",\"б/р\")))))))))))))","v":"II"},{"$f":"IF(ISBLANK(H9),\" \",IF(ISTEXT(H9),\" \",IF(H9<=Нормативы!$H$5,\"МСМК\",IF(H9<=Нормативы!$H$6,\"МС\",IF(H9<=Нормативы!$H$7,\"КМС\",IF(H9<=Нормативы!$H$8,\"I\",IF(H9<=Нормативы!$H$9,\"II\",IF(H9<=Нормативы!$H$10,\"III\",IF(H9<=Нормативы!$H$11,\"I юн\",IF(H9<=Нормативы!$H$12,\"II юн\",IF(H9<=Нормативы!$H$13,\"III юн\",IF(ISTEXT(H9),\" \",IF(ISBLANK(H9),\" \",\"б/р\")))))))))))))","v":"II"},null,22.7,{"$f":"IF(ISBLANK(L9),\" \",IF(ISTEXT(L9),\" \",IF(L9<=Нормативы!$H$5,\"КМС\",IF(L9<=Нормативы!$H$6,\"КМС\",IF(L9<=Нормативы!$L$7,\"КМС\",IF(L9<=Нормативы!$L$8,\"I\",IF(L9<=Нормативы!$L$9,\"II\",IF(L9<=Нормативы!$L$10,\"III\",IF(L9<=Нормативы!$L$11,\"I юн\",IF(L9<=Нормативы!$L$12,\"II юн\",IF(L9<=Нормативы!$L$13,\"III юн\",IF(ISTEXT(L9),\" \",IF(ISBLANK(L9),\" \",\"б/р\")))))))))))))","v":"II"},{"$f":"IF(ISBLANK(L9),\" \",IF(ISTEXT(L9),\" \",IF(L9<=Нормативы!$H$5,\"КМС\",IF(L9<=Нормативы!$H$6,\"КМС\",IF(L9<=Нормативы!$L$7,\"КМС\",IF(L9<=Нормативы!$L$8,\"I\",IF(L9<=Нормативы!$L$9,\"II\",IF(L9<=Нормативы!$L$10,\"III\",IF(L9<=Нормативы!$L$11,\"I юн\",IF(L9<=Нормативы!$L$12,\"II юн\",IF(L9<=Нормативы!$L$13,\"III юн\",IF(ISTEXT(L9),\" \",IF(ISBLANK(L9),\" \",\"б/р\")))))))))))))","v":"II"},null,null,{"$f":"IF(ISBLANK(P9),\" \",IF(ISTEXT(P9),\" \",IF(P9<=$H$5,\"МСМК\",IF(P9<=$H$6,\"МС\",IF(P9<=$H$7,\"КМС\",IF(P9<=$H$8,\"I\",IF(P9<=$H$9,\"II\",IF(P9<=$H$10,\"III\",IF(P9<=$H$11,\"I юн\",IF(P9<=$H$12,\"II юн\",IF(P9<=$H$13,\"III юн\",IF(ISTEXT(P9),\" \",IF(ISBLANK(P9),\" \",\"б/р\")))))))))))))","v":" "}]
[{"$nulls":7},24.7,{"$f":"IF(ISBLANK(H10),\" \",IF(ISTEXT(H10),\" \",IF(H10<=Нормативы!$H$5,\"МСМК\",IF(H10<=Нормативы!$H$6,\"МС\",IF(H10<=Нормативы!$H$7,\"КМС\",IF(H10<=Нормативы!$H$8,\"I\",IF(H10<=Нормативы!$H$9,\"II\",IF(H10<=Нормативы!$H$10,\"III\",IF(H10<=Нормативы!$H$11,\"I юн\",IF(H10<=Нормативы!$H$12,\"II юн\",IF(H10<=Нормативы!$H$13,\"III юн\",IF(ISTEXT(H10),\" \",IF(ISBLANK(H10),\" \",\"б/р\")))))))))))))","v":"III"},{"$f":"IF(ISBLANK(H10),\" \",IF(ISTEXT(H10),\" \",IF(H10<=Нормативы!$H$5,\"МСМК\",IF(H10<=Нормативы!$H$6,\"МС\",IF(H10<=Нормативы!$H$7,\"КМС\",IF(H10<=Нормативы!$H$8,\"I\",IF(H10<=Нормативы!$H$9,\"II\",IF(H10<=Нормативы!$H$10,\"III\",IF(H10<=Нормативы!$H$11,\"I юн\",IF(H10<=Нормативы!$H$12,\"II юн\",IF(H10<=Нормативы!$H$13,\"III юн\",IF(ISTEXT(H10),\" \",IF(ISBLANK(H10),\" \",\"б/р\")))))))))))))","v":"III"},null,24.5,{"$f":"IF(ISBLANK(L10),\" \",IF(ISTEXT(L10),\" \",IF(L10<=Нормативы!$H$5,\"КМС\",IF(L10<=Нормативы!$H$6,\"КМС\",IF(L10<=Нормативы!$L$7,\"КМС\",IF(L10<=Нормативы!$L$8,\"I\",IF(L10<=Нормативы!$L$9,\"II\",IF(L10<=Нормативы!$L$10,\"III\",IF(L10<=Нормативы!$L$11,\"I юн\",IF(L10<=Нормативы!$L$12,\"II юн\",IF(L10<=Нормативы!$L$13,\"III юн\",IF(ISTEXT(L10),\" \",IF(ISBLANK(L10),\" \",\"б/р\")))))))))))))","v":"III"},{"$f":"IF(ISBLANK(L10),\" \",IF(ISTEXT(L10),\" \",IF(L10<=Нормативы!$H$5,\"КМС\",IF(L10<=Нормативы!$H$6,\"КМС\",IF(L10<=Нормативы!$L$7,\"КМС\",IF(L10<=Нормативы!$L$8,\"I\",IF(L10<=Нормативы!$L$9,\"II\",IF(L10<=Нормативы!$L$10,\"III\",IF(L10<=Нормативы!$L$11,\"I юн\",IF(L10<=Нормативы!$L$12,\"II юн\",IF(L10<=Нормативы!$L$13,\"III юн\",IF(ISTEXT(L10),\" \",IF(ISBLANK(L10),\" \",\"б/р\")))))))))))))","v":"III"},null,null,{"$f":"IF(ISBLANK(P10),\" \",IF(ISTEXT(P10),\" \",IF(P10<=$H$5,\"МСМК\",IF(P10<=$H$6,\"МС\",IF(P10<=$H$7,\"КМС\",IF(P10<=$H$8,\"I\",IF(P10<=$H$9,\"II\",IF(P10<=$H$10,\"III\",IF(P10<=$H$11,\"I юн\",IF(P10<=$H$12,\"II юн\",IF(P10<=$H$13,\"III юн\",IF(ISTEXT(P10),\" \",IF(ISBLANK(P10),\" \",\"б/р\")))))))))))))","v":" "}]
[{"$nulls":7},27,{"$f":"IF(ISBLANK(H11),\" \",IF(ISTEXT(H11),\" \",IF(H11<=Нормативы!$H$5,\"МСМК\",IF(H11<=Нормативы!$H$6,\"МС\",IF(H11<=Нормативы!$H$7,\"КМС\",IF(H11<=Нормативы!$H$8,\"I\",IF(H11<=Нормативы!$H$9,\"II\",IF(H11<=Нормативы!$H$10,\"III\",IF(H11<=Нормативы!$H$11,\"I юн\",IF(H11<=Нормативы!$H$12,\"II юн\",IF(H11<=Нормативы!$H$13,\"III юн\",IF(ISTEXT(H11),\" \",IF(ISBLANK(H11),\" \",\"б/р\")))))))))))))","v":"I юн"},{"$f":"IF(ISBLANK(H11),\" \",IF(ISTEXT(H11),\" \",IF(H11<=Нормативы!$H$5,\"МСМК\",IF(H11<=Нормативы!$H$6,\"МС\",IF(H11<=Нормативы!$H$7,\"КМС\",IF(H11<=Нормативы!$H$8,\"I\",IF(H11<=Нормативы!$H$9,\"II\",IF(H11<=Нормативы!$H$10,\"III\",IF(H11<=Нормативы!$H$11,\"I юн\",IF(H11<=Нормативы!$H$12,\"II юн\",IF(H11<=Нормативы!$H$13,\"III юн\",IF(ISTEXT(H11),\" \",IF(ISBLANK(H11),\" \",\"б/р\")))))))))))))","v":"I юн"},null,26.8,{"$f":"IF(ISBLANK(L11),\" \",IF(ISTEXT(L11),\" \",IF(L11<=Нормативы!$H$5,\"КМС\",IF(L11<=Нормативы!$H$6,\"КМС\",IF(L11<=Нормативы!$L$7,\"КМС\",IF(L11<=Нормативы!$L$8,\"I\",IF(L11<=Нормативы!$L$9,\"II\",IF(L11<=Нормативы!$L$10,\"III\",IF(L11<=Нормативы!$L$11,\"I юн\",IF(L11<=Нормативы!$L$12,\"II юн\",IF(L11<=Нормативы!$L$13,\"III юн\",IF(ISTEXT(L11),\" \",IF(ISBLANK(L11),\" \",\"б/р\")))))))))))))","v":"I юн"},{"$f":"IF(ISBLANK(L11),\" \",IF(ISTEXT(L11),\" \",IF(L11<=Нормативы!$H$5,\"КМС\",IF(L11<=Нормативы!$H$6,\"КМС\",IF(L11<=Нормативы!$L$7,\"КМС\",IF(L11<=Нормативы!$L$8,\"I\",IF(L11<=Нормативы!$L$9,\"II\",IF(L11<=Нормативы!$L$10,\"III\",IF(L11<=Нормативы!$L$11,\"I юн\",IF(L11<=Нормативы!$L$12,\"II юн\",IF(L11<=Нормативы!$L$13,\"III юн\",IF(ISTEXT(L11),\" \",IF(ISBLANK(L11),\" \",\"б/р\")))))))))))))","v":"I юн"},null,null,{"$f":"IF(ISBLANK(P11),\" \",IF(ISTEXT(P11),\" \",IF(P11<=$H$5,\"МСМК\",IF(P11<=$H$6,\"МС\",IF(P11<=$H$7,\"КМС\",IF(P11<=$H$8,\"I\",IF(P11<=$H$9,\"II\",IF(P11<=$H$10,\"III\",IF(P11<=$H$11,\"I юн\",IF(P11<=$H$12,\"II юн\",IF(P11<=$H$13,\"III юн\",IF(ISTEXT(P11),\" \",IF(ISBLANK(P11),\" \",\"б/р\")))))))))))))","v":" "}]
[{"$nulls":7},29.5,{"$f":"IF(ISBLANK(H12),\" \",IF(ISTEXT(H12),\" \",IF(H12<=Нормативы!$H$5,\"МСМК\",IF(H12<=Нормативы!$H$6,\"МС\",IF(H12<=Нормативы!$H$7,\"КМС\",IF(H12<=Нормативы!$H$8,\"I\",IF(H12<=Нормативы!$H$9,\"II\",IF(H12<=Нормативы!$H$10,\"III\",IF(H12<=Нормативы!$H$11,\"I юн\",IF(H12<=Нормативы!$H$12,\"II юн\",IF(H12<=Нормативы!$H$13,\"III юн\",IF(ISTEXT(H12),\" \",IF(ISBLANK(H12),\" \",\"б/р\")))))))))))))","v":"II юн"},{"$f":"IF(ISBLANK(H12),\" \",IF(ISTEXT(H12),\" \",IF(H12<=Нормативы!$H$5,\"МСМК\",IF(H12<=Нормативы!$H$6,\"МС\",IF(H12<=Нормативы!$H$7,\"КМС\",IF(H12<=Нормативы!$H$8,\"I\",IF(H12<=Нормативы!$H$9,\"II\",IF(H12<=Нормативы!$H$10,\"III\",IF(H12<=Нормативы!$H$11,\"I юн\",IF(H12<=Нормативы!$H$12,\"II юн\",IF(H12<=Нормативы!$H$13,\"III юн\",IF(ISTEXT(H12),\" \",IF(ISBLANK(H12),\" \",\"б/р\")))))))))))))","v":"II юн"},null,29.3,{"$f":"IF(ISBLANK(L12),\" \",IF(ISTEXT(L12),\" \",IF(L12<=Нормативы!$H$5,\"КМС\",IF(L12<=Нормативы!$H$6,\"КМС\",IF(L12<=Нормативы!$L$7,\"КМС\",IF(L12<=Нормативы!$L$8,\"I\",IF(L12<=Нормативы!$L$9,\"II\",IF(L12<=Нормативы!$L$10,\"III\",IF(L12<=Нормативы!$L$11,\"I юн\",IF(L12<=Нормативы!$L$12,\"II юн\",IF(L12<=Нормативы!$L$13,\"III юн\",IF(ISTEXT(L12),\" \",IF(ISBLANK(L12),\" \",\"б/р\")))))))))))))","v":"II юн"},{"$f":"IF(ISBLANK(L12),\" \",IF(ISTEXT(L12),\" \",IF(L12<=Нормативы!$H$5,\"КМС\",IF(L12<=Нормативы!$H$6,\"КМС\",IF(L12<=Нормативы!$L$7,\"КМС\",IF(L12<=Нормативы!$L$8,\"I\",IF(L12<=Нормативы!$L$9,\"II\",IF(L12<=Нормативы!$L$10,\"III\",IF(L12<=Нормативы!$L$11,\"I юн\",IF(L12<=Нормативы!$L$12,\"II юн\",IF(L12<=Нормативы!$L$13,\"III юн\",IF(ISTEXT(L12),\" \",IF(ISBLANK(L12),\" \",\"б/р\")))))))))))))","v":"II юн"},null,null,{"$f":"IF(ISBLANK(P12),\" \",IF(ISTEXT(P12),\" \",IF(P12<=$H$5,\"МСМК\",IF(P12<=$H$6,\"МС\",IF(P12<=$H$7,\"КМС\",IF(P12<=$H$8,\"I\",IF(P12<=$H$9,\"II\",IF(P12<=$H$10,\"III\",IF(P12<=$H$11,\"I юн\",IF(P12<=$H$12,\"II юн\",IF(P12<=$H$13,\"III юн\",IF(ISTEXT(P12),\" \",IF(ISBLANK(P12),\" \",\"б/р\")))))))))))))","v":" "}]
[{"$nulls":7},32.2,{"$f":"IF(ISBLANK(H13),\" \",IF(ISTEXT(H13),\" \",IF(H13<=Нормативы!$H$5,\"МСМК\",IF(H13<=Нормативы!$H$6,\"МС\",IF(H13<=Нормативы!$H$7,\"КМС\",IF(H13<=Нормативы!$H$8,\"I\",IF(H13<=Нормативы!$H$9,\"II\",IF(H13<=Нормативы!$H$10,\"III\",IF(H13<=Нормативы!$H$11,\"I юн\",IF(H13<=Нормативы!$H$12,\"II юн\",IF(H13<=Нормативы!$H$13,\"III юн\",IF(ISTEXT(H13),\" \",IF(ISBLANK(H13),\" \",\"б/р\")))))))))))))","v":"III юн"},{"$f":"IF(ISBLANK(H13),\" \",IF(ISTEXT(H13),\" \",IF(H13<=Нормативы!$H$5,\"МСМК\",IF(H13<=Нормативы!$H$6,\"МС\",IF(H13<=Нормативы!$H$7,\"КМС\",IF(H13<=Нормативы!$H$8,\"I\",IF(H13<=Нормативы!$H$9,\"II\",IF(H13<=Нормативы!$H$10,\"III\",IF(H13<=Нормативы!$H$11,\"I юн\",IF(H13<=Нормативы!$H$12,\"II юн\",IF(H13<=Нормативы!$H$13,\"III юн\",IF(ISTEXT(H13),\" \",IF(ISBLANK(H13),\" \",\"б/р\")))))))))))))","v":"III юн"},null,32,{"$f":"IF(ISBLANK(L13),\" \",IF(ISTEXT(L13),\" \",IF(L13<=Нормативы!$H$5,\"КМС\",IF(L13<=Нормативы!$H$6,\"КМС\",IF(L13<=Нормативы!$L$7,\"КМС\",IF(L13<=Нормативы!$L$8,\"I\",IF(L13<=Нормативы!$L$9,\"II\",IF(L13<=Нормативы!$L$10,\"III\",IF(L13<=Нормативы!$L$11,\"I юн\",IF(L13<=Нормативы!$L$12,\"II юн\",IF(L13<=Нормативы!$L$13,\"III юн\",IF(ISTEXT(L13),\" \",IF(ISBLANK(L13),\" \",\"б/р\")))))))))))))","v":"III юн"},{"$f":"IF(ISBLANK(L13),\" \",IF(ISTEXT(L13),\" \",IF(L13<=Нормативы!$H$5,\"КМС\",IF(L13<=Нормативы!$H$6,\"КМС\",IF(L13<=Нормативы!$L$7,\"КМС\",IF(L13<=Нормативы!$L$8,\"I\",IF(L13<=Нормативы!$L$9,\"II\",IF(L13<=Нормативы!$L$10,\"III\",IF(L13<=Нормативы!$L$11,\"I юн\",IF(L13<=Нормативы!$L$12,\"II юн\",IF(L13<=Нормативы!$L$13,\"III юн\",IF(ISTEXT(L13),\" \",IF(ISBLANK(L13),\" \",\"б/р\")))))))))))))","v":"III юн"},null,null,{"$f":"IF(ISBLANK(P13),\" \",IF(ISTEXT(P13),\" \",IF(P13<=$H$5,\"МСМК\",IF(P13<=$H$6,\"МС\",IF(P13<=$H$7,\"КМС\",IF(P13<=$H$8,\"I\",IF(P13<=$H$9,\"II\",IF(P13<=$H$10,\"III\",IF(P13<=$H$11,\"I юн\",IF(P13<=$H$12,\"II юн\",IF(P13<=$H$13,\"III юн\",IF(ISTEXT(P13),\" \",IF(ISBLANK(P13),\" \",\"б/р\")))))))))))))","v":" "}]
[{"$nulls":8},{"$f":"IF(ISBLANK(H14),\" \",IF(ISTEXT(H14),\" \",IF(H14<=18.1,\"МСМК\",IF(H14<=19,\"МС\",IF(H14<=19.9,\"КМС\",IF(H14<=21.3,\"I\",IF(H14<=23.1,\"II\",IF(H14<=25,\"III\",IF(ISTEXT(H14),\" \",IF(ISBLANK(H14),\" \",\"б/р\"))))))))))","v":" "},{"$f":"IF(ISBLANK(H14),\" \",IF(ISTEXT(H14),\" \",IF(H14<=18.1,\"МСМК\",IF(H14<=19,\"МС\",IF(H14<=19.9,\"КМС\",IF(H14<=21.3,\"I\",IF(H14<=23.1,\"II\",IF(H14<=25,\"III\",IF(ISTEXT(H14),\" \",IF(ISBLANK(H14),\" \",\"б/р\"))))))))))","v":" "},{"$nulls":6},{"$f":"IF(ISBLANK(P14),\" \",IF(ISTEXT(P14),\" \",IF(P14<=18.1,\"МСМК\",IF(P14<=19,\"МС\",IF(P14<=19.9,\"КМС\",IF(P14<=21.3,\"I\",IF(P14<=23.1,\"II\",IF(P14<=25,\"III\",IF(ISTEXT(P14),\" \",IF(ISBLANK(P14),\" \",\"б/р\"))))))))))","v":" "}]
[null,null,"Плавание в ластах - 50 м (1460081811Я),  мужчины"]
[{"$nulls":7},15.8,{"$f":"IF(ISBLANK(H16),\" \",IF(ISTEXT(H16),\" \",IF(H16<=Нормативы!$H$16,\"МСМК\",IF(H16<=Нормативы!$H$17,\"МС\",IF(H16<=Нормативы!$H$18,\"КМС\",IF(H16<=Нормативы!$H$19,\"I\",IF(H16<=Нормативы!$H$20,\"II\",IF(H16<=Нормативы!$H$21,\"III\",IF(H16<=Нормативы!$H$22,\"I юн\",IF(H16<=Нормативы!$H$23,\"II юн\",IF(H16<=Нормативы!$H$24,\"III юн\",\"б/р\")))))))))))","v":"МСМК"},{"$f":"IF(ISBLANK(H16),\" \",IF(ISTEXT(H16),\" \",IF(H16<=Нормативы!$H$16,\"МСМК\",IF(H16<=Нормативы!$H$17,\"МС\",IF(H16<=Нормативы!$H$18,\"КМС\",IF(H16<=Нормативы!$H$19,\"I\",IF(H16<=Нормативы!$H$20,\"II\",IF(H16<=Нормативы!$H$21,\"III\",IF(H16<=Нормативы!$H$22,\"I юн\",IF(H16<=Нормативы!$H$23,\"II юн\",IF(H16<=Нормативы!$H$24,\"III юн\",\"б/р\")))))))))))","v":"МСМК"},null,null,{"$f":"IF(ISBLANK(L16),\" \",IF(ISTEXT(L16),\" \",IF(L16<=Нормативы!$H$16,\"КМС\",IF(L16<=Нормативы!$H$17,\"КМС\",IF(L16<=Нормативы!$L$18,\"КМС\",IF(L16<=Нормативы!$L$19,\"I\",IF(L16<=Нормативы!$L$20,\"II\",IF(L16<=Нормативы!$L$21,\"III\",IF(L16<=Нормативы!$L$22,\"I юн\",IF(L16<=Нормативы!$L$23,\"II юн\",IF(L16<=Нормативы!$L$24,\"III юн\",\"б/р\")))))))))))","v":" "},{"$f":"IF(ISBLANK(L16),\" \",IF(ISTEXT(L16),\" \",IF(L16<=15.9,\"МСМК\",IF(L16<=16.9,\"МС\",IF(L16<=17.6,\"КМС\",IF(L16<=18.5,\"I\",IF(L16<=20.1,\"II\",IF(L16<=21.9,\"III\",IF(L16<=24,\"I юн\",IF(L16<=26.2,\"II юн\",IF(L16<=28.4,\"III юн\",\"б/р\")))))))))))","v":" "},null,null,{"$f":"IF(ISBLANK(P16),\" \",IF(ISTEXT(P16),\" \",IF(P16<=$H$16,\"МСМК\",IF(P16<=$H$17,\"МС\",IF(P16<=$H$18,\"КМС\",IF(P16<=$H$19,\"I\",IF(P16<=$H$20,\"II\",IF(P16<=$H$21,\"III\",IF(P16<=$H$22,\"I юн\",IF(P16<=$H$23,\"II юн\",IF(P16<=$H$24,\"III юн\",\"б/р\")))))))))))","v":" "}]
[{"$nulls":7},16.7,{"$f":"IF(ISBLANK(H17),\" \",IF(ISTEXT(H17),\" \",IF(H17<=Нормативы!$H$16,\"МСМК\",IF(H17<=Нормативы!$H$17,\"МС\",IF(H17<=Нормативы!$H$18,\"КМС\",IF(H17<=Нормативы!$H$19,\"I\",IF(H17<=Нормативы!$H$20,\"II\",IF(H17<=Нормативы!$H$21,\"III\",IF(H17<=Нормативы!$H$22,\"I юн\",IF(H17<=Нормативы!$H$23,\"II юн\",IF(H17<=Нормативы!$H$24,\"III юн\",\"б/р\")))))))))))","v":"МС"},{"$f":"IF(ISBLANK(H17),\" \",IF(ISTEXT(H17),\" \",IF(H17<=Нормативы!$H$16,\"МСМК\",IF(H17<=Нормативы!$H$17,\"МС\",IF(H17<=Нормативы!$H$18,\"КМС\",IF(H17<=Нормативы!$H$19,\"I\",IF(H17<=Нормативы!$H$20,\"II\",IF(H17<=Нормативы!$H$21,\"III\",IF(H17<=Нормативы!$H$22,\"I юн\",IF(H17<=Нормативы!$H$23,\"II юн\",IF(H17<=Нормативы!$H$24,\"III юн\",\"б/р\")))))))))))","v":"МС"},null,null,{"$f":"IF(ISBLANK(L17),\" \",IF(ISTEXT(L17),\" \",IF(L17<=Нормативы!$H$16,\"КМС\",IF(L17<=Нормативы!$H$17,\"КМС\",IF(L17<=Нормативы!$L$18,\"КМС\",IF(L17<=Нормативы!$L$19,\"I\",IF(L17<=Нормативы!$L$20,\"II\",IF(L17<=Нормативы!$L$21,\"III\",IF(L17<=Нормативы!$L$22,\"I юн\",IF(L17<=Нормативы!$L$23,\"II юн\",IF(L17<=Нормативы!$L$24,\"III юн\",\"б/р\")))))))))))","v":" "},{"$f":"IF(ISBLANK(L17),\" \",IF(ISTEXT(L17),\" \",IF(L17<=15.9,\"МСМК\",IF(L17<=16.9,\"МС\",IF(L17<=17.6,\"КМС\",IF(L17<=18.5,\"I\",IF(L17<=20.1,\"II\",IF(L17<=21.9,\"III\",IF(L17<=24,\"I юн\",IF(L17<=26.2,\"II юн\",IF(L17<=28.4,\"III юн\",\"б/р\")))))))))))","v":" "},null,null,{"$f":"IF(ISBLANK(P17),\" \",IF(ISTEXT(P17),\" \",IF(P17<=$H$16,\"МСМК\",IF(P17<=$H$17,\"МС\",IF(P17<=$H$18,\"КМС\",IF(P17<=$H$19,\"I\",IF(P17<=$H$20,\"II\",IF(P17<=$H$21,\"III\",IF(P17<=$H$22,\"I юн\",IF(P17<=$H$23,\"II юн\",IF(P17<=$H$24,\"III юн\",\"б/р\")))))))))))","v":" "}]
[{"$nulls":7},17.5,{"$f":"IF(ISBLANK(H18),\" \",IF(ISTEXT(H18),\" \",IF(H18<=Нормативы!$H$16,\"МСМК\",IF(H18<=Нормативы!$H$17,\"МС\",IF(H18<=Нормативы!$H$18,\"КМС\",IF(H18<=Нормативы!$H$19,\"I\",IF(H18<=Нормативы!$H$20,\"II\",IF(H18<=Нормативы!$H$21,\"III\",IF(H18<=Нормативы!$H$22,\"I юн\",IF(H18<=Нормативы!$H$23,\"II юн\",IF(H18<=Нормативы!$H$24,\"III юн\",\"б/р\")))))))))))","v":"КМС"},{"$f":"IF(ISBLANK(H18),\" \",IF(ISTEXT(H18),\" \",IF(H18<=Нормативы!$H$16,\"МСМК\",IF(H18<=Нормативы!$H$17,\"МС\",IF(H18<=Нормативы!$H$18,\"КМС\",IF(H18<=Нормативы!$H$19,\"I\",IF(H18<=Нормативы!$H$20,\"II\",IF(H18<=Нормативы!$H$21,\"III\",IF(H18<=Нормативы!$H$22,\"I юн\",IF(H18<=Нормативы!$H$23,\"II юн\",IF(H18<=Нормативы!$H$24,\"III юн\",\"б/р\")))))))))))","v":"КМС"},null,17.3,{"$f":"IF(ISBLANK(L18),\" \",IF(ISTEXT(L18),\" \",IF(L18<=Нормативы!$H$16,\"КМС\",IF(L18<=Нормативы!$H$17,\"КМС\",IF(L18<=Нормативы!$L$18,\"КМС\",IF(L18<=Нормативы!$L$19,\"I\",IF(L18<=Нормативы!$L$20,\"II\",IF(L18<=Нормативы!$L$21,\"III\",IF(L18<=Нормативы!$L$22,\"I юн\",IF(L18<=Нормативы!$L$23,\"II юн\",IF(L18<=Нормативы!$L$24,\"III юн\",\"б/р\")))))))))))","v":"КМС"},{"$f":"IF(ISBLANK(L18),\" \",IF(ISTEXT(L18),\" \",IF(L18<=Нормативы!$H$16,\"КМС\",IF(L18<=Нормативы!$H$17,\"КМС\",IF(L18<=Нормативы!$L$18,\"КМС\",IF(L18<=Нормативы!$L$19,\"I\",IF(L18<=Нормативы!$L$20,\"II\",IF(L18<=Нормативы!$L$21,\"III\",IF(L18<=Нормативы!$L$22,\"I юн\",IF(L18<=Нормативы!$L$23,\"II юн\",IF(L18<=Нормативы!$L$24,\"III юн\",\"б/р\")))))))))))","v":"КМС"},null,null,{"$f":"IF(ISBLANK(P18),\" \",IF(ISTEXT(P18),\" \",IF(P18<=$H$16,\"МСМК\",IF(P18<=$H$17,\"МС\",IF(P18<=$H$18,\"КМС\",IF(P18<=$H$19,\"I\",IF(P18<=$H$20,\"II\",IF(P18<=$H$21,\"III\",IF(P18<=$H$22,\"I юн\",IF(P18<=$H$23,\"II юн\",IF(P18<=$H$24,\"III юн\",\"б/р\")))))))))))","v":" "}]
[{"$nulls":7},18.5,{"$f":"IF(ISBLANK(H19),\" \",IF(ISTEXT(H19),\" \",IF(H19<=Нормативы!$H$16,\"МСМК\",IF(H19<=Нормативы!$H$17,\"МС\",IF(H19<=Нормативы!$H$18,\"КМС\",IF(H19<=Нормативы!$H$19,\"I\",IF(H19<=Нормативы!$H$20,\"II\",IF(H19<=Нормативы!$H$21,\"III\",IF(H19<=Нормативы!$H$22,\"I юн\",IF(H19<=Нормативы!$H$23,\"II юн\",IF(H19<=Нормативы!$H$24,\"III юн\",\"б/р\")))))))))))","v":"I"},{"$f":"IF(ISBLANK(H19),\" \",IF(ISTEXT(H19),\" \",IF(H19<=Нормативы!$H$16,\"МСМК\",IF(H19<=Нормативы!$H$17,\"МС\",IF(H19<=Нормативы!$H$18,\"КМС\",IF(H19<=Нормативы!$H$19,\"I\",IF(H19<=Нормативы!$H$20,\"II\",IF(H19<=Нормативы!$H$21,\"III\",IF(H19<=Нормативы!$H$22,\"I юн\",IF(H19<=Нормативы!$H$23,\"II юн\",IF(H19<=Нормативы!$H$24,\"III юн\",\"б/р\")))))))))))","v":"I"},null,18.3,{"$f":"IF(ISBLANK(L19),\" \",IF(ISTEXT(L19),\" \",IF(L19<=Нормативы!$H$16,\"КМС\",IF(L19<=Нормативы!$H$17,\"КМС\",IF(L19<=Нормативы!$L$18,\"КМС\",IF(L19<=Нормативы!$L$19,\"I\",IF(L19<=Нормативы!$L$20,\"II\",IF(L19<=Нормативы!$L$21,\"III\",IF(L19<=Нормативы!$L$22,\"I юн\",IF(L19<=Нормативы!$L$23,\"II юн\",IF(L19<=Нормативы!$L$24,\"III юн\",\"б/р\")))))))))))","v":"I"},{"$f":"IF(ISBLANK(L19),\" \",IF(ISTEXT(L19),\" \",IF(L19<=Нормативы!$H$16,\"КМС\",IF(L19<=Нормативы!$H$17,\"КМС\",IF(L19<=Нормативы!$L$18,\"КМС\",IF(L19<=Нормативы!$L$19,\"I\",IF(L19<=Нормативы!$L$20,\"II\",IF(L19<=Нормативы!$L$21,\"III\",IF(L19<=Нормативы!$L$22,\"I юн\",IF(L19<=Нормативы!$L$23,\"II юн\",IF(L19<=Нормативы!$L$24,\"III юн\",\"б/р\")))))))))))","v":"I"},null,null,{"$f":"IF(ISBLANK(P19),\" \",IF(ISTEXT(P19),\" \",IF(P19<=$H$16,\"МСМК\",IF(P19<=$H$17,\"МС\",IF(P19<=$H$18,\"КМС\",IF(P19<=$H$19,\"I\",IF(P19<=$H$20,\"II\",IF(P19<=$H$21,\"III\",IF(P19<=$H$22,\"I юн\",IF(P19<=$H$23,\"II юн\",IF(P19<=$H$24,\"III юн\",\"б/р\")))))))))))","v":" "}]
[{"$nulls":7},20.099999999999998,{"$f":"IF(ISBLANK(H20),\" \",IF(ISTEXT(H20),\" \",IF(H20<=Нормативы!$H$16,\"МСМК\",IF(H20<=Нормативы!$H$17,\"МС\",IF(H20<=Нормативы!$H$18,\"КМС\",IF(H20<=Нормативы!$H$19,\"I\",IF(H20<=Нормативы!$H$20,\"II\",IF(H20<=Нормативы!$H$21,\"III\",IF(H20<=Нормативы!$H$22,\"I юн\",IF(H20<=Нормативы!$H$23,\"II юн\",IF(H20<=Нормативы!$H$24,\"III юн\",\"б/р\")))))))))))","v":"II"},{"$f":"IF(ISBLANK(H20),\" \",IF(ISTEXT(H20),\" \",IF(H20<=Нормативы!$H$16,\"МСМК\",IF(H20<=Нормативы!$H$17,\"МС\",IF(H20<=Нормативы!$H$18,\"КМС\",IF(H20<=Нормативы!$H$19,\"I\",IF(H20<=Нормативы!$H$20,\"II\",IF(H20<=Нормативы!$H$21,\"III\",IF(H20<=Нормативы!$H$22,\"I юн\",IF(H20<=Нормативы!$H$23,\"II юн\",IF(H20<=Нормативы!$H$24,\"III юн\",\"б/р\")))))))))))","v":"II"},null,19.9,{"$f":"IF(ISBLANK(L20),\" \",IF(ISTEXT(L20),\" \",IF(L20<=Нормативы!$H$16,\"КМС\",IF(L20<=Нормативы!$H$17,\"КМС\",IF(L20<=Нормативы!$L$18,\"КМС\",IF(L20<=Нормативы!$L$19,\"I\",IF(L20<=Нормативы!$L$20,\"II\",IF(L20<=Нормативы!$L$21,\"III\",IF(L20<=Нормативы!$L$22,\"I юн\",IF(L20<=Нормативы!$L$23,\"II юн\",IF(L20<=Нормативы!$L$24,\"III юн\",\"б/р\")))))))))))","v":"II"},{"$f":"IF(ISBLANK(L20),\" \",IF(ISTEXT(L20),\" \",IF(L20<=Нормативы!$H$16,\"КМС\",IF(L20<=Нормативы!$H$17,\"КМС\",IF(L20<=Нормативы!$L$18,\"КМС\",IF(L20<=Нормативы!$L$19,\"I\",IF(L20<=Нормативы!$L$20,\"II\",IF(L20<=Нормативы!$L$21,\"III\",IF(L20<=Нормативы!$L$22,\"I юн\",IF(L20<=Нормативы!$L$23,\"II юн\",IF(L20<=Нормативы!$L$24,\"III юн\",\"б/р\")))))))))))","v":"II"},null,null,{"$f":"IF(ISBLANK(P20),\" \",IF(ISTEXT(P20),\" \",IF(P20<=$H$16,\"МСМК\",IF(P20<=$H$17,\"МС\",IF(P20<=$H$18,\"КМС\",IF(P20<=$H$19,\"I\",IF(P20<=$H$20,\"II\",IF(P20<=$H$21,\"III\",IF(P20<=$H$22,\"I юн\",IF(P20<=$H$23,\"II юн\",IF(P20<=$H$24,\"III юн\",\"б/р\")))))))))))","v":" "}]
[{"$nulls":7},21.8,{"$f":"IF(ISBLANK(H21),\" \",IF(ISTEXT(H21),\" \",IF(H21<=Нормативы!$H$16,\"МСМК\",IF(H21<=Нормативы!$H$17,\"МС\",IF(H21<=Нормативы!$H$18,\"КМС\",IF(H21<=Нормативы!$H$19,\"I\",IF(H21<=Нормативы!$H$20,\"II\",IF(H21<=Нормативы!$H$21,\"III\",IF(H21<=Нормативы!$H$22,\"I юн\",IF(H21<=Нормативы!$H$23,\"II юн\",IF(H21<=Нормативы!$H$24,\"III юн\",\"б/р\")))))))))))","v":"III"},{"$f":"IF(ISBLANK(H21),\" \",IF(ISTEXT(H21),\" \",IF(H21<=Нормативы!$H$16,\"МСМК\",IF(H21<=Нормативы!$H$17,\"МС\",IF(H21<=Нормативы!$H$18,\"КМС\",IF(H21<=Нормативы!$H$19,\"I\",IF(H21<=Нормативы!$H$20,\"II\",IF(H21<=Нормативы!$H$21,\"III\",IF(H21<=Нормативы!$H$22,\"I юн\",IF(H21<=Нормативы!$H$23,\"II юн\",IF(H21<=Нормативы!$H$24,\"III юн\",\"б/р\")))))))))))","v":"III"},null,21.6,{"$f":"IF(ISBLANK(L21),\" \",IF(ISTEXT(L21),\" \",IF(L21<=Нормативы!$H$16,\"КМС\",IF(L21<=Нормативы!$H$17,\"КМС\",IF(L21<=Нормативы!$L$18,\"КМС\",IF(L21<=Нормативы!$L$19,\"I\",IF(L21<=Нормативы!$L$20,\"II\",IF(L21<=Нормативы!$L$21,\"III\",IF(L21<=Нормативы!$L$22,\"I юн\",IF(L21<=Нормативы!$L$23,\"II юн\",IF(L21<=Нормативы!$L$24,\"III юн\",\"б/р\")))))))))))","v":"III"},{"$f":"IF(ISBLANK(L21),\" \",IF(ISTEXT(L21),\" \",IF(L21<=Нормативы!$H$16,\"КМС\",IF(L21<=Нормативы!$H$17,\"КМС\",IF(L21<=Нормативы!$L$18,\"КМС\",IF(L21<=Нормативы!$L$19,\"I\",IF(L21<=Нормативы!$L$20,\"II\",IF(L21<=Нормативы!$L$21,\"III\",IF(L21<=Нормативы!$L$22,\"I юн\",IF(L21<=Нормативы!$L$23,\"II юн\",IF(L21<=Нормативы!$L$24,\"III юн\",\"б/р\")))))))))))","v":"III"},null,null,{"$f":"IF(ISBLANK(P21),\" \",IF(ISTEXT(P21),\" \",IF(P21<=$H$16,\"МСМК\",IF(P21<=$H$17,\"МС\",IF(P21<=$H$18,\"КМС\",IF(P21<=$H$19,\"I\",IF(P21<=$H$20,\"II\",IF(P21<=$H$21,\"III\",IF(P21<=$H$22,\"I юн\",IF(P21<=$H$23,\"II юн\",IF(P21<=$H$24,\"III юн\",\"б/р\")))))))))))","v":" "}]
[{"$nulls":7},24,{"$f":"IF(ISBLANK(H22),\" \",IF(ISTEXT(H22),\" \",IF(H22<=Нормативы!$H$16,\"МСМК\",IF(H22<=Нормативы!$H$17,\"МС\",IF(H22<=Нормативы!$H$18,\"КМС\",IF(H22<=Нормативы!$H$19,\"I\",IF(H22<=Нормативы!$H$20,\"II\",IF(H22<=Нормативы!$H$21,\"III\",IF(H22<=Нормативы!$H$22,\"I юн\",IF(H22<=Нормативы!$H$23,\"II юн\",IF(H22<=Нормативы!$H$24,\"III юн\",\"б/р\")))))))))))","v":"I юн"},{"$f":"IF(ISBLANK(H22),\" \",IF(ISTEXT(H22),\" \",IF(H22<=Нормативы!$H$16,\"МСМК\",IF(H22<=Нормативы!$H$17,\"МС\",IF(H22<=Нормативы!$H$18,\"КМС\",IF(H22<=Нормативы!$H$19,\"I\",IF(H22<=Нормативы!$H$20,\"II\",IF(H22<=Нормативы!$H$21,\"III\",IF(H22<=Нормативы!$H$22,\"I юн\",IF(H22<=Нормативы!$H$23,\"II юн\",IF(H22<=Нормативы!$H$24,\"III юн\",\"б/р\")))))))))))","v":"I юн"},null,23.8,{"$f":"IF(ISBLANK(L22),\" \",IF(ISTEXT(L22),\" \",IF(L22<=Нормативы!$H$16,\"КМС\",IF(L22<=Нормативы!$H$17,\"КМС\",IF(L22<=Нормативы!$L$18,\"КМС\",IF(L22<=Нормативы!$L$19,\"I\",IF(L22<=Нормативы!$L$20,\"II\",IF(L22<=Нормативы!$L$21,\"III\",IF(L22<=Нормативы!$L$22,\"I юн\",IF(L22<=Нормативы!$L$23,\"II юн\",IF(L22<=Нормативы!$L$24,\"III юн\",\"б/р\")))))))))))","v":"I юн"},{"$f":"IF(ISBLANK(L22),\" \",IF(ISTEXT(L22),\" \",IF(L22<=Нормативы!$H$16,\"КМС\",IF(L22<=Нормативы!$H$17,\"КМС\",IF(L22<=Нормативы!$L$18,\"КМС\",IF(L22<=Нормативы!$L$19,\"I\",IF(L22<=Нормативы!$L$20,\"II\",IF(L22<=Нормативы!$L$21,\"III\",IF(L22<=Нормативы!$L$22,\"I юн\",IF(L22<=Нормативы!$L$23,\"II юн\",IF(L22<=Нормативы!$L$24,\"III юн\",\"б/р\")))))))))))","v":"I юн"},null,null,{"$f":"IF(ISBLANK(P22),\" \",IF(ISTEXT(P22),\" \",IF(P22<=$H$16,\"МСМК\",IF(P22<=$H$17,\"МС\",IF(P22<=$H$18,\"КМС\",IF(P22<=$H$19,\"I\",IF(P22<=$H$20,\"II\",IF(P22<=$H$21,\"III\",IF(P22<=$H$22,\"I юн\",IF(P22<=$H$23,\"II юн\",IF(P22<=$H$24,\"III юн\",\"б/р\")))))))))))","v":" "}]
[{"$nulls":7},26.2,{"$f":"IF(ISBLANK(H23),\" \",IF(ISTEXT(H23),\" \",IF(H23<=Нормативы!$H$16,\"МСМК\",IF(H23<=Нормативы!$H$17,\"МС\",IF(H23<=Нормативы!$H$18,\"КМС\",IF(H23<=Нормативы!$H$19,\"I\",IF(H23<=Нормативы!$H$20,\"II\",IF(H23<=Нормативы!$H$21,\"III\",IF(H23<=Нормативы!$H$22,\"I юн\",IF(H23<=Нормативы!$H$23,\"II юн\",IF(H23<=Нормативы!$H$24,\"III юн\",\"б/р\")))))))))))","v":"II юн"},{"$f":"IF(ISBLANK(H23),\" \",IF(ISTEXT(H23),\" \",IF(H23<=Нормативы!$H$16,\"МСМК\",IF(H23<=Нормативы!$H$17,\"МС\",IF(H23<=Нормативы!$H$18,\"КМС\",IF(H23<=Нормативы!$H$19,\"I\",IF(H23<=Нормативы!$H$20,\"II\",IF(H23<=Нормативы!$H$21,\"III\",IF(H23<=Нормативы!$H$22,\"I юн\",IF(H23<=Нормативы!$H$23,\"II юн\",IF(H23<=Нормативы!$H$24,\"III юн\",\"б/р\")))))))))))","v":"II юн"},null,26,{"$f":"IF(ISBLANK(L23),\" \",IF(ISTEXT(L23),\" \",IF(L23<=Нормативы!$H$16,\"КМС\",IF(L23<=Нормативы!$H$17,\"КМС\",IF(L23<=Нормативы!$L$18,\"КМС\",IF(L23<=Нормативы!$L$19,\"I\",IF(L23<=Нормативы!$L$20,\"II\",IF(L23<=Нормативы!$L$21,\"III\",IF(L23<=Нормативы!$L$22,\"I юн\",IF(L23<=Нормативы!$L$23,\"II юн\",IF(L23<=Нормативы!$L$24,\"III юн\",\"б/р\")))))))))))","v":"II юн"},{"$f":"IF(ISBLANK(L23),\" \",IF(ISTEXT(L23),\" \",IF(L23<=Нормативы!$H$16,\"КМС\",IF(L23<=Нормативы!$H$17,\"КМС\",IF(L23<=Нормативы!$L$18,\"КМС\",IF(L23<=Нормативы!$L$19,\"I\",IF(L23<=Нормативы!$L$20,\"II\",IF(L23<=Нормативы!$L$21,\"III\",IF(L23<=Нормативы!$L$22,\"I юн\",IF(L23<=Нормативы!$L$23,\"II юн\",IF(L23<=Нормативы!$L$24,\"III юн\",\"б/р\")))))))))))","v":"II юн"},null,null,{"$f":"IF(ISBLANK(P23),\" \",IF(ISTEXT(P23),\" \",IF(P23<=$H$16,\"МСМК\",IF(P23<=$H$17,\"МС\",IF(P23<=$H$18,\"КМС\",IF(P23<=$H$19,\"I\",IF(P23<=$H$20,\"II\",IF(P23<=$H$21,\"III\",IF(P23<=$H$22,\"I юн\",IF(P23<=$H$23,\"II юн\",IF(P23<=$H$24,\"III юн\",\"б/р\")))))))))))","v":" "}]
[{"$nulls":7},28.2,{"$f":"IF(ISBLANK(H24),\" \",IF(ISTEXT(H24),\" \",IF(H24<=Нормативы!$H$16,\"МСМК\",IF(H24<=Нормативы!$H$17,\"МС\",IF(H24<=Нормативы!$H$18,\"КМС\",IF(H24<=Нормативы!$H$19,\"I\",IF(H24<=Нормативы!$H$20,\"II\",IF(H24<=Нормативы!$H$21,\"III\",IF(H24<=Нормативы!$H$22,\"I юн\",IF(H24<=Нормативы!$H$23,\"II юн\",IF(H24<=Нормативы!$H$24,\"III юн\",\"б/р\")))))))))))","v":"III юн"},{"$f":"IF(ISBLANK(H24),\" \",IF(ISTEXT(H24),\" \",IF(H24<=Нормативы!$H$16,\"МСМК\",IF(H24<=Нормативы!$H$17,\"МС\",IF(H24<=Нормативы!$H$18,\"КМС\",IF(H24<=Нормативы!$H$19,\"I\",IF(H24<=Нормативы!$H$20,\"II\",IF(H24<=Нормативы!$H$21,\"III\",IF(H24<=Нормативы!$H$22,\"I юн\",IF(H24<=Нормативы!$H$23,\"II юн\",IF(H24<=Нормативы!$H$24,\"III юн\",\"б/р\")))))))))))","v":"III юн"},null,28,{"$f":"IF(ISBLANK(L24),\" \",IF(ISTEXT(L24),\" \",IF(L24<=Нормативы!$H$16,\"КМС\",IF(L24<=Нормативы!$H$17,\"КМС\",IF(L24<=Нормативы!$L$18,\"КМС\",IF(L24<=Нормативы!$L$19,\"I\",IF(L24<=Нормативы!$L$20,\"II\",IF(L24<=Нормативы!$L$21,\"III\",IF(L24<=Нормативы!$L$22,\"I юн\",IF(L24<=Нормативы!$L$23,\"II юн\",IF(L24<=Нормативы!$L$24,\"III юн\",\"б/р\")))))))))))","v":"III юн"},{"$f":"IF(ISBLANK(L24),\" \",IF(ISTEXT(L24),\" \",IF(L24<=Нормативы!$H$16,\"КМС\",IF(L24<=Нормативы!$H$17,\"КМС\",IF(L24<=Нормативы!$L$18,\"КМС\",IF(L24<=Нормативы!$L$19,\"I\",IF(L24<=Нормативы!$L$20,\"II\",IF(L24<=Нормативы!$L$21,\"III\",IF(L24<=Нормативы!$L$22,\"I юн\",IF(L24<=Нормативы!$L$23,\"II юн\",IF(L24<=Нормативы!$L$24,\"III юн\",\"б/р\")))))))))))","v":"III юн"},null,null,{"$f":"IF(ISBLANK(P24),\" \",IF(ISTEXT(P24),\" \",IF(P24<=$H$16,\"МСМК\",IF(P24<=$H$17,\"МС\",IF(P24<=$H$18,\"КМС\",IF(P24<=$H$19,\"I\",IF(P24<=$H$20,\"II\",IF(P24<=$H$21,\"III\",IF(P24<=$H$22,\"I юн\",IF(P24<=$H$23,\"II юн\",IF(P24<=$H$24,\"III юн\",\"б/р\")))))))))))","v":" "}]
[]
[null,null,"Плавание в классических ластах- 50 м (1460241811Я),  женщины"]
[{"$nulls":7},22,{"$f":"IF(ISBLANK(H27),\" \",IF(ISTEXT(H27),\" \",IF(H27<=Нормативы!$H$27,\"МСМК\",IF(H27<=Нормативы!$H$28,\"МС\",IF(H27<=Нормативы!$H$29,\"КМС\",IF(H27<=Нормативы!$H$30,\"I\",IF(H27<=Нормативы!$H$31,\"II\",IF(H27<=Нормативы!$H$32,\"III\",IF(H27<=Нормативы!$H$33,\"I юн\",IF(H27<=Нормативы!$H$34,\"II юн\",IF(H27<=Нормативы!$H$35,\"III юн\",\"б/р\")))))))))))","v":"МСМК"},{"$f":"IF(ISBLANK(H27),\" \",IF(ISTEXT(H27),\" \",IF(H27<=Нормативы!$H$27,\"МСМК\",IF(H27<=Нормативы!$H$28,\"МС\",IF(H27<=Нормативы!$H$29,\"КМС\",IF(H27<=Нормативы!$H$30,\"I\",IF(H27<=Нормативы!$H$31,\"II\",IF(H27<=Нормативы!$H$32,\"III\",IF(H27<=Нормативы!$H$33,\"I юн\",IF(H27<=Нормативы!$H$34,\"II юн\",IF(H27<=Нормативы!$H$35,\"III юн\",\"б/р\")))))))))))","v":"МСМК"},null,null,{"$f":"IF(ISBLANK(L27),\" \",IF(ISTEXT(L27),\" \",IF(L27<=Нормативы!$H$27,\"КМС\",IF(L27<=Нормативы!$H$28,\"КМС\",IF(L27<=Нормативы!$L$29,\"КМС\",IF(L27<=Нормативы!$L$30,\"I\",IF(L27<=Нормативы!$L$31,\"II\",IF(L27<=Нормативы!$L$32,\"III\",IF(L27<=Нормативы!$L$33,\"I юн\",IF(L27<=Нормативы!$L$34,\"II юн\",IF(L27<=Нормативы!$L$35,\"III юн\",\"б/р\")))))))))))","v":" "},{"$f":"IF(ISBLANK(L27),\" \",IF(ISTEXT(L27),\" \",IF(L27<=22.3,\"МСМК\",IF(L27<=23.7,\"МС\",IF(L27<=24.6,\"КМС\",IF(L27<=26.4,\"I\",IF(L27<=28,\"II\",IF(L27<=30.5,\"III\",IF(L27<=33.5,\"I юн\",IF(L27<=36.7,\"II юн\",IF(L27<=39.8,\"III юн\",\"б/р\")))))))))))","v":" "},null,null,{"$f":"IF(ISBLANK(P27),\" \",IF(ISTEXT(P27),\" \",IF(P27<=$H$27,\"МСМК\",IF(P27<=$H$28,\"МС\",IF(P27<=$H$29,\"КМС\",IF(P27<=$H$30,\"I\",IF(P27<=$H$31,\"II\",IF(P27<=$H$32,\"III\",IF(P27<=$H$33,\"I юн\",IF(P27<=$H$34,\"II юн\",IF(P27<=$H$35,\"III юн\",\"б/р\")))))))))))","v":" "}]
[{"$nulls":7},23.2,{"$f":"IF(ISBLANK(H28),\" \",IF(ISTEXT(H28),\" \",IF(H28<=Нормативы!$H$27,\"МСМК\",IF(H28<=Нормативы!$H$28,\"МС\",IF(H28<=Нормативы!$H$29,\"КМС\",IF(H28<=Нормативы!$H$30,\"I\",IF(H28<=Нормативы!$H$31,\"II\",IF(H28<=Нормативы!$H$32,\"III\",IF(H28<=Нормативы!$H$33,\"I юн\",IF(H28<=Нормативы!$H$34,\"II юн\",IF(H28<=Нормативы!$H$35,\"III юн\",\"б/р\")))))))))))","v":"МС"},{"$f":"IF(ISBLANK(H28),\" \",IF(ISTEXT(H28),\" \",IF(H28<=Нормативы!$H$27,\"МСМК\",IF(H28<=Нормативы!$H$28,\"МС\",IF(H28<=Нормативы!$H$29,\"КМС\",IF(H28<=Нормативы!$H$30,\"I\",IF(H28<=Нормативы!$H$31,\"II\",IF(H28<=Нормативы!$H$32,\"III\",IF(H28<=Нормативы!$H$33,\"I юн\",IF(H28<=Нормативы!$H$34,\"II юн\",IF(H28<=Нормативы!$H$35,\"III юн\",\"б/р\")))))))))))","v":"МС"},null,null,{"$f":"IF(ISBLANK(L28),\" \",IF(ISTEXT(L28),\" \",IF(L28<=Нормативы!$H$27,\"КМС\",IF(L28<=Нормативы!$H$28,\"КМС\",IF(L28<=Нормативы!$L$29,\"КМС\",IF(L28<=Нормативы!$L$30,\"I\",IF(L28<=Нормативы!$L$31,\"II\",IF(L28<=Нормативы!$L$32,\"III\",IF(L28<=Нормативы!$L$33,\"I юн\",IF(L28<=Нормативы!$L$34,\"II юн\",IF(L28<=Нормативы!$L$35,\"III юн\",\"б/р\")))))))))))","v":" "},{"$f":"IF(ISBLANK(L28),\" \",IF(ISTEXT(L28),\" \",IF(L28<=22.3,\"МСМК\",IF(L28<=23.7,\"МС\",IF(L28<=24.6,\"КМС\",IF(L28<=26.4,\"I\",IF(L28<=28,\"II\",IF(L28<=30.5,\"III\",IF(L28<=33.5,\"I юн\",IF(L28<=36.7,\"II юн\",IF(L28<=39.8,\"III юн\",\"б/р\")))))))))))","v":" "},null,null,{"$f":"IF(ISBLANK(P28),\" \",IF(ISTEXT(P28),\" \",IF(P28<=$H$27,\"МСМК\",IF(P28<=$H$28,\"МС\",IF(P28<=$H$29,\"КМС\",IF(P28<=$H$30,\"I\",IF(P28<=$H$31,\"II\",IF(P28<=$H$32,\"III\",IF(P28<=$H$33,\"I юн\",IF(P28<=$H$34,\"II юн\",IF(P28<=$H$35,\"III юн\",\"б/р\")))))))))))","v":" "}]
[{"$nulls":7},24.5,{"$f":"IF(ISBLANK(H29),\" \",IF(ISTEXT(H29),\" \",IF(H29<=Нормативы!$H$27,\"МСМК\",IF(H29<=Нормативы!$H$28,\"МС\",IF(H29<=Нормативы!$H$29,\"КМС\",IF(H29<=Нормативы!$H$30,\"I\",IF(H29<=Нормативы!$H$31,\"II\",IF(H29<=Нормативы!$H$32,\"III\",IF(H29<=Нормативы!$H$33,\"I юн\",IF(H29<=Нормативы!$H$34,\"II юн\",IF(H29<=Нормативы!$H$35,\"III юн\",\"б/р\")))))))))))","v":"КМС"},{"$f":"IF(ISBLANK(H29),\" \",IF(ISTEXT(H29),\" \",IF(H29<=Нормативы!$H$27,\"МСМК\",IF(H29<=Нормативы!$H$28,\"МС\",IF(H29<=Нормативы!$H$29,\"КМС\",IF(H29<=Нормативы!$H$30,\"I\",IF(H29<=Нормативы!$H$31,\"II\",IF(H29<=Нормативы!$H$32,\"III\",IF(H29<=Нормативы!$H$33,\"I юн\",IF(H29<=Нормативы!$H$34,\"II юн\",IF(H29<=Нормативы!$H$35,\"III юн\",\"б/р\")))))))))))","v":"КМС"},null,{"$f":"H29-0.2","v":24.3},{"$f":"IF(ISBLANK(L29),\" \",IF(ISTEXT(L29),\" \",IF(L29<=Нормативы!$H$27,\"КМС\",IF(L29<=Нормативы!$H$28,\"КМС\",IF(L29<=Нормативы!$L$29,\"КМС\",IF(L29<=Нормативы!$L$30,\"I\",IF(L29<=Нормативы!$L$31,\"II\",IF(L29<=Нормативы!$L$32,\"III\",IF(L29<=Нормативы!$L$33,\"I юн\",IF(L29<=Нормативы!$L$34,\"II юн\",IF(L29<=Нормативы!$L$35,\"III юн\",\"б/р\")))))))))))","v":"КМС"},{"$f":"IF(ISBLANK(L29),\" \",IF(ISTEXT(L29),\" \",IF(L29<=Нормативы!$H$27,\"КМС\",IF(L29<=Нормативы!$H$28,\"КМС\",IF(L29<=Нормативы!$L$29,\"КМС\",IF(L29<=Нормативы!$L$30,\"I\",IF(L29<=Нормативы!$L$31,\"II\",IF(L29<=Нормативы!$L$32,\"III\",IF(L29<=Нормативы!$L$33,\"I юн\",IF(L29<=Нормативы!$L$34,\"II юн\",IF(L29<=Нормативы!$L$35,\"III юн\",\"б/р\")))))))))))","v":"КМС"},null,null,{"$f":"IF(ISBLANK(P29),\" \",IF(ISTEXT(P29),\" \",IF(P29<=$H$27,\"МСМК\",IF(P29<=$H$28,\"МС\",IF(P29<=$H$29,\"КМС\",IF(P29<=$H$30,\"I\",IF(P29<=$H$31,\"II\",IF(P29<=$H$32,\"III\",IF(P29<=$H$33,\"I юн\",IF(P29<=$H$34,\"II юн\",IF(P29<=$H$35,\"III юн\",\"б/р\")))))))))))","v":" "}]
[{"$nulls":7},26.2,{"$f":"IF(ISBLANK(H30),\" \",IF(ISTEXT(H30),\" \",IF(H30<=Нормативы!$H$27,\"МСМК\",IF(H30<=Нормативы!$H$28,\"МС\",IF(H30<=Нормативы!$H$29,\"КМС\",IF(H30<=Нормативы!$H$30,\"I\",IF(H30<=Нормативы!$H$31,\"II\",IF(H30<=Нормативы!$H$32,\"III\",IF(H30<=Нормативы!$H$33,\"I юн\",IF(H30<=Нормативы!$H$34,\"II юн\",IF(H30<=Нормативы!$H$35,\"III юн\",\"б/р\")))))))))))","v":"I"},{"$f":"IF(ISBLANK(H30),\" \",IF(ISTEXT(H30),\" \",IF(H30<=Нормативы!$H$27,\"МСМК\",IF(H30<=Нормативы!$H$28,\"МС\",IF(H30<=Нормативы!$H$29,\"КМС\",IF(H30<=Нормативы!$H$30,\"I\",IF(H30<=Нормативы!$H$31,\"II\",IF(H30<=Нормативы!$H$32,\"III\",IF(H30<=Нормативы!$H$33,\"I юн\",IF(H30<=Нормативы!$H$34,\"II юн\",IF(H30<=Нормативы!$H$35,\"III юн\",\"б/р\")))))))))))","v":"I"},null,26,{"$f":"IF(ISBLANK(L30),\" \",IF(ISTEXT(L30),\" \",IF(L30<=Нормативы!$H$27,\"КМС\",IF(L30<=Нормативы!$H$28,\"КМС\",IF(L30<=Нормативы!$L$29,\"КМС\",IF(L30<=Нормативы!$L$30,\"I\",IF(L30<=Нормативы!$L$31,\"II\",IF(L30<=Нормативы!$L$32,\"III\",IF(L30<=Нормативы!$L$33,\"I юн\",IF(L30<=Нормативы!$L$34,\"II юн\",IF(L30<=Нормативы!$L$35,\"III юн\",\"б/р\")))))))))))","v":"I"},{"$f":"IF(ISBLANK(L30),\" \",IF(ISTEXT(L30),\" \",IF(L30<=Нормативы!$H$27,\"КМС\",IF(L30<=Нормативы!$H$28,\"КМС\",IF(L30<=Нормативы!$L$29,\"КМС\",IF(L30<=Нормативы!$L$30,\"I\",IF(L30<=Нормативы!$L$31,\"II\",IF(L30<=Нормативы!$L$32,\"III\",IF(L30<=Нормативы!$L$33,\"I юн\",IF(L30<=Нормативы!$L$34,\"II юн\",IF(L30<=Нормативы!$L$35,\"III юн\",\"б/р\")))))))))))","v":"I"},null,null,{"$f":"IF(ISBLANK(P30),\" \",IF(ISTEXT(P30),\" \",IF(P30<=$H$27,\"МСМК\",IF(P30<=$H$28,\"МС\",IF(P30<=$H$29,\"КМС\",IF(P30<=$H$30,\"I\",IF(P30<=$H$31,\"II\",IF(P30<=$H$32,\"III\",IF(P30<=$H$33,\"I юн\",IF(P30<=$H$34,\"II юн\",IF(P30<=$H$35,\"III юн\",\"б/р\")))))))))))","v":" "}]
[{"$nulls":7},27.7,{"$f":"IF(ISBLANK(H31),\" \",IF(ISTEXT(H31),\" \",IF(H31<=Нормативы!$H$27,\"МСМК\",IF(H31<=Нормативы!$H$28,\"МС\",IF(H31<=Нормативы!$H$29,\"КМС\",IF(H31<=Нормативы!$H$30,\"I\",IF(H31<=Нормативы!$H$31,\"II\",IF(H31<=Нормативы!$H$32,\"III\",IF(H31<=Нормативы!$H$33,\"I юн\",IF(H31<=Нормативы!$H$34,\"II юн\",IF(H31<=Нормативы!$H$35,\"III юн\",\"б/р\")))))))))))","v":"II"},{"$f":"IF(ISBLANK(H31),\" \",IF(ISTEXT(H31),\" \",IF(H31<=Нормативы!$H$27,\"МСМК\",IF(H31<=Нормативы!$H$28,\"МС\",IF(H31<=Нормативы!$H$29,\"КМС\",IF(H31<=Нормативы!$H$30,\"I\",IF(H31<=Нормативы!$H$31,\"II\",IF(H31<=Нормативы!$H$32,\"III\",IF(H31<=Нормативы!$H$33,\"I юн\",IF(H31<=Нормативы!$H$34,\"II юн\",IF(H31<=Нормативы!$H$35,\"III юн\",\"б/р\")))))))))))","v":"II"},null,27.5,{"$f":"IF(ISBLANK(L31),\" \",IF(ISTEXT(L31),\" \",IF(L31<=Нормативы!$H$27,\"КМС\",IF(L31<=Нормативы!$H$28,\"КМС\",IF(L31<=Нормативы!$L$29,\"КМС\",IF(L31<=Нормативы!$L$30,\"I\",IF(L31<=Нормативы!$L$31,\"II\",IF(L31<=Нормативы!$L$32,\"III\",IF(L31<=Нормативы!$L$33,\"I юн\",IF(L31<=Нормативы!$L$34,\"II юн\",IF(L31<=Нормативы!$L$35,\"III юн\",\"б/р\")))))))))))","v":"II"},{"$f":"IF(ISBLANK(L31),\" \",IF(ISTEXT(L31),\" \",IF(L31<=Нормативы!$H$27,\"КМС\",IF(L31<=Нормативы!$H$28,\"КМС\",IF(L31<=Нормативы!$L$29,\"КМС\",IF(L31<=Нормативы!$L$30,\"I\",IF(L31<=Нормативы!$L$31,\"II\",IF(L31<=Нормативы!$L$32,\"III\",IF(L31<=Нормативы!$L$33,\"I юн\",IF(L31<=Нормативы!$L$34,\"II юн\",IF(L31<=Нормативы!$L$35,\"III юн\",\"б/р\")))))))))))","v":"II"},null,null,{"$f":"IF(ISBLANK(P31),\" \",IF(ISTEXT(P31),\" \",IF(P31<=$H$27,\"МСМК\",IF(P31<=$H$28,\"МС\",IF(P31<=$H$29,\"КМС\",IF(P31<=$H$30,\"I\",IF(P31<=$H$31,\"II\",IF(P31<=$H$32,\"III\",IF(P31<=$H$33,\"I юн\",IF(P31<=$H$34,\"II юн\",IF(P31<=$H$35,\"III юн\",\"б/р\")))))))))))","v":" "}]
[{"$nulls":7},30.3,{"$f":"IF(ISBLANK(H32),\" \",IF(ISTEXT(H32),\" \",IF(H32<=Нормативы!$H$27,\"МСМК\",IF(H32<=Нормативы!$H$28,\"МС\",IF(H32<=Нормативы!$H$29,\"КМС\",IF(H32<=Нормативы!$H$30,\"I\",IF(H32<=Нормативы!$H$31,\"II\",IF(H32<=Нормативы!$H$32,\"III\",IF(H32<=Нормативы!$H$33,\"I юн\",IF(H32<=Нормативы!$H$34,\"II юн\",IF(H32<=Нормативы!$H$35,\"III юн\",\"б/р\")))))))))))","v":"III"},{"$f":"IF(ISBLANK(H32),\" \",IF(ISTEXT(H32),\" \",IF(H32<=Нормативы!$H$27,\"МСМК\",IF(H32<=Нормативы!$H$28,\"МС\",IF(H32<=Нормативы!$H$29,\"КМС\",IF(H32<=Нормативы!$H$30,\"I\",IF(H32<=Нормативы!$H$31,\"II\",IF(H32<=Нормативы!$H$32,\"III\",IF(H32<=Нормативы!$H$33,\"I юн\",IF(H32<=Нормативы!$H$34,\"II юн\",IF(H32<=Нормативы!$H$35,\"III юн\",\"б/р\")))))))))))","v":"III"},null,30.1,{"$f":"IF(ISBLANK(L32),\" \",IF(ISTEXT(L32),\" \",IF(L32<=Нормативы!$H$27,\"КМС\",IF(L32<=Нормативы!$H$28,\"КМС\",IF(L32<=Нормативы!$L$29,\"КМС\",IF(L32<=Нормативы!$L$30,\"I\",IF(L32<=Нормативы!$L$31,\"II\",IF(L32<=Нормативы!$L$32,\"III\",IF(L32<=Нормативы!$L$33,\"I юн\",IF(L32<=Нормативы!$L$34,\"II юн\",IF(L32<=Нормативы!$L$35,\"III юн\",\"б/р\")))))))))))","v":"III"},{"$f":"IF(ISBLANK(L32),\" \",IF(ISTEXT(L32),\" \",IF(L32<=Нормативы!$H$27,\"КМС\",IF(L32<=Нормативы!$H$28,\"КМС\",IF(L32<=Нормативы!$L$29,\"КМС\",IF(L32<=Нормативы!$L$30,\"I\",IF(L32<=Нормативы!$L$31,\"II\",IF(L32<=Нормативы!$L$32,\"III\",IF(L32<=Нормативы!$L$33,\"I юн\",IF(L32<=Нормативы!$L$34,\"II юн\",IF(L32<=Нормативы!$L$35,\"III юн\",\"б/р\")))))))))))","v":"III"},null,null,{"$f":"IF(ISBLANK(P32),\" \",IF(ISTEXT(P32),\" \",IF(P32<=$H$27,\"МСМК\",IF(P32<=$H$28,\"МС\",IF(P32<=$H$29,\"КМС\",IF(P32<=$H$30,\"I\",IF(P32<=$H$31,\"II\",IF(P32<=$H$32,\"III\",IF(P32<=$H$33,\"I юн\",IF(P32<=$H$34,\"II юн\",IF(P32<=$H$35,\"III юн\",\"б/р\")))))))))))","v":" "}]
[{"$nulls":7},33.2,{"$f":"IF(ISBLANK(H33),\" \",IF(ISTEXT(H33),\" \",IF(H33<=Нормативы!$H$27,\"МСМК\",IF(H33<=Нормативы!$H$28,\"МС\",IF(H33<=Нормативы!$H$29,\"КМС\",IF(H33<=Нормативы!$H$30,\"I\",IF(H33<=Нормативы!$H$31,\"II\",IF(H33<=Нормативы!$H$32,\"III\",IF(H33<=Нормативы!$H$33,\"I юн\",IF(H33<=Нормативы!$H$34,\"II юн\",IF(H33<=Нормативы!$H$35,\"III юн\",\"б/р\")))))))))))","v":"I юн"},{"$f":"IF(ISBLANK(H33),\" \",IF(ISTEXT(H33),\" \",IF(H33<=Нормативы!$H$27,\"МСМК\",IF(H33<=Нормативы!$H$28,\"МС\",IF(H33<=Нормативы!$H$29,\"КМС\",IF(H33<=Нормативы!$H$30,\"I\",IF(H33<=Нормативы!$H$31,\"II\",IF(H33<=Нормативы!$H$32,\"III\",IF(H33<=Нормативы!$H$33,\"I юн\",IF(H33<=Нормативы!$H$34,\"II юн\",IF(H33<=Нормативы!$H$35,\"III юн\",\"б/р\")))))))))))","v":"I юн"},null,33,{"$f":"IF(ISBLANK(L33),\" \",IF(ISTEXT(L33),\" \",IF(L33<=Нормативы!$H$27,\"КМС\",IF(L33<=Нормативы!$H$28,\"КМС\",IF(L33<=Нормативы!$L$29,\"КМС\",IF(L33<=Нормативы!$L$30,\"I\",IF(L33<=Нормативы!$L$31,\"II\",IF(L33<=Нормативы!$L$32,\"III\",IF(L33<=Нормативы!$L$33,\"I юн\",IF(L33<=Нормативы!$L$34,\"II юн\",IF(L33<=Нормативы!$L$35,\"III юн\",\"б/р\")))))))))))","v":"I юн"},{"$f":"IF(ISBLANK(L33),\" \",IF(ISTEXT(L33),\" \",IF(L33<=Нормативы!$H$27,\"КМС\",IF(L33<=Нормативы!$H$28,\"КМС\",IF(L33<=Нормативы!$L$29,\"КМС\",IF(L33<=Нормативы!$L$30,\"I\",IF(L33<=Нормативы!$L$31,\"II\",IF(L33<=Нормативы!$L$32,\"III\",IF(L33<=Нормативы!$L$33,\"I юн\",IF(L33<=Нормативы!$L$34,\"II юн\",IF(L33<=Нормативы!$L$35,\"III юн\",\"б/р\")))))))))))","v":"I юн"},null,null,{"$f":"IF(ISBLANK(P33),\" \",IF(ISTEXT(P33),\" \",IF(P33<=$H$27,\"МСМК\",IF(P33<=$H$28,\"МС\",IF(P33<=$H$29,\"КМС\",IF(P33<=$H$30,\"I\",IF(P33<=$H$31,\"II\",IF(P33<=$H$32,\"III\",IF(P33<=$H$33,\"I юн\",IF(P33<=$H$34,\"II юн\",IF(P33<=$H$35,\"III юн\",\"б/р\")))))))))))","v":" "}]
[{"$nulls":7},36.2,{"$f":"IF(ISBLANK(H34),\" \",IF(ISTEXT(H34),\" \",IF(H34<=Нормативы!$H$27,\"МСМК\",IF(H34<=Нормативы!$H$28,\"МС\",IF(H34<=Нормативы!$H$29,\"КМС\",IF(H34<=Нормативы!$H$30,\"I\",IF(H34<=Нормативы!$H$31,\"II\",IF(H34<=Нормативы!$H$32,\"III\",IF(H34<=Нормативы!$H$33,\"I юн\",IF(H34<=Нормативы!$H$34,\"II юн\",IF(H34<=Нормативы!$H$35,\"III юн\",\"б/р\")))))))))))","v":"II юн"},{"$f":"IF(ISBLANK(H34),\" \",IF(ISTEXT(H34),\" \",IF(H34<=Нормативы!$H$27,\"МСМК\",IF(H34<=Нормативы!$H$28,\"МС\",IF(H34<=Нормативы!$H$29,\"КМС\",IF(H34<=Нормативы!$H$30,\"I\",IF(H34<=Нормативы!$H$31,\"II\",IF(H34<=Нормативы!$H$32,\"III\",IF(H34<=Нормативы!$H$33,\"I юн\",IF(H34<=Нормативы!$H$34,\"II юн\",IF(H34<=Нормативы!$H$35,\"III юн\",\"б/р\")))))))))))","v":"II юн"},null,36,{"$f":"IF(ISBLANK(L34),\" \",IF(ISTEXT(L34),\" \",IF(L34<=Нормативы!$H$27,\"КМС\",IF(L34<=Нормативы!$H$28,\"КМС\",IF(L34<=Нормативы!$L$29,\"КМС\",IF(L34<=Нормативы!$L$30,\"I\",IF(L34<=Нормативы!$L$31,\"II\",IF(L34<=Нормативы!$L$32,\"III\",IF(L34<=Нормативы!$L$33,\"I юн\",IF(L34<=Нормативы!$L$34,\"II юн\",IF(L34<=Нормативы!$L$35,\"III юн\",\"б/р\")))))))))))","v":"II юн"},{"$f":"IF(ISBLANK(L34),\" \",IF(ISTEXT(L34),\" \",IF(L34<=Нормативы!$H$27,\"КМС\",IF(L34<=Нормативы!$H$28,\"КМС\",IF(L34<=Нормативы!$L$29,\"КМС\",IF(L34<=Нормативы!$L$30,\"I\",IF(L34<=Нормативы!$L$31,\"II\",IF(L34<=Нормативы!$L$32,\"III\",IF(L34<=Нормативы!$L$33,\"I юн\",IF(L34<=Нормативы!$L$34,\"II юн\",IF(L34<=Нормативы!$L$35,\"III юн\",\"б/р\")))))))))))","v":"II юн"},null,null,{"$f":"IF(ISBLANK(P34),\" \",IF(ISTEXT(P34),\" \",IF(P34<=$H$27,\"МСМК\",IF(P34<=$H$28,\"МС\",IF(P34<=$H$29,\"КМС\",IF(P34<=$H$30,\"I\",IF(P34<=$H$31,\"II\",IF(P34<=$H$32,\"III\",IF(P34<=$H$33,\"I юн\",IF(P34<=$H$34,\"II юн\",IF(P34<=$H$35,\"III юн\",\"б/р\")))))))))))","v":" "}]
[{"$nulls":7},39.2,{"$f":"IF(ISBLANK(H35),\" \",IF(ISTEXT(H35),\" \",IF(H35<=Нормативы!$H$27,\"МСМК\",IF(H35<=Нормативы!$H$28,\"МС\",IF(H35<=Нормативы!$H$29,\"КМС\",IF(H35<=Нормативы!$H$30,\"I\",IF(H35<=Нормативы!$H$31,\"II\",IF(H35<=Нормативы!$H$32,\"III\",IF(H35<=Нормативы!$H$33,\"I юн\",IF(H35<=Нормативы!$H$34,\"II юн\",IF(H35<=Нормативы!$H$35,\"III юн\",\"б/р\")))))))))))","v":"III юн"},{"$f":"IF(ISBLANK(H35),\" \",IF(ISTEXT(H35),\" \",IF(H35<=Нормативы!$H$27,\"МСМК\",IF(H35<=Нормативы!$H$28,\"МС\",IF(H35<=Нормативы!$H$29,\"КМС\",IF(H35<=Нормативы!$H$30,\"I\",IF(H35<=Нормативы!$H$31,\"II\",IF(H35<=Нормативы!$H$32,\"III\",IF(H35<=Нормативы!$H$33,\"I юн\",IF(H35<=Нормативы!$H$34,\"II юн\",IF(H35<=Нормативы!$H$35,\"III юн\",\"б/р\")))))))))))","v":"III юн"},null,39,{"$f":"IF(ISBLANK(L35),\" \",IF(ISTEXT(L35),\" \",IF(L35<=Нормативы!$H$27,\"КМС\",IF(L35<=Нормативы!$H$28,\"КМС\",IF(L35<=Нормативы!$L$29,\"КМС\",IF(L35<=Нормативы!$L$30,\"I\",IF(L35<=Нормативы!$L$31,\"II\",IF(L35<=Нормативы!$L$32,\"III\",IF(L35<=Нормативы!$L$33,\"I юн\",IF(L35<=Нормативы!$L$34,\"II юн\",IF(L35<=Нормативы!$L$35,\"III юн\",\"б/р\")))))))))))","v":"III юн"},{"$f":"IF(ISBLANK(L35),\" \",IF(ISTEXT(L35),\" \",IF(L35<=Нормативы!$H$27,\"КМС\",IF(L35<=Нормативы!$H$28,\"КМС\",IF(L35<=Нормативы!$L$29,\"КМС\",IF(L35<=Нормативы!$L$30,\"I\",IF(L35<=Нормативы!$L$31,\"II\",IF(L35<=Нормативы!$L$32,\"III\",IF(L35<=Нормативы!$L$33,\"I юн\",IF(L35<=Нормативы!$L$34,\"II юн\",IF(L35<=Нормативы!$L$35,\"III юн\",\"б/р\")))))))))))","v":"III юн"},null,null,{"$f":"IF(ISBLANK(P35),\" \",IF(ISTEXT(P35),\" \",IF(P35<=$H$27,\"МСМК\",IF(P35<=$H$28,\"МС\",IF(P35<=$H$29,\"КМС\",IF(P35<=$H$30,\"I\",IF(P35<=$H$31,\"II\",IF(P35<=$H$32,\"III\",IF(P35<=$H$33,\"I юн\",IF(P35<=$H$34,\"II юн\",IF(P35<=$H$35,\"III юн\",\"б/р\")))))))))))","v":" "}]
[]
[null,null,"Плавание в классических ластах- 50 м (1460241811Я),  мужчины"]
[{"$nulls":7},19.3,{"$f":"IF(ISBLANK(H38),\" \",IF(ISTEXT(H38),\" \",IF(H38<=Нормативы!$H$38,\"МСМК\",IF(H38<=Нормативы!$H$39,\"МС\",IF(H38<=Нормативы!$H$40,\"КМС\",IF(H38<=Нормативы!$H$41,\"I\",IF(H38<=Нормативы!$H$42,\"II\",IF(H38<=Нормативы!$H$43,\"III\",IF(H38<=Нормативы!$H$44,\"I юн\",IF(H38<=Нормативы!$H$45,\"II юн\",IF(H38<=Нормативы!$H$46,\"III юн\",\"б/р\")))))))))))","v":"МСМК"},{"$f":"IF(ISBLANK(H38),\" \",IF(ISTEXT(H38),\" \",IF(H38<=Нормативы!$H$38,\"МСМК\",IF(H38<=Нормативы!$H$39,\"МС\",IF(H38<=Нормативы!$H$40,\"КМС\",IF(H38<=Нормативы!$H$41,\"I\",IF(H38<=Нормативы!$H$42,\"II\",IF(H38<=Нормативы!$H$43,\"III\",IF(H38<=Нормативы!$H$44,\"I юн\",IF(H38<=Нормативы!$H$45,\"II юн\",IF(H38<=Нормативы!$H$46,\"III юн\",\"б/р\")))))))))))","v":"МСМК"},null,null,{"$f":"IF(ISBLANK(L38),\" \",IF(ISTEXT(L38),\" \",IF(L38<=Нормативы!$H$38,\"КМС\",IF(L38<=Нормативы!$H$39,\"КМС\",IF(L38<=Нормативы!$L$40,\"КМС\",IF(L38<=Нормативы!$L$41,\"I\",IF(L38<=Нормативы!$L$42,\"II\",IF(L38<=Нормативы!$L$43,\"III\",IF(L38<=Нормативы!$L$44,\"I юн\",IF(L38<=Нормативы!$L$45,\"II юн\",IF(L38<=Нормативы!$L$46,\"III юн\",\"б/р\")))))))))))","v":" "},{"$f":"IF(ISBLANK(L38),\" \",IF(ISTEXT(L38),\" \",IF(L38<=19.4,\"МСМК\",IF(L38<=20.5,\"МС\",IF(L38<=21.3,\"КМС\",IF(L38<=23,\"I\",IF(L38<=24.8,\"II\",IF(L38<=26.5,\"III\",IF(L38<=29.8,\"I юн\",IF(L38<=32.4,\"II юн\",IF(L38<=35.5,\"III юн\",\"б/р\")))))))))))","v":" "},null,null,{"$f":"IF(ISBLANK(P38),\" \",IF(ISTEXT(P38),\" \",IF(P38<=$H$38,\"МСМК\",IF(P38<=$H$39,\"МС\",IF(P38<=$H$40,\"КМС\",IF(P38<=$H$41,\"I\",IF(P38<=$H$42,\"II\",IF(P38<=$H$43,\"III\",IF(P38<=$H$44,\"I юн\",IF(P38<=$H$45,\"II юн\",IF(P38<=$H$46,\"III юн\",\"б/р\")))))))))))","v":" "}]
[{"$nulls":7},20.2,{"$f":"IF(ISBLANK(H39),\" \",IF(ISTEXT(H39),\" \",IF(H39<=Нормативы!$H$38,\"МСМК\",IF(H39<=Нормативы!$H$39,\"МС\",IF(H39<=Нормативы!$H$40,\"КМС\",IF(H39<=Нормативы!$H$41,\"I\",IF(H39<=Нормативы!$H$42,\"II\",IF(H39<=Нормативы!$H$43,\"III\",IF(H39<=Нормативы!$H$44,\"I юн\",IF(H39<=Нормативы!$H$45,\"II юн\",IF(H39<=Нормативы!$H$46,\"III юн\",\"б/р\")))))))))))","v":"МС"},{"$f":"IF(ISBLANK(H39),\" \",IF(ISTEXT(H39),\" \",IF(H39<=Нормативы!$H$38,\"МСМК\",IF(H39<=Нормативы!$H$39,\"МС\",IF(H39<=Нормативы!$H$40,\"КМС\",IF(H39<=Нормативы!$H$41,\"I\",IF(H39<=Нормативы!$H$42,\"II\",IF(H39<=Нормативы!$H$43,\"III\",IF(H39<=Нормативы!$H$44,\"I юн\",IF(H39<=Нормативы!$H$45,\"II юн\",IF(H39<=Нормативы!$H$46,\"III юн\",\"б/р\")))))))))))","v":"МС"},null,null,{"$f":"IF(ISBLANK(L39),\" \",IF(ISTEXT(L39),\" \",IF(L39<=Нормативы!$H$38,\"КМС\",IF(L39<=Нормативы!$H$39,\"КМС\",IF(L39<=Нормативы!$L$40,\"КМС\",IF(L39<=Нормативы!$L$41,\"I\",IF(L39<=Нормативы!$L$42,\"II\",IF(L39<=Нормативы!$L$43,\"III\",IF(L39<=Нормативы!$L$44,\"I юн\",IF(L39<=Нормативы!$L$45,\"II юн\",IF(L39<=Нормативы!$L$46,\"III юн\",\"б/р\")))))))))))","v":" "},{"$f":"IF(ISBLANK(L39),\" \",IF(ISTEXT(L39),\" \",IF(L39<=19.4,\"МСМК\",IF(L39<=20.5,\"МС\",IF(L39<=21.3,\"КМС\",IF(L39<=23,\"I\",IF(L39<=24.8,\"II\",IF(L39<=26.5,\"III\",IF(L39<=29.8,\"I юн\",IF(L39<=32.4,\"II юн\",IF(L39<=35.5,\"III юн\",\"б/р\")))))))))))","v":" "},null,null,{"$f":"IF(ISBLANK(P39),\" \",IF(ISTEXT(P39),\" \",IF(P39<=$H$38,\"МСМК\",IF(P39<=$H$39,\"МС\",IF(P39<=$H$40,\"КМС\",IF(P39<=$H$41,\"I\",IF(P39<=$H$42,\"II\",IF(P39<=$H$43,\"III\",IF(P39<=$H$44,\"I юн\",IF(P39<=$H$45,\"II юн\",IF(P39<=$H$46,\"III юн\",\"б/р\")))))))))))","v":" "}]
[{"$nulls":7},21.2,{"$f":"IF(ISBLANK(H40),\" \",IF(ISTEXT(H40),\" \",IF(H40<=Нормативы!$H$38,\"МСМК\",IF(H40<=Нормативы!$H$39,\"МС\",IF(H40<=Нормативы!$H$40,\"КМС\",IF(H40<=Нормативы!$H$41,\"I\",IF(H40<=Нормативы!$H$42,\"II\",IF(H40<=Нормативы!$H$43,\"III\",IF(H40<=Нормативы!$H$44,\"I юн\",IF(H40<=Нормативы!$H$45,\"II юн\",IF(H40<=Нормативы!$H$46,\"III юн\",\"б/р\")))))))))))","v":"КМС"},{"$f":"IF(ISBLANK(H40),\" \",IF(ISTEXT(H40),\" \",IF(H40<=Нормативы!$H$38,\"МСМК\",IF(H40<=Нормативы!$H$39,\"МС\",IF(H40<=Нормативы!$H$40,\"КМС\",IF(H40<=Нормативы!$H$41,\"I\",IF(H40<=Нормативы!$H$42,\"II\",IF(H40<=Нормативы!$H$43,\"III\",IF(H40<=Нормативы!$H$44,\"I юн\",IF(H40<=Нормативы!$H$45,\"II юн\",IF(H40<=Нормативы!$H$46,\"III юн\",\"б/р\")))))))))))","v":"КМС"},null,{"$f":"H40-0.2","v":21},{"$f":"IF(ISBLANK(L40),\" \",IF(ISTEXT(L40),\" \",IF(L40<=Нормативы!$H$38,\"КМС\",IF(L40<=Нормативы!$H$39,\"КМС\",IF(L40<=Нормативы!$L$40,\"КМС\",IF(L40<=Нормативы!$L$41,\"I\",IF(L40<=Нормативы!$L$42,\"II\",IF(L40<=Нормативы!$L$43,\"III\",IF(L40<=Нормативы!$L$44,\"I юн\",IF(L40<=Нормативы!$L$45,\"II юн\",IF(L40<=Нормативы!$L$46,\"III юн\",\"б/р\")))))))))))","v":"КМС"},{"$f":"IF(ISBLANK(L40),\" \",IF(ISTEXT(L40),\" \",IF(L40<=Нормативы!$H$38,\"КМС\",IF(L40<=Нормативы!$H$39,\"КМС\",IF(L40<=Нормативы!$L$40,\"КМС\",IF(L40<=Нормативы!$L$41,\"I\",IF(L40<=Нормативы!$L$42,\"II\",IF(L40<=Нормативы!$L$43,\"III\",IF(L40<=Нормативы!$L$44,\"I юн\",IF(L40<=Нормативы!$L$45,\"II юн\",IF(L40<=Нормативы!$L$46,\"III юн\",\"б/р\")))))))))))","v":"КМС"},null,null,{"$f":"IF(ISBLANK(P40),\" \",IF(ISTEXT(P40),\" \",IF(P40<=$H$38,\"МСМК\",IF(P40<=$H$39,\"МС\",IF(P40<=$H$40,\"КМС\",IF(P40<=$H$41,\"I\",IF(P40<=$H$42,\"II\",IF(P40<=$H$43,\"III\",IF(P40<=$H$44,\"I юн\",IF(P40<=$H$45,\"II юн\",IF(P40<=$H$46,\"III юн\",\"б/р\")))))))))))","v":" "}]
[{"$nulls":7},22.9,{"$f":"IF(ISBLANK(H41),\" \",IF(ISTEXT(H41),\" \",IF(H41<=Нормативы!$H$38,\"МСМК\",IF(H41<=Нормативы!$H$39,\"МС\",IF(H41<=Нормативы!$H$40,\"КМС\",IF(H41<=Нормативы!$H$41,\"I\",IF(H41<=Нормативы!$H$42,\"II\",IF(H41<=Нормативы!$H$43,\"III\",IF(H41<=Нормативы!$H$44,\"I юн\",IF(H41<=Нормативы!$H$45,\"II юн\",IF(H41<=Нормативы!$H$46,\"III юн\",\"б/р\")))))))))))","v":"I"},{"$f":"IF(ISBLANK(H41),\" \",IF(ISTEXT(H41),\" \",IF(H41<=Нормативы!$H$38,\"МСМК\",IF(H41<=Нормативы!$H$39,\"МС\",IF(H41<=Нормативы!$H$40,\"КМС\",IF(H41<=Нормативы!$H$41,\"I\",IF(H41<=Нормативы!$H$42,\"II\",IF(H41<=Нормативы!$H$43,\"III\",IF(H41<=Нормативы!$H$44,\"I юн\",IF(H41<=Нормативы!$H$45,\"II юн\",IF(H41<=Нормативы!$H$46,\"III юн\",\"б/р\")))))))))))","v":"I"},null,22.7,{"$f":"IF(ISBLANK(L41),\" \",IF(ISTEXT(L41),\" \",IF(L41<=Нормативы!$H$38,\"КМС\",IF(L41<=Нормативы!$H$39,\"КМС\",IF(L41<=Нормативы!$L$40,\"КМС\",IF(L41<=Нормативы!$L$41,\"I\",IF(L41<=Нормативы!$L$42,\"II\",IF(L41<=Нормативы!$L$43,\"III\",IF(L41<=Нормативы!$L$44,\"I юн\",IF(L41<=Нормативы!$L$45,\"II юн\",IF(L41<=Нормативы!$L$46,\"III юн\",\"б/р\")))))))))))","v":"I"},{"$f":"IF(ISBLANK(L41),\" \",IF(ISTEXT(L41),\" \",IF(L41<=Нормативы!$H$38,\"КМС\",IF(L41<=Нормативы!$H$39,\"КМС\",IF(L41<=Нормативы!$L$40,\"КМС\",IF(L41<=Нормативы!$L$41,\"I\",IF(L41<=Нормативы!$L$42,\"II\",IF(L41<=Нормативы!$L$43,\"III\",IF(L41<=Нормативы!$L$44,\"I юн\",IF(L41<=Нормативы!$L$45,\"II юн\",IF(L41<=Нормативы!$L$46,\"III юн\",\"б/р\")))))))))))","v":"I"},null,null,{"$f":"IF(ISBLANK(P41),\" \",IF(ISTEXT(P41),\" \",IF(P41<=$H$38,\"МСМК\",IF(P41<=$H$39,\"МС\",IF(P41<=$H$40,\"КМС\",IF(P41<=$H$41,\"I\",IF(P41<=$H$42,\"II\",IF(P41<=$H$43,\"III\",IF(P41<=$H$44,\"I юн\",IF(P41<=$H$45,\"II юн\",IF(P41<=$H$46,\"III юн\",\"б/р\")))))))))))","v":" "}]
[{"$nulls":7},24.7,{"$f":"IF(ISBLANK(H42),\" \",IF(ISTEXT(H42),\" \",IF(H42<=Нормативы!$H$38,\"МСМК\",IF(H42<=Нормативы!$H$39,\"МС\",IF(H42<=Нормативы!$H$40,\"КМС\",IF(H42<=Нормативы!$H$41,\"I\",IF(H42<=Нормативы!$H$42,\"II\",IF(H42<=Нормативы!$H$43,\"III\",IF(H42<=Нормативы!$H$44,\"I юн\",IF(H42<=Нормативы!$H$45,\"II юн\",IF(H42<=Нормативы!$H$46,\"III юн\",\"б/р\")))))))))))","v":"II"},{"$f":"IF(ISBLANK(H42),\" \",IF(ISTEXT(H42),\" \",IF(H42<=Нормативы!$H$38,\"МСМК\",IF(H42<=Нормативы!$H$39,\"МС\",IF(H42<=Нормативы!$H$40,\"КМС\",IF(H42<=Нормативы!$H$41,\"I\",IF(H42<=Нормативы!$H$42,\"II\",IF(H42<=Нормативы!$H$43,\"III\",IF(H42<=Нормативы!$H$44,\"I юн\",IF(H42<=Нормативы!$H$45,\"II юн\",IF(H42<=Нормативы!$H$46,\"III юн\",\"б/р\")))))))))))","v":"II"},null,24.5,{"$f":"IF(ISBLANK(L42),\" \",IF(ISTEXT(L42),\" \",IF(L42<=Нормативы!$H$38,\"КМС\",IF(L42<=Нормативы!$H$39,\"КМС\",IF(L42<=Нормативы!$L$40,\"КМС\",IF(L42<=Нормативы!$L$41,\"I\",IF(L42<=Нормативы!$L$42,\"II\",IF(L42<=Нормативы!$L$43,\"III\",IF(L42<=Нормативы!$L$44,\"I юн\",IF(L42<=Нормативы!$L$45,\"II юн\",IF(L42<=Нормативы!$L$46,\"III юн\",\"б/р\")))))))))))","v":"II"},{"$f":"IF(ISBLANK(L42),\" \",IF(ISTEXT(L42),\" \",IF(L42<=Нормативы!$H$38,\"КМС\",IF(L42<=Нормативы!$H$39,\"КМС\",IF(L42<=Нормативы!$L$40,\"КМС\",IF(L42<=Нормативы!$L$41,\"I\",IF(L42<=Нормативы!$L$42,\"II\",IF(L42<=Нормативы!$L$43,\"III\",IF(L42<=Нормативы!$L$44,\"I юн\",IF(L42<=Нормативы!$L$45,\"II юн\",IF(L42<=Нормативы!$L$46,\"III юн\",\"б/р\")))))))))))","v":"II"},null,null,{"$f":"IF(ISBLANK(P42),\" \",IF(ISTEXT(P42),\" \",IF(P42<=$H$38,\"МСМК\",IF(P42<=$H$39,\"МС\",IF(P42<=$H$40,\"КМС\",IF(P42<=$H$41,\"I\",IF(P42<=$H$42,\"II\",IF(P42<=$H$43,\"III\",IF(P42<=$H$44,\"I юн\",IF(P42<=$H$45,\"II юн\",IF(P42<=$H$46,\"III юн\",\"б/р\")))))))))))","v":" "}]
[{"$nulls":7},26.3,{"$f":"IF(ISBLANK(H43),\" \",IF(ISTEXT(H43),\" \",IF(H43<=Нормативы!$H$38,\"МСМК\",IF(H43<=Нормативы!$H$39,\"МС\",IF(H43<=Нормативы!$H$40,\"КМС\",IF(H43<=Нормативы!$H$41,\"I\",IF(H43<=Нормативы!$H$42,\"II\",IF(H43<=Нормативы!$H$43,\"III\",IF(H43<=Нормативы!$H$44,\"I юн\",IF(H43<=Нормативы!$H$45,\"II юн\",IF(H43<=Нормативы!$H$46,\"III юн\",\"б/р\")))))))))))","v":"III"},{"$f":"IF(ISBLANK(H43),\" \",IF(ISTEXT(H43),\" \",IF(H43<=Нормативы!$H$38,\"МСМК\",IF(H43<=Нормативы!$H$39,\"МС\",IF(H43<=Нормативы!$H$40,\"КМС\",IF(H43<=Нормативы!$H$41,\"I\",IF(H43<=Нормативы!$H$42,\"II\",IF(H43<=Нормативы!$H$43,\"III\",IF(H43<=Нормативы!$H$44,\"I юн\",IF(H43<=Нормативы!$H$45,\"II юн\",IF(H43<=Нормативы!$H$46,\"III юн\",\"б/р\")))))))))))","v":"III"},null,26.1,{"$f":"IF(ISBLANK(L43),\" \",IF(ISTEXT(L43),\" \",IF(L43<=Нормативы!$H$38,\"КМС\",IF(L43<=Нормативы!$H$39,\"КМС\",IF(L43<=Нормативы!$L$40,\"КМС\",IF(L43<=Нормативы!$L$41,\"I\",IF(L43<=Нормативы!$L$42,\"II\",IF(L43<=Нормативы!$L$43,\"III\",IF(L43<=Нормативы!$L$44,\"I юн\",IF(L43<=Нормативы!$L$45,\"II юн\",IF(L43<=Нормативы!$L$46,\"III юн\",\"б/р\")))))))))))","v":"III"},{"$f":"IF(ISBLANK(L43),\" \",IF(ISTEXT(L43),\" \",IF(L43<=Нормативы!$H$38,\"КМС\",IF(L43<=Нормативы!$H$39,\"КМС\",IF(L43<=Нормативы!$L$40,\"КМС\",IF(L43<=Нормативы!$L$41,\"I\",IF(L43<=Нормативы!$L$42,\"II\",IF(L43<=Нормативы!$L$43,\"III\",IF(L43<=Нормативы!$L$44,\"I юн\",IF(L43<=Нормативы!$L$45,\"II юн\",IF(L43<=Нормативы!$L$46,\"III юн\",\"б/р\")))))))))))","v":"III"},null,null,{"$f":"IF(ISBLANK(P43),\" \",IF(ISTEXT(P43),\" \",IF(P43<=$H$38,\"МСМК\",IF(P43<=$H$39,\"МС\",IF(P43<=$H$40,\"КМС\",IF(P43<=$H$41,\"I\",IF(P43<=$H$42,\"II\",IF(P43<=$H$43,\"III\",IF(P43<=$H$44,\"I юн\",IF(P43<=$H$45,\"II юн\",IF(P43<=$H$46,\"III юн\",\"б/р\")))))))))))","v":" "}]
[{"$nulls":7},29.7,{"$f":"IF(ISBLANK(H44),\" \",IF(ISTEXT(H44),\" \",IF(H44<=Нормативы!$H$38,\"МСМК\",IF(H44<=Нормативы!$H$39,\"МС\",IF(H44<=Нормативы!$H$40,\"КМС\",IF(H44<=Нормативы!$H$41,\"I\",IF(H44<=Нормативы!$H$42,\"II\",IF(H44<=Нормативы!$H$43,\"III\",IF(H44<=Нормативы!$H$44,\"I юн\",IF(H44<=Нормативы!$H$45,\"II юн\",IF(H44<=Нормативы!$H$46,\"III юн\",\"б/р\")))))))))))","v":"I юн"},{"$f":"IF(ISBLANK(H44),\" \",IF(ISTEXT(H44),\" \",IF(H44<=Нормативы!$H$38,\"МСМК\",IF(H44<=Нормативы!$H$39,\"МС\",IF(H44<=Нормативы!$H$40,\"КМС\",IF(H44<=Нормативы!$H$41,\"I\",IF(H44<=Нормативы!$H$42,\"II\",IF(H44<=Нормативы!$H$43,\"III\",IF(H44<=Нормативы!$H$44,\"I юн\",IF(H44<=Нормативы!$H$45,\"II юн\",IF(H44<=Нормативы!$H$46,\"III юн\",\"б/р\")))))))))))","v":"I юн"},null,29.5,{"$f":"IF(ISBLANK(L44),\" \",IF(ISTEXT(L44),\" \",IF(L44<=Нормативы!$H$38,\"КМС\",IF(L44<=Нормативы!$H$39,\"КМС\",IF(L44<=Нормативы!$L$40,\"КМС\",IF(L44<=Нормативы!$L$41,\"I\",IF(L44<=Нормативы!$L$42,\"II\",IF(L44<=Нормативы!$L$43,\"III\",IF(L44<=Нормативы!$L$44,\"I юн\",IF(L44<=Нормативы!$L$45,\"II юн\",IF(L44<=Нормативы!$L$46,\"III юн\",\"б/р\")))))))))))","v":"I юн"},{"$f":"IF(ISBLANK(L44),\" \",IF(ISTEXT(L44),\" \",IF(L44<=Нормативы!$H$38,\"КМС\",IF(L44<=Нормативы!$H$39,\"КМС\",IF(L44<=Нормативы!$L$40,\"КМС\",IF(L44<=Нормативы!$L$41,\"I\",IF(L44<=Нормативы!$L$42,\"II\",IF(L44<=Нормативы!$L$43,\"III\",IF(L44<=Нормативы!$L$44,\"I юн\",IF(L44<=Нормативы!$L$45,\"II юн\",IF(L44<=Нормативы!$L$46,\"III юн\",\"б/р\")))))))))))","v":"I юн"},null,null,{"$f":"IF(ISBLANK(P44),\" \",IF(ISTEXT(P44),\" \",IF(P44<=$H$38,\"МСМК\",IF(P44<=$H$39,\"МС\",IF(P44<=$H$40,\"КМС\",IF(P44<=$H$41,\"I\",IF(P44<=$H$42,\"II\",IF(P44<=$H$43,\"III\",IF(P44<=$H$44,\"I юн\",IF(P44<=$H$45,\"II юн\",IF(P44<=$H$46,\"III юн\",\"б/р\")))))))))))","v":" "}]
[{"$nulls":7},32.1,{"$f":"IF(ISBLANK(H45),\" \",IF(ISTEXT(H45),\" \",IF(H45<=Нормативы!$H$38,\"МСМК\",IF(H45<=Нормативы!$H$39,\"МС\",IF(H45<=Нормативы!$H$40,\"КМС\",IF(H45<=Нормативы!$H$41,\"I\",IF(H45<=Нормативы!$H$42,\"II\",IF(H45<=Нормативы!$H$43,\"III\",IF(H45<=Нормативы!$H$44,\"I юн\",IF(H45<=Нормативы!$H$45,\"II юн\",IF(H45<=Нормативы!$H$46,\"III юн\",\"б/р\")))))))))))","v":"II юн"},{"$f":"IF(ISBLANK(H45),\" \",IF(ISTEXT(H45),\" \",IF(H45<=Нормативы!$H$38,\"МСМК\",IF(H45<=Нормативы!$H$39,\"МС\",IF(H45<=Нормативы!$H$40,\"КМС\",IF(H45<=Нормативы!$H$41,\"I\",IF(H45<=Нормативы!$H$42,\"II\",IF(H45<=Нормативы!$H$43,\"III\",IF(H45<=Нормативы!$H$44,\"I юн\",IF(H45<=Нормативы!$H$45,\"II юн\",IF(H45<=Нормативы!$H$46,\"III юн\",\"б/р\")))))))))))","v":"II юн"},null,31.900000000000002,{"$f":"IF(ISBLANK(L45),\" \",IF(ISTEXT(L45),\" \",IF(L45<=Нормативы!$H$38,\"КМС\",IF(L45<=Нормативы!$H$39,\"КМС\",IF(L45<=Нормативы!$L$40,\"КМС\",IF(L45<=Нормативы!$L$41,\"I\",IF(L45<=Нормативы!$L$42,\"II\",IF(L45<=Нормативы!$L$43,\"III\",IF(L45<=Нормативы!$L$44,\"I юн\",IF(L45<=Нормативы!$L$45,\"II юн\",IF(L45<=Нормативы!$L$46,\"III юн\",\"б/р\")))))))))))","v":"II юн"},{"$f":"IF(ISBLANK(L45),\" \",IF(ISTEXT(L45),\" \",IF(L45<=Нормативы!$H$38,\"КМС\",IF(L45<=Нормативы!$H$39,\"КМС\",IF(L45<=Нормативы!$L$40,\"КМС\",IF(L45<=Нормативы!$L$41,\"I\",IF(L45<=Нормативы!$L$42,\"II\",IF(L45<=Нормативы!$L$43,\"III\",IF(L45<=Нормативы!$L$44,\"I юн\",IF(L45<=Нормативы!$L$45,\"II юн\",IF(L45<=Нормативы!$L$46,\"III юн\",\"б/р\")))))))))))","v":"II юн"},null,null,{"$f":"IF(ISBLANK(P45),\" \",IF(ISTEXT(P45),\" \",IF(P45<=$H$38,\"МСМК\",IF(P45<=$H$39,\"МС\",IF(P45<=$H$40,\"КМС\",IF(P45<=$H$41,\"I\",IF(P45<=$H$42,\"II\",IF(P45<=$H$43,\"III\",IF(P45<=$H$44,\"I юн\",IF(P45<=$H$45,\"II юн\",IF(P45<=$H$46,\"III юн\",\"б/р\")))))))))))","v":" "}]
[{"$nulls":7},35.2,{"$f":"IF(ISBLANK(H46),\" \",IF(ISTEXT(H46),\" \",IF(H46<=Нормативы!$H$38,\"МСМК\",IF(H46<=Нормативы!$H$39,\"МС\",IF(H46<=Нормативы!$H$40,\"КМС\",IF(H46<=Нормативы!$H$41,\"I\",IF(H46<=Нормативы!$H$42,\"II\",IF(H46<=Нормативы!$H$43,\"III\",IF(H46<=Нормативы!$H$44,\"I юн\",IF(H46<=Нормативы!$H$45,\"II юн\",IF(H46<=Нормативы!$H$46,\"III юн\",\"б/р\")))))))))))","v":"III юн"},{"$f":"IF(ISBLANK(H46),\" \",IF(ISTEXT(H46),\" \",IF(H46<=Нормативы!$H$38,\"МСМК\",IF(H46<=Нормативы!$H$39,\"МС\",IF(H46<=Нормативы!$H$40,\"КМС\",IF(H46<=Нормативы!$H$41,\"I\",IF(H46<=Нормативы!$H$42,\"II\",IF(H46<=Нормативы!$H$43,\"III\",IF(H46<=Нормативы!$H$44,\"I юн\",IF(H46<=Нормативы!$H$45,\"II юн\",IF(H46<=Нормативы!$H$46,\"III юн\",\"б/р\")))))))))))","v":"III юн"},null,35,{"$f":"IF(ISBLANK(L46),\" \",IF(ISTEXT(L46),\" \",IF(L46<=Нормативы!$H$38,\"КМС\",IF(L46<=Нормативы!$H$39,\"КМС\",IF(L46<=Нормативы!$L$40,\"КМС\",IF(L46<=Нормативы!$L$41,\"I\",IF(L46<=Нормативы!$L$42,\"II\",IF(L46<=Нормативы!$L$43,\"III\",IF(L46<=Нормативы!$L$44,\"I юн\",IF(L46<=Нормативы!$L$45,\"II юн\",IF(L46<=Нормативы!$L$46,\"III юн\",\"б/р\")))))))))))","v":"III юн"},{"$f":"IF(ISBLANK(L46),\" \",IF(ISTEXT(L46),\" \",IF(L46<=Нормативы!$H$38,\"КМС\",IF(L46<=Нормативы!$H$39,\"КМС\",IF(L46<=Нормативы!$L$40,\"КМС\",IF(L46<=Нормативы!$L$41,\"I\",IF(L46<=Нормативы!$L$42,\"II\",IF(L46<=Нормативы!$L$43,\"III\",IF(L46<=Нормативы!$L$44,\"I юн\",IF(L46<=Нормативы!$L$45,\"II юн\",IF(L46<=Нормативы!$L$46,\"III юн\",\"б/р\")))))))))))","v":"III юн"},null,null,{"$f":"IF(ISBLANK(P46),\" \",IF(ISTEXT(P46),\" \",IF(P46<=$H$38,\"МСМК\",IF(P46<=$H$39,\"МС\",IF(P46<=$H$40,\"КМС\",IF(P46<=$H$41,\"I\",IF(P46<=$H$42,\"II\",IF(P46<=$H$43,\"III\",IF(P46<=$H$44,\"I юн\",IF(P46<=$H$45,\"II юн\",IF(P46<=$H$46,\"III юн\",\"б/р\")))))))))))","v":" "}]
[]
[null,null,"Плавание в ластах - 100 м (1460091811Я),  женщины"]
[{"$nulls":7},40,{"$f":"IF(ISBLANK(H49),\" \",IF(ISTEXT(H49),\" \",IF(H49<=Нормативы!$H$49,\"МСМК\",IF(H49<=Нормативы!$H$50,\"МС\",IF(H49<=Нормативы!$H$51,\"КМС\",IF(H49<=Нормативы!$H$52,\"I\",IF(H49<=Нормативы!$H$53,\"II\",IF(H49<=Нормативы!$H$54,\"III\",IF(H49<=Нормативы!$H$55,\"I юн\",IF(H49<=Нормативы!$H$56,\"II юн\",IF(H49<=Нормативы!$H$57,\"III юн\",\"б/р\")))))))))))","v":"МСМК"},{"$f":"IF(ISBLANK(H49),\" \",IF(ISTEXT(H49),\" \",IF(H49<=Нормативы!$H$49,\"МСМК\",IF(H49<=Нормативы!$H$50,\"МС\",IF(H49<=Нормативы!$H$51,\"КМС\",IF(H49<=Нормативы!$H$52,\"I\",IF(H49<=Нормативы!$H$53,\"II\",IF(H49<=Нормативы!$H$54,\"III\",IF(H49<=Нормативы!$H$55,\"I юн\",IF(H49<=Нормативы!$H$56,\"II юн\",IF(H49<=Нормативы!$H$57,\"III юн\",\"б/р\")))))))))))","v":"МСМК"},null,null,{"$f":"IF(ISBLANK(L49),\" \",IF(ISTEXT(L49),\" \",IF(L49<=Нормативы!$H$49,\"КМС\",IF(L49<=Нормативы!$H$50,\"КМС\",IF(L49<=Нормативы!$L$51,\"КМС\",IF(L49<=Нормативы!$L$52,\"I\",IF(L49<=Нормативы!$L$53,\"II\",IF(L49<=Нормативы!$L$54,\"III\",IF(L49<=Нормативы!$L$55,\"I юн\",IF(L49<=Нормативы!$L$56,\"II юн\",IF(L49<=Нормативы!$L$57,\"III юн\",\"б/р\")))))))))))","v":" "},{"$f":"IF(ISBLANK(L49),\" \",IF(ISTEXT(L49),\" \",IF(L49<=40,\"МСМК\",IF(L49<=42,\"МС\",IF(L49<=43.8,\"КМС\",IF(L49<=47,\"I\",IF(L49<=51,\"II\",IF(L49<=55.2,\"III\",IF(L49<=59.8,\"I юн\",IF(L49<=105.4,\"II юн\",IF(L49<=110.4,\"III юн\",\"б/р\")))))))))))","v":" "},null,null,{"$f":"IF(ISBLANK(P49),\" \",IF(ISTEXT(P49),\" \",IF(P49<=$H$49,\"МСМК\",IF(P49<=$H$50,\"МС\",IF(P49<=$H$51,\"КМС\",IF(P49<=$H$52,\"I\",IF(P49<=$H$53,\"II\",IF(P49<=$H$54,\"III\",IF(P49<=$H$55,\"I юн\",IF(P49<=$H$56,\"II юн\",IF(P49<=$H$57,\"III юн\",\"б/р\")))))))))))","v":" "}]
[{"$nulls":7},42,{"$f":"IF(ISBLANK(H50),\" \",IF(ISTEXT(H50),\" \",IF(H50<=Нормативы!$H$49,\"МСМК\",IF(H50<=Нормативы!$H$50,\"МС\",IF(H50<=Нормативы!$H$51,\"КМС\",IF(H50<=Нормативы!$H$52,\"I\",IF(H50<=Нормативы!$H$53,\"II\",IF(H50<=Нормативы!$H$54,\"III\",IF(H50<=Нормативы!$H$55,\"I юн\",IF(H50<=Нормативы!$H$56,\"II юн\",IF(H50<=Нормативы!$H$57,\"III юн\",\"б/р\")))))))))))","v":"МС"},{"$f":"IF(ISBLANK(H50),\" \",IF(ISTEXT(H50),\" \",IF(H50<=Нормативы!$H$49,\"МСМК\",IF(H50<=Нормативы!$H$50,\"МС\",IF(H50<=Нормативы!$H$51,\"КМС\",IF(H50<=Нормативы!$H$52,\"I\",IF(H50<=Нормативы!$H$53,\"II\",IF(H50<=Нормативы!$H$54,\"III\",IF(H50<=Нормативы!$H$55,\"I юн\",IF(H50<=Нормативы!$H$56,\"II юн\",IF(H50<=Нормативы!$H$57,\"III юн\",\"б/р\")))))))))))","v":"МС"},null,null,{"$f":"IF(ISBLANK(L50),\" \",IF(ISTEXT(L50),\" \",IF(L50<=Нормативы!$H$49,\"КМС\",IF(L50<=Нормативы!$H$50,\"КМС\",IF(L50<=Нормативы!$L$51,\"КМС\",IF(L50<=Нормативы!$L$52,\"I\",IF(L50<=Нормативы!$L$53,\"II\",IF(L50<=Нормативы!$L$54,\"III\",IF(L50<=Нормативы!$L$55,\"I юн\",IF(L50<=Нормативы!$L$56,\"II юн\",IF(L50<=Нормативы!$L$57,\"III юн\",\"б/р\")))))))))))","v":" "},{"$f":"IF(ISBLANK(L50),\" \",IF(ISTEXT(L50),\" \",IF(L50<=40,\"МСМК\",IF(L50<=42,\"МС\",IF(L50<=43.8,\"КМС\",IF(L50<=47,\"I\",IF(L50<=51,\"II\",IF(L50<=55.2,\"III\",IF(L50<=59.8,\"I юн\",IF(L50<=105.4,\"II юн\",IF(L50<=110.4,\"III юн\",\"б/р\")))))))))))","v":" "},null,null,{"$f":"IF(ISBLANK(P50),\" \",IF(ISTEXT(P50),\" \",IF(P50<=$H$49,\"МСМК\",IF(P50<=$H$50,\"МС\",IF(P50<=$H$51,\"КМС\",IF(P50<=$H$52,\"I\",IF(P50<=$H$53,\"II\",IF(P50<=$H$54,\"III\",IF(P50<=$H$55,\"I юн\",IF(P50<=$H$56,\"II юн\",IF(P50<=$H$57,\"III юн\",\"б/р\")))))))))))","v":" "}]
[{"$nulls":7},44,{"$f":"IF(ISBLANK(H51),\" \",IF(ISTEXT(H51),\" \",IF(H51<=Нормативы!$H$49,\"МСМК\",IF(H51<=Нормативы!$H$50,\"МС\",IF(H51<=Нормативы!$H$51,\"КМС\",IF(H51<=Нормативы!$H$52,\"I\",IF(H51<=Нормативы!$H$53,\"II\",IF(H51<=Нормативы!$H$54,\"III\",IF(H51<=Нормативы!$H$55,\"I юн\",IF(H51<=Нормативы!$H$56,\"II юн\",IF(H51<=Нормативы!$H$57,\"III юн\",\"б/р\")))))))))))","v":"КМС"},{"$f":"IF(ISBLANK(H51),\" \",IF(ISTEXT(H51),\" \",IF(H51<=Нормативы!$H$49,\"МСМК\",IF(H51<=Нормативы!$H$50,\"МС\",IF(H51<=Нормативы!$H$51,\"КМС\",IF(H51<=Нормативы!$H$52,\"I\",IF(H51<=Нормативы!$H$53,\"II\",IF(H51<=Нормативы!$H$54,\"III\",IF(H51<=Нормативы!$H$55,\"I юн\",IF(H51<=Нормативы!$H$56,\"II юн\",IF(H51<=Нормативы!$H$57,\"III юн\",\"б/р\")))))))))))","v":"КМС"},null,{"$f":"H51-0.2","v":43.8},{"$f":"IF(ISBLANK(L51),\" \",IF(ISTEXT(L51),\" \",IF(L51<=Нормативы!$H$49,\"КМС\",IF(L51<=Нормативы!$H$50,\"КМС\",IF(L51<=Нормативы!$L$51,\"КМС\",IF(L51<=Нормативы!$L$52,\"I\",IF(L51<=Нормативы!$L$53,\"II\",IF(L51<=Нормативы!$L$54,\"III\",IF(L51<=Нормативы!$L$55,\"I юн\",IF(L51<=Нормативы!$L$56,\"II юн\",IF(L51<=Нормативы!$L$57,\"III юн\",\"б/р\")))))))))))","v":"КМС"},{"$f":"IF(ISBLANK(L51),\" \",IF(ISTEXT(L51),\" \",IF(L51<=Нормативы!$H$49,\"КМС\",IF(L51<=Нормативы!$H$50,\"КМС\",IF(L51<=Нормативы!$L$51,\"КМС\",IF(L51<=Нормативы!$L$52,\"I\",IF(L51<=Нормативы!$L$53,\"II\",IF(L51<=Нормативы!$L$54,\"III\",IF(L51<=Нормативы!$L$55,\"I юн\",IF(L51<=Нормативы!$L$56,\"II юн\",IF(L51<=Нормативы!$L$57,\"III юн\",\"б/р\")))))))))))","v":"КМС"},null,null,{"$f":"IF(ISBLANK(P51),\" \",IF(ISTEXT(P51),\" \",IF(P51<=$H$49,\"МСМК\",IF(P51<=$H$50,\"МС\",IF(P51<=$H$51,\"КМС\",IF(P51<=$H$52,\"I\",IF(P51<=$H$53,\"II\",IF(P51<=$H$54,\"III\",IF(P51<=$H$55,\"I юн\",IF(P51<=$H$56,\"II юн\",IF(P51<=$H$57,\"III юн\",\"б/р\")))))))))))","v":" "}]
[{"$nulls":7},47.2,{"$f":"IF(ISBLANK(H52),\" \",IF(ISTEXT(H52),\" \",IF(H52<=Нормативы!$H$49,\"МСМК\",IF(H52<=Нормативы!$H$50,\"МС\",IF(H52<=Нормативы!$H$51,\"КМС\",IF(H52<=Нормативы!$H$52,\"I\",IF(H52<=Нормативы!$H$53,\"II\",IF(H52<=Нормативы!$H$54,\"III\",IF(H52<=Нормативы!$H$55,\"I юн\",IF(H52<=Нормативы!$H$56,\"II юн\",IF(H52<=Нормативы!$H$57,\"III юн\",\"б/р\")))))))))))","v":"I"},{"$f":"IF(ISBLANK(H52),\" \",IF(ISTEXT(H52),\" \",IF(H52<=Нормативы!$H$49,\"МСМК\",IF(H52<=Нормативы!$H$50,\"МС\",IF(H52<=Нормативы!$H$51,\"КМС\",IF(H52<=Нормативы!$H$52,\"I\",IF(H52<=Нормативы!$H$53,\"II\",IF(H52<=Нормативы!$H$54,\"III\",IF(H52<=Нормативы!$H$55,\"I юн\",IF(H52<=Нормативы!$H$56,\"II юн\",IF(H52<=Нормативы!$H$57,\"III юн\",\"б/р\")))))))))))","v":"I"},null,47,{"$f":"IF(ISBLANK(L52),\" \",IF(ISTEXT(L52),\" \",IF(L52<=Нормативы!$H$49,\"КМС\",IF(L52<=Нормативы!$H$50,\"КМС\",IF(L52<=Нормативы!$L$51,\"КМС\",IF(L52<=Нормативы!$L$52,\"I\",IF(L52<=Нормативы!$L$53,\"II\",IF(L52<=Нормативы!$L$54,\"III\",IF(L52<=Нормативы!$L$55,\"I юн\",IF(L52<=Нормативы!$L$56,\"II юн\",IF(L52<=Нормативы!$L$57,\"III юн\",\"б/р\")))))))))))","v":"I"},{"$f":"IF(ISBLANK(L52),\" \",IF(ISTEXT(L52),\" \",IF(L52<=Нормативы!$H$49,\"КМС\",IF(L52<=Нормативы!$H$50,\"КМС\",IF(L52<=Нормативы!$L$51,\"КМС\",IF(L52<=Нормативы!$L$52,\"I\",IF(L52<=Нормативы!$L$53,\"II\",IF(L52<=Нормативы!$L$54,\"III\",IF(L52<=Нормативы!$L$55,\"I юн\",IF(L52<=Нормативы!$L$56,\"II юн\",IF(L52<=Нормативы!$L$57,\"III юн\",\"б/р\")))))))))))","v":"I"},null,null,{"$f":"IF(ISBLANK(P52),\" \",IF(ISTEXT(P52),\" \",IF(P52<=$H$49,\"МСМК\",IF(P52<=$H$50,\"МС\",IF(P52<=$H$51,\"КМС\",IF(P52<=$H$52,\"I\",IF(P52<=$H$53,\"II\",IF(P52<=$H$54,\"III\",IF(P52<=$H$55,\"I юн\",IF(P52<=$H$56,\"II юн\",IF(P52<=$H$57,\"III юн\",\"б/р\")))))))))))","v":" "}]
[{"$nulls":7},51.2,{"$f":"IF(ISBLANK(H53),\" \",IF(ISTEXT(H53),\" \",IF(H53<=Нормативы!$H$49,\"МСМК\",IF(H53<=Нормативы!$H$50,\"МС\",IF(H53<=Нормативы!$H$51,\"КМС\",IF(H53<=Нормативы!$H$52,\"I\",IF(H53<=Нормативы!$H$53,\"II\",IF(H53<=Нормативы!$H$54,\"III\",IF(H53<=Нормативы!$H$55,\"I юн\",IF(H53<=Нормативы!$H$56,\"II юн\",IF(H53<=Нормативы!$H$57,\"III юн\",\"б/р\")))))))))))","v":"II"},{"$f":"IF(ISBLANK(H53),\" \",IF(ISTEXT(H53),\" \",IF(H53<=Нормативы!$H$49,\"МСМК\",IF(H53<=Нормативы!$H$50,\"МС\",IF(H53<=Нормативы!$H$51,\"КМС\",IF(H53<=Нормативы!$H$52,\"I\",IF(H53<=Нормативы!$H$53,\"II\",IF(H53<=Нормативы!$H$54,\"III\",IF(H53<=Нормативы!$H$55,\"I юн\",IF(H53<=Нормативы!$H$56,\"II юн\",IF(H53<=Нормативы!$H$57,\"III юн\",\"б/р\")))))))))))","v":"II"},null,51,{"$f":"IF(ISBLANK(L53),\" \",IF(ISTEXT(L53),\" \",IF(L53<=Нормативы!$H$49,\"КМС\",IF(L53<=Нормативы!$H$50,\"КМС\",IF(L53<=Нормативы!$L$51,\"КМС\",IF(L53<=Нормативы!$L$52,\"I\",IF(L53<=Нормативы!$L$53,\"II\",IF(L53<=Нормативы!$L$54,\"III\",IF(L53<=Нормативы!$L$55,\"I юн\",IF(L53<=Нормативы!$L$56,\"II юн\",IF(L53<=Нормативы!$L$57,\"III юн\",\"б/р\")))))))))))","v":"II"},{"$f":"IF(ISBLANK(L53),\" \",IF(ISTEXT(L53),\" \",IF(L53<=Нормативы!$H$49,\"КМС\",IF(L53<=Нормативы!$H$50,\"КМС\",IF(L53<=Нормативы!$L$51,\"КМС\",IF(L53<=Нормативы!$L$52,\"I\",IF(L53<=Нормативы!$L$53,\"II\",IF(L53<=Нормативы!$L$54,\"III\",IF(L53<=Нормативы!$L$55,\"I юн\",IF(L53<=Нормативы!$L$56,\"II юн\",IF(L53<=Нормативы!$L$57,\"III юн\",\"б/р\")))))))))))","v":"II"},null,null,{"$f":"IF(ISBLANK(P53),\" \",IF(ISTEXT(P53),\" \",IF(P53<=$H$49,\"МСМК\",IF(P53<=$H$50,\"МС\",IF(P53<=$H$51,\"КМС\",IF(P53<=$H$52,\"I\",IF(P53<=$H$53,\"II\",IF(P53<=$H$54,\"III\",IF(P53<=$H$55,\"I юн\",IF(P53<=$H$56,\"II юн\",IF(P53<=$H$57,\"III юн\",\"б/р\")))))))))))","v":" "}]
[{"$nulls":7},55.4,{"$f":"IF(ISBLANK(H54),\" \",IF(ISTEXT(H54),\" \",IF(H54<=Нормативы!$H$49,\"МСМК\",IF(H54<=Нормативы!$H$50,\"МС\",IF(H54<=Нормативы!$H$51,\"КМС\",IF(H54<=Нормативы!$H$52,\"I\",IF(H54<=Нормативы!$H$53,\"II\",IF(H54<=Нормативы!$H$54,\"III\",IF(H54<=Нормативы!$H$55,\"I юн\",IF(H54<=Нормативы!$H$56,\"II юн\",IF(H54<=Нормативы!$H$57,\"III юн\",\"б/р\")))))))))))","v":"III"},{"$f":"IF(ISBLANK(H54),\" \",IF(ISTEXT(H54),\" \",IF(H54<=Нормативы!$H$49,\"МСМК\",IF(H54<=Нормативы!$H$50,\"МС\",IF(H54<=Нормативы!$H$51,\"КМС\",IF(H54<=Нормативы!$H$52,\"I\",IF(H54<=Нормативы!$H$53,\"II\",IF(H54<=Нормативы!$H$54,\"III\",IF(H54<=Нормативы!$H$55,\"I юн\",IF(H54<=Нормативы!$H$56,\"II юн\",IF(H54<=Нормативы!$H$57,\"III юн\",\"б/р\")))))))))))","v":"III"},null,55.199999999999996,{"$f":"IF(ISBLANK(L54),\" \",IF(ISTEXT(L54),\" \",IF(L54<=Нормативы!$H$49,\"КМС\",IF(L54<=Нормативы!$H$50,\"КМС\",IF(L54<=Нормативы!$L$51,\"КМС\",IF(L54<=Нормативы!$L$52,\"I\",IF(L54<=Нормативы!$L$53,\"II\",IF(L54<=Нормативы!$L$54,\"III\",IF(L54<=Нормативы!$L$55,\"I юн\",IF(L54<=Нормативы!$L$56,\"II юн\",IF(L54<=Нормативы!$L$57,\"III юн\",\"б/р\")))))))))))","v":"III"},{"$f":"IF(ISBLANK(L54),\" \",IF(ISTEXT(L54),\" \",IF(L54<=Нормативы!$H$49,\"КМС\",IF(L54<=Нормативы!$H$50,\"КМС\",IF(L54<=Нормативы!$L$51,\"КМС\",IF(L54<=Нормативы!$L$52,\"I\",IF(L54<=Нормативы!$L$53,\"II\",IF(L54<=Нормативы!$L$54,\"III\",IF(L54<=Нормативы!$L$55,\"I юн\",IF(L54<=Нормативы!$L$56,\"II юн\",IF(L54<=Нормативы!$L$57,\"III юн\",\"б/р\")))))))))))","v":"III"},null,null,{"$f":"IF(ISBLANK(P54),\" \",IF(ISTEXT(P54),\" \",IF(P54<=$H$49,\"МСМК\",IF(P54<=$H$50,\"МС\",IF(P54<=$H$51,\"КМС\",IF(P54<=$H$52,\"I\",IF(P54<=$H$53,\"II\",IF(P54<=$H$54,\"III\",IF(P54<=$H$55,\"I юн\",IF(P54<=$H$56,\"II юн\",IF(P54<=$H$57,\"III юн\",\"б/р\")))))))))))","v":" "}]
[{"$nulls":7},100,{"$f":"IF(ISBLANK(H55),\" \",IF(ISTEXT(H55),\" \",IF(H55<=Нормативы!$H$49,\"МСМК\",IF(H55<=Нормативы!$H$50,\"МС\",IF(H55<=Нормативы!$H$51,\"КМС\",IF(H55<=Нормативы!$H$52,\"I\",IF(H55<=Нормативы!$H$53,\"II\",IF(H55<=Нормативы!$H$54,\"III\",IF(H55<=Нормативы!$H$55,\"I юн\",IF(H55<=Нормативы!$H$56,\"II юн\",IF(H55<=Нормативы!$H$57,\"III юн\",\"б/р\")))))))))))","v":"I юн"},{"$f":"IF(ISBLANK(H55),\" \",IF(ISTEXT(H55),\" \",IF(H55<=Нормативы!$H$49,\"МСМК\",IF(H55<=Нормативы!$H$50,\"МС\",IF(H55<=Нормативы!$H$51,\"КМС\",IF(H55<=Нормативы!$H$52,\"I\",IF(H55<=Нормативы!$H$53,\"II\",IF(H55<=Нормативы!$H$54,\"III\",IF(H55<=Нормативы!$H$55,\"I юн\",IF(H55<=Нормативы!$H$56,\"II юн\",IF(H55<=Нормативы!$H$57,\"III юн\",\"б/р\")))))))))))","v":"I юн"},null,99.8,{"$f":"IF(ISBLANK(L55),\" \",IF(ISTEXT(L55),\" \",IF(L55<=Нормативы!$H$49,\"КМС\",IF(L55<=Нормативы!$H$50,\"КМС\",IF(L55<=Нормативы!$L$51,\"КМС\",IF(L55<=Нормативы!$L$52,\"I\",IF(L55<=Нормативы!$L$53,\"II\",IF(L55<=Нормативы!$L$54,\"III\",IF(L55<=Нормативы!$L$55,\"I юн\",IF(L55<=Нормативы!$L$56,\"II юн\",IF(L55<=Нормативы!$L$57,\"III юн\",\"б/р\")))))))))))","v":"I юн"},{"$f":"IF(ISBLANK(L55),\" \",IF(ISTEXT(L55),\" \",IF(L55<=Нормативы!$H$49,\"КМС\",IF(L55<=Нормативы!$H$50,\"КМС\",IF(L55<=Нормативы!$L$51,\"КМС\",IF(L55<=Нормативы!$L$52,\"I\",IF(L55<=Нормативы!$L$53,\"II\",IF(L55<=Нормативы!$L$54,\"III\",IF(L55<=Нормативы!$L$55,\"I юн\",IF(L55<=Нормативы!$L$56,\"II юн\",IF(L55<=Нормативы!$L$57,\"III юн\",\"б/р\")))))))))))","v":"I юн"},null,null,{"$f":"IF(ISBLANK(P55),\" \",IF(ISTEXT(P55),\" \",IF(P55<=$H$49,\"МСМК\",IF(P55<=$H$50,\"МС\",IF(P55<=$H$51,\"КМС\",IF(P55<=$H$52,\"I\",IF(P55<=$H$53,\"II\",IF(P55<=$H$54,\"III\",IF(P55<=$H$55,\"I юн\",IF(P55<=$H$56,\"II юн\",IF(P55<=$H$57,\"III юн\",\"б/р\")))))))))))","v":" "}]
[{"$nulls":7},105.6,{"$f":"IF(ISBLANK(H56),\" \",IF(ISTEXT(H56),\" \",IF(H56<=Нормативы!$H$49,\"МСМК\",IF(H56<=Нормативы!$H$50,\"МС\",IF(H56<=Нормативы!$H$51,\"КМС\",IF(H56<=Нормативы!$H$52,\"I\",IF(H56<=Нормативы!$H$53,\"II\",IF(H56<=Нормативы!$H$54,\"III\",IF(H56<=Нормативы!$H$55,\"I юн\",IF(H56<=Нормативы!$H$56,\"II юн\",IF(H56<=Нормативы!$H$57,\"III юн\",\"б/р\")))))))))))","v":"II юн"},{"$f":"IF(ISBLANK(H56),\" \",IF(ISTEXT(H56),\" \",IF(H56<=Нормативы!$H$49,\"МСМК\",IF(H56<=Нормативы!$H$50,\"МС\",IF(H56<=Нормативы!$H$51,\"КМС\",IF(H56<=Нормативы!$H$52,\"I\",IF(H56<=Нормативы!$H$53,\"II\",IF(H56<=Нормативы!$H$54,\"III\",IF(H56<=Нормативы!$H$55,\"I юн\",IF(H56<=Нормативы!$H$56,\"II юн\",IF(H56<=Нормативы!$H$57,\"III юн\",\"б/р\")))))))))))","v":"II юн"},null,105.39999999999999,{"$f":"IF(ISBLANK(L56),\" \",IF(ISTEXT(L56),\" \",IF(L56<=Нормативы!$H$49,\"КМС\",IF(L56<=Нормативы!$H$50,\"КМС\",IF(L56<=Нормативы!$L$51,\"КМС\",IF(L56<=Нормативы!$L$52,\"I\",IF(L56<=Нормативы!$L$53,\"II\",IF(L56<=Нормативы!$L$54,\"III\",IF(L56<=Нормативы!$L$55,\"I юн\",IF(L56<=Нормативы!$L$56,\"II юн\",IF(L56<=Нормативы!$L$57,\"III юн\",\"б/р\")))))))))))","v":"II юн"},{"$f":"IF(ISBLANK(L56),\" \",IF(ISTEXT(L56),\" \",IF(L56<=Нормативы!$H$49,\"КМС\",IF(L56<=Нормативы!$H$50,\"КМС\",IF(L56<=Нормативы!$L$51,\"КМС\",IF(L56<=Нормативы!$L$52,\"I\",IF(L56<=Нормативы!$L$53,\"II\",IF(L56<=Нормативы!$L$54,\"III\",IF(L56<=Нормативы!$L$55,\"I юн\",IF(L56<=Нормативы!$L$56,\"II юн\",IF(L56<=Нормативы!$L$57,\"III юн\",\"б/р\")))))))))))","v":"II юн"},null,null,{"$f":"IF(ISBLANK(P56),\" \",IF(ISTEXT(P56),\" \",IF(P56<=$H$49,\"МСМК\",IF(P56<=$H$50,\"МС\",IF(P56<=$H$51,\"КМС\",IF(P56<=$H$52,\"I\",IF(P56<=$H$53,\"II\",IF(P56<=$H$54,\"III\",IF(P56<=$H$55,\"I юн\",IF(P56<=$H$56,\"II юн\",IF(P56<=$H$57,\"III юн\",\"б/р\")))))))))))","v":" "}]
[{"$nulls":7},110.6,{"$f":"IF(ISBLANK(H57),\" \",IF(ISTEXT(H57),\" \",IF(H57<=Нормативы!$H$49,\"МСМК\",IF(H57<=Нормативы!$H$50,\"МС\",IF(H57<=Нормативы!$H$51,\"КМС\",IF(H57<=Нормативы!$H$52,\"I\",IF(H57<=Нормативы!$H$53,\"II\",IF(H57<=Нормативы!$H$54,\"III\",IF(H57<=Нормативы!$H$55,\"I юн\",IF(H57<=Нормативы!$H$56,\"II юн\",IF(H57<=Нормативы!$H$57,\"III юн\",\"б/р\")))))))))))","v":"III юн"},{"$f":"IF(ISBLANK(H57),\" \",IF(ISTEXT(H57),\" \",IF(H57<=Нормативы!$H$49,\"МСМК\",IF(H57<=Нормативы!$H$50,\"МС\",IF(H57<=Нормативы!$H$51,\"КМС\",IF(H57<=Нормативы!$H$52,\"I\",IF(H57<=Нормативы!$H$53,\"II\",IF(H57<=Нормативы!$H$54,\"III\",IF(H57<=Нормативы!$H$55,\"I юн\",IF(H57<=Нормативы!$H$56,\"II юн\",IF(H57<=Нормативы!$H$57,\"III юн\",\"б/р\")))))))))))","v":"III юн"},null,110.39999999999999,{"$f":"IF(ISBLANK(L57),\" \",IF(ISTEXT(L57),\" \",IF(L57<=Нормативы!$H$49,\"КМС\",IF(L57<=Нормативы!$H$50,\"КМС\",IF(L57<=Нормативы!$L$51,\"КМС\",IF(L57<=Нормативы!$L$52,\"I\",IF(L57<=Нормативы!$L$53,\"II\",IF(L57<=Нормативы!$L$54,\"III\",IF(L57<=Нормативы!$L$55,\"I юн\",IF(L57<=Нормативы!$L$56,\"II юн\",IF(L57<=Нормативы!$L$57,\"III юн\",\"б/р\")))))))))))","v":"III юн"},{"$f":"IF(ISBLANK(L57),\" \",IF(ISTEXT(L57),\" \",IF(L57<=Нормативы!$H$49,\"КМС\",IF(L57<=Нормативы!$H$50,\"КМС\",IF(L57<=Нормативы!$L$51,\"КМС\",IF(L57<=Нормативы!$L$52,\"I\",IF(L57<=Нормативы!$L$53,\"II\",IF(L57<=Нормативы!$L$54,\"III\",IF(L57<=Нормативы!$L$55,\"I юн\",IF(L57<=Нормативы!$L$56,\"II юн\",IF(L57<=Нормативы!$L$57,\"III юн\",\"б/р\")))))))))))","v":"III юн"},null,null,{"$f":"IF(ISBLANK(P57),\" \",IF(ISTEXT(P57),\" \",IF(P57<=$H$49,\"МСМК\",IF(P57<=$H$50,\"МС\",IF(P57<=$H$51,\"КМС\",IF(P57<=$H$52,\"I\",IF(P57<=$H$53,\"II\",IF(P57<=$H$54,\"III\",IF(P57<=$H$55,\"I юн\",IF(P57<=$H$56,\"II юн\",IF(P57<=$H$57,\"III юн\",\"б/р\")))))))))))","v":" "}]
[]
[null,null,"Плавание в ластах - 100 м (1460091811Я),  мужчины"]
[{"$nulls":7},35.5,{"$f":"IF(ISBLANK(H60),\" \",IF(ISTEXT(H60),\" \",IF(H60<=Нормативы!$H$60,\"МСМК\",IF(H60<=Нормативы!$H$61,\"МС\",IF(H60<=Нормативы!$H$62,\"КМС\",IF(H60<=Нормативы!$H$63,\"I\",IF(H60<=Нормативы!$H$64,\"II\",IF(H60<=Нормативы!$H$65,\"III\",IF(H60<=Нормативы!$H$66,\"I юн\",IF(H60<=Нормативы!$H$67,\"II юн\",IF(H60<=Нормативы!$H$68,\"III юн\",\"б/р\")))))))))))","v":"МСМК"},{"$f":"IF(ISBLANK(H60),\" \",IF(ISTEXT(H60),\" \",IF(H60<=Нормативы!$H$60,\"МСМК\",IF(H60<=Нормативы!$H$61,\"МС\",IF(H60<=Нормативы!$H$62,\"КМС\",IF(H60<=Нормативы!$H$63,\"I\",IF(H60<=Нормативы!$H$64,\"II\",IF(H60<=Нормативы!$H$65,\"III\",IF(H60<=Нормативы!$H$66,\"I юн\",IF(H60<=Нормативы!$H$67,\"II юн\",IF(H60<=Нормативы!$H$68,\"III юн\",\"б/р\")))))))))))","v":"МСМК"},null,null,{"$f":"IF(ISBLANK(L60),\" \",IF(ISTEXT(L60),\" \",IF(L60<=Нормативы!$H$60,\"КМС\",IF(L60<=Нормативы!$H$61,\"КМС\",IF(L60<=Нормативы!$L$62,\"КМС\",IF(L60<=Нормативы!$L$63,\"I\",IF(L60<=Нормативы!$L$64,\"II\",IF(L60<=Нормативы!$L$65,\"III\",IF(L60<=Нормативы!$L$66,\"I юн\",IF(L60<=Нормативы!$L$67,\"II юн\",IF(L60<=Нормативы!$L$68,\"III юн\",\"б/р\")))))))))))","v":" "},{"$f":"IF(ISBLANK(L60),\" \",IF(ISTEXT(L60),\" \",IF(L60<=36,\"МСМК\",IF(L60<=37.8,\"МС\",IF(L60<=39.4,\"КМС\",IF(L60<=42.3,\"I\",IF(L60<=45.9,\"II\",IF(L60<=49.8,\"III\",IF(L60<=54.6,\"I юн\",IF(L60<=59.6,\"II юн\",IF(L60<=104.6,\"III юн\",\"б/р\")))))))))))","v":" "},null,null,{"$f":"IF(ISBLANK(P60),\" \",IF(ISTEXT(P60),\" \",IF(P60<=$H$60,\"МСМК\",IF(P60<=$H$61,\"МС\",IF(P60<=$H$62,\"КМС\",IF(P60<=$H$63,\"I\",IF(P60<=$H$64,\"II\",IF(P60<=$H$65,\"III\",IF(P60<=$H$66,\"I юн\",IF(P60<=$H$67,\"II юн\",IF(P60<=$H$68,\"III юн\",\"б/р\")))))))))))","v":" "}]
[{"$nulls":7},37.3,{"$f":"IF(ISBLANK(H61),\" \",IF(ISTEXT(H61),\" \",IF(H61<=Нормативы!$H$60,\"МСМК\",IF(H61<=Нормативы!$H$61,\"МС\",IF(H61<=Нормативы!$H$62,\"КМС\",IF(H61<=Нормативы!$H$63,\"I\",IF(H61<=Нормативы!$H$64,\"II\",IF(H61<=Нормативы!$H$65,\"III\",IF(H61<=Нормативы!$H$66,\"I юн\",IF(H61<=Нормативы!$H$67,\"II юн\",IF(H61<=Нормативы!$H$68,\"III юн\",\"б/р\")))))))))))","v":"МС"},{"$f":"IF(ISBLANK(H61),\" \",IF(ISTEXT(H61),\" \",IF(H61<=Нормативы!$H$60,\"МСМК\",IF(H61<=Нормативы!$H$61,\"МС\",IF(H61<=Нормативы!$H$62,\"КМС\",IF(H61<=Нормативы!$H$63,\"I\",IF(H61<=Нормативы!$H$64,\"II\",IF(H61<=Нормативы!$H$65,\"III\",IF(H61<=Нормативы!$H$66,\"I юн\",IF(H61<=Нормативы!$H$67,\"II юн\",IF(H61<=Нормативы!$H$68,\"III юн\",\"б/р\")))))))))))","v":"МС"},null,null,{"$f":"IF(ISBLANK(L61),\" \",IF(ISTEXT(L61),\" \",IF(L61<=Нормативы!$H$60,\"КМС\",IF(L61<=Нормативы!$H$61,\"КМС\",IF(L61<=Нормативы!$L$62,\"КМС\",IF(L61<=Нормативы!$L$63,\"I\",IF(L61<=Нормативы!$L$64,\"II\",IF(L61<=Нормативы!$L$65,\"III\",IF(L61<=Нормативы!$L$66,\"I юн\",IF(L61<=Нормативы!$L$67,\"II юн\",IF(L61<=Нормативы!$L$68,\"III юн\",\"б/р\")))))))))))","v":" "},{"$f":"IF(ISBLANK(L61),\" \",IF(ISTEXT(L61),\" \",IF(L61<=36,\"МСМК\",IF(L61<=37.8,\"МС\",IF(L61<=39.4,\"КМС\",IF(L61<=42.3,\"I\",IF(L61<=45.9,\"II\",IF(L61<=49.8,\"III\",IF(L61<=54.6,\"I юн\",IF(L61<=59.6,\"II юн\",IF(L61<=104.6,\"III юн\",\"б/р\")))))))))))","v":" "},null,null,{"$f":"IF(ISBLANK(P61),\" \",IF(ISTEXT(P61),\" \",IF(P61<=$H$60,\"МСМК\",IF(P61<=$H$61,\"МС\",IF(P61<=$H$62,\"КМС\",IF(P61<=$H$63,\"I\",IF(P61<=$H$64,\"II\",IF(P61<=$H$65,\"III\",IF(P61<=$H$66,\"I юн\",IF(P61<=$H$67,\"II юн\",IF(P61<=$H$68,\"III юн\",\"б/р\")))))))))))","v":" "}]
[{"$nulls":7},39.2,{"$f":"IF(ISBLANK(H62),\" \",IF(ISTEXT(H62),\" \",IF(H62<=Нормативы!$H$60,\"МСМК\",IF(H62<=Нормативы!$H$61,\"МС\",IF(H62<=Нормативы!$H$62,\"КМС\",IF(H62<=Нормативы!$H$63,\"I\",IF(H62<=Нормативы!$H$64,\"II\",IF(H62<=Нормативы!$H$65,\"III\",IF(H62<=Нормативы!$H$66,\"I юн\",IF(H62<=Нормативы!$H$67,\"II юн\",IF(H62<=Нормативы!$H$68,\"III юн\",\"б/р\")))))))))))","v":"КМС"},{"$f":"IF(ISBLANK(H62),\" \",IF(ISTEXT(H62),\" \",IF(H62<=Нормативы!$H$60,\"МСМК\",IF(H62<=Нормативы!$H$61,\"МС\",IF(H62<=Нормативы!$H$62,\"КМС\",IF(H62<=Нормативы!$H$63,\"I\",IF(H62<=Нормативы!$H$64,\"II\",IF(H62<=Нормативы!$H$65,\"III\",IF(H62<=Нормативы!$H$66,\"I юн\",IF(H62<=Нормативы!$H$67,\"II юн\",IF(H62<=Нормативы!$H$68,\"III юн\",\"б/р\")))))))))))","v":"КМС"},null,{"$f":"H62-0.2","v":39},{"$f":"IF(ISBLANK(L62),\" \",IF(ISTEXT(L62),\" \",IF(L62<=Нормативы!$H$60,\"КМС\",IF(L62<=Нормативы!$H$61,\"КМС\",IF(L62<=Нормативы!$L$62,\"КМС\",IF(L62<=Нормативы!$L$63,\"I\",IF(L62<=Нормативы!$L$64,\"II\",IF(L62<=Нормативы!$L$65,\"III\",IF(L62<=Нормативы!$L$66,\"I юн\",IF(L62<=Нормативы!$L$67,\"II юн\",IF(L62<=Нормативы!$L$68,\"III юн\",\"б/р\")))))))))))","v":"КМС"},{"$f":"IF(ISBLANK(L62),\" \",IF(ISTEXT(L62),\" \",IF(L62<=Нормативы!$H$60,\"КМС\",IF(L62<=Нормативы!$H$61,\"КМС\",IF(L62<=Нормативы!$L$62,\"КМС\",IF(L62<=Нормативы!$L$63,\"I\",IF(L62<=Нормативы!$L$64,\"II\",IF(L62<=Нормативы!$L$65,\"III\",IF(L62<=Нормативы!$L$66,\"I юн\",IF(L62<=Нормативы!$L$67,\"II юн\",IF(L62<=Нормативы!$L$68,\"III юн\",\"б/р\")))))))))))","v":"КМС"},null,null,{"$f":"IF(ISBLANK(P62),\" \",IF(ISTEXT(P62),\" \",IF(P62<=$H$60,\"МСМК\",IF(P62<=$H$61,\"МС\",IF(P62<=$H$62,\"КМС\",IF(P62<=$H$63,\"I\",IF(P62<=$H$64,\"II\",IF(P62<=$H$65,\"III\",IF(P62<=$H$66,\"I юн\",IF(P62<=$H$67,\"II юн\",IF(P62<=$H$68,\"III юн\",\"б/р\")))))))))))","v":" "}]
[{"$nulls":7},42,{"$f":"IF(ISBLANK(H63),\" \",IF(ISTEXT(H63),\" \",IF(H63<=Нормативы!$H$60,\"МСМК\",IF(H63<=Нормативы!$H$61,\"МС\",IF(H63<=Нормативы!$H$62,\"КМС\",IF(H63<=Нормативы!$H$63,\"I\",IF(H63<=Нормативы!$H$64,\"II\",IF(H63<=Нормативы!$H$65,\"III\",IF(H63<=Нормативы!$H$66,\"I юн\",IF(H63<=Нормативы!$H$67,\"II юн\",IF(H63<=Нормативы!$H$68,\"III юн\",\"б/р\")))))))))))","v":"I"},{"$f":"IF(ISBLANK(H63),\" \",IF(ISTEXT(H63),\" \",IF(H63<=Нормативы!$H$60,\"МСМК\",IF(H63<=Нормативы!$H$61,\"МС\",IF(H63<=Нормативы!$H$62,\"КМС\",IF(H63<=Нормативы!$H$63,\"I\",IF(H63<=Нормативы!$H$64,\"II\",IF(H63<=Нормативы!$H$65,\"III\",IF(H63<=Нормативы!$H$66,\"I юн\",IF(H63<=Нормативы!$H$67,\"II юн\",IF(H63<=Нормативы!$H$68,\"III юн\",\"б/р\")))))))))))","v":"I"},null,41.8,{"$f":"IF(ISBLANK(L63),\" \",IF(ISTEXT(L63),\" \",IF(L63<=Нормативы!$H$60,\"КМС\",IF(L63<=Нормативы!$H$61,\"КМС\",IF(L63<=Нормативы!$L$62,\"КМС\",IF(L63<=Нормативы!$L$63,\"I\",IF(L63<=Нормативы!$L$64,\"II\",IF(L63<=Нормативы!$L$65,\"III\",IF(L63<=Нормативы!$L$66,\"I юн\",IF(L63<=Нормативы!$L$67,\"II юн\",IF(L63<=Нормативы!$L$68,\"III юн\",\"б/р\")))))))))))","v":"I"},{"$f":"IF(ISBLANK(L63),\" \",IF(ISTEXT(L63),\" \",IF(L63<=Нормативы!$H$60,\"КМС\",IF(L63<=Нормативы!$H$61,\"КМС\",IF(L63<=Нормативы!$L$62,\"КМС\",IF(L63<=Нормативы!$L$63,\"I\",IF(L63<=Нормативы!$L$64,\"II\",IF(L63<=Нормативы!$L$65,\"III\",IF(L63<=Нормативы!$L$66,\"I юн\",IF(L63<=Нормативы!$L$67,\"II юн\",IF(L63<=Нормативы!$L$68,\"III юн\",\"б/р\")))))))))))","v":"I"},null,null,{"$f":"IF(ISBLANK(P63),\" \",IF(ISTEXT(P63),\" \",IF(P63<=$H$60,\"МСМК\",IF(P63<=$H$61,\"МС\",IF(P63<=$H$62,\"КМС\",IF(P63<=$H$63,\"I\",IF(P63<=$H$64,\"II\",IF(P63<=$H$65,\"III\",IF(P63<=$H$66,\"I юн\",IF(P63<=$H$67,\"II юн\",IF(P63<=$H$68,\"III юн\",\"б/р\")))))))))))","v":" "}]
[{"$nulls":7},45.7,{"$f":"IF(ISBLANK(H64),\" \",IF(ISTEXT(H64),\" \",IF(H64<=Нормативы!$H$60,\"МСМК\",IF(H64<=Нормативы!$H$61,\"МС\",IF(H64<=Нормативы!$H$62,\"КМС\",IF(H64<=Нормативы!$H$63,\"I\",IF(H64<=Нормативы!$H$64,\"II\",IF(H64<=Нормативы!$H$65,\"III\",IF(H64<=Нормативы!$H$66,\"I юн\",IF(H64<=Нормативы!$H$67,\"II юн\",IF(H64<=Нормативы!$H$68,\"III юн\",\"б/р\")))))))))))","v":"II"},{"$f":"IF(ISBLANK(H64),\" \",IF(ISTEXT(H64),\" \",IF(H64<=Нормативы!$H$60,\"МСМК\",IF(H64<=Нормативы!$H$61,\"МС\",IF(H64<=Нормативы!$H$62,\"КМС\",IF(H64<=Нормативы!$H$63,\"I\",IF(H64<=Нормативы!$H$64,\"II\",IF(H64<=Нормативы!$H$65,\"III\",IF(H64<=Нормативы!$H$66,\"I юн\",IF(H64<=Нормативы!$H$67,\"II юн\",IF(H64<=Нормативы!$H$68,\"III юн\",\"б/р\")))))))))))","v":"II"},null,45.5,{"$f":"IF(ISBLANK(L64),\" \",IF(ISTEXT(L64),\" \",IF(L64<=Нормативы!$H$60,\"КМС\",IF(L64<=Нормативы!$H$61,\"КМС\",IF(L64<=Нормативы!$L$62,\"КМС\",IF(L64<=Нормативы!$L$63,\"I\",IF(L64<=Нормативы!$L$64,\"II\",IF(L64<=Нормативы!$L$65,\"III\",IF(L64<=Нормативы!$L$66,\"I юн\",IF(L64<=Нормативы!$L$67,\"II юн\",IF(L64<=Нормативы!$L$68,\"III юн\",\"б/р\")))))))))))","v":"II"},{"$f":"IF(ISBLANK(L64),\" \",IF(ISTEXT(L64),\" \",IF(L64<=Нормативы!$H$60,\"КМС\",IF(L64<=Нормативы!$H$61,\"КМС\",IF(L64<=Нормативы!$L$62,\"КМС\",IF(L64<=Нормативы!$L$63,\"I\",IF(L64<=Нормативы!$L$64,\"II\",IF(L64<=Нормативы!$L$65,\"III\",IF(L64<=Нормативы!$L$66,\"I юн\",IF(L64<=Нормативы!$L$67,\"II юн\",IF(L64<=Нормативы!$L$68,\"III юн\",\"б/р\")))))))))))","v":"II"},null,null,{"$f":"IF(ISBLANK(P64),\" \",IF(ISTEXT(P64),\" \",IF(P64<=$H$60,\"МСМК\",IF(P64<=$H$61,\"МС\",IF(P64<=$H$62,\"КМС\",IF(P64<=$H$63,\"I\",IF(P64<=$H$64,\"II\",IF(P64<=$H$65,\"III\",IF(P64<=$H$66,\"I юн\",IF(P64<=$H$67,\"II юн\",IF(P64<=$H$68,\"III юн\",\"б/р\")))))))))))","v":" "}]
[{"$nulls":7},49.7,{"$f":"IF(ISBLANK(H65),\" \",IF(ISTEXT(H65),\" \",IF(H65<=Нормативы!$H$60,\"МСМК\",IF(H65<=Нормативы!$H$61,\"МС\",IF(H65<=Нормативы!$H$62,\"КМС\",IF(H65<=Нормативы!$H$63,\"I\",IF(H65<=Нормативы!$H$64,\"II\",IF(H65<=Нормативы!$H$65,\"III\",IF(H65<=Нормативы!$H$66,\"I юн\",IF(H65<=Нормативы!$H$67,\"II юн\",IF(H65<=Нормативы!$H$68,\"III юн\",\"б/р\")))))))))))","v":"III"},{"$f":"IF(ISBLANK(H65),\" \",IF(ISTEXT(H65),\" \",IF(H65<=Нормативы!$H$60,\"МСМК\",IF(H65<=Нормативы!$H$61,\"МС\",IF(H65<=Нормативы!$H$62,\"КМС\",IF(H65<=Нормативы!$H$63,\"I\",IF(H65<=Нормативы!$H$64,\"II\",IF(H65<=Нормативы!$H$65,\"III\",IF(H65<=Нормативы!$H$66,\"I юн\",IF(H65<=Нормативы!$H$67,\"II юн\",IF(H65<=Нормативы!$H$68,\"III юн\",\"б/р\")))))))))))","v":"III"},null,49.5,{"$f":"IF(ISBLANK(L65),\" \",IF(ISTEXT(L65),\" \",IF(L65<=Нормативы!$H$60,\"КМС\",IF(L65<=Нормативы!$H$61,\"КМС\",IF(L65<=Нормативы!$L$62,\"КМС\",IF(L65<=Нормативы!$L$63,\"I\",IF(L65<=Нормативы!$L$64,\"II\",IF(L65<=Нормативы!$L$65,\"III\",IF(L65<=Нормативы!$L$66,\"I юн\",IF(L65<=Нормативы!$L$67,\"II юн\",IF(L65<=Нормативы!$L$68,\"III юн\",\"б/р\")))))))))))","v":"III"},{"$f":"IF(ISBLANK(L65),\" \",IF(ISTEXT(L65),\" \",IF(L65<=Нормативы!$H$60,\"КМС\",IF(L65<=Нормативы!$H$61,\"КМС\",IF(L65<=Нормативы!$L$62,\"КМС\",IF(L65<=Нормативы!$L$63,\"I\",IF(L65<=Нормативы!$L$64,\"II\",IF(L65<=Нормативы!$L$65,\"III\",IF(L65<=Нормативы!$L$66,\"I юн\",IF(L65<=Нормативы!$L$67,\"II юн\",IF(L65<=Нормативы!$L$68,\"III юн\",\"б/р\")))))))))))","v":"III"},null,null,{"$f":"IF(ISBLANK(P65),\" \",IF(ISTEXT(P65),\" \",IF(P65<=$H$60,\"МСМК\",IF(P65<=$H$61,\"МС\",IF(P65<=$H$62,\"КМС\",IF(P65<=$H$63,\"I\",IF(P65<=$H$64,\"II\",IF(P65<=$H$65,\"III\",IF(P65<=$H$66,\"I юн\",IF(P65<=$H$67,\"II юн\",IF(P65<=$H$68,\"III юн\",\"б/р\")))))))))))","v":" "}]
[{"$nulls":7},54.300000000000004,{"$f":"IF(ISBLANK(H66),\" \",IF(ISTEXT(H66),\" \",IF(H66<=Нормативы!$H$60,\"МСМК\",IF(H66<=Нормативы!$H$61,\"МС\",IF(H66<=Нормативы!$H$62,\"КМС\",IF(H66<=Нормативы!$H$63,\"I\",IF(H66<=Нормативы!$H$64,\"II\",IF(H66<=Нормативы!$H$65,\"III\",IF(H66<=Нормативы!$H$66,\"I юн\",IF(H66<=Нормативы!$H$67,\"II юн\",IF(H66<=Нормативы!$H$68,\"III юн\",\"б/р\")))))))))))","v":"I юн"},{"$f":"IF(ISBLANK(H66),\" \",IF(ISTEXT(H66),\" \",IF(H66<=Нормативы!$H$60,\"МСМК\",IF(H66<=Нормативы!$H$61,\"МС\",IF(H66<=Нормативы!$H$62,\"КМС\",IF(H66<=Нормативы!$H$63,\"I\",IF(H66<=Нормативы!$H$64,\"II\",IF(H66<=Нормативы!$H$65,\"III\",IF(H66<=Нормативы!$H$66,\"I юн\",IF(H66<=Нормативы!$H$67,\"II юн\",IF(H66<=Нормативы!$H$68,\"III юн\",\"б/р\")))))))))))","v":"I юн"},null,54.1,{"$f":"IF(ISBLANK(L66),\" \",IF(ISTEXT(L66),\" \",IF(L66<=Нормативы!$H$60,\"КМС\",IF(L66<=Нормативы!$H$61,\"КМС\",IF(L66<=Нормативы!$L$62,\"КМС\",IF(L66<=Нормативы!$L$63,\"I\",IF(L66<=Нормативы!$L$64,\"II\",IF(L66<=Нормативы!$L$65,\"III\",IF(L66<=Нормативы!$L$66,\"I юн\",IF(L66<=Нормативы!$L$67,\"II юн\",IF(L66<=Нормативы!$L$68,\"III юн\",\"б/р\")))))))))))","v":"I юн"},{"$f":"IF(ISBLANK(L66),\" \",IF(ISTEXT(L66),\" \",IF(L66<=Нормативы!$H$60,\"КМС\",IF(L66<=Нормативы!$H$61,\"КМС\",IF(L66<=Нормативы!$L$62,\"КМС\",IF(L66<=Нормативы!$L$63,\"I\",IF(L66<=Нормативы!$L$64,\"II\",IF(L66<=Нормативы!$L$65,\"III\",IF(L66<=Нормативы!$L$66,\"I юн\",IF(L66<=Нормативы!$L$67,\"II юн\",IF(L66<=Нормативы!$L$68,\"III юн\",\"б/р\")))))))))))","v":"I юн"},null,null,{"$f":"IF(ISBLANK(P66),\" \",IF(ISTEXT(P66),\" \",IF(P66<=$H$60,\"МСМК\",IF(P66<=$H$61,\"МС\",IF(P66<=$H$62,\"КМС\",IF(P66<=$H$63,\"I\",IF(P66<=$H$64,\"II\",IF(P66<=$H$65,\"III\",IF(P66<=$H$66,\"I юн\",IF(P66<=$H$67,\"II юн\",IF(P66<=$H$68,\"III юн\",\"б/р\")))))))))))","v":" "}]
[{"$nulls":7},59.2,{"$f":"IF(ISBLANK(H67),\" \",IF(ISTEXT(H67),\" \",IF(H67<=Нормативы!$H$60,\"МСМК\",IF(H67<=Нормативы!$H$61,\"МС\",IF(H67<=Нормативы!$H$62,\"КМС\",IF(H67<=Нормативы!$H$63,\"I\",IF(H67<=Нормативы!$H$64,\"II\",IF(H67<=Нормативы!$H$65,\"III\",IF(H67<=Нормативы!$H$66,\"I юн\",IF(H67<=Нормативы!$H$67,\"II юн\",IF(H67<=Нормативы!$H$68,\"III юн\",\"б/р\")))))))))))","v":"II юн"},{"$f":"IF(ISBLANK(H67),\" \",IF(ISTEXT(H67),\" \",IF(H67<=Нормативы!$H$60,\"МСМК\",IF(H67<=Нормативы!$H$61,\"МС\",IF(H67<=Нормативы!$H$62,\"КМС\",IF(H67<=Нормативы!$H$63,\"I\",IF(H67<=Нормативы!$H$64,\"II\",IF(H67<=Нормативы!$H$65,\"III\",IF(H67<=Нормативы!$H$66,\"I юн\",IF(H67<=Нормативы!$H$67,\"II юн\",IF(H67<=Нормативы!$H$68,\"III юн\",\"б/р\")))))))))))","v":"II юн"},null,59,{"$f":"IF(ISBLANK(L67),\" \",IF(ISTEXT(L67),\" \",IF(L67<=Нормативы!$H$60,\"КМС\",IF(L67<=Нормативы!$H$61,\"КМС\",IF(L67<=Нормативы!$L$62,\"КМС\",IF(L67<=Нормативы!$L$63,\"I\",IF(L67<=Нормативы!$L$64,\"II\",IF(L67<=Нормативы!$L$65,\"III\",IF(L67<=Нормативы!$L$66,\"I юн\",IF(L67<=Нормативы!$L$67,\"II юн\",IF(L67<=Нормативы!$L$68,\"III юн\",\"б/р\")))))))))))","v":"II юн"},{"$f":"IF(ISBLANK(L67),\" \",IF(ISTEXT(L67),\" \",IF(L67<=Нормативы!$H$60,\"КМС\",IF(L67<=Нормативы!$H$61,\"КМС\",IF(L67<=Нормативы!$L$62,\"КМС\",IF(L67<=Нормативы!$L$63,\"I\",IF(L67<=Нормативы!$L$64,\"II\",IF(L67<=Нормативы!$L$65,\"III\",IF(L67<=Нормативы!$L$66,\"I юн\",IF(L67<=Нормативы!$L$67,\"II юн\",IF(L67<=Нормативы!$L$68,\"III юн\",\"б/р\")))))))))))","v":"II юн"},null,null,{"$f":"IF(ISBLANK(P67),\" \",IF(ISTEXT(P67),\" \",IF(P67<=$H$60,\"МСМК\",IF(P67<=$H$61,\"МС\",IF(P67<=$H$62,\"КМС\",IF(P67<=$H$63,\"I\",IF(P67<=$H$64,\"II\",IF(P67<=$H$65,\"III\",IF(P67<=$H$66,\"I юн\",IF(P67<=$H$67,\"II юн\",IF(P67<=$H$68,\"III юн\",\"б/р\")))))))))))","v":" "}]
[{"$nulls":7},104.2,{"$f":"IF(ISBLANK(H68),\" \",IF(ISTEXT(H68),\" \",IF(H68<=Нормативы!$H$60,\"МСМК\",IF(H68<=Нормативы!$H$61,\"МС\",IF(H68<=Нормативы!$H$62,\"КМС\",IF(H68<=Нормативы!$H$63,\"I\",IF(H68<=Нормативы!$H$64,\"II\",IF(H68<=Нормативы!$H$65,\"III\",IF(H68<=Нормативы!$H$66,\"I юн\",IF(H68<=Нормативы!$H$67,\"II юн\",IF(H68<=Нормативы!$H$68,\"III юн\",\"б/р\")))))))))))","v":"III юн"},{"$f":"IF(ISBLANK(H68),\" \",IF(ISTEXT(H68),\" \",IF(H68<=Нормативы!$H$60,\"МСМК\",IF(H68<=Нормативы!$H$61,\"МС\",IF(H68<=Нормативы!$H$62,\"КМС\",IF(H68<=Нормативы!$H$63,\"I\",IF(H68<=Нормативы!$H$64,\"II\",IF(H68<=Нормативы!$H$65,\"III\",IF(H68<=Нормативы!$H$66,\"I юн\",IF(H68<=Нормативы!$H$67,\"II юн\",IF(H68<=Нормативы!$H$68,\"III юн\",\"б/р\")))))))))))","v":"III юн"},null,104,{"$f":"IF(ISBLANK(L68),\" \",IF(ISTEXT(L68),\" \",IF(L68<=Нормативы!$H$60,\"КМС\",IF(L68<=Нормативы!$H$61,\"КМС\",IF(L68<=Нормативы!$L$62,\"КМС\",IF(L68<=Нормативы!$L$63,\"I\",IF(L68<=Нормативы!$L$64,\"II\",IF(L68<=Нормативы!$L$65,\"III\",IF(L68<=Нормативы!$L$66,\"I юн\",IF(L68<=Нормативы!$L$67,\"II юн\",IF(L68<=Нормативы!$L$68,\"III юн\",\"б/р\")))))))))))","v":"III юн"},{"$f":"IF(ISBLANK(L68),\" \",IF(ISTEXT(L68),\" \",IF(L68<=Нормативы!$H$60,\"КМС\",IF(L68<=Нормативы!$H$61,\"КМС\",IF(L68<=Нормативы!$L$62,\"КМС\",IF(L68<=Нормативы!$L$63,\"I\",IF(L68<=Нормативы!$L$64,\"II\",IF(L68<=Нормативы!$L$65,\"III\",IF(L68<=Нормативы!$L$66,\"I юн\",IF(L68<=Нормативы!$L$67,\"II юн\",IF(L68<=Нормативы!$L$68,\"III юн\",\"б/р\")))))))))))","v":"III юн"},null,null,{"$f":"IF(ISBLANK(P68),\" \",IF(ISTEXT(P68),\" \",IF(P68<=$H$60,\"МСМК\",IF(P68<=$H$61,\"МС\",IF(P68<=$H$62,\"КМС\",IF(P68<=$H$63,\"I\",IF(P68<=$H$64,\"II\",IF(P68<=$H$65,\"III\",IF(P68<=$H$66,\"I юн\",IF(P68<=$H$67,\"II юн\",IF(P68<=$H$68,\"III юн\",\"б/р\")))))))))))","v":" "}]
[]
[null,null,"Плавание в классических ластах- 100 м (1460251811Я),  женщины"]
[{"$nulls":7},47.9,{"$f":"IF(ISBLANK(H71),\" \",IF(ISTEXT(H71),\" \",IF(H71<=Нормативы!$H$71,\"МСМК\",IF(H71<=Нормативы!$H$72,\"МС\",IF(H71<=Нормативы!$H$73,\"КМС\",IF(H71<=Нормативы!$H$74,\"I\",IF(H71<=Нормативы!$H$75,\"II\",IF(H71<=Нормативы!$H$76,\"III\",IF(H71<=Нормативы!$H$77,\"I юн\",IF(H71<=Нормативы!$H$78,\"II юн\",IF(H71<=Нормативы!$H$79,\"III юн\",\"б/р\")))))))))))","v":"МСМК"},{"$f":"IF(ISBLANK(H71),\" \",IF(ISTEXT(H71),\" \",IF(H71<=Нормативы!$H$71,\"МСМК\",IF(H71<=Нормативы!$H$72,\"МС\",IF(H71<=Нормативы!$H$73,\"КМС\",IF(H71<=Нормативы!$H$74,\"I\",IF(H71<=Нормативы!$H$75,\"II\",IF(H71<=Нормативы!$H$76,\"III\",IF(H71<=Нормативы!$H$77,\"I юн\",IF(H71<=Нормативы!$H$78,\"II юн\",IF(H71<=Нормативы!$H$79,\"III юн\",\"б/р\")))))))))))","v":"МСМК"},null,null,{"$f":"IF(ISBLANK(L71),\" \",IF(ISTEXT(L71),\" \",IF(L71<=Нормативы!$H$71,\"КМС\",IF(L71<=Нормативы!$H$72,\"КМС\",IF(L71<=Нормативы!$L$73,\"КМС\",IF(L71<=Нормативы!$L$74,\"I\",IF(L71<=Нормативы!$L$75,\"II\",IF(L71<=Нормативы!$L$76,\"III\",IF(L71<=Нормативы!$L$77,\"I юн\",IF(L71<=Нормативы!$L$78,\"II юн\",IF(L71<=Нормативы!$L$79,\"III юн\",\"б/р\")))))))))))","v":" "},{"$f":"IF(ISBLANK(L71),\" \",IF(ISTEXT(L71),\" \",IF(L71<=48.1,\"МСМК\",IF(L71<=51,\"МС\",IF(L71<=53.3,\"КМС\",IF(L71<=57.3,\"I\",IF(L71<=101.9,\"II\",IF(L71<=107.8,\"III\",IF(L71<=113.5,\"I юн\",IF(L71<=119.6,\"II юн\",IF(L71<=126,\"III юн\",\"б/р\")))))))))))","v":" "},null,null,{"$f":"IF(ISBLANK(P71),\" \",IF(ISTEXT(P71),\" \",IF(P71<=$H$71,\"МСМК\",IF(P71<=$H$72,\"МС\",IF(P71<=$H$73,\"КМС\",IF(P71<=$H$74,\"I\",IF(P71<=$H$75,\"II\",IF(P71<=$H$76,\"III\",IF(P71<=$H$77,\"I юн\",IF(P71<=$H$78,\"II юн\",IF(P71<=$H$79,\"III юн\",\"б/р\")))))))))))","v":" "}]
[{"$nulls":7},50,{"$f":"IF(ISBLANK(H72),\" \",IF(ISTEXT(H72),\" \",IF(H72<=Нормативы!$H$71,\"МСМК\",IF(H72<=Нормативы!$H$72,\"МС\",IF(H72<=Нормативы!$H$73,\"КМС\",IF(H72<=Нормативы!$H$74,\"I\",IF(H72<=Нормативы!$H$75,\"II\",IF(H72<=Нормативы!$H$76,\"III\",IF(H72<=Нормативы!$H$77,\"I юн\",IF(H72<=Нормативы!$H$78,\"II юн\",IF(H72<=Нормативы!$H$79,\"III юн\",\"б/р\")))))))))))","v":"МС"},{"$f":"IF(ISBLANK(H72),\" \",IF(ISTEXT(H72),\" \",IF(H72<=Нормативы!$H$71,\"МСМК\",IF(H72<=Нормативы!$H$72,\"МС\",IF(H72<=Нормативы!$H$73,\"КМС\",IF(H72<=Нормативы!$H$74,\"I\",IF(H72<=Нормативы!$H$75,\"II\",IF(H72<=Нормативы!$H$76,\"III\",IF(H72<=Нормативы!$H$77,\"I юн\",IF(H72<=Нормативы!$H$78,\"II юн\",IF(H72<=Нормативы!$H$79,\"III юн\",\"б/р\")))))))))))","v":"МС"},null,null,{"$f":"IF(ISBLANK(L72),\" \",IF(ISTEXT(L72),\" \",IF(L72<=Нормативы!$H$71,\"КМС\",IF(L72<=Нормативы!$H$72,\"КМС\",IF(L72<=Нормативы!$L$73,\"КМС\",IF(L72<=Нормативы!$L$74,\"I\",IF(L72<=Нормативы!$L$75,\"II\",IF(L72<=Нормативы!$L$76,\"III\",IF(L72<=Нормативы!$L$77,\"I юн\",IF(L72<=Нормативы!$L$78,\"II юн\",IF(L72<=Нормативы!$L$79,\"III юн\",\"б/р\")))))))))))","v":" "},{"$f":"IF(ISBLANK(L72),\" \",IF(ISTEXT(L72),\" \",IF(L72<=48.1,\"МСМК\",IF(L72<=51,\"МС\",IF(L72<=53.3,\"КМС\",IF(L72<=57.3,\"I\",IF(L72<=101.9,\"II\",IF(L72<=107.8,\"III\",IF(L72<=113.5,\"I юн\",IF(L72<=119.6,\"II юн\",IF(L72<=126,\"III юн\",\"б/р\")))))))))))","v":" "},null,null,{"$f":"IF(ISBLANK(P72),\" \",IF(ISTEXT(P72),\" \",IF(P72<=$H$71,\"МСМК\",IF(P72<=$H$72,\"МС\",IF(P72<=$H$73,\"КМС\",IF(P72<=$H$74,\"I\",IF(P72<=$H$75,\"II\",IF(P72<=$H$76,\"III\",IF(P72<=$H$77,\"I юн\",IF(P72<=$H$78,\"II юн\",IF(P72<=$H$79,\"III юн\",\"б/р\")))))))))))","v":" "}]
[{"$nulls":7},53.2,{"$f":"IF(ISBLANK(H73),\" \",IF(ISTEXT(H73),\" \",IF(H73<=Нормативы!$H$71,\"МСМК\",IF(H73<=Нормативы!$H$72,\"МС\",IF(H73<=Нормативы!$H$73,\"КМС\",IF(H73<=Нормативы!$H$74,\"I\",IF(H73<=Нормативы!$H$75,\"II\",IF(H73<=Нормативы!$H$76,\"III\",IF(H73<=Нормативы!$H$77,\"I юн\",IF(H73<=Нормативы!$H$78,\"II юн\",IF(H73<=Нормативы!$H$79,\"III юн\",\"б/р\")))))))))))","v":"КМС"},{"$f":"IF(ISBLANK(H73),\" \",IF(ISTEXT(H73),\" \",IF(H73<=Нормативы!$H$71,\"МСМК\",IF(H73<=Нормативы!$H$72,\"МС\",IF(H73<=Нормативы!$H$73,\"КМС\",IF(H73<=Нормативы!$H$74,\"I\",IF(H73<=Нормативы!$H$75,\"II\",IF(H73<=Нормативы!$H$76,\"III\",IF(H73<=Нормативы!$H$77,\"I юн\",IF(H73<=Нормативы!$H$78,\"II юн\",IF(H73<=Нормативы!$H$79,\"III юн\",\"б/р\")))))))))))","v":"КМС"},null,{"$f":"H73-0.2","v":53},{"$f":"IF(ISBLANK(L73),\" \",IF(ISTEXT(L73),\" \",IF(L73<=Нормативы!$H$71,\"КМС\",IF(L73<=Нормативы!$H$72,\"КМС\",IF(L73<=Нормативы!$L$73,\"КМС\",IF(L73<=Нормативы!$L$74,\"I\",IF(L73<=Нормативы!$L$75,\"II\",IF(L73<=Нормативы!$L$76,\"III\",IF(L73<=Нормативы!$L$77,\"I юн\",IF(L73<=Нормативы!$L$78,\"II юн\",IF(L73<=Нормативы!$L$79,\"III юн\",\"б/р\")))))))))))","v":"КМС"},{"$f":"IF(ISBLANK(L73),\" \",IF(ISTEXT(L73),\" \",IF(L73<=Нормативы!$H$71,\"КМС\",IF(L73<=Нормативы!$H$72,\"КМС\",IF(L73<=Нормативы!$L$73,\"КМС\",IF(L73<=Нормативы!$L$74,\"I\",IF(L73<=Нормативы!$L$75,\"II\",IF(L73<=Нормативы!$L$76,\"III\",IF(L73<=Нормативы!$L$77,\"I юн\",IF(L73<=Нормативы!$L$78,\"II юн\",IF(L73<=Нормативы!$L$79,\"III юн\",\"б/р\")))))))))))","v":"КМС"},null,null,{"$f":"IF(ISBLANK(P73),\" \",IF(ISTEXT(P73),\" \",IF(P73<=$H$71,\"МСМК\",IF(P73<=$H$72,\"МС\",IF(P73<=$H$73,\"КМС\",IF(P73<=$H$74,\"I\",IF(P73<=$H$75,\"II\",IF(P73<=$H$76,\"III\",IF(P73<=$H$77,\"I юн\",IF(P73<=$H$78,\"II юн\",IF(P73<=$H$79,\"III юн\",\"б/р\")))))))))))","v":" "}]
[{"$nulls":7},57,{"$f":"IF(ISBLANK(H74),\" \",IF(ISTEXT(H74),\" \",IF(H74<=Нормативы!$H$71,\"МСМК\",IF(H74<=Нормативы!$H$72,\"МС\",IF(H74<=Нормативы!$H$73,\"КМС\",IF(H74<=Нормативы!$H$74,\"I\",IF(H74<=Нормативы!$H$75,\"II\",IF(H74<=Нормативы!$H$76,\"III\",IF(H74<=Нормативы!$H$77,\"I юн\",IF(H74<=Нормативы!$H$78,\"II юн\",IF(H74<=Нормативы!$H$79,\"III юн\",\"б/р\")))))))))))","v":"I"},{"$f":"IF(ISBLANK(H74),\" \",IF(ISTEXT(H74),\" \",IF(H74<=Нормативы!$H$71,\"МСМК\",IF(H74<=Нормативы!$H$72,\"МС\",IF(H74<=Нормативы!$H$73,\"КМС\",IF(H74<=Нормативы!$H$74,\"I\",IF(H74<=Нормативы!$H$75,\"II\",IF(H74<=Нормативы!$H$76,\"III\",IF(H74<=Нормативы!$H$77,\"I юн\",IF(H74<=Нормативы!$H$78,\"II юн\",IF(H74<=Нормативы!$H$79,\"III юн\",\"б/р\")))))))))))","v":"I"},null,56.8,{"$f":"IF(ISBLANK(L74),\" \",IF(ISTEXT(L74),\" \",IF(L74<=Нормативы!$H$71,\"КМС\",IF(L74<=Нормативы!$H$72,\"КМС\",IF(L74<=Нормативы!$L$73,\"КМС\",IF(L74<=Нормативы!$L$74,\"I\",IF(L74<=Нормативы!$L$75,\"II\",IF(L74<=Нормативы!$L$76,\"III\",IF(L74<=Нормативы!$L$77,\"I юн\",IF(L74<=Нормативы!$L$78,\"II юн\",IF(L74<=Нормативы!$L$79,\"III юн\",\"б/р\")))))))))))","v":"I"},{"$f":"IF(ISBLANK(L74),\" \",IF(ISTEXT(L74),\" \",IF(L74<=Нормативы!$H$71,\"КМС\",IF(L74<=Нормативы!$H$72,\"КМС\",IF(L74<=Нормативы!$L$73,\"КМС\",IF(L74<=Нормативы!$L$74,\"I\",IF(L74<=Нормативы!$L$75,\"II\",IF(L74<=Нормативы!$L$76,\"III\",IF(L74<=Нормативы!$L$77,\"I юн\",IF(L74<=Нормативы!$L$78,\"II юн\",IF(L74<=Нормативы!$L$79,\"III юн\",\"б/р\")))))))))))","v":"I"},null,null,{"$f":"IF(ISBLANK(P74),\" \",IF(ISTEXT(P74),\" \",IF(P74<=$H$71,\"МСМК\",IF(P74<=$H$72,\"МС\",IF(P74<=$H$73,\"КМС\",IF(P74<=$H$74,\"I\",IF(P74<=$H$75,\"II\",IF(P74<=$H$76,\"III\",IF(P74<=$H$77,\"I юн\",IF(P74<=$H$78,\"II юн\",IF(P74<=$H$79,\"III юн\",\"б/р\")))))))))))","v":" "}]
[{"$nulls":7},101.60000000000001,{"$f":"IF(ISBLANK(H75),\" \",IF(ISTEXT(H75),\" \",IF(H75<=Нормативы!$H$71,\"МСМК\",IF(H75<=Нормативы!$H$72,\"МС\",IF(H75<=Нормативы!$H$73,\"КМС\",IF(H75<=Нормативы!$H$74,\"I\",IF(H75<=Нормативы!$H$75,\"II\",IF(H75<=Нормативы!$H$76,\"III\",IF(H75<=Нормативы!$H$77,\"I юн\",IF(H75<=Нормативы!$H$78,\"II юн\",IF(H75<=Нормативы!$H$79,\"III юн\",\"б/р\")))))))))))","v":"II"},{"$f":"IF(ISBLANK(H75),\" \",IF(ISTEXT(H75),\" \",IF(H75<=Нормативы!$H$71,\"МСМК\",IF(H75<=Нормативы!$H$72,\"МС\",IF(H75<=Нормативы!$H$73,\"КМС\",IF(H75<=Нормативы!$H$74,\"I\",IF(H75<=Нормативы!$H$75,\"II\",IF(H75<=Нормативы!$H$76,\"III\",IF(H75<=Нормативы!$H$77,\"I юн\",IF(H75<=Нормативы!$H$78,\"II юн\",IF(H75<=Нормативы!$H$79,\"III юн\",\"б/р\")))))))))))","v":"II"},null,101.4,{"$f":"IF(ISBLANK(L75),\" \",IF(ISTEXT(L75),\" \",IF(L75<=Нормативы!$H$71,\"КМС\",IF(L75<=Нормативы!$H$72,\"КМС\",IF(L75<=Нормативы!$L$73,\"КМС\",IF(L75<=Нормативы!$L$74,\"I\",IF(L75<=Нормативы!$L$75,\"II\",IF(L75<=Нормативы!$L$76,\"III\",IF(L75<=Нормативы!$L$77,\"I юн\",IF(L75<=Нормативы!$L$78,\"II юн\",IF(L75<=Нормативы!$L$79,\"III юн\",\"б/р\")))))))))))","v":"II"},{"$f":"IF(ISBLANK(L75),\" \",IF(ISTEXT(L75),\" \",IF(L75<=Нормативы!$H$71,\"КМС\",IF(L75<=Нормативы!$H$72,\"КМС\",IF(L75<=Нормативы!$L$73,\"КМС\",IF(L75<=Нормативы!$L$74,\"I\",IF(L75<=Нормативы!$L$75,\"II\",IF(L75<=Нормативы!$L$76,\"III\",IF(L75<=Нормативы!$L$77,\"I юн\",IF(L75<=Нормативы!$L$78,\"II юн\",IF(L75<=Нормативы!$L$79,\"III юн\",\"б/р\")))))))))))","v":"II"},null,null,{"$f":"IF(ISBLANK(P75),\" \",IF(ISTEXT(P75),\" \",IF(P75<=$H$71,\"МСМК\",IF(P75<=$H$72,\"МС\",IF(P75<=$H$73,\"КМС\",IF(P75<=$H$74,\"I\",IF(P75<=$H$75,\"II\",IF(P75<=$H$76,\"III\",IF(P75<=$H$77,\"I юн\",IF(P75<=$H$78,\"II юн\",IF(P75<=$H$79,\"III юн\",\"б/р\")))))))))))","v":" "}]
[{"$nulls":7},107.4,{"$f":"IF(ISBLANK(H76),\" \",IF(ISTEXT(H76),\" \",IF(H76<=Нормативы!$H$71,\"МСМК\",IF(H76<=Нормативы!$H$72,\"МС\",IF(H76<=Нормативы!$H$73,\"КМС\",IF(H76<=Нормативы!$H$74,\"I\",IF(H76<=Нормативы!$H$75,\"II\",IF(H76<=Нормативы!$H$76,\"III\",IF(H76<=Нормативы!$H$77,\"I юн\",IF(H76<=Нормативы!$H$78,\"II юн\",IF(H76<=Нормативы!$H$79,\"III юн\",\"б/р\")))))))))))","v":"III"},{"$f":"IF(ISBLANK(H76),\" \",IF(ISTEXT(H76),\" \",IF(H76<=Нормативы!$H$71,\"МСМК\",IF(H76<=Нормативы!$H$72,\"МС\",IF(H76<=Нормативы!$H$73,\"КМС\",IF(H76<=Нормативы!$H$74,\"I\",IF(H76<=Нормативы!$H$75,\"II\",IF(H76<=Нормативы!$H$76,\"III\",IF(H76<=Нормативы!$H$77,\"I юн\",IF(H76<=Нормативы!$H$78,\"II юн\",IF(H76<=Нормативы!$H$79,\"III юн\",\"б/р\")))))))))))","v":"III"},null,107.2,{"$f":"IF(ISBLANK(L76),\" \",IF(ISTEXT(L76),\" \",IF(L76<=Нормативы!$H$71,\"КМС\",IF(L76<=Нормативы!$H$72,\"КМС\",IF(L76<=Нормативы!$L$73,\"КМС\",IF(L76<=Нормативы!$L$74,\"I\",IF(L76<=Нормативы!$L$75,\"II\",IF(L76<=Нормативы!$L$76,\"III\",IF(L76<=Нормативы!$L$77,\"I юн\",IF(L76<=Нормативы!$L$78,\"II юн\",IF(L76<=Нормативы!$L$79,\"III юн\",\"б/р\")))))))))))","v":"III"},{"$f":"IF(ISBLANK(L76),\" \",IF(ISTEXT(L76),\" \",IF(L76<=Нормативы!$H$71,\"КМС\",IF(L76<=Нормативы!$H$72,\"КМС\",IF(L76<=Нормативы!$L$73,\"КМС\",IF(L76<=Нормативы!$L$74,\"I\",IF(L76<=Нормативы!$L$75,\"II\",IF(L76<=Нормативы!$L$76,\"III\",IF(L76<=Нормативы!$L$77,\"I юн\",IF(L76<=Нормативы!$L$78,\"II юн\",IF(L76<=Нормативы!$L$79,\"III юн\",\"б/р\")))))))))))","v":"III"},null,null,{"$f":"IF(ISBLANK(P76),\" \",IF(ISTEXT(P76),\" \",IF(P76<=$H$71,\"МСМК\",IF(P76<=$H$72,\"МС\",IF(P76<=$H$73,\"КМС\",IF(P76<=$H$74,\"I\",IF(P76<=$H$75,\"II\",IF(P76<=$H$76,\"III\",IF(P76<=$H$77,\"I юн\",IF(P76<=$H$78,\"II юн\",IF(P76<=$H$79,\"III юн\",\"б/р\")))))))))))","v":" "}]
[{"$nulls":7},113,{"$f":"IF(ISBLANK(H77),\" \",IF(ISTEXT(H77),\" \",IF(H77<=Нормативы!$H$71,\"МСМК\",IF(H77<=Нормативы!$H$72,\"МС\",IF(H77<=Нормативы!$H$73,\"КМС\",IF(H77<=Нормативы!$H$74,\"I\",IF(H77<=Нормативы!$H$75,\"II\",IF(H77<=Нормативы!$H$76,\"III\",IF(H77<=Нормативы!$H$77,\"I юн\",IF(H77<=Нормативы!$H$78,\"II юн\",IF(H77<=Нормативы!$H$79,\"III юн\",\"б/р\")))))))))))","v":"I юн"},{"$f":"IF(ISBLANK(H77),\" \",IF(ISTEXT(H77),\" \",IF(H77<=Нормативы!$H$71,\"МСМК\",IF(H77<=Нормативы!$H$72,\"МС\",IF(H77<=Нормативы!$H$73,\"КМС\",IF(H77<=Нормативы!$H$74,\"I\",IF(H77<=Нормативы!$H$75,\"II\",IF(H77<=Нормативы!$H$76,\"III\",IF(H77<=Нормативы!$H$77,\"I юн\",IF(H77<=Нормативы!$H$78,\"II юн\",IF(H77<=Нормативы!$H$79,\"III юн\",\"б/р\")))))))))))","v":"I юн"},null,112.8,{"$f":"IF(ISBLANK(L77),\" \",IF(ISTEXT(L77),\" \",IF(L77<=Нормативы!$H$71,\"КМС\",IF(L77<=Нормативы!$H$72,\"КМС\",IF(L77<=Нормативы!$L$73,\"КМС\",IF(L77<=Нормативы!$L$74,\"I\",IF(L77<=Нормативы!$L$75,\"II\",IF(L77<=Нормативы!$L$76,\"III\",IF(L77<=Нормативы!$L$77,\"I юн\",IF(L77<=Нормативы!$L$78,\"II юн\",IF(L77<=Нормативы!$L$79,\"III юн\",\"б/р\")))))))))))","v":"I юн"},{"$f":"IF(ISBLANK(L77),\" \",IF(ISTEXT(L77),\" \",IF(L77<=Нормативы!$H$71,\"КМС\",IF(L77<=Нормативы!$H$72,\"КМС\",IF(L77<=Нормативы!$L$73,\"КМС\",IF(L77<=Нормативы!$L$74,\"I\",IF(L77<=Нормативы!$L$75,\"II\",IF(L77<=Нормативы!$L$76,\"III\",IF(L77<=Нормативы!$L$77,\"I юн\",IF(L77<=Нормативы!$L$78,\"II юн\",IF(L77<=Нормативы!$L$79,\"III юн\",\"б/р\")))))))))))","v":"I юн"},null,null,{"$f":"IF(ISBLANK(P77),\" \",IF(ISTEXT(P77),\" \",IF(P77<=$H$71,\"МСМК\",IF(P77<=$H$72,\"МС\",IF(P77<=$H$73,\"КМС\",IF(P77<=$H$74,\"I\",IF(P77<=$H$75,\"II\",IF(P77<=$H$76,\"III\",IF(P77<=$H$77,\"I юн\",IF(P77<=$H$78,\"II юн\",IF(P77<=$H$79,\"III юн\",\"б/р\")))))))))))","v":" "}]
[{"$nulls":7},119,{"$f":"IF(ISBLANK(H78),\" \",IF(ISTEXT(H78),\" \",IF(H78<=Нормативы!$H$71,\"МСМК\",IF(H78<=Нормативы!$H$72,\"МС\",IF(H78<=Нормативы!$H$73,\"КМС\",IF(H78<=Нормативы!$H$74,\"I\",IF(H78<=Нормативы!$H$75,\"II\",IF(H78<=Нормативы!$H$76,\"III\",IF(H78<=Нормативы!$H$77,\"I юн\",IF(H78<=Нормативы!$H$78,\"II юн\",IF(H78<=Нормативы!$H$79,\"III юн\",\"б/р\")))))))))))","v":"II юн"},{"$f":"IF(ISBLANK(H78),\" \",IF(ISTEXT(H78),\" \",IF(H78<=Нормативы!$H$71,\"МСМК\",IF(H78<=Нормативы!$H$72,\"МС\",IF(H78<=Нормативы!$H$73,\"КМС\",IF(H78<=Нормативы!$H$74,\"I\",IF(H78<=Нормативы!$H$75,\"II\",IF(H78<=Нормативы!$H$76,\"III\",IF(H78<=Нормативы!$H$77,\"I юн\",IF(H78<=Нормативы!$H$78,\"II юн\",IF(H78<=Нормативы!$H$79,\"III юн\",\"б/р\")))))))))))","v":"II юн"},null,118.8,{"$f":"IF(ISBLANK(L78),\" \",IF(ISTEXT(L78),\" \",IF(L78<=Нормативы!$H$71,\"КМС\",IF(L78<=Нормативы!$H$72,\"КМС\",IF(L78<=Нормативы!$L$73,\"КМС\",IF(L78<=Нормативы!$L$74,\"I\",IF(L78<=Нормативы!$L$75,\"II\",IF(L78<=Нормативы!$L$76,\"III\",IF(L78<=Нормативы!$L$77,\"I юн\",IF(L78<=Нормативы!$L$78,\"II юн\",IF(L78<=Нормативы!$L$79,\"III юн\",\"б/р\")))))))))))","v":"II юн"},{"$f":"IF(ISBLANK(L78),\" \",IF(ISTEXT(L78),\" \",IF(L78<=Нормативы!$H$71,\"КМС\",IF(L78<=Нормативы!$H$72,\"КМС\",IF(L78<=Нормативы!$L$73,\"КМС\",IF(L78<=Нормативы!$L$74,\"I\",IF(L78<=Нормативы!$L$75,\"II\",IF(L78<=Нормативы!$L$76,\"III\",IF(L78<=Нормативы!$L$77,\"I юн\",IF(L78<=Нормативы!$L$78,\"II юн\",IF(L78<=Нормативы!$L$79,\"III юн\",\"б/р\")))))))))))","v":"II юн"},null,null,{"$f":"IF(ISBLANK(P78),\" \",IF(ISTEXT(P78),\" \",IF(P78<=$H$71,\"МСМК\",IF(P78<=$H$72,\"МС\",IF(P78<=$H$73,\"КМС\",IF(P78<=$H$74,\"I\",IF(P78<=$H$75,\"II\",IF(P78<=$H$76,\"III\",IF(P78<=$H$77,\"I юн\",IF(P78<=$H$78,\"II юн\",IF(P78<=$H$79,\"III юн\",\"б/р\")))))))))))","v":" "}]
[{"$nulls":7},125.2,{"$f":"IF(ISBLANK(H79),\" \",IF(ISTEXT(H79),\" \",IF(H79<=Нормативы!$H$71,\"МСМК\",IF(H79<=Нормативы!$H$72,\"МС\",IF(H79<=Нормативы!$H$73,\"КМС\",IF(H79<=Нормативы!$H$74,\"I\",IF(H79<=Нормативы!$H$75,\"II\",IF(H79<=Нормативы!$H$76,\"III\",IF(H79<=Нормативы!$H$77,\"I юн\",IF(H79<=Нормативы!$H$78,\"II юн\",IF(H79<=Нормативы!$H$79,\"III юн\",\"б/р\")))))))))))","v":"III юн"},{"$f":"IF(ISBLANK(H79),\" \",IF(ISTEXT(H79),\" \",IF(H79<=Нормативы!$H$71,\"МСМК\",IF(H79<=Нормативы!$H$72,\"МС\",IF(H79<=Нормативы!$H$73,\"КМС\",IF(H79<=Нормативы!$H$74,\"I\",IF(H79<=Нормативы!$H$75,\"II\",IF(H79<=Нормативы!$H$76,\"III\",IF(H79<=Нормативы!$H$77,\"I юн\",IF(H79<=Нормативы!$H$78,\"II юн\",IF(H79<=Нормативы!$H$79,\"III юн\",\"б/р\")))))))))))","v":"III юн"},null,125,{"$f":"IF(ISBLANK(L79),\" \",IF(ISTEXT(L79),\" \",IF(L79<=Нормативы!$H$71,\"КМС\",IF(L79<=Нормативы!$H$72,\"КМС\",IF(L79<=Нормативы!$L$73,\"КМС\",IF(L79<=Нормативы!$L$74,\"I\",IF(L79<=Нормативы!$L$75,\"II\",IF(L79<=Нормативы!$L$76,\"III\",IF(L79<=Нормативы!$L$77,\"I юн\",IF(L79<=Нормативы!$L$78,\"II юн\",IF(L79<=Нормативы!$L$79,\"III юн\",\"б/р\")))))))))))","v":"III юн"},{"$f":"IF(ISBLANK(L79),\" \",IF(ISTEXT(L79),\" \",IF(L79<=Нормативы!$H$71,\"КМС\",IF(L79<=Нормативы!$H$72,\"КМС\",IF(L79<=Нормативы!$L$73,\"КМС\",IF(L79<=Нормативы!$L$74,\"I\",IF(L79<=Нормативы!$L$75,\"II\",IF(L79<=Нормативы!$L$76,\"III\",IF(L79<=Нормативы!$L$77,\"I юн\",IF(L79<=Нормативы!$L$78,\"II юн\",IF(L79<=Нормативы!$L$79,\"III юн\",\"б/р\")))))))))))","v":"III юн"},null,null,{"$f":"IF(ISBLANK(P79),\" \",IF(ISTEXT(P79),\" \",IF(P79<=$H$71,\"МСМК\",IF(P79<=$H$72,\"МС\",IF(P79<=$H$73,\"КМС\",IF(P79<=$H$74,\"I\",IF(P79<=$H$75,\"II\",IF(P79<=$H$76,\"III\",IF(P79<=$H$77,\"I юн\",IF(P79<=$H$78,\"II юн\",IF(P79<=$H$79,\"III юн\",\"б/р\")))))))))))","v":" "}]
[]
[null,null,"Плавание в классических ластах- 100 м (1460251811Я),  мужчины"]
[{"$nulls":7},43,{"$f":"IF(ISBLANK(H82),\" \",IF(ISTEXT(H82),\" \",IF(H82<=Нормативы!$H$82,\"МСМК\",IF(H82<=Нормативы!$H$83,\"МС\",IF(H82<=Нормативы!$H$84,\"КМС\",IF(H82<=Нормативы!$H$85,\"I\",IF(H82<=Нормативы!$H$86,\"II\",IF(H82<=Нормативы!$H$87,\"III\",IF(H82<=Нормативы!$H$88,\"I юн\",IF(H82<=Нормативы!$H$89,\"II юн\",IF(H82<=Нормативы!$H$90,\"III юн\",\"б/р\")))))))))))","v":"МСМК"},{"$f":"IF(ISBLANK(H82),\" \",IF(ISTEXT(H82),\" \",IF(H82<=Нормативы!$H$82,\"МСМК\",IF(H82<=Нормативы!$H$83,\"МС\",IF(H82<=Нормативы!$H$84,\"КМС\",IF(H82<=Нормативы!$H$85,\"I\",IF(H82<=Нормативы!$H$86,\"II\",IF(H82<=Нормативы!$H$87,\"III\",IF(H82<=Нормативы!$H$88,\"I юн\",IF(H82<=Нормативы!$H$89,\"II юн\",IF(H82<=Нормативы!$H$90,\"III юн\",\"б/р\")))))))))))","v":"МСМК"},null,null,{"$f":"IF(ISBLANK(L82),\" \",IF(ISTEXT(L82),\" \",IF(L82<=Нормативы!$H$82,\"КМС\",IF(L82<=Нормативы!$H$83,\"КМС\",IF(L82<=Нормативы!$L$84,\"КМС\",IF(L82<=Нормативы!$L$85,\"I\",IF(L82<=Нормативы!$L$86,\"II\",IF(L82<=Нормативы!$L$87,\"III\",IF(L82<=Нормативы!$L$88,\"I юн\",IF(L82<=Нормативы!$L$89,\"II юн\",IF(L82<=Нормативы!$L$90,\"III юн\",\"б/р\")))))))))))","v":" "},{"$f":"IF(ISBLANK(L82),\" \",IF(ISTEXT(L82),\" \",IF(L82<=43.3,\"МСМК\",IF(L82<=45.1,\"МС\",IF(L82<=47.3,\"КМС\",IF(L82<=50.8,\"I\",IF(L82<=55.9,\"II\",IF(L82<=100.4,\"III\",IF(L82<=106,\"I юн\",IF(L82<=112,\"II юн\",IF(L82<=118.5,\"III юн\",\"б/р\")))))))))))","v":" "},null,null,{"$f":"IF(ISBLANK(P82),\" \",IF(ISTEXT(P82),\" \",IF(P82<=$H$82,\"МСМК\",IF(P82<=$H$83,\"МС\",IF(P82<=$H$84,\"КМС\",IF(P82<=$H$85,\"I\",IF(P82<=$H$86,\"II\",IF(P82<=$H$87,\"III\",IF(P82<=$H$88,\"I юн\",IF(P82<=$H$89,\"II юн\",IF(P82<=$H$90,\"III юн\",\"б/р\")))))))))))","v":" "}]
[{"$nulls":7},44.4,{"$f":"IF(ISBLANK(H83),\" \",IF(ISTEXT(H83),\" \",IF(H83<=Нормативы!$H$82,\"МСМК\",IF(H83<=Нормативы!$H$83,\"МС\",IF(H83<=Нормативы!$H$84,\"КМС\",IF(H83<=Нормативы!$H$85,\"I\",IF(H83<=Нормативы!$H$86,\"II\",IF(H83<=Нормативы!$H$87,\"III\",IF(H83<=Нормативы!$H$88,\"I юн\",IF(H83<=Нормативы!$H$89,\"II юн\",IF(H83<=Нормативы!$H$90,\"III юн\",\"б/р\")))))))))))","v":"МС"},{"$f":"IF(ISBLANK(H83),\" \",IF(ISTEXT(H83),\" \",IF(H83<=Нормативы!$H$82,\"МСМК\",IF(H83<=Нормативы!$H$83,\"МС\",IF(H83<=Нормативы!$H$84,\"КМС\",IF(H83<=Нормативы!$H$85,\"I\",IF(H83<=Нормативы!$H$86,\"II\",IF(H83<=Нормативы!$H$87,\"III\",IF(H83<=Нормативы!$H$88,\"I юн\",IF(H83<=Нормативы!$H$89,\"II юн\",IF(H83<=Нормативы!$H$90,\"III юн\",\"б/р\")))))))))))","v":"МС"},null,null,{"$f":"IF(ISBLANK(L83),\" \",IF(ISTEXT(L83),\" \",IF(L83<=Нормативы!$H$82,\"КМС\",IF(L83<=Нормативы!$H$83,\"КМС\",IF(L83<=Нормативы!$L$84,\"КМС\",IF(L83<=Нормативы!$L$85,\"I\",IF(L83<=Нормативы!$L$86,\"II\",IF(L83<=Нормативы!$L$87,\"III\",IF(L83<=Нормативы!$L$88,\"I юн\",IF(L83<=Нормативы!$L$89,\"II юн\",IF(L83<=Нормативы!$L$90,\"III юн\",\"б/р\")))))))))))","v":" "},{"$f":"IF(ISBLANK(L83),\" \",IF(ISTEXT(L83),\" \",IF(L83<=43.3,\"МСМК\",IF(L83<=45.1,\"МС\",IF(L83<=47.3,\"КМС\",IF(L83<=50.8,\"I\",IF(L83<=55.9,\"II\",IF(L83<=100.4,\"III\",IF(L83<=106,\"I юн\",IF(L83<=112,\"II юн\",IF(L83<=118.5,\"III юн\",\"б/р\")))))))))))","v":" "},null,null,{"$f":"IF(ISBLANK(P83),\" \",IF(ISTEXT(P83),\" \",IF(P83<=$H$82,\"МСМК\",IF(P83<=$H$83,\"МС\",IF(P83<=$H$84,\"КМС\",IF(P83<=$H$85,\"I\",IF(P83<=$H$86,\"II\",IF(P83<=$H$87,\"III\",IF(P83<=$H$88,\"I юн\",IF(P83<=$H$89,\"II юн\",IF(P83<=$H$90,\"III юн\",\"б/р\")))))))))))","v":" "}]
[{"$nulls":7},47.1,{"$f":"IF(ISBLANK(H84),\" \",IF(ISTEXT(H84),\" \",IF(H84<=Нормативы!$H$82,\"МСМК\",IF(H84<=Нормативы!$H$83,\"МС\",IF(H84<=Нормативы!$H$84,\"КМС\",IF(H84<=Нормативы!$H$85,\"I\",IF(H84<=Нормативы!$H$86,\"II\",IF(H84<=Нормативы!$H$87,\"III\",IF(H84<=Нормативы!$H$88,\"I юн\",IF(H84<=Нормативы!$H$89,\"II юн\",IF(H84<=Нормативы!$H$90,\"III юн\",\"б/р\")))))))))))","v":"КМС"},{"$f":"IF(ISBLANK(H84),\" \",IF(ISTEXT(H84),\" \",IF(H84<=Нормативы!$H$82,\"МСМК\",IF(H84<=Нормативы!$H$83,\"МС\",IF(H84<=Нормативы!$H$84,\"КМС\",IF(H84<=Нормативы!$H$85,\"I\",IF(H84<=Нормативы!$H$86,\"II\",IF(H84<=Нормативы!$H$87,\"III\",IF(H84<=Нормативы!$H$88,\"I юн\",IF(H84<=Нормативы!$H$89,\"II юн\",IF(H84<=Нормативы!$H$90,\"III юн\",\"б/р\")))))))))))","v":"КМС"},null,{"$f":"H84-0.2","v":46.9},{"$f":"IF(ISBLANK(L84),\" \",IF(ISTEXT(L84),\" \",IF(L84<=Нормативы!$H$82,\"КМС\",IF(L84<=Нормативы!$H$83,\"КМС\",IF(L84<=Нормативы!$L$84,\"КМС\",IF(L84<=Нормативы!$L$85,\"I\",IF(L84<=Нормативы!$L$86,\"II\",IF(L84<=Нормативы!$L$87,\"III\",IF(L84<=Нормативы!$L$88,\"I юн\",IF(L84<=Нормативы!$L$89,\"II юн\",IF(L84<=Нормативы!$L$90,\"III юн\",\"б/р\")))))))))))","v":"КМС"},{"$f":"IF(ISBLANK(L84),\" \",IF(ISTEXT(L84),\" \",IF(L84<=Нормативы!$H$82,\"КМС\",IF(L84<=Нормативы!$H$83,\"КМС\",IF(L84<=Нормативы!$L$84,\"КМС\",IF(L84<=Нормативы!$L$85,\"I\",IF(L84<=Нормативы!$L$86,\"II\",IF(L84<=Нормативы!$L$87,\"III\",IF(L84<=Нормативы!$L$88,\"I юн\",IF(L84<=Нормативы!$L$89,\"II юн\",IF(L84<=Нормативы!$L$90,\"III юн\",\"б/р\")))))))))))","v":"КМС"},null,null,{"$f":"IF(ISBLANK(P84),\" \",IF(ISTEXT(P84),\" \",IF(P84<=$H$82,\"МСМК\",IF(P84<=$H$83,\"МС\",IF(P84<=$H$84,\"КМС\",IF(P84<=$H$85,\"I\",IF(P84<=$H$86,\"II\",IF(P84<=$H$87,\"III\",IF(P84<=$H$88,\"I юн\",IF(P84<=$H$89,\"II юн\",IF(P84<=$H$90,\"III юн\",\"б/р\")))))))))))","v":" "}]
[{"$nulls":7},50.7,{"$f":"IF(ISBLANK(H85),\" \",IF(ISTEXT(H85),\" \",IF(H85<=Нормативы!$H$82,\"МСМК\",IF(H85<=Нормативы!$H$83,\"МС\",IF(H85<=Нормативы!$H$84,\"КМС\",IF(H85<=Нормативы!$H$85,\"I\",IF(H85<=Нормативы!$H$86,\"II\",IF(H85<=Нормативы!$H$87,\"III\",IF(H85<=Нормативы!$H$88,\"I юн\",IF(H85<=Нормативы!$H$89,\"II юн\",IF(H85<=Нормативы!$H$90,\"III юн\",\"б/р\")))))))))))","v":"I"},{"$f":"IF(ISBLANK(H85),\" \",IF(ISTEXT(H85),\" \",IF(H85<=Нормативы!$H$82,\"МСМК\",IF(H85<=Нормативы!$H$83,\"МС\",IF(H85<=Нормативы!$H$84,\"КМС\",IF(H85<=Нормативы!$H$85,\"I\",IF(H85<=Нормативы!$H$86,\"II\",IF(H85<=Нормативы!$H$87,\"III\",IF(H85<=Нормативы!$H$88,\"I юн\",IF(H85<=Нормативы!$H$89,\"II юн\",IF(H85<=Нормативы!$H$90,\"III юн\",\"б/р\")))))))))))","v":"I"},null,50.5,{"$f":"IF(ISBLANK(L85),\" \",IF(ISTEXT(L85),\" \",IF(L85<=Нормативы!$H$82,\"КМС\",IF(L85<=Нормативы!$H$83,\"КМС\",IF(L85<=Нормативы!$L$84,\"КМС\",IF(L85<=Нормативы!$L$85,\"I\",IF(L85<=Нормативы!$L$86,\"II\",IF(L85<=Нормативы!$L$87,\"III\",IF(L85<=Нормативы!$L$88,\"I юн\",IF(L85<=Нормативы!$L$89,\"II юн\",IF(L85<=Нормативы!$L$90,\"III юн\",\"б/р\")))))))))))","v":"I"},{"$f":"IF(ISBLANK(L85),\" \",IF(ISTEXT(L85),\" \",IF(L85<=Нормативы!$H$82,\"КМС\",IF(L85<=Нормативы!$H$83,\"КМС\",IF(L85<=Нормативы!$L$84,\"КМС\",IF(L85<=Нормативы!$L$85,\"I\",IF(L85<=Нормативы!$L$86,\"II\",IF(L85<=Нормативы!$L$87,\"III\",IF(L85<=Нормативы!$L$88,\"I юн\",IF(L85<=Нормативы!$L$89,\"II юн\",IF(L85<=Нормативы!$L$90,\"III юн\",\"б/р\")))))))))))","v":"I"},null,null,{"$f":"IF(ISBLANK(P85),\" \",IF(ISTEXT(P85),\" \",IF(P85<=$H$82,\"МСМК\",IF(P85<=$H$83,\"МС\",IF(P85<=$H$84,\"КМС\",IF(P85<=$H$85,\"I\",IF(P85<=$H$86,\"II\",IF(P85<=$H$87,\"III\",IF(P85<=$H$88,\"I юн\",IF(P85<=$H$89,\"II юн\",IF(P85<=$H$90,\"III юн\",\"б/р\")))))))))))","v":" "}]
[{"$nulls":7},55.7,{"$f":"IF(ISBLANK(H86),\" \",IF(ISTEXT(H86),\" \",IF(H86<=Нормативы!$H$82,\"МСМК\",IF(H86<=Нормативы!$H$83,\"МС\",IF(H86<=Нормативы!$H$84,\"КМС\",IF(H86<=Нормативы!$H$85,\"I\",IF(H86<=Нормативы!$H$86,\"II\",IF(H86<=Нормативы!$H$87,\"III\",IF(H86<=Нормативы!$H$88,\"I юн\",IF(H86<=Нормативы!$H$89,\"II юн\",IF(H86<=Нормативы!$H$90,\"III юн\",\"б/р\")))))))))))","v":"II"},{"$f":"IF(ISBLANK(H86),\" \",IF(ISTEXT(H86),\" \",IF(H86<=Нормативы!$H$82,\"МСМК\",IF(H86<=Нормативы!$H$83,\"МС\",IF(H86<=Нормативы!$H$84,\"КМС\",IF(H86<=Нормативы!$H$85,\"I\",IF(H86<=Нормативы!$H$86,\"II\",IF(H86<=Нормативы!$H$87,\"III\",IF(H86<=Нормативы!$H$88,\"I юн\",IF(H86<=Нормативы!$H$89,\"II юн\",IF(H86<=Нормативы!$H$90,\"III юн\",\"б/р\")))))))))))","v":"II"},null,55.5,{"$f":"IF(ISBLANK(L86),\" \",IF(ISTEXT(L86),\" \",IF(L86<=Нормативы!$H$82,\"КМС\",IF(L86<=Нормативы!$H$83,\"КМС\",IF(L86<=Нормативы!$L$84,\"КМС\",IF(L86<=Нормативы!$L$85,\"I\",IF(L86<=Нормативы!$L$86,\"II\",IF(L86<=Нормативы!$L$87,\"III\",IF(L86<=Нормативы!$L$88,\"I юн\",IF(L86<=Нормативы!$L$89,\"II юн\",IF(L86<=Нормативы!$L$90,\"III юн\",\"б/р\")))))))))))","v":"II"},{"$f":"IF(ISBLANK(L86),\" \",IF(ISTEXT(L86),\" \",IF(L86<=Нормативы!$H$82,\"КМС\",IF(L86<=Нормативы!$H$83,\"КМС\",IF(L86<=Нормативы!$L$84,\"КМС\",IF(L86<=Нормативы!$L$85,\"I\",IF(L86<=Нормативы!$L$86,\"II\",IF(L86<=Нормативы!$L$87,\"III\",IF(L86<=Нормативы!$L$88,\"I юн\",IF(L86<=Нормативы!$L$89,\"II юн\",IF(L86<=Нормативы!$L$90,\"III юн\",\"б/р\")))))))))))","v":"II"},null,null,{"$f":"IF(ISBLANK(P86),\" \",IF(ISTEXT(P86),\" \",IF(P86<=$H$82,\"МСМК\",IF(P86<=$H$83,\"МС\",IF(P86<=$H$84,\"КМС\",IF(P86<=$H$85,\"I\",IF(P86<=$H$86,\"II\",IF(P86<=$H$87,\"III\",IF(P86<=$H$88,\"I юн\",IF(P86<=$H$89,\"II юн\",IF(P86<=$H$90,\"III юн\",\"б/р\")))))))))))","v":" "}]
[{"$nulls":7},100.2,{"$f":"IF(ISBLANK(H87),\" \",IF(ISTEXT(H87),\" \",IF(H87<=Нормативы!$H$82,\"МСМК\",IF(H87<=Нормативы!$H$83,\"МС\",IF(H87<=Нормативы!$H$84,\"КМС\",IF(H87<=Нормативы!$H$85,\"I\",IF(H87<=Нормативы!$H$86,\"II\",IF(H87<=Нормативы!$H$87,\"III\",IF(H87<=Нормативы!$H$88,\"I юн\",IF(H87<=Нормативы!$H$89,\"II юн\",IF(H87<=Нормативы!$H$90,\"III юн\",\"б/р\")))))))))))","v":"III"},{"$f":"IF(ISBLANK(H87),\" \",IF(ISTEXT(H87),\" \",IF(H87<=Нормативы!$H$82,\"МСМК\",IF(H87<=Нормативы!$H$83,\"МС\",IF(H87<=Нормативы!$H$84,\"КМС\",IF(H87<=Нормативы!$H$85,\"I\",IF(H87<=Нормативы!$H$86,\"II\",IF(H87<=Нормативы!$H$87,\"III\",IF(H87<=Нормативы!$H$88,\"I юн\",IF(H87<=Нормативы!$H$89,\"II юн\",IF(H87<=Нормативы!$H$90,\"III юн\",\"б/р\")))))))))))","v":"III"},null,100,{"$f":"IF(ISBLANK(L87),\" \",IF(ISTEXT(L87),\" \",IF(L87<=Нормативы!$H$82,\"КМС\",IF(L87<=Нормативы!$H$83,\"КМС\",IF(L87<=Нормативы!$L$84,\"КМС\",IF(L87<=Нормативы!$L$85,\"I\",IF(L87<=Нормативы!$L$86,\"II\",IF(L87<=Нормативы!$L$87,\"III\",IF(L87<=Нормативы!$L$88,\"I юн\",IF(L87<=Нормативы!$L$89,\"II юн\",IF(L87<=Нормативы!$L$90,\"III юн\",\"б/р\")))))))))))","v":"III"},{"$f":"IF(ISBLANK(L87),\" \",IF(ISTEXT(L87),\" \",IF(L87<=Нормативы!$H$82,\"КМС\",IF(L87<=Нормативы!$H$83,\"КМС\",IF(L87<=Нормативы!$L$84,\"КМС\",IF(L87<=Нормативы!$L$85,\"I\",IF(L87<=Нормативы!$L$86,\"II\",IF(L87<=Нормативы!$L$87,\"III\",IF(L87<=Нормативы!$L$88,\"I юн\",IF(L87<=Нормативы!$L$89,\"II юн\",IF(L87<=Нормативы!$L$90,\"III юн\",\"б/р\")))))))))))","v":"III"},null,null,{"$f":"IF(ISBLANK(P87),\" \",IF(ISTEXT(P87),\" \",IF(P87<=$H$82,\"МСМК\",IF(P87<=$H$83,\"МС\",IF(P87<=$H$84,\"КМС\",IF(P87<=$H$85,\"I\",IF(P87<=$H$86,\"II\",IF(P87<=$H$87,\"III\",IF(P87<=$H$88,\"I юн\",IF(P87<=$H$89,\"II юн\",IF(P87<=$H$90,\"III юн\",\"б/р\")))))))))))","v":" "}]
[{"$nulls":7},105.5,{"$f":"IF(ISBLANK(H88),\" \",IF(ISTEXT(H88),\" \",IF(H88<=Нормативы!$H$82,\"МСМК\",IF(H88<=Нормативы!$H$83,\"МС\",IF(H88<=Нормативы!$H$84,\"КМС\",IF(H88<=Нормативы!$H$85,\"I\",IF(H88<=Нормативы!$H$86,\"II\",IF(H88<=Нормативы!$H$87,\"III\",IF(H88<=Нормативы!$H$88,\"I юн\",IF(H88<=Нормативы!$H$89,\"II юн\",IF(H88<=Нормативы!$H$90,\"III юн\",\"б/р\")))))))))))","v":"I юн"},{"$f":"IF(ISBLANK(H88),\" \",IF(ISTEXT(H88),\" \",IF(H88<=Нормативы!$H$82,\"МСМК\",IF(H88<=Нормативы!$H$83,\"МС\",IF(H88<=Нормативы!$H$84,\"КМС\",IF(H88<=Нормативы!$H$85,\"I\",IF(H88<=Нормативы!$H$86,\"II\",IF(H88<=Нормативы!$H$87,\"III\",IF(H88<=Нормативы!$H$88,\"I юн\",IF(H88<=Нормативы!$H$89,\"II юн\",IF(H88<=Нормативы!$H$90,\"III юн\",\"б/р\")))))))))))","v":"I юн"},null,105.3,{"$f":"IF(ISBLANK(L88),\" \",IF(ISTEXT(L88),\" \",IF(L88<=Нормативы!$H$82,\"КМС\",IF(L88<=Нормативы!$H$83,\"КМС\",IF(L88<=Нормативы!$L$84,\"КМС\",IF(L88<=Нормативы!$L$85,\"I\",IF(L88<=Нормативы!$L$86,\"II\",IF(L88<=Нормативы!$L$87,\"III\",IF(L88<=Нормативы!$L$88,\"I юн\",IF(L88<=Нормативы!$L$89,\"II юн\",IF(L88<=Нормативы!$L$90,\"III юн\",\"б/р\")))))))))))","v":"I юн"},{"$f":"IF(ISBLANK(L88),\" \",IF(ISTEXT(L88),\" \",IF(L88<=Нормативы!$H$82,\"КМС\",IF(L88<=Нормативы!$H$83,\"КМС\",IF(L88<=Нормативы!$L$84,\"КМС\",IF(L88<=Нормативы!$L$85,\"I\",IF(L88<=Нормативы!$L$86,\"II\",IF(L88<=Нормативы!$L$87,\"III\",IF(L88<=Нормативы!$L$88,\"I юн\",IF(L88<=Нормативы!$L$89,\"II юн\",IF(L88<=Нормативы!$L$90,\"III юн\",\"б/р\")))))))))))","v":"I юн"},null,null,{"$f":"IF(ISBLANK(P88),\" \",IF(ISTEXT(P88),\" \",IF(P88<=$H$82,\"МСМК\",IF(P88<=$H$83,\"МС\",IF(P88<=$H$84,\"КМС\",IF(P88<=$H$85,\"I\",IF(P88<=$H$86,\"II\",IF(P88<=$H$87,\"III\",IF(P88<=$H$88,\"I юн\",IF(P88<=$H$89,\"II юн\",IF(P88<=$H$90,\"III юн\",\"б/р\")))))))))))","v":" "}]
[{"$nulls":7},111.5,{"$f":"IF(ISBLANK(H89),\" \",IF(ISTEXT(H89),\" \",IF(H89<=Нормативы!$H$82,\"МСМК\",IF(H89<=Нормативы!$H$83,\"МС\",IF(H89<=Нормативы!$H$84,\"КМС\",IF(H89<=Нормативы!$H$85,\"I\",IF(H89<=Нормативы!$H$86,\"II\",IF(H89<=Нормативы!$H$87,\"III\",IF(H89<=Нормативы!$H$88,\"I юн\",IF(H89<=Нормативы!$H$89,\"II юн\",IF(H89<=Нормативы!$H$90,\"III юн\",\"б/р\")))))))))))","v":"II юн"},{"$f":"IF(ISBLANK(H89),\" \",IF(ISTEXT(H89),\" \",IF(H89<=Нормативы!$H$82,\"МСМК\",IF(H89<=Нормативы!$H$83,\"МС\",IF(H89<=Нормативы!$H$84,\"КМС\",IF(H89<=Нормативы!$H$85,\"I\",IF(H89<=Нормативы!$H$86,\"II\",IF(H89<=Нормативы!$H$87,\"III\",IF(H89<=Нормативы!$H$88,\"I юн\",IF(H89<=Нормативы!$H$89,\"II юн\",IF(H89<=Нормативы!$H$90,\"III юн\",\"б/р\")))))))))))","v":"II юн"},null,111.3,{"$f":"IF(ISBLANK(L89),\" \",IF(ISTEXT(L89),\" \",IF(L89<=Нормативы!$H$82,\"КМС\",IF(L89<=Нормативы!$H$83,\"КМС\",IF(L89<=Нормативы!$L$84,\"КМС\",IF(L89<=Нормативы!$L$85,\"I\",IF(L89<=Нормативы!$L$86,\"II\",IF(L89<=Нормативы!$L$87,\"III\",IF(L89<=Нормативы!$L$88,\"I юн\",IF(L89<=Нормативы!$L$89,\"II юн\",IF(L89<=Нормативы!$L$90,\"III юн\",\"б/р\")))))))))))","v":"II юн"},{"$f":"IF(ISBLANK(L89),\" \",IF(ISTEXT(L89),\" \",IF(L89<=Нормативы!$H$82,\"КМС\",IF(L89<=Нормативы!$H$83,\"КМС\",IF(L89<=Нормативы!$L$84,\"КМС\",IF(L89<=Нормативы!$L$85,\"I\",IF(L89<=Нормативы!$L$86,\"II\",IF(L89<=Нормативы!$L$87,\"III\",IF(L89<=Нормативы!$L$88,\"I юн\",IF(L89<=Нормативы!$L$89,\"II юн\",IF(L89<=Нормативы!$L$90,\"III юн\",\"б/р\")))))))))))","v":"II юн"},null,null,{"$f":"IF(ISBLANK(P89),\" \",IF(ISTEXT(P89),\" \",IF(P89<=$H$82,\"МСМК\",IF(P89<=$H$83,\"МС\",IF(P89<=$H$84,\"КМС\",IF(P89<=$H$85,\"I\",IF(P89<=$H$86,\"II\",IF(P89<=$H$87,\"III\",IF(P89<=$H$88,\"I юн\",IF(P89<=$H$89,\"II юн\",IF(P89<=$H$90,\"III юн\",\"б/р\")))))))))))","v":" "}]
[{"$nulls":7},118,{"$f":"IF(ISBLANK(H90),\" \",IF(ISTEXT(H90),\" \",IF(H90<=Нормативы!$H$82,\"МСМК\",IF(H90<=Нормативы!$H$83,\"МС\",IF(H90<=Нормативы!$H$84,\"КМС\",IF(H90<=Нормативы!$H$85,\"I\",IF(H90<=Нормативы!$H$86,\"II\",IF(H90<=Нормативы!$H$87,\"III\",IF(H90<=Нормативы!$H$88,\"I юн\",IF(H90<=Нормативы!$H$89,\"II юн\",IF(H90<=Нормативы!$H$90,\"III юн\",\"б/р\")))))))))))","v":"III юн"},{"$f":"IF(ISBLANK(H90),\" \",IF(ISTEXT(H90),\" \",IF(H90<=Нормативы!$H$82,\"МСМК\",IF(H90<=Нормативы!$H$83,\"МС\",IF(H90<=Нормативы!$H$84,\"КМС\",IF(H90<=Нормативы!$H$85,\"I\",IF(H90<=Нормативы!$H$86,\"II\",IF(H90<=Нормативы!$H$87,\"III\",IF(H90<=Нормативы!$H$88,\"I юн\",IF(H90<=Нормативы!$H$89,\"II юн\",IF(H90<=Нормативы!$H$90,\"III юн\",\"б/р\")))))))))))","v":"III юн"},null,117.8,{"$f":"IF(ISBLANK(L90),\" \",IF(ISTEXT(L90),\" \",IF(L90<=Нормативы!$H$82,\"КМС\",IF(L90<=Нормативы!$H$83,\"КМС\",IF(L90<=Нормативы!$L$84,\"КМС\",IF(L90<=Нормативы!$L$85,\"I\",IF(L90<=Нормативы!$L$86,\"II\",IF(L90<=Нормативы!$L$87,\"III\",IF(L90<=Нормативы!$L$88,\"I юн\",IF(L90<=Нормативы!$L$89,\"II юн\",IF(L90<=Нормативы!$L$90,\"III юн\",\"б/р\")))))))))))","v":"III юн"},{"$f":"IF(ISBLANK(L90),\" \",IF(ISTEXT(L90),\" \",IF(L90<=Нормативы!$H$82,\"КМС\",IF(L90<=Нормативы!$H$83,\"КМС\",IF(L90<=Нормативы!$L$84,\"КМС\",IF(L90<=Нормативы!$L$85,\"I\",IF(L90<=Нормативы!$L$86,\"II\",IF(L90<=Нормативы!$L$87,\"III\",IF(L90<=Нормативы!$L$88,\"I юн\",IF(L90<=Нормативы!$L$89,\"II юн\",IF(L90<=Нормативы!$L$90,\"III юн\",\"б/р\")))))))))))","v":"III юн"},null,null,{"$f":"IF(ISBLANK(P90),\" \",IF(ISTEXT(P90),\" \",IF(P90<=$H$82,\"МСМК\",IF(P90<=$H$83,\"МС\",IF(P90<=$H$84,\"КМС\",IF(P90<=$H$85,\"I\",IF(P90<=$H$86,\"II\",IF(P90<=$H$87,\"III\",IF(P90<=$H$88,\"I юн\",IF(P90<=$H$89,\"II юн\",IF(P90<=$H$90,\"III юн\",\"б/р\")))))))))))","v":" "}]
[]
[null,null,"Плавание в ластах - 200 м (1460101811Я),  женщины"]
[{"$nulls":7},130.7,{"$f":"IF(ISBLANK(H93),\" \",IF(ISTEXT(H93),\" \",IF(H93<=Нормативы!$H$93,\"МСМК\",IF(H93<=Нормативы!$H$94,\"МС\",IF(H93<=Нормативы!$H$95,\"КМС\",IF(H93<=Нормативы!$H$96,\"I\",IF(H93<=Нормативы!$H$97,\"II\",IF(H93<=Нормативы!$H$98,\"III\",IF(H93<=Нормативы!$H$99,\"I юн\",IF(H93<=Нормативы!$H$100,\"II юн\",IF(H93<=Нормативы!$H$101,\"III юн\",\"б/р\")))))))))))","v":"МСМК"},{"$f":"IF(ISBLANK(H93),\" \",IF(ISTEXT(H93),\" \",IF(H93<=Нормативы!$H$93,\"МСМК\",IF(H93<=Нормативы!$H$94,\"МС\",IF(H93<=Нормативы!$H$95,\"КМС\",IF(H93<=Нормативы!$H$96,\"I\",IF(H93<=Нормативы!$H$97,\"II\",IF(H93<=Нормативы!$H$98,\"III\",IF(H93<=Нормативы!$H$99,\"I юн\",IF(H93<=Нормативы!$H$100,\"II юн\",IF(H93<=Нормативы!$H$101,\"III юн\",\"б/р\")))))))))))","v":"МСМК"},null,null,{"$f":"IF(ISBLANK(L93),\" \",IF(ISTEXT(L93),\" \",IF(L93<=Нормативы!$H$93,\"КМС\",IF(L93<=Нормативы!$H$94,\"КМС\",IF(L93<=Нормативы!$L$95,\"КМС\",IF(L93<=Нормативы!$L$96,\"I\",IF(L93<=Нормативы!$L$97,\"II\",IF(L93<=Нормативы!$L$98,\"III\",IF(L93<=Нормативы!$L$99,\"I юн\",IF(L93<=Нормативы!$L$100,\"II юн\",IF(L93<=Нормативы!$L$101,\"III юн\",\"б/р\")))))))))))","v":" "},{"$f":"IF(ISBLANK(L93),\" \",IF(ISTEXT(L93),\" \",IF(L93<=130.8,\"МСМК\",IF(L93<=136.2,\"МС\",IF(L93<=141,\"КМС\",IF(L93<=147.5,\"I\",IF(L93<=157.5,\"II\",IF(L93<=206.2,\"III\",IF(L93<=220,\"I юн\",IF(L93<=231.2,\"II юн\",IF(L93<=242.2,\"III юн\",\"б/р\")))))))))))","v":" "},null,null,{"$f":"IF(ISBLANK(P93),\" \",IF(ISTEXT(P93),\" \",IF(P93<=$H$93,\"МСМК\",IF(P93<=$H$94,\"МС\",IF(P93<=$H$95,\"КМС\",IF(P93<=$H$96,\"I\",IF(P93<=$H$97,\"II\",IF(P93<=$H$98,\"III\",IF(P93<=$H$99,\"I юн\",IF(P93<=$H$100,\"II юн\",IF(P93<=$H$101,\"III юн\",\"б/р\")))))))))))","v":" "}]
[{"$nulls":7},133,{"$f":"IF(ISBLANK(H94),\" \",IF(ISTEXT(H94),\" \",IF(H94<=Нормативы!$H$93,\"МСМК\",IF(H94<=Нормативы!$H$94,\"МС\",IF(H94<=Нормативы!$H$95,\"КМС\",IF(H94<=Нормативы!$H$96,\"I\",IF(H94<=Нормативы!$H$97,\"II\",IF(H94<=Нормативы!$H$98,\"III\",IF(H94<=Нормативы!$H$99,\"I юн\",IF(H94<=Нормативы!$H$100,\"II юн\",IF(H94<=Нормативы!$H$101,\"III юн\",\"б/р\")))))))))))","v":"МС"},{"$f":"IF(ISBLANK(H94),\" \",IF(ISTEXT(H94),\" \",IF(H94<=Нормативы!$H$93,\"МСМК\",IF(H94<=Нормативы!$H$94,\"МС\",IF(H94<=Нормативы!$H$95,\"КМС\",IF(H94<=Нормативы!$H$96,\"I\",IF(H94<=Нормативы!$H$97,\"II\",IF(H94<=Нормативы!$H$98,\"III\",IF(H94<=Нормативы!$H$99,\"I юн\",IF(H94<=Нормативы!$H$100,\"II юн\",IF(H94<=Нормативы!$H$101,\"III юн\",\"б/р\")))))))))))","v":"МС"},null,null,{"$f":"IF(ISBLANK(L94),\" \",IF(ISTEXT(L94),\" \",IF(L94<=Нормативы!$H$93,\"КМС\",IF(L94<=Нормативы!$H$94,\"КМС\",IF(L94<=Нормативы!$L$95,\"КМС\",IF(L94<=Нормативы!$L$96,\"I\",IF(L94<=Нормативы!$L$97,\"II\",IF(L94<=Нормативы!$L$98,\"III\",IF(L94<=Нормативы!$L$99,\"I юн\",IF(L94<=Нормативы!$L$100,\"II юн\",IF(L94<=Нормативы!$L$101,\"III юн\",\"б/р\")))))))))))","v":" "},{"$f":"IF(ISBLANK(L94),\" \",IF(ISTEXT(L94),\" \",IF(L94<=130.8,\"МСМК\",IF(L94<=136.2,\"МС\",IF(L94<=141,\"КМС\",IF(L94<=147.5,\"I\",IF(L94<=157.5,\"II\",IF(L94<=206.2,\"III\",IF(L94<=220,\"I юн\",IF(L94<=231.2,\"II юн\",IF(L94<=242.2,\"III юн\",\"б/р\")))))))))))","v":" "},null,null,{"$f":"IF(ISBLANK(P94),\" \",IF(ISTEXT(P94),\" \",IF(P94<=$H$93,\"МСМК\",IF(P94<=$H$94,\"МС\",IF(P94<=$H$95,\"КМС\",IF(P94<=$H$96,\"I\",IF(P94<=$H$97,\"II\",IF(P94<=$H$98,\"III\",IF(P94<=$H$99,\"I юн\",IF(P94<=$H$100,\"II юн\",IF(P94<=$H$101,\"III юн\",\"б/р\")))))))))))","v":" "}]
[{"$nulls":7},140.5,{"$f":"IF(ISBLANK(H95),\" \",IF(ISTEXT(H95),\" \",IF(H95<=Нормативы!$H$93,\"МСМК\",IF(H95<=Нормативы!$H$94,\"МС\",IF(H95<=Нормативы!$H$95,\"КМС\",IF(H95<=Нормативы!$H$96,\"I\",IF(H95<=Нормативы!$H$97,\"II\",IF(H95<=Нормативы!$H$98,\"III\",IF(H95<=Нормативы!$H$99,\"I юн\",IF(H95<=Нормативы!$H$100,\"II юн\",IF(H95<=Нормативы!$H$101,\"III юн\",\"б/р\")))))))))))","v":"КМС"},{"$f":"IF(ISBLANK(H95),\" \",IF(ISTEXT(H95),\" \",IF(H95<=Нормативы!$H$93,\"МСМК\",IF(H95<=Нормативы!$H$94,\"МС\",IF(H95<=Нормативы!$H$95,\"КМС\",IF(H95<=Нормативы!$H$96,\"I\",IF(H95<=Нормативы!$H$97,\"II\",IF(H95<=Нормативы!$H$98,\"III\",IF(H95<=Нормативы!$H$99,\"I юн\",IF(H95<=Нормативы!$H$100,\"II юн\",IF(H95<=Нормативы!$H$101,\"III юн\",\"б/р\")))))))))))","v":"КМС"},null,{"$f":"H95-0.2","v":140.3},{"$f":"IF(ISBLANK(L95),\" \",IF(ISTEXT(L95),\" \",IF(L95<=Нормативы!$H$93,\"КМС\",IF(L95<=Нормативы!$H$94,\"КМС\",IF(L95<=Нормативы!$L$95,\"КМС\",IF(L95<=Нормативы!$L$96,\"I\",IF(L95<=Нормативы!$L$97,\"II\",IF(L95<=Нормативы!$L$98,\"III\",IF(L95<=Нормативы!$L$99,\"I юн\",IF(L95<=Нормативы!$L$100,\"II юн\",IF(L95<=Нормативы!$L$101,\"III юн\",\"б/р\")))))))))))","v":"КМС"},{"$f":"IF(ISBLANK(L95),\" \",IF(ISTEXT(L95),\" \",IF(L95<=Нормативы!$H$93,\"КМС\",IF(L95<=Нормативы!$H$94,\"КМС\",IF(L95<=Нормативы!$L$95,\"КМС\",IF(L95<=Нормативы!$L$96,\"I\",IF(L95<=Нормативы!$L$97,\"II\",IF(L95<=Нормативы!$L$98,\"III\",IF(L95<=Нормативы!$L$99,\"I юн\",IF(L95<=Нормативы!$L$100,\"II юн\",IF(L95<=Нормативы!$L$101,\"III юн\",\"б/р\")))))))))))","v":"КМС"},null,null,{"$f":"IF(ISBLANK(P95),\" \",IF(ISTEXT(P95),\" \",IF(P95<=$H$93,\"МСМК\",IF(P95<=$H$94,\"МС\",IF(P95<=$H$95,\"КМС\",IF(P95<=$H$96,\"I\",IF(P95<=$H$97,\"II\",IF(P95<=$H$98,\"III\",IF(P95<=$H$99,\"I юн\",IF(P95<=$H$100,\"II юн\",IF(P95<=$H$101,\"III юн\",\"б/р\")))))))))))","v":" "}]
[{"$nulls":7},146.7,{"$f":"IF(ISBLANK(H96),\" \",IF(ISTEXT(H96),\" \",IF(H96<=Нормативы!$H$93,\"МСМК\",IF(H96<=Нормативы!$H$94,\"МС\",IF(H96<=Нормативы!$H$95,\"КМС\",IF(H96<=Нормативы!$H$96,\"I\",IF(H96<=Нормативы!$H$97,\"II\",IF(H96<=Нормативы!$H$98,\"III\",IF(H96<=Нормативы!$H$99,\"I юн\",IF(H96<=Нормативы!$H$100,\"II юн\",IF(H96<=Нормативы!$H$101,\"III юн\",\"б/р\")))))))))))","v":"I"},{"$f":"IF(ISBLANK(H96),\" \",IF(ISTEXT(H96),\" \",IF(H96<=Нормативы!$H$93,\"МСМК\",IF(H96<=Нормативы!$H$94,\"МС\",IF(H96<=Нормативы!$H$95,\"КМС\",IF(H96<=Нормативы!$H$96,\"I\",IF(H96<=Нормативы!$H$97,\"II\",IF(H96<=Нормативы!$H$98,\"III\",IF(H96<=Нормативы!$H$99,\"I юн\",IF(H96<=Нормативы!$H$100,\"II юн\",IF(H96<=Нормативы!$H$101,\"III юн\",\"б/р\")))))))))))","v":"I"},null,146.5,{"$f":"IF(ISBLANK(L96),\" \",IF(ISTEXT(L96),\" \",IF(L96<=Нормативы!$H$93,\"КМС\",IF(L96<=Нормативы!$H$94,\"КМС\",IF(L96<=Нормативы!$L$95,\"КМС\",IF(L96<=Нормативы!$L$96,\"I\",IF(L96<=Нормативы!$L$97,\"II\",IF(L96<=Нормативы!$L$98,\"III\",IF(L96<=Нормативы!$L$99,\"I юн\",IF(L96<=Нормативы!$L$100,\"II юн\",IF(L96<=Нормативы!$L$101,\"III юн\",\"б/р\")))))))))))","v":"I"},{"$f":"IF(ISBLANK(L96),\" \",IF(ISTEXT(L96),\" \",IF(L96<=Нормативы!$H$93,\"КМС\",IF(L96<=Нормативы!$H$94,\"КМС\",IF(L96<=Нормативы!$L$95,\"КМС\",IF(L96<=Нормативы!$L$96,\"I\",IF(L96<=Нормативы!$L$97,\"II\",IF(L96<=Нормативы!$L$98,\"III\",IF(L96<=Нормативы!$L$99,\"I юн\",IF(L96<=Нормативы!$L$100,\"II юн\",IF(L96<=Нормативы!$L$101,\"III юн\",\"б/р\")))))))))))","v":"I"},null,null,{"$f":"IF(ISBLANK(P96),\" \",IF(ISTEXT(P96),\" \",IF(P96<=$H$93,\"МСМК\",IF(P96<=$H$94,\"МС\",IF(P96<=$H$95,\"КМС\",IF(P96<=$H$96,\"I\",IF(P96<=$H$97,\"II\",IF(P96<=$H$98,\"III\",IF(P96<=$H$99,\"I юн\",IF(P96<=$H$100,\"II юн\",IF(P96<=$H$101,\"III юн\",\"б/р\")))))))))))","v":" "}]
[{"$nulls":7},155.2,{"$f":"IF(ISBLANK(H97),\" \",IF(ISTEXT(H97),\" \",IF(H97<=Нормативы!$H$93,\"МСМК\",IF(H97<=Нормативы!$H$94,\"МС\",IF(H97<=Нормативы!$H$95,\"КМС\",IF(H97<=Нормативы!$H$96,\"I\",IF(H97<=Нормативы!$H$97,\"II\",IF(H97<=Нормативы!$H$98,\"III\",IF(H97<=Нормативы!$H$99,\"I юн\",IF(H97<=Нормативы!$H$100,\"II юн\",IF(H97<=Нормативы!$H$101,\"III юн\",\"б/р\")))))))))))","v":"II"},{"$f":"IF(ISBLANK(H97),\" \",IF(ISTEXT(H97),\" \",IF(H97<=Нормативы!$H$93,\"МСМК\",IF(H97<=Нормативы!$H$94,\"МС\",IF(H97<=Нормативы!$H$95,\"КМС\",IF(H97<=Нормативы!$H$96,\"I\",IF(H97<=Нормативы!$H$97,\"II\",IF(H97<=Нормативы!$H$98,\"III\",IF(H97<=Нормативы!$H$99,\"I юн\",IF(H97<=Нормативы!$H$100,\"II юн\",IF(H97<=Нормативы!$H$101,\"III юн\",\"б/р\")))))))))))","v":"II"},null,155,{"$f":"IF(ISBLANK(L97),\" \",IF(ISTEXT(L97),\" \",IF(L97<=Нормативы!$H$93,\"КМС\",IF(L97<=Нормативы!$H$94,\"КМС\",IF(L97<=Нормативы!$L$95,\"КМС\",IF(L97<=Нормативы!$L$96,\"I\",IF(L97<=Нормативы!$L$97,\"II\",IF(L97<=Нормативы!$L$98,\"III\",IF(L97<=Нормативы!$L$99,\"I юн\",IF(L97<=Нормативы!$L$100,\"II юн\",IF(L97<=Нормативы!$L$101,\"III юн\",\"б/р\")))))))))))","v":"II"},{"$f":"IF(ISBLANK(L97),\" \",IF(ISTEXT(L97),\" \",IF(L97<=Нормативы!$H$93,\"КМС\",IF(L97<=Нормативы!$H$94,\"КМС\",IF(L97<=Нормативы!$L$95,\"КМС\",IF(L97<=Нормативы!$L$96,\"I\",IF(L97<=Нормативы!$L$97,\"II\",IF(L97<=Нормативы!$L$98,\"III\",IF(L97<=Нормативы!$L$99,\"I юн\",IF(L97<=Нормативы!$L$100,\"II юн\",IF(L97<=Нормативы!$L$101,\"III юн\",\"б/р\")))))))))))","v":"II"},null,null,{"$f":"IF(ISBLANK(P97),\" \",IF(ISTEXT(P97),\" \",IF(P97<=$H$93,\"МСМК\",IF(P97<=$H$94,\"МС\",IF(P97<=$H$95,\"КМС\",IF(P97<=$H$96,\"I\",IF(P97<=$H$97,\"II\",IF(P97<=$H$98,\"III\",IF(P97<=$H$99,\"I юн\",IF(P97<=$H$100,\"II юн\",IF(P97<=$H$101,\"III юн\",\"б/р\")))))))))))","v":" "}]
[{"$nulls":7},205.2,{"$f":"IF(ISBLANK(H98),\" \",IF(ISTEXT(H98),\" \",IF(H98<=Нормативы!$H$93,\"МСМК\",IF(H98<=Нормативы!$H$94,\"МС\",IF(H98<=Нормативы!$H$95,\"КМС\",IF(H98<=Нормативы!$H$96,\"I\",IF(H98<=Нормативы!$H$97,\"II\",IF(H98<=Нормативы!$H$98,\"III\",IF(H98<=Нормативы!$H$99,\"I юн\",IF(H98<=Нормативы!$H$100,\"II юн\",IF(H98<=Нормативы!$H$101,\"III юн\",\"б/р\")))))))))))","v":"III"},{"$f":"IF(ISBLANK(H98),\" \",IF(ISTEXT(H98),\" \",IF(H98<=Нормативы!$H$93,\"МСМК\",IF(H98<=Нормативы!$H$94,\"МС\",IF(H98<=Нормативы!$H$95,\"КМС\",IF(H98<=Нормативы!$H$96,\"I\",IF(H98<=Нормативы!$H$97,\"II\",IF(H98<=Нормативы!$H$98,\"III\",IF(H98<=Нормативы!$H$99,\"I юн\",IF(H98<=Нормативы!$H$100,\"II юн\",IF(H98<=Нормативы!$H$101,\"III юн\",\"б/р\")))))))))))","v":"III"},null,205,{"$f":"IF(ISBLANK(L98),\" \",IF(ISTEXT(L98),\" \",IF(L98<=Нормативы!$H$93,\"КМС\",IF(L98<=Нормативы!$H$94,\"КМС\",IF(L98<=Нормативы!$L$95,\"КМС\",IF(L98<=Нормативы!$L$96,\"I\",IF(L98<=Нормативы!$L$97,\"II\",IF(L98<=Нормативы!$L$98,\"III\",IF(L98<=Нормативы!$L$99,\"I юн\",IF(L98<=Нормативы!$L$100,\"II юн\",IF(L98<=Нормативы!$L$101,\"III юн\",\"б/р\")))))))))))","v":"III"},{"$f":"IF(ISBLANK(L98),\" \",IF(ISTEXT(L98),\" \",IF(L98<=Нормативы!$H$93,\"КМС\",IF(L98<=Нормативы!$H$94,\"КМС\",IF(L98<=Нормативы!$L$95,\"КМС\",IF(L98<=Нормативы!$L$96,\"I\",IF(L98<=Нормативы!$L$97,\"II\",IF(L98<=Нормативы!$L$98,\"III\",IF(L98<=Нормативы!$L$99,\"I юн\",IF(L98<=Нормативы!$L$100,\"II юн\",IF(L98<=Нормативы!$L$101,\"III юн\",\"б/р\")))))))))))","v":"III"},null,null,{"$f":"IF(ISBLANK(P98),\" \",IF(ISTEXT(P98),\" \",IF(P98<=$H$93,\"МСМК\",IF(P98<=$H$94,\"МС\",IF(P98<=$H$95,\"КМС\",IF(P98<=$H$96,\"I\",IF(P98<=$H$97,\"II\",IF(P98<=$H$98,\"III\",IF(P98<=$H$99,\"I юн\",IF(P98<=$H$100,\"II юн\",IF(P98<=$H$101,\"III юн\",\"б/р\")))))))))))","v":" "}]
[{"$nulls":7},219,{"$f":"IF(ISBLANK(H99),\" \",IF(ISTEXT(H99),\" \",IF(H99<=Нормативы!$H$93,\"МСМК\",IF(H99<=Нормативы!$H$94,\"МС\",IF(H99<=Нормативы!$H$95,\"КМС\",IF(H99<=Нормативы!$H$96,\"I\",IF(H99<=Нормативы!$H$97,\"II\",IF(H99<=Нормативы!$H$98,\"III\",IF(H99<=Нормативы!$H$99,\"I юн\",IF(H99<=Нормативы!$H$100,\"II юн\",IF(H99<=Нормативы!$H$101,\"III юн\",\"б/р\")))))))))))","v":"I юн"},{"$f":"IF(ISBLANK(H99),\" \",IF(ISTEXT(H99),\" \",IF(H99<=Нормативы!$H$93,\"МСМК\",IF(H99<=Нормативы!$H$94,\"МС\",IF(H99<=Нормативы!$H$95,\"КМС\",IF(H99<=Нормативы!$H$96,\"I\",IF(H99<=Нормативы!$H$97,\"II\",IF(H99<=Нормативы!$H$98,\"III\",IF(H99<=Нормативы!$H$99,\"I юн\",IF(H99<=Нормативы!$H$100,\"II юн\",IF(H99<=Нормативы!$H$101,\"III юн\",\"б/р\")))))))))))","v":"I юн"},null,218.8,{"$f":"IF(ISBLANK(L99),\" \",IF(ISTEXT(L99),\" \",IF(L99<=Нормативы!$H$93,\"КМС\",IF(L99<=Нормативы!$H$94,\"КМС\",IF(L99<=Нормативы!$L$95,\"КМС\",IF(L99<=Нормативы!$L$96,\"I\",IF(L99<=Нормативы!$L$97,\"II\",IF(L99<=Нормативы!$L$98,\"III\",IF(L99<=Нормативы!$L$99,\"I юн\",IF(L99<=Нормативы!$L$100,\"II юн\",IF(L99<=Нормативы!$L$101,\"III юн\",\"б/р\")))))))))))","v":"I юн"},{"$f":"IF(ISBLANK(L99),\" \",IF(ISTEXT(L99),\" \",IF(L99<=Нормативы!$H$93,\"КМС\",IF(L99<=Нормативы!$H$94,\"КМС\",IF(L99<=Нормативы!$L$95,\"КМС\",IF(L99<=Нормативы!$L$96,\"I\",IF(L99<=Нормативы!$L$97,\"II\",IF(L99<=Нормативы!$L$98,\"III\",IF(L99<=Нормативы!$L$99,\"I юн\",IF(L99<=Нормативы!$L$100,\"II юн\",IF(L99<=Нормативы!$L$101,\"III юн\",\"б/р\")))))))))))","v":"I юн"},null,null,{"$f":"IF(ISBLANK(P99),\" \",IF(ISTEXT(P99),\" \",IF(P99<=$H$93,\"МСМК\",IF(P99<=$H$94,\"МС\",IF(P99<=$H$95,\"КМС\",IF(P99<=$H$96,\"I\",IF(P99<=$H$97,\"II\",IF(P99<=$H$98,\"III\",IF(P99<=$H$99,\"I юн\",IF(P99<=$H$100,\"II юн\",IF(P99<=$H$101,\"III юн\",\"б/р\")))))))))))","v":" "}]
[{"$nulls":7},230,{"$f":"IF(ISBLANK(H100),\" \",IF(ISTEXT(H100),\" \",IF(H100<=Нормативы!$H$93,\"МСМК\",IF(H100<=Нормативы!$H$94,\"МС\",IF(H100<=Нормативы!$H$95,\"КМС\",IF(H100<=Нормативы!$H$96,\"I\",IF(H100<=Нормативы!$H$97,\"II\",IF(H100<=Нормативы!$H$98,\"III\",IF(H100<=Нормативы!$H$99,\"I юн\",IF(H100<=Нормативы!$H$100,\"II юн\",IF(H100<=Нормативы!$H$101,\"III юн\",\"б/р\")))))))))))","v":"II юн"},{"$f":"IF(ISBLANK(H100),\" \",IF(ISTEXT(H100),\" \",IF(H100<=Нормативы!$H$93,\"МСМК\",IF(H100<=Нормативы!$H$94,\"МС\",IF(H100<=Нормативы!$H$95,\"КМС\",IF(H100<=Нормативы!$H$96,\"I\",IF(H100<=Нормативы!$H$97,\"II\",IF(H100<=Нормативы!$H$98,\"III\",IF(H100<=Нормативы!$H$99,\"I юн\",IF(H100<=Нормативы!$H$100,\"II юн\",IF(H100<=Нормативы!$H$101,\"III юн\",\"б/р\")))))))))))","v":"II юн"},null,229.8,{"$f":"IF(ISBLANK(L100),\" \",IF(ISTEXT(L100),\" \",IF(L100<=Нормативы!$H$93,\"КМС\",IF(L100<=Нормативы!$H$94,\"КМС\",IF(L100<=Нормативы!$L$95,\"КМС\",IF(L100<=Нормативы!$L$96,\"I\",IF(L100<=Нормативы!$L$97,\"II\",IF(L100<=Нормативы!$L$98,\"III\",IF(L100<=Нормативы!$L$99,\"I юн\",IF(L100<=Нормативы!$L$100,\"II юн\",IF(L100<=Нормативы!$L$101,\"III юн\",\"б/р\")))))))))))","v":"II юн"},{"$f":"IF(ISBLANK(L100),\" \",IF(ISTEXT(L100),\" \",IF(L100<=Нормативы!$H$93,\"КМС\",IF(L100<=Нормативы!$H$94,\"КМС\",IF(L100<=Нормативы!$L$95,\"КМС\",IF(L100<=Нормативы!$L$96,\"I\",IF(L100<=Нормативы!$L$97,\"II\",IF(L100<=Нормативы!$L$98,\"III\",IF(L100<=Нормативы!$L$99,\"I юн\",IF(L100<=Нормативы!$L$100,\"II юн\",IF(L100<=Нормативы!$L$101,\"III юн\",\"б/р\")))))))))))","v":"II юн"},null,null,{"$f":"IF(ISBLANK(P100),\" \",IF(ISTEXT(P100),\" \",IF(P100<=$H$93,\"МСМК\",IF(P100<=$H$94,\"МС\",IF(P100<=$H$95,\"КМС\",IF(P100<=$H$96,\"I\",IF(P100<=$H$97,\"II\",IF(P100<=$H$98,\"III\",IF(P100<=$H$99,\"I юн\",IF(P100<=$H$100,\"II юн\",IF(P100<=$H$101,\"III юн\",\"б/р\")))))))))))","v":" "}]
[{"$nulls":7},240.20000000000002,{"$f":"IF(ISBLANK(H101),\" \",IF(ISTEXT(H101),\" \",IF(H101<=Нормативы!$H$93,\"МСМК\",IF(H101<=Нормативы!$H$94,\"МС\",IF(H101<=Нормативы!$H$95,\"КМС\",IF(H101<=Нормативы!$H$96,\"I\",IF(H101<=Нормативы!$H$97,\"II\",IF(H101<=Нормативы!$H$98,\"III\",IF(H101<=Нормативы!$H$99,\"I юн\",IF(H101<=Нормативы!$H$100,\"II юн\",IF(H101<=Нормативы!$H$101,\"III юн\",\"б/р\")))))))))))","v":"III юн"},{"$f":"IF(ISBLANK(H101),\" \",IF(ISTEXT(H101),\" \",IF(H101<=Нормативы!$H$93,\"МСМК\",IF(H101<=Нормативы!$H$94,\"МС\",IF(H101<=Нормативы!$H$95,\"КМС\",IF(H101<=Нормативы!$H$96,\"I\",IF(H101<=Нормативы!$H$97,\"II\",IF(H101<=Нормативы!$H$98,\"III\",IF(H101<=Нормативы!$H$99,\"I юн\",IF(H101<=Нормативы!$H$100,\"II юн\",IF(H101<=Нормативы!$H$101,\"III юн\",\"б/р\")))))))))))","v":"III юн"},null,{"$f":"H101-0.4","v":239.8},{"$f":"IF(ISBLANK(L101),\" \",IF(ISTEXT(L101),\" \",IF(L101<=Нормативы!$H$93,\"КМС\",IF(L101<=Нормативы!$H$94,\"КМС\",IF(L101<=Нормативы!$L$95,\"КМС\",IF(L101<=Нормативы!$L$96,\"I\",IF(L101<=Нормативы!$L$97,\"II\",IF(L101<=Нормативы!$L$98,\"III\",IF(L101<=Нормативы!$L$99,\"I юн\",IF(L101<=Нормативы!$L$100,\"II юн\",IF(L101<=Нормативы!$L$101,\"III юн\",\"б/р\")))))))))))","v":"III юн"},{"$f":"IF(ISBLANK(L101),\" \",IF(ISTEXT(L101),\" \",IF(L101<=Нормативы!$H$93,\"КМС\",IF(L101<=Нормативы!$H$94,\"КМС\",IF(L101<=Нормативы!$L$95,\"КМС\",IF(L101<=Нормативы!$L$96,\"I\",IF(L101<=Нормативы!$L$97,\"II\",IF(L101<=Нормативы!$L$98,\"III\",IF(L101<=Нормативы!$L$99,\"I юн\",IF(L101<=Нормативы!$L$100,\"II юн\",IF(L101<=Нормативы!$L$101,\"III юн\",\"б/р\")))))))))))","v":"III юн"},null,null,{"$f":"IF(ISBLANK(P101),\" \",IF(ISTEXT(P101),\" \",IF(P101<=$H$93,\"МСМК\",IF(P101<=$H$94,\"МС\",IF(P101<=$H$95,\"КМС\",IF(P101<=$H$96,\"I\",IF(P101<=$H$97,\"II\",IF(P101<=$H$98,\"III\",IF(P101<=$H$99,\"I юн\",IF(P101<=$H$100,\"II юн\",IF(P101<=$H$101,\"III юн\",\"б/р\")))))))))))","v":" "}]
[{"$nulls":8},{"$f":"IF(ISBLANK(H102),\" \",IF(ISTEXT(H102),\" \",IF(H102<=132.9,\"МСМК\",IF(H102<=137.5,\"МС\",IF(H102<=142.2,\"КМС\",IF(H102<=149.6,\"I\",IF(H102<=158.9,\"II\",IF(H102<=209.1,\"III\",IF(H102<=221.2,\"I юн\",IF(H102<=234.2,\"II юн\",IF(H102<=247.2,\"III юн\",\"б/р\")))))))))))","v":" "},{"$f":"IF(ISBLANK(H102),\" \",IF(ISTEXT(H102),\" \",IF(H102<=132.9,\"МСМК\",IF(H102<=137.5,\"МС\",IF(H102<=142.2,\"КМС\",IF(H102<=149.6,\"I\",IF(H102<=158.9,\"II\",IF(H102<=209.1,\"III\",IF(H102<=221.2,\"I юн\",IF(H102<=234.2,\"II юн\",IF(H102<=247.2,\"III юн\",\"б/р\")))))))))))","v":" "},null,null,{"$f":"IF(ISBLANK(L102),\" \",IF(ISTEXT(L102),\" \",IF(L102<=132.9,\"МСМК\",IF(L102<=137.5,\"МС\",IF(L102<=142.2,\"КМС\",IF(L102<=149.6,\"I\",IF(L102<=158.9,\"II\",IF(L102<=209.1,\"III\",IF(L102<=221.2,\"I юн\",IF(L102<=234.2,\"II юн\",IF(L102<=247.2,\"III юн\",\"б/р\")))))))))))","v":" "},{"$f":"IF(ISBLANK(L102),\" \",IF(ISTEXT(L102),\" \",IF(L102<=132.9,\"МСМК\",IF(L102<=137.5,\"МС\",IF(L102<=142.2,\"КМС\",IF(L102<=149.6,\"I\",IF(L102<=158.9,\"II\",IF(L102<=209.1,\"III\",IF(L102<=221.2,\"I юн\",IF(L102<=234.2,\"II юн\",IF(L102<=247.2,\"III юн\",\"б/р\")))))))))))","v":" "},null,null,{"$f":"IF(ISBLANK(P102),\" \",IF(ISTEXT(P102),\" \",IF(P102<=132.9,\"МСМК\",IF(P102<=137.5,\"МС\",IF(P102<=142.2,\"КМС\",IF(P102<=149.6,\"I\",IF(P102<=158.9,\"II\",IF(P102<=209.1,\"III\",IF(P102<=221.2,\"I юн\",IF(P102<=234.2,\"II юн\",IF(P102<=247.2,\"III юн\",\"б/р\")))))))))))","v":" "}]
[null,null,"Плавание в ластах - 200 м (1460101811Я),  мужчины"]
[{"$nulls":7},122.5,{"$f":"IF(ISBLANK(H104),\" \",IF(ISTEXT(H104),\" \",IF(H104<=Нормативы!$H$104,\"МСМК\",IF(H104<=Нормативы!$H$105,\"МС\",IF(H104<=Нормативы!$H$106,\"КМС\",IF(H104<=Нормативы!$H$107,\"I\",IF(H104<=Нормативы!$H$108,\"II\",IF(H104<=Нормативы!$H$109,\"III\",IF(H104<=Нормативы!$H$110,\"I юн\",IF(H104<=Нормативы!$H$111,\"II юн\",IF(H104<=Нормативы!$H$112,\"III юн\",\"б/р\")))))))))))","v":"МСМК"},{"$f":"IF(ISBLANK(H104),\" \",IF(ISTEXT(H104),\" \",IF(H104<=Нормативы!$H$104,\"МСМК\",IF(H104<=Нормативы!$H$105,\"МС\",IF(H104<=Нормативы!$H$106,\"КМС\",IF(H104<=Нормативы!$H$107,\"I\",IF(H104<=Нормативы!$H$108,\"II\",IF(H104<=Нормативы!$H$109,\"III\",IF(H104<=Нормативы!$H$110,\"I юн\",IF(H104<=Нормативы!$H$111,\"II юн\",IF(H104<=Нормативы!$H$112,\"III юн\",\"б/р\")))))))))))","v":"МСМК"},null,null,{"$f":"IF(ISBLANK(L104),\" \",IF(ISTEXT(L104),\" \",IF(L104<=Нормативы!$H$104,\"КМС\",IF(L104<=Нормативы!$H$105,\"КМС\",IF(L104<=Нормативы!$L$106,\"КМС\",IF(L104<=Нормативы!$L$107,\"I\",IF(L104<=Нормативы!$L$108,\"II\",IF(L104<=Нормативы!$L$109,\"III\",IF(L104<=Нормативы!$L$110,\"I юн\",IF(L104<=Нормативы!$L$111,\"II юн\",IF(L104<=Нормативы!$L$112,\"III юн\",\"б/р\")))))))))))","v":" "},{"$f":"IF(ISBLANK(L104),\" \",IF(ISTEXT(L104),\" \",IF(L104<=123.2,\"МСМК\",IF(L104<=127.4,\"МС\",IF(L104<=131.5,\"КМС\",IF(L104<=138,\"I\",IF(L104<=147,\"II\",IF(L104<=155.5,\"III\",IF(L104<=207.5,\"I юн\",IF(L104<=219.3,\"II юн\",IF(L104<=231,\"III юн\",\"б/р\")))))))))))","v":" "},null,null,{"$f":"IF(ISBLANK(P104),\" \",IF(ISTEXT(P104),\" \",IF(P104<=$H$104,\"МСМК\",IF(P104<=$H$105,\"МС\",IF(P104<=$H$106,\"КМС\",IF(P104<=$H$107,\"I\",IF(P104<=$H$108,\"II\",IF(P104<=$H$109,\"III\",IF(P104<=$H$110,\"I юн\",IF(P104<=$H$111,\"II юн\",IF(P104<=$H$112,\"III юн\",\"б/р\")))))))))))","v":" "}]
[{"$nulls":7},126,{"$f":"IF(ISBLANK(H105),\" \",IF(ISTEXT(H105),\" \",IF(H105<=Нормативы!$H$104,\"МСМК\",IF(H105<=Нормативы!$H$105,\"МС\",IF(H105<=Нормативы!$H$106,\"КМС\",IF(H105<=Нормативы!$H$107,\"I\",IF(H105<=Нормативы!$H$108,\"II\",IF(H105<=Нормативы!$H$109,\"III\",IF(H105<=Нормативы!$H$110,\"I юн\",IF(H105<=Нормативы!$H$111,\"II юн\",IF(H105<=Нормативы!$H$112,\"III юн\",\"б/р\")))))))))))","v":"МС"},{"$f":"IF(ISBLANK(H105),\" \",IF(ISTEXT(H105),\" \",IF(H105<=Нормативы!$H$104,\"МСМК\",IF(H105<=Нормативы!$H$105,\"МС\",IF(H105<=Нормативы!$H$106,\"КМС\",IF(H105<=Нормативы!$H$107,\"I\",IF(H105<=Нормативы!$H$108,\"II\",IF(H105<=Нормативы!$H$109,\"III\",IF(H105<=Нормативы!$H$110,\"I юн\",IF(H105<=Нормативы!$H$111,\"II юн\",IF(H105<=Нормативы!$H$112,\"III юн\",\"б/р\")))))))))))","v":"МС"},null,null,{"$f":"IF(ISBLANK(L105),\" \",IF(ISTEXT(L105),\" \",IF(L105<=Нормативы!$H$104,\"КМС\",IF(L105<=Нормативы!$H$105,\"КМС\",IF(L105<=Нормативы!$L$106,\"КМС\",IF(L105<=Нормативы!$L$107,\"I\",IF(L105<=Нормативы!$L$108,\"II\",IF(L105<=Нормативы!$L$109,\"III\",IF(L105<=Нормативы!$L$110,\"I юн\",IF(L105<=Нормативы!$L$111,\"II юн\",IF(L105<=Нормативы!$L$112,\"III юн\",\"б/р\")))))))))))","v":" "},{"$f":"IF(ISBLANK(L105),\" \",IF(ISTEXT(L105),\" \",IF(L105<=123.2,\"МСМК\",IF(L105<=127.4,\"МС\",IF(L105<=131.5,\"КМС\",IF(L105<=138,\"I\",IF(L105<=147,\"II\",IF(L105<=155.5,\"III\",IF(L105<=207.5,\"I юн\",IF(L105<=219.3,\"II юн\",IF(L105<=231,\"III юн\",\"б/р\")))))))))))","v":" "},null,null,{"$f":"IF(ISBLANK(P105),\" \",IF(ISTEXT(P105),\" \",IF(P105<=$H$104,\"МСМК\",IF(P105<=$H$105,\"МС\",IF(P105<=$H$106,\"КМС\",IF(P105<=$H$107,\"I\",IF(P105<=$H$108,\"II\",IF(P105<=$H$109,\"III\",IF(P105<=$H$110,\"I юн\",IF(P105<=$H$111,\"II юн\",IF(P105<=$H$112,\"III юн\",\"б/р\")))))))))))","v":" "}]
[{"$nulls":7},130.7,{"$f":"IF(ISBLANK(H106),\" \",IF(ISTEXT(H106),\" \",IF(H106<=Нормативы!$H$104,\"МСМК\",IF(H106<=Нормативы!$H$105,\"МС\",IF(H106<=Нормативы!$H$106,\"КМС\",IF(H106<=Нормативы!$H$107,\"I\",IF(H106<=Нормативы!$H$108,\"II\",IF(H106<=Нормативы!$H$109,\"III\",IF(H106<=Нормативы!$H$110,\"I юн\",IF(H106<=Нормативы!$H$111,\"II юн\",IF(H106<=Нормативы!$H$112,\"III юн\",\"б/р\")))))))))))","v":"КМС"},{"$f":"IF(ISBLANK(H106),\" \",IF(ISTEXT(H106),\" \",IF(H106<=Нормативы!$H$104,\"МСМК\",IF(H106<=Нормативы!$H$105,\"МС\",IF(H106<=Нормативы!$H$106,\"КМС\",IF(H106<=Нормативы!$H$107,\"I\",IF(H106<=Нормативы!$H$108,\"II\",IF(H106<=Нормативы!$H$109,\"III\",IF(H106<=Нормативы!$H$110,\"I юн\",IF(H106<=Нормативы!$H$111,\"II юн\",IF(H106<=Нормативы!$H$112,\"III юн\",\"б/р\")))))))))))","v":"КМС"},null,{"$f":"H106-0.2","v":130.5},{"$f":"IF(ISBLANK(L106),\" \",IF(ISTEXT(L106),\" \",IF(L106<=Нормативы!$H$104,\"КМС\",IF(L106<=Нормативы!$H$105,\"КМС\",IF(L106<=Нормативы!$L$106,\"КМС\",IF(L106<=Нормативы!$L$107,\"I\",IF(L106<=Нормативы!$L$108,\"II\",IF(L106<=Нормативы!$L$109,\"III\",IF(L106<=Нормативы!$L$110,\"I юн\",IF(L106<=Нормативы!$L$111,\"II юн\",IF(L106<=Нормативы!$L$112,\"III юн\",\"б/р\")))))))))))","v":"КМС"},{"$f":"IF(ISBLANK(L106),\" \",IF(ISTEXT(L106),\" \",IF(L106<=Нормативы!$H$104,\"КМС\",IF(L106<=Нормативы!$H$105,\"КМС\",IF(L106<=Нормативы!$L$106,\"КМС\",IF(L106<=Нормативы!$L$107,\"I\",IF(L106<=Нормативы!$L$108,\"II\",IF(L106<=Нормативы!$L$109,\"III\",IF(L106<=Нормативы!$L$110,\"I юн\",IF(L106<=Нормативы!$L$111,\"II юн\",IF(L106<=Нормативы!$L$112,\"III юн\",\"б/р\")))))))))))","v":"КМС"},null,null,{"$f":"IF(ISBLANK(P106),\" \",IF(ISTEXT(P106),\" \",IF(P106<=$H$104,\"МСМК\",IF(P106<=$H$105,\"МС\",IF(P106<=$H$106,\"КМС\",IF(P106<=$H$107,\"I\",IF(P106<=$H$108,\"II\",IF(P106<=$H$109,\"III\",IF(P106<=$H$110,\"I юн\",IF(P106<=$H$111,\"II юн\",IF(P106<=$H$112,\"III юн\",\"б/р\")))))))))))","v":" "}]
[{"$nulls":7},137.2,{"$f":"IF(ISBLANK(H107),\" \",IF(ISTEXT(H107),\" \",IF(H107<=Нормативы!$H$104,\"МСМК\",IF(H107<=Нормативы!$H$105,\"МС\",IF(H107<=Нормативы!$H$106,\"КМС\",IF(H107<=Нормативы!$H$107,\"I\",IF(H107<=Нормативы!$H$108,\"II\",IF(H107<=Нормативы!$H$109,\"III\",IF(H107<=Нормативы!$H$110,\"I юн\",IF(H107<=Нормативы!$H$111,\"II юн\",IF(H107<=Нормативы!$H$112,\"III юн\",\"б/р\")))))))))))","v":"I"},{"$f":"IF(ISBLANK(H107),\" \",IF(ISTEXT(H107),\" \",IF(H107<=Нормативы!$H$104,\"МСМК\",IF(H107<=Нормативы!$H$105,\"МС\",IF(H107<=Нормативы!$H$106,\"КМС\",IF(H107<=Нормативы!$H$107,\"I\",IF(H107<=Нормативы!$H$108,\"II\",IF(H107<=Нормативы!$H$109,\"III\",IF(H107<=Нормативы!$H$110,\"I юн\",IF(H107<=Нормативы!$H$111,\"II юн\",IF(H107<=Нормативы!$H$112,\"III юн\",\"б/р\")))))))))))","v":"I"},null,137,{"$f":"IF(ISBLANK(L107),\" \",IF(ISTEXT(L107),\" \",IF(L107<=Нормативы!$H$104,\"КМС\",IF(L107<=Нормативы!$H$105,\"КМС\",IF(L107<=Нормативы!$L$106,\"КМС\",IF(L107<=Нормативы!$L$107,\"I\",IF(L107<=Нормативы!$L$108,\"II\",IF(L107<=Нормативы!$L$109,\"III\",IF(L107<=Нормативы!$L$110,\"I юн\",IF(L107<=Нормативы!$L$111,\"II юн\",IF(L107<=Нормативы!$L$112,\"III юн\",\"б/р\")))))))))))","v":"I"},{"$f":"IF(ISBLANK(L107),\" \",IF(ISTEXT(L107),\" \",IF(L107<=Нормативы!$H$104,\"КМС\",IF(L107<=Нормативы!$H$105,\"КМС\",IF(L107<=Нормативы!$L$106,\"КМС\",IF(L107<=Нормативы!$L$107,\"I\",IF(L107<=Нормативы!$L$108,\"II\",IF(L107<=Нормативы!$L$109,\"III\",IF(L107<=Нормативы!$L$110,\"I юн\",IF(L107<=Нормативы!$L$111,\"II юн\",IF(L107<=Нормативы!$L$112,\"III юн\",\"б/р\")))))))))))","v":"I"},null,null,{"$f":"IF(ISBLANK(P107),\" \",IF(ISTEXT(P107),\" \",IF(P107<=$H$104,\"МСМК\",IF(P107<=$H$105,\"МС\",IF(P107<=$H$106,\"КМС\",IF(P107<=$H$107,\"I\",IF(P107<=$H$108,\"II\",IF(P107<=$H$109,\"III\",IF(P107<=$H$110,\"I юн\",IF(P107<=$H$111,\"II юн\",IF(P107<=$H$112,\"III юн\",\"б/р\")))))))))))","v":" "}]
[{"$nulls":7},146.2,{"$f":"IF(ISBLANK(H108),\" \",IF(ISTEXT(H108),\" \",IF(H108<=Нормативы!$H$104,\"МСМК\",IF(H108<=Нормативы!$H$105,\"МС\",IF(H108<=Нормативы!$H$106,\"КМС\",IF(H108<=Нормативы!$H$107,\"I\",IF(H108<=Нормативы!$H$108,\"II\",IF(H108<=Нормативы!$H$109,\"III\",IF(H108<=Нормативы!$H$110,\"I юн\",IF(H108<=Нормативы!$H$111,\"II юн\",IF(H108<=Нормативы!$H$112,\"III юн\",\"б/р\")))))))))))","v":"II"},{"$f":"IF(ISBLANK(H108),\" \",IF(ISTEXT(H108),\" \",IF(H108<=Нормативы!$H$104,\"МСМК\",IF(H108<=Нормативы!$H$105,\"МС\",IF(H108<=Нормативы!$H$106,\"КМС\",IF(H108<=Нормативы!$H$107,\"I\",IF(H108<=Нормативы!$H$108,\"II\",IF(H108<=Нормативы!$H$109,\"III\",IF(H108<=Нормативы!$H$110,\"I юн\",IF(H108<=Нормативы!$H$111,\"II юн\",IF(H108<=Нормативы!$H$112,\"III юн\",\"б/р\")))))))))))","v":"II"},null,146,{"$f":"IF(ISBLANK(L108),\" \",IF(ISTEXT(L108),\" \",IF(L108<=Нормативы!$H$104,\"КМС\",IF(L108<=Нормативы!$H$105,\"КМС\",IF(L108<=Нормативы!$L$106,\"КМС\",IF(L108<=Нормативы!$L$107,\"I\",IF(L108<=Нормативы!$L$108,\"II\",IF(L108<=Нормативы!$L$109,\"III\",IF(L108<=Нормативы!$L$110,\"I юн\",IF(L108<=Нормативы!$L$111,\"II юн\",IF(L108<=Нормативы!$L$112,\"III юн\",\"б/р\")))))))))))","v":"II"},{"$f":"IF(ISBLANK(L108),\" \",IF(ISTEXT(L108),\" \",IF(L108<=Нормативы!$H$104,\"КМС\",IF(L108<=Нормативы!$H$105,\"КМС\",IF(L108<=Нормативы!$L$106,\"КМС\",IF(L108<=Нормативы!$L$107,\"I\",IF(L108<=Нормативы!$L$108,\"II\",IF(L108<=Нормативы!$L$109,\"III\",IF(L108<=Нормативы!$L$110,\"I юн\",IF(L108<=Нормативы!$L$111,\"II юн\",IF(L108<=Нормативы!$L$112,\"III юн\",\"б/р\")))))))))))","v":"II"},null,null,{"$f":"IF(ISBLANK(P108),\" \",IF(ISTEXT(P108),\" \",IF(P108<=$H$104,\"МСМК\",IF(P108<=$H$105,\"МС\",IF(P108<=$H$106,\"КМС\",IF(P108<=$H$107,\"I\",IF(P108<=$H$108,\"II\",IF(P108<=$H$109,\"III\",IF(P108<=$H$110,\"I юн\",IF(P108<=$H$111,\"II юн\",IF(P108<=$H$112,\"III юн\",\"б/р\")))))))))))","v":" "}]
[{"$nulls":7},154.79999999999998,{"$f":"IF(ISBLANK(H109),\" \",IF(ISTEXT(H109),\" \",IF(H109<=Нормативы!$H$104,\"МСМК\",IF(H109<=Нормативы!$H$105,\"МС\",IF(H109<=Нормативы!$H$106,\"КМС\",IF(H109<=Нормативы!$H$107,\"I\",IF(H109<=Нормативы!$H$108,\"II\",IF(H109<=Нормативы!$H$109,\"III\",IF(H109<=Нормативы!$H$110,\"I юн\",IF(H109<=Нормативы!$H$111,\"II юн\",IF(H109<=Нормативы!$H$112,\"III юн\",\"б/р\")))))))))))","v":"III"},{"$f":"IF(ISBLANK(H109),\" \",IF(ISTEXT(H109),\" \",IF(H109<=Нормативы!$H$104,\"МСМК\",IF(H109<=Нормативы!$H$105,\"МС\",IF(H109<=Нормативы!$H$106,\"КМС\",IF(H109<=Нормативы!$H$107,\"I\",IF(H109<=Нормативы!$H$108,\"II\",IF(H109<=Нормативы!$H$109,\"III\",IF(H109<=Нормативы!$H$110,\"I юн\",IF(H109<=Нормативы!$H$111,\"II юн\",IF(H109<=Нормативы!$H$112,\"III юн\",\"б/р\")))))))))))","v":"III"},null,154.6,{"$f":"IF(ISBLANK(L109),\" \",IF(ISTEXT(L109),\" \",IF(L109<=Нормативы!$H$104,\"КМС\",IF(L109<=Нормативы!$H$105,\"КМС\",IF(L109<=Нормативы!$L$106,\"КМС\",IF(L109<=Нормативы!$L$107,\"I\",IF(L109<=Нормативы!$L$108,\"II\",IF(L109<=Нормативы!$L$109,\"III\",IF(L109<=Нормативы!$L$110,\"I юн\",IF(L109<=Нормативы!$L$111,\"II юн\",IF(L109<=Нормативы!$L$112,\"III юн\",\"б/р\")))))))))))","v":"III"},{"$f":"IF(ISBLANK(L109),\" \",IF(ISTEXT(L109),\" \",IF(L109<=Нормативы!$H$104,\"КМС\",IF(L109<=Нормативы!$H$105,\"КМС\",IF(L109<=Нормативы!$L$106,\"КМС\",IF(L109<=Нормативы!$L$107,\"I\",IF(L109<=Нормативы!$L$108,\"II\",IF(L109<=Нормативы!$L$109,\"III\",IF(L109<=Нормативы!$L$110,\"I юн\",IF(L109<=Нормативы!$L$111,\"II юн\",IF(L109<=Нормативы!$L$112,\"III юн\",\"б/р\")))))))))))","v":"III"},null,null,{"$f":"IF(ISBLANK(P109),\" \",IF(ISTEXT(P109),\" \",IF(P109<=$H$104,\"МСМК\",IF(P109<=$H$105,\"МС\",IF(P109<=$H$106,\"КМС\",IF(P109<=$H$107,\"I\",IF(P109<=$H$108,\"II\",IF(P109<=$H$109,\"III\",IF(P109<=$H$110,\"I юн\",IF(P109<=$H$111,\"II юн\",IF(P109<=$H$112,\"III юн\",\"б/р\")))))))))))","v":" "}]
[{"$nulls":7},206.7,{"$f":"IF(ISBLANK(H110),\" \",IF(ISTEXT(H110),\" \",IF(H110<=Нормативы!$H$104,\"МСМК\",IF(H110<=Нормативы!$H$105,\"МС\",IF(H110<=Нормативы!$H$106,\"КМС\",IF(H110<=Нормативы!$H$107,\"I\",IF(H110<=Нормативы!$H$108,\"II\",IF(H110<=Нормативы!$H$109,\"III\",IF(H110<=Нормативы!$H$110,\"I юн\",IF(H110<=Нормативы!$H$111,\"II юн\",IF(H110<=Нормативы!$H$112,\"III юн\",\"б/р\")))))))))))","v":"I юн"},{"$f":"IF(ISBLANK(H110),\" \",IF(ISTEXT(H110),\" \",IF(H110<=Нормативы!$H$104,\"МСМК\",IF(H110<=Нормативы!$H$105,\"МС\",IF(H110<=Нормативы!$H$106,\"КМС\",IF(H110<=Нормативы!$H$107,\"I\",IF(H110<=Нормативы!$H$108,\"II\",IF(H110<=Нормативы!$H$109,\"III\",IF(H110<=Нормативы!$H$110,\"I юн\",IF(H110<=Нормативы!$H$111,\"II юн\",IF(H110<=Нормативы!$H$112,\"III юн\",\"б/р\")))))))))))","v":"I юн"},null,206.5,{"$f":"IF(ISBLANK(L110),\" \",IF(ISTEXT(L110),\" \",IF(L110<=Нормативы!$H$104,\"КМС\",IF(L110<=Нормативы!$H$105,\"КМС\",IF(L110<=Нормативы!$L$106,\"КМС\",IF(L110<=Нормативы!$L$107,\"I\",IF(L110<=Нормативы!$L$108,\"II\",IF(L110<=Нормативы!$L$109,\"III\",IF(L110<=Нормативы!$L$110,\"I юн\",IF(L110<=Нормативы!$L$111,\"II юн\",IF(L110<=Нормативы!$L$112,\"III юн\",\"б/р\")))))))))))","v":"I юн"},{"$f":"IF(ISBLANK(L110),\" \",IF(ISTEXT(L110),\" \",IF(L110<=Нормативы!$H$104,\"КМС\",IF(L110<=Нормативы!$H$105,\"КМС\",IF(L110<=Нормативы!$L$106,\"КМС\",IF(L110<=Нормативы!$L$107,\"I\",IF(L110<=Нормативы!$L$108,\"II\",IF(L110<=Нормативы!$L$109,\"III\",IF(L110<=Нормативы!$L$110,\"I юн\",IF(L110<=Нормативы!$L$111,\"II юн\",IF(L110<=Нормативы!$L$112,\"III юн\",\"б/р\")))))))))))","v":"I юн"},null,null,{"$f":"IF(ISBLANK(P110),\" \",IF(ISTEXT(P110),\" \",IF(P110<=$H$104,\"МСМК\",IF(P110<=$H$105,\"МС\",IF(P110<=$H$106,\"КМС\",IF(P110<=$H$107,\"I\",IF(P110<=$H$108,\"II\",IF(P110<=$H$109,\"III\",IF(P110<=$H$110,\"I юн\",IF(P110<=$H$111,\"II юн\",IF(P110<=$H$112,\"III юн\",\"б/р\")))))))))))","v":" "}]
[{"$nulls":7},218.5,{"$f":"IF(ISBLANK(H111),\" \",IF(ISTEXT(H111),\" \",IF(H111<=Нормативы!$H$104,\"МСМК\",IF(H111<=Нормативы!$H$105,\"МС\",IF(H111<=Нормативы!$H$106,\"КМС\",IF(H111<=Нормативы!$H$107,\"I\",IF(H111<=Нормативы!$H$108,\"II\",IF(H111<=Нормативы!$H$109,\"III\",IF(H111<=Нормативы!$H$110,\"I юн\",IF(H111<=Нормативы!$H$111,\"II юн\",IF(H111<=Нормативы!$H$112,\"III юн\",\"б/р\")))))))))))","v":"II юн"},{"$f":"IF(ISBLANK(H111),\" \",IF(ISTEXT(H111),\" \",IF(H111<=Нормативы!$H$104,\"МСМК\",IF(H111<=Нормативы!$H$105,\"МС\",IF(H111<=Нормативы!$H$106,\"КМС\",IF(H111<=Нормативы!$H$107,\"I\",IF(H111<=Нормативы!$H$108,\"II\",IF(H111<=Нормативы!$H$109,\"III\",IF(H111<=Нормативы!$H$110,\"I юн\",IF(H111<=Нормативы!$H$111,\"II юн\",IF(H111<=Нормативы!$H$112,\"III юн\",\"б/р\")))))))))))","v":"II юн"},null,218.3,{"$f":"IF(ISBLANK(L111),\" \",IF(ISTEXT(L111),\" \",IF(L111<=Нормативы!$H$104,\"КМС\",IF(L111<=Нормативы!$H$105,\"КМС\",IF(L111<=Нормативы!$L$106,\"КМС\",IF(L111<=Нормативы!$L$107,\"I\",IF(L111<=Нормативы!$L$108,\"II\",IF(L111<=Нормативы!$L$109,\"III\",IF(L111<=Нормативы!$L$110,\"I юн\",IF(L111<=Нормативы!$L$111,\"II юн\",IF(L111<=Нормативы!$L$112,\"III юн\",\"б/р\")))))))))))","v":"II юн"},{"$f":"IF(ISBLANK(L111),\" \",IF(ISTEXT(L111),\" \",IF(L111<=Нормативы!$H$104,\"КМС\",IF(L111<=Нормативы!$H$105,\"КМС\",IF(L111<=Нормативы!$L$106,\"КМС\",IF(L111<=Нормативы!$L$107,\"I\",IF(L111<=Нормативы!$L$108,\"II\",IF(L111<=Нормативы!$L$109,\"III\",IF(L111<=Нормативы!$L$110,\"I юн\",IF(L111<=Нормативы!$L$111,\"II юн\",IF(L111<=Нормативы!$L$112,\"III юн\",\"б/р\")))))))))))","v":"II юн"},null,null,{"$f":"IF(ISBLANK(P111),\" \",IF(ISTEXT(P111),\" \",IF(P111<=$H$104,\"МСМК\",IF(P111<=$H$105,\"МС\",IF(P111<=$H$106,\"КМС\",IF(P111<=$H$107,\"I\",IF(P111<=$H$108,\"II\",IF(P111<=$H$109,\"III\",IF(P111<=$H$110,\"I юн\",IF(P111<=$H$111,\"II юн\",IF(P111<=$H$112,\"III юн\",\"б/р\")))))))))))","v":" "}]
[{"$nulls":7},229.2,{"$f":"IF(ISBLANK(H112),\" \",IF(ISTEXT(H112),\" \",IF(H112<=Нормативы!$H$104,\"МСМК\",IF(H112<=Нормативы!$H$105,\"МС\",IF(H112<=Нормативы!$H$106,\"КМС\",IF(H112<=Нормативы!$H$107,\"I\",IF(H112<=Нормативы!$H$108,\"II\",IF(H112<=Нормативы!$H$109,\"III\",IF(H112<=Нормативы!$H$110,\"I юн\",IF(H112<=Нормативы!$H$111,\"II юн\",IF(H112<=Нормативы!$H$112,\"III юн\",\"б/р\")))))))))))","v":"III юн"},{"$f":"IF(ISBLANK(H112),\" \",IF(ISTEXT(H112),\" \",IF(H112<=Нормативы!$H$104,\"МСМК\",IF(H112<=Нормативы!$H$105,\"МС\",IF(H112<=Нормативы!$H$106,\"КМС\",IF(H112<=Нормативы!$H$107,\"I\",IF(H112<=Нормативы!$H$108,\"II\",IF(H112<=Нормативы!$H$109,\"III\",IF(H112<=Нормативы!$H$110,\"I юн\",IF(H112<=Нормативы!$H$111,\"II юн\",IF(H112<=Нормативы!$H$112,\"III юн\",\"б/р\")))))))))))","v":"III юн"},null,229,{"$f":"IF(ISBLANK(L112),\" \",IF(ISTEXT(L112),\" \",IF(L112<=Нормативы!$H$104,\"КМС\",IF(L112<=Нормативы!$H$105,\"КМС\",IF(L112<=Нормативы!$L$106,\"КМС\",IF(L112<=Нормативы!$L$107,\"I\",IF(L112<=Нормативы!$L$108,\"II\",IF(L112<=Нормативы!$L$109,\"III\",IF(L112<=Нормативы!$L$110,\"I юн\",IF(L112<=Нормативы!$L$111,\"II юн\",IF(L112<=Нормативы!$L$112,\"III юн\",\"б/р\")))))))))))","v":"III юн"},{"$f":"IF(ISBLANK(L112),\" \",IF(ISTEXT(L112),\" \",IF(L112<=Нормативы!$H$104,\"КМС\",IF(L112<=Нормативы!$H$105,\"КМС\",IF(L112<=Нормативы!$L$106,\"КМС\",IF(L112<=Нормативы!$L$107,\"I\",IF(L112<=Нормативы!$L$108,\"II\",IF(L112<=Нормативы!$L$109,\"III\",IF(L112<=Нормативы!$L$110,\"I юн\",IF(L112<=Нормативы!$L$111,\"II юн\",IF(L112<=Нормативы!$L$112,\"III юн\",\"б/р\")))))))))))","v":"III юн"},null,null,{"$f":"IF(ISBLANK(P112),\" \",IF(ISTEXT(P112),\" \",IF(P112<=$H$104,\"МСМК\",IF(P112<=$H$105,\"МС\",IF(P112<=$H$106,\"КМС\",IF(P112<=$H$107,\"I\",IF(P112<=$H$108,\"II\",IF(P112<=$H$109,\"III\",IF(P112<=$H$110,\"I юн\",IF(P112<=$H$111,\"II юн\",IF(P112<=$H$112,\"III юн\",\"б/р\")))))))))))","v":" "}]
[]
[null,null,"Плавание в классических ластах- 200 м (1460261811Я),  женщины"]
[{"$nulls":7},147,{"$f":"IF(ISBLANK(H115),\" \",IF(ISTEXT(H115),\" \",IF(H115<=Нормативы!$H$115,\"МСМК\",IF(H115<=Нормативы!$H$116,\"МС\",IF(H115<=Нормативы!$H$117,\"КМС\",IF(H115<=Нормативы!$H$118,\"I\",IF(H115<=Нормативы!$H$119,\"II\",IF(H115<=Нормативы!$H$120,\"III\",IF(H115<=Нормативы!$H$121,\"I юн\",IF(H115<=Нормативы!$H$122,\"II юн\",IF(H115<=Нормативы!$H$123,\"III юн\",\"б/р\")))))))))))","v":"МСМК"},{"$f":"IF(ISBLANK(H115),\" \",IF(ISTEXT(H115),\" \",IF(H115<=Нормативы!$H$115,\"МСМК\",IF(H115<=Нормативы!$H$116,\"МС\",IF(H115<=Нормативы!$H$117,\"КМС\",IF(H115<=Нормативы!$H$118,\"I\",IF(H115<=Нормативы!$H$119,\"II\",IF(H115<=Нормативы!$H$120,\"III\",IF(H115<=Нормативы!$H$121,\"I юн\",IF(H115<=Нормативы!$H$122,\"II юн\",IF(H115<=Нормативы!$H$123,\"III юн\",\"б/р\")))))))))))","v":"МСМК"},null,null,{"$f":"IF(ISBLANK(L115),\" \",IF(ISTEXT(L115),\" \",IF(L115<=Нормативы!$H$115,\"КМС\",IF(L115<=Нормативы!$H$116,\"КМС\",IF(L115<=Нормативы!$L$117,\"КМС\",IF(L115<=Нормативы!$L$118,\"I\",IF(L115<=Нормативы!$L$119,\"II\",IF(L115<=Нормативы!$L$120,\"III\",IF(L115<=Нормативы!$L$121,\"I юн\",IF(L115<=Нормативы!$L$122,\"II юн\",IF(L115<=Нормативы!$L$123,\"III юн\",\"б/р\")))))))))))","v":" "},{"$f":"IF(ISBLANK(L115),\" \",IF(ISTEXT(L115),\" \",IF(L115<=147.5,\"МСМК\",IF(L115<=152.6,\"МС\",IF(L115<=157.6,\"КМС\",IF(L115<=207.3,\"I\",IF(L115<=216.3,\"II\",IF(L115<=228,\"III\",IF(L115<=244,\"I юн\",IF(L115<=258.5,\"II юн\",IF(L115<=312,\"III юн\",\"б/р\")))))))))))","v":" "},null,null,{"$f":"IF(ISBLANK(P115),\" \",IF(ISTEXT(P115),\" \",IF(P115<=$H$115,\"МСМК\",IF(P115<=$H$116,\"МС\",IF(P115<=$H$117,\"КМС\",IF(P115<=$H$118,\"I\",IF(P115<=$H$119,\"II\",IF(P115<=$H$120,\"III\",IF(P115<=$H$121,\"I юн\",IF(P115<=$H$122,\"II юн\",IF(P115<=$H$123,\"III юн\",\"б/р\")))))))))))","v":" "}]
[{"$nulls":7},151,{"$f":"IF(ISBLANK(H116),\" \",IF(ISTEXT(H116),\" \",IF(H116<=Нормативы!$H$115,\"МСМК\",IF(H116<=Нормативы!$H$116,\"МС\",IF(H116<=Нормативы!$H$117,\"КМС\",IF(H116<=Нормативы!$H$118,\"I\",IF(H116<=Нормативы!$H$119,\"II\",IF(H116<=Нормативы!$H$120,\"III\",IF(H116<=Нормативы!$H$121,\"I юн\",IF(H116<=Нормативы!$H$122,\"II юн\",IF(H116<=Нормативы!$H$123,\"III юн\",\"б/р\")))))))))))","v":"МС"},{"$f":"IF(ISBLANK(H116),\" \",IF(ISTEXT(H116),\" \",IF(H116<=Нормативы!$H$115,\"МСМК\",IF(H116<=Нормативы!$H$116,\"МС\",IF(H116<=Нормативы!$H$117,\"КМС\",IF(H116<=Нормативы!$H$118,\"I\",IF(H116<=Нормативы!$H$119,\"II\",IF(H116<=Нормативы!$H$120,\"III\",IF(H116<=Нормативы!$H$121,\"I юн\",IF(H116<=Нормативы!$H$122,\"II юн\",IF(H116<=Нормативы!$H$123,\"III юн\",\"б/р\")))))))))))","v":"МС"},null,null,{"$f":"IF(ISBLANK(L116),\" \",IF(ISTEXT(L116),\" \",IF(L116<=Нормативы!$H$115,\"КМС\",IF(L116<=Нормативы!$H$116,\"КМС\",IF(L116<=Нормативы!$L$117,\"КМС\",IF(L116<=Нормативы!$L$118,\"I\",IF(L116<=Нормативы!$L$119,\"II\",IF(L116<=Нормативы!$L$120,\"III\",IF(L116<=Нормативы!$L$121,\"I юн\",IF(L116<=Нормативы!$L$122,\"II юн\",IF(L116<=Нормативы!$L$123,\"III юн\",\"б/р\")))))))))))","v":" "},{"$f":"IF(ISBLANK(L116),\" \",IF(ISTEXT(L116),\" \",IF(L116<=147.5,\"МСМК\",IF(L116<=152.6,\"МС\",IF(L116<=157.6,\"КМС\",IF(L116<=207.3,\"I\",IF(L116<=216.3,\"II\",IF(L116<=228,\"III\",IF(L116<=244,\"I юн\",IF(L116<=258.5,\"II юн\",IF(L116<=312,\"III юн\",\"б/р\")))))))))))","v":" "},null,null,{"$f":"IF(ISBLANK(P116),\" \",IF(ISTEXT(P116),\" \",IF(P116<=$H$115,\"МСМК\",IF(P116<=$H$116,\"МС\",IF(P116<=$H$117,\"КМС\",IF(P116<=$H$118,\"I\",IF(P116<=$H$119,\"II\",IF(P116<=$H$120,\"III\",IF(P116<=$H$121,\"I юн\",IF(P116<=$H$122,\"II юн\",IF(P116<=$H$123,\"III юн\",\"б/р\")))))))))))","v":" "}]
[{"$nulls":7},157.2,{"$f":"IF(ISBLANK(H117),\" \",IF(ISTEXT(H117),\" \",IF(H117<=Нормативы!$H$115,\"МСМК\",IF(H117<=Нормативы!$H$116,\"МС\",IF(H117<=Нормативы!$H$117,\"КМС\",IF(H117<=Нормативы!$H$118,\"I\",IF(H117<=Нормативы!$H$119,\"II\",IF(H117<=Нормативы!$H$120,\"III\",IF(H117<=Нормативы!$H$121,\"I юн\",IF(H117<=Нормативы!$H$122,\"II юн\",IF(H117<=Нормативы!$H$123,\"III юн\",\"б/р\")))))))))))","v":"КМС"},{"$f":"IF(ISBLANK(H117),\" \",IF(ISTEXT(H117),\" \",IF(H117<=Нормативы!$H$115,\"МСМК\",IF(H117<=Нормативы!$H$116,\"МС\",IF(H117<=Нормативы!$H$117,\"КМС\",IF(H117<=Нормативы!$H$118,\"I\",IF(H117<=Нормативы!$H$119,\"II\",IF(H117<=Нормативы!$H$120,\"III\",IF(H117<=Нормативы!$H$121,\"I юн\",IF(H117<=Нормативы!$H$122,\"II юн\",IF(H117<=Нормативы!$H$123,\"III юн\",\"б/р\")))))))))))","v":"КМС"},null,{"$f":"H117-0.2","v":157},{"$f":"IF(ISBLANK(L117),\" \",IF(ISTEXT(L117),\" \",IF(L117<=Нормативы!$H$115,\"КМС\",IF(L117<=Нормативы!$H$116,\"КМС\",IF(L117<=Нормативы!$L$117,\"КМС\",IF(L117<=Нормативы!$L$118,\"I\",IF(L117<=Нормативы!$L$119,\"II\",IF(L117<=Нормативы!$L$120,\"III\",IF(L117<=Нормативы!$L$121,\"I юн\",IF(L117<=Нормативы!$L$122,\"II юн\",IF(L117<=Нормативы!$L$123,\"III юн\",\"б/р\")))))))))))","v":"КМС"},{"$f":"IF(ISBLANK(L117),\" \",IF(ISTEXT(L117),\" \",IF(L117<=Нормативы!$H$115,\"КМС\",IF(L117<=Нормативы!$H$116,\"КМС\",IF(L117<=Нормативы!$L$117,\"КМС\",IF(L117<=Нормативы!$L$118,\"I\",IF(L117<=Нормативы!$L$119,\"II\",IF(L117<=Нормативы!$L$120,\"III\",IF(L117<=Нормативы!$L$121,\"I юн\",IF(L117<=Нормативы!$L$122,\"II юн\",IF(L117<=Нормативы!$L$123,\"III юн\",\"б/р\")))))))))))","v":"КМС"},null,null,{"$f":"IF(ISBLANK(P117),\" \",IF(ISTEXT(P117),\" \",IF(P117<=$H$115,\"МСМК\",IF(P117<=$H$116,\"МС\",IF(P117<=$H$117,\"КМС\",IF(P117<=$H$118,\"I\",IF(P117<=$H$119,\"II\",IF(P117<=$H$120,\"III\",IF(P117<=$H$121,\"I юн\",IF(P117<=$H$122,\"II юн\",IF(P117<=$H$123,\"III юн\",\"б/р\")))))))))))","v":" "}]
[{"$nulls":7},206.7,{"$f":"IF(ISBLANK(H118),\" \",IF(ISTEXT(H118),\" \",IF(H118<=Нормативы!$H$115,\"МСМК\",IF(H118<=Нормативы!$H$116,\"МС\",IF(H118<=Нормативы!$H$117,\"КМС\",IF(H118<=Нормативы!$H$118,\"I\",IF(H118<=Нормативы!$H$119,\"II\",IF(H118<=Нормативы!$H$120,\"III\",IF(H118<=Нормативы!$H$121,\"I юн\",IF(H118<=Нормативы!$H$122,\"II юн\",IF(H118<=Нормативы!$H$123,\"III юн\",\"б/р\")))))))))))","v":"I"},{"$f":"IF(ISBLANK(H118),\" \",IF(ISTEXT(H118),\" \",IF(H118<=Нормативы!$H$115,\"МСМК\",IF(H118<=Нормативы!$H$116,\"МС\",IF(H118<=Нормативы!$H$117,\"КМС\",IF(H118<=Нормативы!$H$118,\"I\",IF(H118<=Нормативы!$H$119,\"II\",IF(H118<=Нормативы!$H$120,\"III\",IF(H118<=Нормативы!$H$121,\"I юн\",IF(H118<=Нормативы!$H$122,\"II юн\",IF(H118<=Нормативы!$H$123,\"III юн\",\"б/р\")))))))))))","v":"I"},null,206.5,{"$f":"IF(ISBLANK(L118),\" \",IF(ISTEXT(L118),\" \",IF(L118<=Нормативы!$H$115,\"КМС\",IF(L118<=Нормативы!$H$116,\"КМС\",IF(L118<=Нормативы!$L$117,\"КМС\",IF(L118<=Нормативы!$L$118,\"I\",IF(L118<=Нормативы!$L$119,\"II\",IF(L118<=Нормативы!$L$120,\"III\",IF(L118<=Нормативы!$L$121,\"I юн\",IF(L118<=Нормативы!$L$122,\"II юн\",IF(L118<=Нормативы!$L$123,\"III юн\",\"б/р\")))))))))))","v":"I"},{"$f":"IF(ISBLANK(L118),\" \",IF(ISTEXT(L118),\" \",IF(L118<=Нормативы!$H$115,\"КМС\",IF(L118<=Нормативы!$H$116,\"КМС\",IF(L118<=Нормативы!$L$117,\"КМС\",IF(L118<=Нормативы!$L$118,\"I\",IF(L118<=Нормативы!$L$119,\"II\",IF(L118<=Нормативы!$L$120,\"III\",IF(L118<=Нормативы!$L$121,\"I юн\",IF(L118<=Нормативы!$L$122,\"II юн\",IF(L118<=Нормативы!$L$123,\"III юн\",\"б/р\")))))))))))","v":"I"},null,null,{"$f":"IF(ISBLANK(P118),\" \",IF(ISTEXT(P118),\" \",IF(P118<=$H$115,\"МСМК\",IF(P118<=$H$116,\"МС\",IF(P118<=$H$117,\"КМС\",IF(P118<=$H$118,\"I\",IF(P118<=$H$119,\"II\",IF(P118<=$H$120,\"III\",IF(P118<=$H$121,\"I юн\",IF(P118<=$H$122,\"II юн\",IF(P118<=$H$123,\"III юн\",\"б/р\")))))))))))","v":" "}]
[{"$nulls":7},215.7,{"$f":"IF(ISBLANK(H119),\" \",IF(ISTEXT(H119),\" \",IF(H119<=Нормативы!$H$115,\"МСМК\",IF(H119<=Нормативы!$H$116,\"МС\",IF(H119<=Нормативы!$H$117,\"КМС\",IF(H119<=Нормативы!$H$118,\"I\",IF(H119<=Нормативы!$H$119,\"II\",IF(H119<=Нормативы!$H$120,\"III\",IF(H119<=Нормативы!$H$121,\"I юн\",IF(H119<=Нормативы!$H$122,\"II юн\",IF(H119<=Нормативы!$H$123,\"III юн\",\"б/р\")))))))))))","v":"II"},{"$f":"IF(ISBLANK(H119),\" \",IF(ISTEXT(H119),\" \",IF(H119<=Нормативы!$H$115,\"МСМК\",IF(H119<=Нормативы!$H$116,\"МС\",IF(H119<=Нормативы!$H$117,\"КМС\",IF(H119<=Нормативы!$H$118,\"I\",IF(H119<=Нормативы!$H$119,\"II\",IF(H119<=Нормативы!$H$120,\"III\",IF(H119<=Нормативы!$H$121,\"I юн\",IF(H119<=Нормативы!$H$122,\"II юн\",IF(H119<=Нормативы!$H$123,\"III юн\",\"б/р\")))))))))))","v":"II"},null,215.5,{"$f":"IF(ISBLANK(L119),\" \",IF(ISTEXT(L119),\" \",IF(L119<=Нормативы!$H$115,\"КМС\",IF(L119<=Нормативы!$H$116,\"КМС\",IF(L119<=Нормативы!$L$117,\"КМС\",IF(L119<=Нормативы!$L$118,\"I\",IF(L119<=Нормативы!$L$119,\"II\",IF(L119<=Нормативы!$L$120,\"III\",IF(L119<=Нормативы!$L$121,\"I юн\",IF(L119<=Нормативы!$L$122,\"II юн\",IF(L119<=Нормативы!$L$123,\"III юн\",\"б/р\")))))))))))","v":"II"},{"$f":"IF(ISBLANK(L119),\" \",IF(ISTEXT(L119),\" \",IF(L119<=Нормативы!$H$115,\"КМС\",IF(L119<=Нормативы!$H$116,\"КМС\",IF(L119<=Нормативы!$L$117,\"КМС\",IF(L119<=Нормативы!$L$118,\"I\",IF(L119<=Нормативы!$L$119,\"II\",IF(L119<=Нормативы!$L$120,\"III\",IF(L119<=Нормативы!$L$121,\"I юн\",IF(L119<=Нормативы!$L$122,\"II юн\",IF(L119<=Нормативы!$L$123,\"III юн\",\"б/р\")))))))))))","v":"II"},null,null,{"$f":"IF(ISBLANK(P119),\" \",IF(ISTEXT(P119),\" \",IF(P119<=$H$115,\"МСМК\",IF(P119<=$H$116,\"МС\",IF(P119<=$H$117,\"КМС\",IF(P119<=$H$118,\"I\",IF(P119<=$H$119,\"II\",IF(P119<=$H$120,\"III\",IF(P119<=$H$121,\"I юн\",IF(P119<=$H$122,\"II юн\",IF(P119<=$H$123,\"III юн\",\"б/р\")))))))))))","v":" "}]
[{"$nulls":7},227,{"$f":"IF(ISBLANK(H120),\" \",IF(ISTEXT(H120),\" \",IF(H120<=Нормативы!$H$115,\"МСМК\",IF(H120<=Нормативы!$H$116,\"МС\",IF(H120<=Нормативы!$H$117,\"КМС\",IF(H120<=Нормативы!$H$118,\"I\",IF(H120<=Нормативы!$H$119,\"II\",IF(H120<=Нормативы!$H$120,\"III\",IF(H120<=Нормативы!$H$121,\"I юн\",IF(H120<=Нормативы!$H$122,\"II юн\",IF(H120<=Нормативы!$H$123,\"III юн\",\"б/р\")))))))))))","v":"III"},{"$f":"IF(ISBLANK(H120),\" \",IF(ISTEXT(H120),\" \",IF(H120<=Нормативы!$H$115,\"МСМК\",IF(H120<=Нормативы!$H$116,\"МС\",IF(H120<=Нормативы!$H$117,\"КМС\",IF(H120<=Нормативы!$H$118,\"I\",IF(H120<=Нормативы!$H$119,\"II\",IF(H120<=Нормативы!$H$120,\"III\",IF(H120<=Нормативы!$H$121,\"I юн\",IF(H120<=Нормативы!$H$122,\"II юн\",IF(H120<=Нормативы!$H$123,\"III юн\",\"б/р\")))))))))))","v":"III"},null,226.8,{"$f":"IF(ISBLANK(L120),\" \",IF(ISTEXT(L120),\" \",IF(L120<=Нормативы!$H$115,\"КМС\",IF(L120<=Нормативы!$H$116,\"КМС\",IF(L120<=Нормативы!$L$117,\"КМС\",IF(L120<=Нормативы!$L$118,\"I\",IF(L120<=Нормативы!$L$119,\"II\",IF(L120<=Нормативы!$L$120,\"III\",IF(L120<=Нормативы!$L$121,\"I юн\",IF(L120<=Нормативы!$L$122,\"II юн\",IF(L120<=Нормативы!$L$123,\"III юн\",\"б/р\")))))))))))","v":"III"},{"$f":"IF(ISBLANK(L120),\" \",IF(ISTEXT(L120),\" \",IF(L120<=Нормативы!$H$115,\"КМС\",IF(L120<=Нормативы!$H$116,\"КМС\",IF(L120<=Нормативы!$L$117,\"КМС\",IF(L120<=Нормативы!$L$118,\"I\",IF(L120<=Нормативы!$L$119,\"II\",IF(L120<=Нормативы!$L$120,\"III\",IF(L120<=Нормативы!$L$121,\"I юн\",IF(L120<=Нормативы!$L$122,\"II юн\",IF(L120<=Нормативы!$L$123,\"III юн\",\"б/р\")))))))))))","v":"III"},null,null,{"$f":"IF(ISBLANK(P120),\" \",IF(ISTEXT(P120),\" \",IF(P120<=$H$115,\"МСМК\",IF(P120<=$H$116,\"МС\",IF(P120<=$H$117,\"КМС\",IF(P120<=$H$118,\"I\",IF(P120<=$H$119,\"II\",IF(P120<=$H$120,\"III\",IF(P120<=$H$121,\"I юн\",IF(P120<=$H$122,\"II юн\",IF(P120<=$H$123,\"III юн\",\"б/р\")))))))))))","v":" "}]
[{"$nulls":7},242.2,{"$f":"IF(ISBLANK(H121),\" \",IF(ISTEXT(H121),\" \",IF(H121<=Нормативы!$H$115,\"МСМК\",IF(H121<=Нормативы!$H$116,\"МС\",IF(H121<=Нормативы!$H$117,\"КМС\",IF(H121<=Нормативы!$H$118,\"I\",IF(H121<=Нормативы!$H$119,\"II\",IF(H121<=Нормативы!$H$120,\"III\",IF(H121<=Нормативы!$H$121,\"I юн\",IF(H121<=Нормативы!$H$122,\"II юн\",IF(H121<=Нормативы!$H$123,\"III юн\",\"б/р\")))))))))))","v":"I юн"},{"$f":"IF(ISBLANK(H121),\" \",IF(ISTEXT(H121),\" \",IF(H121<=Нормативы!$H$115,\"МСМК\",IF(H121<=Нормативы!$H$116,\"МС\",IF(H121<=Нормативы!$H$117,\"КМС\",IF(H121<=Нормативы!$H$118,\"I\",IF(H121<=Нормативы!$H$119,\"II\",IF(H121<=Нормативы!$H$120,\"III\",IF(H121<=Нормативы!$H$121,\"I юн\",IF(H121<=Нормативы!$H$122,\"II юн\",IF(H121<=Нормативы!$H$123,\"III юн\",\"б/р\")))))))))))","v":"I юн"},null,242,{"$f":"IF(ISBLANK(L121),\" \",IF(ISTEXT(L121),\" \",IF(L121<=Нормативы!$H$115,\"КМС\",IF(L121<=Нормативы!$H$116,\"КМС\",IF(L121<=Нормативы!$L$117,\"КМС\",IF(L121<=Нормативы!$L$118,\"I\",IF(L121<=Нормативы!$L$119,\"II\",IF(L121<=Нормативы!$L$120,\"III\",IF(L121<=Нормативы!$L$121,\"I юн\",IF(L121<=Нормативы!$L$122,\"II юн\",IF(L121<=Нормативы!$L$123,\"III юн\",\"б/р\")))))))))))","v":"I юн"},{"$f":"IF(ISBLANK(L121),\" \",IF(ISTEXT(L121),\" \",IF(L121<=Нормативы!$H$115,\"КМС\",IF(L121<=Нормативы!$H$116,\"КМС\",IF(L121<=Нормативы!$L$117,\"КМС\",IF(L121<=Нормативы!$L$118,\"I\",IF(L121<=Нормативы!$L$119,\"II\",IF(L121<=Нормативы!$L$120,\"III\",IF(L121<=Нормативы!$L$121,\"I юн\",IF(L121<=Нормативы!$L$122,\"II юн\",IF(L121<=Нормативы!$L$123,\"III юн\",\"б/р\")))))))))))","v":"I юн"},null,null,{"$f":"IF(ISBLANK(P121),\" \",IF(ISTEXT(P121),\" \",IF(P121<=$H$115,\"МСМК\",IF(P121<=$H$116,\"МС\",IF(P121<=$H$117,\"КМС\",IF(P121<=$H$118,\"I\",IF(P121<=$H$119,\"II\",IF(P121<=$H$120,\"III\",IF(P121<=$H$121,\"I юн\",IF(P121<=$H$122,\"II юн\",IF(P121<=$H$123,\"III юн\",\"б/р\")))))))))))","v":" "}]
[{"$nulls":7},256.2,{"$f":"IF(ISBLANK(H122),\" \",IF(ISTEXT(H122),\" \",IF(H122<=Нормативы!$H$115,\"МСМК\",IF(H122<=Нормативы!$H$116,\"МС\",IF(H122<=Нормативы!$H$117,\"КМС\",IF(H122<=Нормативы!$H$118,\"I\",IF(H122<=Нормативы!$H$119,\"II\",IF(H122<=Нормативы!$H$120,\"III\",IF(H122<=Нормативы!$H$121,\"I юн\",IF(H122<=Нормативы!$H$122,\"II юн\",IF(H122<=Нормативы!$H$123,\"III юн\",\"б/р\")))))))))))","v":"II юн"},{"$f":"IF(ISBLANK(H122),\" \",IF(ISTEXT(H122),\" \",IF(H122<=Нормативы!$H$115,\"МСМК\",IF(H122<=Нормативы!$H$116,\"МС\",IF(H122<=Нормативы!$H$117,\"КМС\",IF(H122<=Нормативы!$H$118,\"I\",IF(H122<=Нормативы!$H$119,\"II\",IF(H122<=Нормативы!$H$120,\"III\",IF(H122<=Нормативы!$H$121,\"I юн\",IF(H122<=Нормативы!$H$122,\"II юн\",IF(H122<=Нормативы!$H$123,\"III юн\",\"б/р\")))))))))))","v":"II юн"},null,256,{"$f":"IF(ISBLANK(L122),\" \",IF(ISTEXT(L122),\" \",IF(L122<=Нормативы!$H$115,\"КМС\",IF(L122<=Нормативы!$H$116,\"КМС\",IF(L122<=Нормативы!$L$117,\"КМС\",IF(L122<=Нормативы!$L$118,\"I\",IF(L122<=Нормативы!$L$119,\"II\",IF(L122<=Нормативы!$L$120,\"III\",IF(L122<=Нормативы!$L$121,\"I юн\",IF(L122<=Нормативы!$L$122,\"II юн\",IF(L122<=Нормативы!$L$123,\"III юн\",\"б/р\")))))))))))","v":"II юн"},{"$f":"IF(ISBLANK(L122),\" \",IF(ISTEXT(L122),\" \",IF(L122<=Нормативы!$H$115,\"КМС\",IF(L122<=Нормативы!$H$116,\"КМС\",IF(L122<=Нормативы!$L$117,\"КМС\",IF(L122<=Нормативы!$L$118,\"I\",IF(L122<=Нормативы!$L$119,\"II\",IF(L122<=Нормативы!$L$120,\"III\",IF(L122<=Нормативы!$L$121,\"I юн\",IF(L122<=Нормативы!$L$122,\"II юн\",IF(L122<=Нормативы!$L$123,\"III юн\",\"б/р\")))))))))))","v":"II юн"},null,null,{"$f":"IF(ISBLANK(P122),\" \",IF(ISTEXT(P122),\" \",IF(P122<=$H$115,\"МСМК\",IF(P122<=$H$116,\"МС\",IF(P122<=$H$117,\"КМС\",IF(P122<=$H$118,\"I\",IF(P122<=$H$119,\"II\",IF(P122<=$H$120,\"III\",IF(P122<=$H$121,\"I юн\",IF(P122<=$H$122,\"II юн\",IF(P122<=$H$123,\"III юн\",\"б/р\")))))))))))","v":" "}]
[{"$nulls":7},310.2,{"$f":"IF(ISBLANK(H123),\" \",IF(ISTEXT(H123),\" \",IF(H123<=Нормативы!$H$115,\"МСМК\",IF(H123<=Нормативы!$H$116,\"МС\",IF(H123<=Нормативы!$H$117,\"КМС\",IF(H123<=Нормативы!$H$118,\"I\",IF(H123<=Нормативы!$H$119,\"II\",IF(H123<=Нормативы!$H$120,\"III\",IF(H123<=Нормативы!$H$121,\"I юн\",IF(H123<=Нормативы!$H$122,\"II юн\",IF(H123<=Нормативы!$H$123,\"III юн\",\"б/р\")))))))))))","v":"III юн"},{"$f":"IF(ISBLANK(H123),\" \",IF(ISTEXT(H123),\" \",IF(H123<=Нормативы!$H$115,\"МСМК\",IF(H123<=Нормативы!$H$116,\"МС\",IF(H123<=Нормативы!$H$117,\"КМС\",IF(H123<=Нормативы!$H$118,\"I\",IF(H123<=Нормативы!$H$119,\"II\",IF(H123<=Нормативы!$H$120,\"III\",IF(H123<=Нормативы!$H$121,\"I юн\",IF(H123<=Нормативы!$H$122,\"II юн\",IF(H123<=Нормативы!$H$123,\"III юн\",\"б/р\")))))))))))","v":"III юн"},null,310,{"$f":"IF(ISBLANK(L123),\" \",IF(ISTEXT(L123),\" \",IF(L123<=Нормативы!$H$115,\"КМС\",IF(L123<=Нормативы!$H$116,\"КМС\",IF(L123<=Нормативы!$L$117,\"КМС\",IF(L123<=Нормативы!$L$118,\"I\",IF(L123<=Нормативы!$L$119,\"II\",IF(L123<=Нормативы!$L$120,\"III\",IF(L123<=Нормативы!$L$121,\"I юн\",IF(L123<=Нормативы!$L$122,\"II юн\",IF(L123<=Нормативы!$L$123,\"III юн\",\"б/р\")))))))))))","v":"III юн"},{"$f":"IF(ISBLANK(L123),\" \",IF(ISTEXT(L123),\" \",IF(L123<=Нормативы!$H$115,\"КМС\",IF(L123<=Нормативы!$H$116,\"КМС\",IF(L123<=Нормативы!$L$117,\"КМС\",IF(L123<=Нормативы!$L$118,\"I\",IF(L123<=Нормативы!$L$119,\"II\",IF(L123<=Нормативы!$L$120,\"III\",IF(L123<=Нормативы!$L$121,\"I юн\",IF(L123<=Нормативы!$L$122,\"II юн\",IF(L123<=Нормативы!$L$123,\"III юн\",\"б/р\")))))))))))","v":"III юн"},null,null,{"$f":"IF(ISBLANK(P123),\" \",IF(ISTEXT(P123),\" \",IF(P123<=$H$115,\"МСМК\",IF(P123<=$H$116,\"МС\",IF(P123<=$H$117,\"КМС\",IF(P123<=$H$118,\"I\",IF(P123<=$H$119,\"II\",IF(P123<=$H$120,\"III\",IF(P123<=$H$121,\"I юн\",IF(P123<=$H$122,\"II юн\",IF(P123<=$H$123,\"III юн\",\"б/р\")))))))))))","v":" "}]
[]
[null,null,"Плавание в классических ластах- 200 м (1460261811Я),  мужчины"]
[{"$nulls":7},136.4,{"$f":"IF(ISBLANK(H126),\" \",IF(ISTEXT(H126),\" \",IF(H126<=Нормативы!$H$126,\"МСМК\",IF(H126<=Нормативы!$H$127,\"МС\",IF(H126<=Нормативы!$H$128,\"КМС\",IF(H126<=Нормативы!$H$129,\"I\",IF(H126<=Нормативы!$H$130,\"II\",IF(H126<=Нормативы!$H$131,\"III\",IF(H126<=Нормативы!$H$132,\"I юн\",IF(H126<=Нормативы!$H$133,\"II юн\",IF(H126<=Нормативы!$H$134,\"III юн\",\"б/р\")))))))))))","v":"МСМК"},{"$f":"IF(ISBLANK(H126),\" \",IF(ISTEXT(H126),\" \",IF(H126<=Нормативы!$H$126,\"МСМК\",IF(H126<=Нормативы!$H$127,\"МС\",IF(H126<=Нормативы!$H$128,\"КМС\",IF(H126<=Нормативы!$H$129,\"I\",IF(H126<=Нормативы!$H$130,\"II\",IF(H126<=Нормативы!$H$131,\"III\",IF(H126<=Нормативы!$H$132,\"I юн\",IF(H126<=Нормативы!$H$133,\"II юн\",IF(H126<=Нормативы!$H$134,\"III юн\",\"б/р\")))))))))))","v":"МСМК"},null,null,{"$f":"IF(ISBLANK(L126),\" \",IF(ISTEXT(L126),\" \",IF(L126<=Нормативы!$H$126,\"КМС\",IF(L126<=Нормативы!$H$127,\"КМС\",IF(L126<=Нормативы!$L$128,\"КМС\",IF(L126<=Нормативы!$L$129,\"I\",IF(L126<=Нормативы!$L$130,\"II\",IF(L126<=Нормативы!$L$131,\"III\",IF(L126<=Нормативы!$L$132,\"I юн\",IF(L126<=Нормативы!$L$133,\"II юн\",IF(L126<=Нормативы!$L$134,\"III юн\",\"б/р\")))))))))))","v":" "},{"$f":"IF(ISBLANK(L126),\" \",IF(ISTEXT(L126),\" \",IF(L126<=136.5,\"МСМК\",IF(L126<=141.4,\"МС\",IF(L126<=145.8,\"КМС\",IF(L126<=154.6,\"I\",IF(L126<=203.8,\"II\",IF(L126<=214.6,\"III\",IF(L126<=228.5,\"I юн\",IF(L126<=242,\"II юн\",IF(L126<=255,\"III юн\",\"б/р\")))))))))))","v":" "},null,null,{"$f":"IF(ISBLANK(P126),\" \",IF(ISTEXT(P126),\" \",IF(P126<=$H$126,\"МСМК\",IF(P126<=$H$127,\"МС\",IF(P126<=$H$128,\"КМС\",IF(P126<=$H$129,\"I\",IF(P126<=$H$130,\"II\",IF(P126<=$H$131,\"III\",IF(P126<=$H$132,\"I юн\",IF(P126<=$H$133,\"II юн\",IF(P126<=$H$134,\"III юн\",\"б/р\")))))))))))","v":" "}]
[{"$nulls":7},140.5,{"$f":"IF(ISBLANK(H127),\" \",IF(ISTEXT(H127),\" \",IF(H127<=Нормативы!$H$126,\"МСМК\",IF(H127<=Нормативы!$H$127,\"МС\",IF(H127<=Нормативы!$H$128,\"КМС\",IF(H127<=Нормативы!$H$129,\"I\",IF(H127<=Нормативы!$H$130,\"II\",IF(H127<=Нормативы!$H$131,\"III\",IF(H127<=Нормативы!$H$132,\"I юн\",IF(H127<=Нормативы!$H$133,\"II юн\",IF(H127<=Нормативы!$H$134,\"III юн\",\"б/р\")))))))))))","v":"МС"},{"$f":"IF(ISBLANK(H127),\" \",IF(ISTEXT(H127),\" \",IF(H127<=Нормативы!$H$126,\"МСМК\",IF(H127<=Нормативы!$H$127,\"МС\",IF(H127<=Нормативы!$H$128,\"КМС\",IF(H127<=Нормативы!$H$129,\"I\",IF(H127<=Нормативы!$H$130,\"II\",IF(H127<=Нормативы!$H$131,\"III\",IF(H127<=Нормативы!$H$132,\"I юн\",IF(H127<=Нормативы!$H$133,\"II юн\",IF(H127<=Нормативы!$H$134,\"III юн\",\"б/р\")))))))))))","v":"МС"},null,null,{"$f":"IF(ISBLANK(L127),\" \",IF(ISTEXT(L127),\" \",IF(L127<=Нормативы!$H$126,\"КМС\",IF(L127<=Нормативы!$H$127,\"КМС\",IF(L127<=Нормативы!$L$128,\"КМС\",IF(L127<=Нормативы!$L$129,\"I\",IF(L127<=Нормативы!$L$130,\"II\",IF(L127<=Нормативы!$L$131,\"III\",IF(L127<=Нормативы!$L$132,\"I юн\",IF(L127<=Нормативы!$L$133,\"II юн\",IF(L127<=Нормативы!$L$134,\"III юн\",\"б/р\")))))))))))","v":" "},{"$f":"IF(ISBLANK(L127),\" \",IF(ISTEXT(L127),\" \",IF(L127<=136.5,\"МСМК\",IF(L127<=141.4,\"МС\",IF(L127<=145.8,\"КМС\",IF(L127<=154.6,\"I\",IF(L127<=203.8,\"II\",IF(L127<=214.6,\"III\",IF(L127<=228.5,\"I юн\",IF(L127<=242,\"II юн\",IF(L127<=255,\"III юн\",\"б/р\")))))))))))","v":" "},null,null,{"$f":"IF(ISBLANK(P127),\" \",IF(ISTEXT(P127),\" \",IF(P127<=$H$126,\"МСМК\",IF(P127<=$H$127,\"МС\",IF(P127<=$H$128,\"КМС\",IF(P127<=$H$129,\"I\",IF(P127<=$H$130,\"II\",IF(P127<=$H$131,\"III\",IF(P127<=$H$132,\"I юн\",IF(P127<=$H$133,\"II юн\",IF(P127<=$H$134,\"III юн\",\"б/р\")))))))))))","v":" "}]
[{"$nulls":7},145,{"$f":"IF(ISBLANK(H128),\" \",IF(ISTEXT(H128),\" \",IF(H128<=Нормативы!$H$126,\"МСМК\",IF(H128<=Нормативы!$H$127,\"МС\",IF(H128<=Нормативы!$H$128,\"КМС\",IF(H128<=Нормативы!$H$129,\"I\",IF(H128<=Нормативы!$H$130,\"II\",IF(H128<=Нормативы!$H$131,\"III\",IF(H128<=Нормативы!$H$132,\"I юн\",IF(H128<=Нормативы!$H$133,\"II юн\",IF(H128<=Нормативы!$H$134,\"III юн\",\"б/р\")))))))))))","v":"КМС"},{"$f":"IF(ISBLANK(H128),\" \",IF(ISTEXT(H128),\" \",IF(H128<=Нормативы!$H$126,\"МСМК\",IF(H128<=Нормативы!$H$127,\"МС\",IF(H128<=Нормативы!$H$128,\"КМС\",IF(H128<=Нормативы!$H$129,\"I\",IF(H128<=Нормативы!$H$130,\"II\",IF(H128<=Нормативы!$H$131,\"III\",IF(H128<=Нормативы!$H$132,\"I юн\",IF(H128<=Нормативы!$H$133,\"II юн\",IF(H128<=Нормативы!$H$134,\"III юн\",\"б/р\")))))))))))","v":"КМС"},null,{"$f":"H128-0.2","v":144.8},{"$f":"IF(ISBLANK(L128),\" \",IF(ISTEXT(L128),\" \",IF(L128<=Нормативы!$H$126,\"КМС\",IF(L128<=Нормативы!$H$127,\"КМС\",IF(L128<=Нормативы!$L$128,\"КМС\",IF(L128<=Нормативы!$L$129,\"I\",IF(L128<=Нормативы!$L$130,\"II\",IF(L128<=Нормативы!$L$131,\"III\",IF(L128<=Нормативы!$L$132,\"I юн\",IF(L128<=Нормативы!$L$133,\"II юн\",IF(L128<=Нормативы!$L$134,\"III юн\",\"б/р\")))))))))))","v":"КМС"},{"$f":"IF(ISBLANK(L128),\" \",IF(ISTEXT(L128),\" \",IF(L128<=Нормативы!$H$126,\"КМС\",IF(L128<=Нормативы!$H$127,\"КМС\",IF(L128<=Нормативы!$L$128,\"КМС\",IF(L128<=Нормативы!$L$129,\"I\",IF(L128<=Нормативы!$L$130,\"II\",IF(L128<=Нормативы!$L$131,\"III\",IF(L128<=Нормативы!$L$132,\"I юн\",IF(L128<=Нормативы!$L$133,\"II юн\",IF(L128<=Нормативы!$L$134,\"III юн\",\"б/р\")))))))))))","v":"КМС"},null,null,{"$f":"IF(ISBLANK(P128),\" \",IF(ISTEXT(P128),\" \",IF(P128<=$H$126,\"МСМК\",IF(P128<=$H$127,\"МС\",IF(P128<=$H$128,\"КМС\",IF(P128<=$H$129,\"I\",IF(P128<=$H$130,\"II\",IF(P128<=$H$131,\"III\",IF(P128<=$H$132,\"I юн\",IF(P128<=$H$133,\"II юн\",IF(P128<=$H$134,\"III юн\",\"б/р\")))))))))))","v":" "}]
[{"$nulls":7},153.7,{"$f":"IF(ISBLANK(H129),\" \",IF(ISTEXT(H129),\" \",IF(H129<=Нормативы!$H$126,\"МСМК\",IF(H129<=Нормативы!$H$127,\"МС\",IF(H129<=Нормативы!$H$128,\"КМС\",IF(H129<=Нормативы!$H$129,\"I\",IF(H129<=Нормативы!$H$130,\"II\",IF(H129<=Нормативы!$H$131,\"III\",IF(H129<=Нормативы!$H$132,\"I юн\",IF(H129<=Нормативы!$H$133,\"II юн\",IF(H129<=Нормативы!$H$134,\"III юн\",\"б/р\")))))))))))","v":"I"},{"$f":"IF(ISBLANK(H129),\" \",IF(ISTEXT(H129),\" \",IF(H129<=Нормативы!$H$126,\"МСМК\",IF(H129<=Нормативы!$H$127,\"МС\",IF(H129<=Нормативы!$H$128,\"КМС\",IF(H129<=Нормативы!$H$129,\"I\",IF(H129<=Нормативы!$H$130,\"II\",IF(H129<=Нормативы!$H$131,\"III\",IF(H129<=Нормативы!$H$132,\"I юн\",IF(H129<=Нормативы!$H$133,\"II юн\",IF(H129<=Нормативы!$H$134,\"III юн\",\"б/р\")))))))))))","v":"I"},null,153.5,{"$f":"IF(ISBLANK(L129),\" \",IF(ISTEXT(L129),\" \",IF(L129<=Нормативы!$H$126,\"КМС\",IF(L129<=Нормативы!$H$127,\"КМС\",IF(L129<=Нормативы!$L$128,\"КМС\",IF(L129<=Нормативы!$L$129,\"I\",IF(L129<=Нормативы!$L$130,\"II\",IF(L129<=Нормативы!$L$131,\"III\",IF(L129<=Нормативы!$L$132,\"I юн\",IF(L129<=Нормативы!$L$133,\"II юн\",IF(L129<=Нормативы!$L$134,\"III юн\",\"б/р\")))))))))))","v":"I"},{"$f":"IF(ISBLANK(L129),\" \",IF(ISTEXT(L129),\" \",IF(L129<=Нормативы!$H$126,\"КМС\",IF(L129<=Нормативы!$H$127,\"КМС\",IF(L129<=Нормативы!$L$128,\"КМС\",IF(L129<=Нормативы!$L$129,\"I\",IF(L129<=Нормативы!$L$130,\"II\",IF(L129<=Нормативы!$L$131,\"III\",IF(L129<=Нормативы!$L$132,\"I юн\",IF(L129<=Нормативы!$L$133,\"II юн\",IF(L129<=Нормативы!$L$134,\"III юн\",\"б/р\")))))))))))","v":"I"},null,null,{"$f":"IF(ISBLANK(P129),\" \",IF(ISTEXT(P129),\" \",IF(P129<=$H$126,\"МСМК\",IF(P129<=$H$127,\"МС\",IF(P129<=$H$128,\"КМС\",IF(P129<=$H$129,\"I\",IF(P129<=$H$130,\"II\",IF(P129<=$H$131,\"III\",IF(P129<=$H$132,\"I юн\",IF(P129<=$H$133,\"II юн\",IF(P129<=$H$134,\"III юн\",\"б/р\")))))))))))","v":" "}]
[{"$nulls":7},202.7,{"$f":"IF(ISBLANK(H130),\" \",IF(ISTEXT(H130),\" \",IF(H130<=Нормативы!$H$126,\"МСМК\",IF(H130<=Нормативы!$H$127,\"МС\",IF(H130<=Нормативы!$H$128,\"КМС\",IF(H130<=Нормативы!$H$129,\"I\",IF(H130<=Нормативы!$H$130,\"II\",IF(H130<=Нормативы!$H$131,\"III\",IF(H130<=Нормативы!$H$132,\"I юн\",IF(H130<=Нормативы!$H$133,\"II юн\",IF(H130<=Нормативы!$H$134,\"III юн\",\"б/р\")))))))))))","v":"II"},{"$f":"IF(ISBLANK(H130),\" \",IF(ISTEXT(H130),\" \",IF(H130<=Нормативы!$H$126,\"МСМК\",IF(H130<=Нормативы!$H$127,\"МС\",IF(H130<=Нормативы!$H$128,\"КМС\",IF(H130<=Нормативы!$H$129,\"I\",IF(H130<=Нормативы!$H$130,\"II\",IF(H130<=Нормативы!$H$131,\"III\",IF(H130<=Нормативы!$H$132,\"I юн\",IF(H130<=Нормативы!$H$133,\"II юн\",IF(H130<=Нормативы!$H$134,\"III юн\",\"б/р\")))))))))))","v":"II"},null,202.5,{"$f":"IF(ISBLANK(L130),\" \",IF(ISTEXT(L130),\" \",IF(L130<=Нормативы!$H$126,\"КМС\",IF(L130<=Нормативы!$H$127,\"КМС\",IF(L130<=Нормативы!$L$128,\"КМС\",IF(L130<=Нормативы!$L$129,\"I\",IF(L130<=Нормативы!$L$130,\"II\",IF(L130<=Нормативы!$L$131,\"III\",IF(L130<=Нормативы!$L$132,\"I юн\",IF(L130<=Нормативы!$L$133,\"II юн\",IF(L130<=Нормативы!$L$134,\"III юн\",\"б/р\")))))))))))","v":"II"},{"$f":"IF(ISBLANK(L130),\" \",IF(ISTEXT(L130),\" \",IF(L130<=Нормативы!$H$126,\"КМС\",IF(L130<=Нормативы!$H$127,\"КМС\",IF(L130<=Нормативы!$L$128,\"КМС\",IF(L130<=Нормативы!$L$129,\"I\",IF(L130<=Нормативы!$L$130,\"II\",IF(L130<=Нормативы!$L$131,\"III\",IF(L130<=Нормативы!$L$132,\"I юн\",IF(L130<=Нормативы!$L$133,\"II юн\",IF(L130<=Нормативы!$L$134,\"III юн\",\"б/р\")))))))))))","v":"II"},null,null,{"$f":"IF(ISBLANK(P130),\" \",IF(ISTEXT(P130),\" \",IF(P130<=$H$126,\"МСМК\",IF(P130<=$H$127,\"МС\",IF(P130<=$H$128,\"КМС\",IF(P130<=$H$129,\"I\",IF(P130<=$H$130,\"II\",IF(P130<=$H$131,\"III\",IF(P130<=$H$132,\"I юн\",IF(P130<=$H$133,\"II юн\",IF(P130<=$H$134,\"III юн\",\"б/р\")))))))))))","v":" "}]
[{"$nulls":7},212.79999999999998,{"$f":"IF(ISBLANK(H131),\" \",IF(ISTEXT(H131),\" \",IF(H131<=Нормативы!$H$126,\"МСМК\",IF(H131<=Нормативы!$H$127,\"МС\",IF(H131<=Нормативы!$H$128,\"КМС\",IF(H131<=Нормативы!$H$129,\"I\",IF(H131<=Нормативы!$H$130,\"II\",IF(H131<=Нормативы!$H$131,\"III\",IF(H131<=Нормативы!$H$132,\"I юн\",IF(H131<=Нормативы!$H$133,\"II юн\",IF(H131<=Нормативы!$H$134,\"III юн\",\"б/р\")))))))))))","v":"III"},{"$f":"IF(ISBLANK(H131),\" \",IF(ISTEXT(H131),\" \",IF(H131<=Нормативы!$H$126,\"МСМК\",IF(H131<=Нормативы!$H$127,\"МС\",IF(H131<=Нормативы!$H$128,\"КМС\",IF(H131<=Нормативы!$H$129,\"I\",IF(H131<=Нормативы!$H$130,\"II\",IF(H131<=Нормативы!$H$131,\"III\",IF(H131<=Нормативы!$H$132,\"I юн\",IF(H131<=Нормативы!$H$133,\"II юн\",IF(H131<=Нормативы!$H$134,\"III юн\",\"б/р\")))))))))))","v":"III"},null,212.6,{"$f":"IF(ISBLANK(L131),\" \",IF(ISTEXT(L131),\" \",IF(L131<=Нормативы!$H$126,\"КМС\",IF(L131<=Нормативы!$H$127,\"КМС\",IF(L131<=Нормативы!$L$128,\"КМС\",IF(L131<=Нормативы!$L$129,\"I\",IF(L131<=Нормативы!$L$130,\"II\",IF(L131<=Нормативы!$L$131,\"III\",IF(L131<=Нормативы!$L$132,\"I юн\",IF(L131<=Нормативы!$L$133,\"II юн\",IF(L131<=Нормативы!$L$134,\"III юн\",\"б/р\")))))))))))","v":"III"},{"$f":"IF(ISBLANK(L131),\" \",IF(ISTEXT(L131),\" \",IF(L131<=Нормативы!$H$126,\"КМС\",IF(L131<=Нормативы!$H$127,\"КМС\",IF(L131<=Нормативы!$L$128,\"КМС\",IF(L131<=Нормативы!$L$129,\"I\",IF(L131<=Нормативы!$L$130,\"II\",IF(L131<=Нормативы!$L$131,\"III\",IF(L131<=Нормативы!$L$132,\"I юн\",IF(L131<=Нормативы!$L$133,\"II юн\",IF(L131<=Нормативы!$L$134,\"III юн\",\"б/р\")))))))))))","v":"III"},null,null,{"$f":"IF(ISBLANK(P131),\" \",IF(ISTEXT(P131),\" \",IF(P131<=$H$126,\"МСМК\",IF(P131<=$H$127,\"МС\",IF(P131<=$H$128,\"КМС\",IF(P131<=$H$129,\"I\",IF(P131<=$H$130,\"II\",IF(P131<=$H$131,\"III\",IF(P131<=$H$132,\"I юн\",IF(P131<=$H$133,\"II юн\",IF(P131<=$H$134,\"III юн\",\"б/р\")))))))))))","v":" "}]
[{"$nulls":7},225.7,{"$f":"IF(ISBLANK(H132),\" \",IF(ISTEXT(H132),\" \",IF(H132<=Нормативы!$H$126,\"МСМК\",IF(H132<=Нормативы!$H$127,\"МС\",IF(H132<=Нормативы!$H$128,\"КМС\",IF(H132<=Нормативы!$H$129,\"I\",IF(H132<=Нормативы!$H$130,\"II\",IF(H132<=Нормативы!$H$131,\"III\",IF(H132<=Нормативы!$H$132,\"I юн\",IF(H132<=Нормативы!$H$133,\"II юн\",IF(H132<=Нормативы!$H$134,\"III юн\",\"б/р\")))))))))))","v":"I юн"},{"$f":"IF(ISBLANK(H132),\" \",IF(ISTEXT(H132),\" \",IF(H132<=Нормативы!$H$126,\"МСМК\",IF(H132<=Нормативы!$H$127,\"МС\",IF(H132<=Нормативы!$H$128,\"КМС\",IF(H132<=Нормативы!$H$129,\"I\",IF(H132<=Нормативы!$H$130,\"II\",IF(H132<=Нормативы!$H$131,\"III\",IF(H132<=Нормативы!$H$132,\"I юн\",IF(H132<=Нормативы!$H$133,\"II юн\",IF(H132<=Нормативы!$H$134,\"III юн\",\"б/р\")))))))))))","v":"I юн"},null,225.5,{"$f":"IF(ISBLANK(L132),\" \",IF(ISTEXT(L132),\" \",IF(L132<=Нормативы!$H$126,\"КМС\",IF(L132<=Нормативы!$H$127,\"КМС\",IF(L132<=Нормативы!$L$128,\"КМС\",IF(L132<=Нормативы!$L$129,\"I\",IF(L132<=Нормативы!$L$130,\"II\",IF(L132<=Нормативы!$L$131,\"III\",IF(L132<=Нормативы!$L$132,\"I юн\",IF(L132<=Нормативы!$L$133,\"II юн\",IF(L132<=Нормативы!$L$134,\"III юн\",\"б/р\")))))))))))","v":"I юн"},{"$f":"IF(ISBLANK(L132),\" \",IF(ISTEXT(L132),\" \",IF(L132<=Нормативы!$H$126,\"КМС\",IF(L132<=Нормативы!$H$127,\"КМС\",IF(L132<=Нормативы!$L$128,\"КМС\",IF(L132<=Нормативы!$L$129,\"I\",IF(L132<=Нормативы!$L$130,\"II\",IF(L132<=Нормативы!$L$131,\"III\",IF(L132<=Нормативы!$L$132,\"I юн\",IF(L132<=Нормативы!$L$133,\"II юн\",IF(L132<=Нормативы!$L$134,\"III юн\",\"б/р\")))))))))))","v":"I юн"},null,null,{"$f":"IF(ISBLANK(P132),\" \",IF(ISTEXT(P132),\" \",IF(P132<=$H$126,\"МСМК\",IF(P132<=$H$127,\"МС\",IF(P132<=$H$128,\"КМС\",IF(P132<=$H$129,\"I\",IF(P132<=$H$130,\"II\",IF(P132<=$H$131,\"III\",IF(P132<=$H$132,\"I юн\",IF(P132<=$H$133,\"II юн\",IF(P132<=$H$134,\"III юн\",\"б/р\")))))))))))","v":" "}]
[{"$nulls":7},240.2,{"$f":"IF(ISBLANK(H133),\" \",IF(ISTEXT(H133),\" \",IF(H133<=Нормативы!$H$126,\"МСМК\",IF(H133<=Нормативы!$H$127,\"МС\",IF(H133<=Нормативы!$H$128,\"КМС\",IF(H133<=Нормативы!$H$129,\"I\",IF(H133<=Нормативы!$H$130,\"II\",IF(H133<=Нормативы!$H$131,\"III\",IF(H133<=Нормативы!$H$132,\"I юн\",IF(H133<=Нормативы!$H$133,\"II юн\",IF(H133<=Нормативы!$H$134,\"III юн\",\"б/р\")))))))))))","v":"II юн"},{"$f":"IF(ISBLANK(H133),\" \",IF(ISTEXT(H133),\" \",IF(H133<=Нормативы!$H$126,\"МСМК\",IF(H133<=Нормативы!$H$127,\"МС\",IF(H133<=Нормативы!$H$128,\"КМС\",IF(H133<=Нормативы!$H$129,\"I\",IF(H133<=Нормативы!$H$130,\"II\",IF(H133<=Нормативы!$H$131,\"III\",IF(H133<=Нормативы!$H$132,\"I юн\",IF(H133<=Нормативы!$H$133,\"II юн\",IF(H133<=Нормативы!$H$134,\"III юн\",\"б/р\")))))))))))","v":"II юн"},null,240,{"$f":"IF(ISBLANK(L133),\" \",IF(ISTEXT(L133),\" \",IF(L133<=Нормативы!$H$126,\"КМС\",IF(L133<=Нормативы!$H$127,\"КМС\",IF(L133<=Нормативы!$L$128,\"КМС\",IF(L133<=Нормативы!$L$129,\"I\",IF(L133<=Нормативы!$L$130,\"II\",IF(L133<=Нормативы!$L$131,\"III\",IF(L133<=Нормативы!$L$132,\"I юн\",IF(L133<=Нормативы!$L$133,\"II юн\",IF(L133<=Нормативы!$L$134,\"III юн\",\"б/р\")))))))))))","v":"II юн"},{"$f":"IF(ISBLANK(L133),\" \",IF(ISTEXT(L133),\" \",IF(L133<=Нормативы!$H$126,\"КМС\",IF(L133<=Нормативы!$H$127,\"КМС\",IF(L133<=Нормативы!$L$128,\"КМС\",IF(L133<=Нормативы!$L$129,\"I\",IF(L133<=Нормативы!$L$130,\"II\",IF(L133<=Нормативы!$L$131,\"III\",IF(L133<=Нормативы!$L$132,\"I юн\",IF(L133<=Нормативы!$L$133,\"II юн\",IF(L133<=Нормативы!$L$134,\"III юн\",\"б/р\")))))))))))","v":"II юн"},null,null,{"$f":"IF(ISBLANK(P133),\" \",IF(ISTEXT(P133),\" \",IF(P133<=$H$126,\"МСМК\",IF(P133<=$H$127,\"МС\",IF(P133<=$H$128,\"КМС\",IF(P133<=$H$129,\"I\",IF(P133<=$H$130,\"II\",IF(P133<=$H$131,\"III\",IF(P133<=$H$132,\"I юн\",IF(P133<=$H$133,\"II юн\",IF(P133<=$H$134,\"III юн\",\"б/р\")))))))))))","v":" "}]
[{"$nulls":7},250.2,{"$f":"IF(ISBLANK(H134),\" \",IF(ISTEXT(H134),\" \",IF(H134<=Нормативы!$H$126,\"МСМК\",IF(H134<=Нормативы!$H$127,\"МС\",IF(H134<=Нормативы!$H$128,\"КМС\",IF(H134<=Нормативы!$H$129,\"I\",IF(H134<=Нормативы!$H$130,\"II\",IF(H134<=Нормативы!$H$131,\"III\",IF(H134<=Нормативы!$H$132,\"I юн\",IF(H134<=Нормативы!$H$133,\"II юн\",IF(H134<=Нормативы!$H$134,\"III юн\",\"б/р\")))))))))))","v":"III юн"},{"$f":"IF(ISBLANK(H134),\" \",IF(ISTEXT(H134),\" \",IF(H134<=Нормативы!$H$126,\"МСМК\",IF(H134<=Нормативы!$H$127,\"МС\",IF(H134<=Нормативы!$H$128,\"КМС\",IF(H134<=Нормативы!$H$129,\"I\",IF(H134<=Нормативы!$H$130,\"II\",IF(H134<=Нормативы!$H$131,\"III\",IF(H134<=Нормативы!$H$132,\"I юн\",IF(H134<=Нормативы!$H$133,\"II юн\",IF(H134<=Нормативы!$H$134,\"III юн\",\"б/р\")))))))))))","v":"III юн"},null,250,{"$f":"IF(ISBLANK(L134),\" \",IF(ISTEXT(L134),\" \",IF(L134<=Нормативы!$H$126,\"КМС\",IF(L134<=Нормативы!$H$127,\"КМС\",IF(L134<=Нормативы!$L$128,\"КМС\",IF(L134<=Нормативы!$L$129,\"I\",IF(L134<=Нормативы!$L$130,\"II\",IF(L134<=Нормативы!$L$131,\"III\",IF(L134<=Нормативы!$L$132,\"I юн\",IF(L134<=Нормативы!$L$133,\"II юн\",IF(L134<=Нормативы!$L$134,\"III юн\",\"б/р\")))))))))))","v":"III юн"},{"$f":"IF(ISBLANK(L134),\" \",IF(ISTEXT(L134),\" \",IF(L134<=Нормативы!$H$126,\"КМС\",IF(L134<=Нормативы!$H$127,\"КМС\",IF(L134<=Нормативы!$L$128,\"КМС\",IF(L134<=Нормативы!$L$129,\"I\",IF(L134<=Нормативы!$L$130,\"II\",IF(L134<=Нормативы!$L$131,\"III\",IF(L134<=Нормативы!$L$132,\"I юн\",IF(L134<=Нормативы!$L$133,\"II юн\",IF(L134<=Нормативы!$L$134,\"III юн\",\"б/р\")))))))))))","v":"III юн"},null,null,{"$f":"IF(ISBLANK(P134),\" \",IF(ISTEXT(P134),\" \",IF(P134<=$H$126,\"МСМК\",IF(P134<=$H$127,\"МС\",IF(P134<=$H$128,\"КМС\",IF(P134<=$H$129,\"I\",IF(P134<=$H$130,\"II\",IF(P134<=$H$131,\"III\",IF(P134<=$H$132,\"I юн\",IF(P134<=$H$133,\"II юн\",IF(P134<=$H$134,\"III юн\",\"б/р\")))))))))))","v":" "}]
[{"$nulls":8},{"$f":"IF(ISBLANK(H135),\" \",IF(ISTEXT(H135),\" \",IF(H135<=148.2,\"КМС\",IF(H135<=156.1,\"I\",IF(H135<=206,\"II\",IF(H135<=216.8,\"III\",IF(H135<=226.6,\"I юн\",IF(H135<=243.3,\"II юн\",IF(H135<=257,\"III юн\",\"б/р\")))))))))","v":" "},{"$f":"IF(ISBLANK(H135),\" \",IF(ISTEXT(H135),\" \",IF(H135<=148.2,\"КМС\",IF(H135<=156.1,\"I\",IF(H135<=206,\"II\",IF(H135<=216.8,\"III\",IF(H135<=226.6,\"I юн\",IF(H135<=243.3,\"II юн\",IF(H135<=257,\"III юн\",\"б/р\")))))))))","v":" "},null,null,{"$f":"IF(ISBLANK(L135),\" \",IF(ISTEXT(L135),\" \",IF(L135<=148.2,\"КМС\",IF(L135<=156.1,\"I\",IF(L135<=206,\"II\",IF(L135<=216.8,\"III\",IF(L135<=226.6,\"I юн\",IF(L135<=243.3,\"II юн\",IF(L135<=257,\"III юн\",\"б/р\")))))))))","v":" "},{"$f":"IF(ISBLANK(L135),\" \",IF(ISTEXT(L135),\" \",IF(L135<=148.2,\"КМС\",IF(L135<=156.1,\"I\",IF(L135<=206,\"II\",IF(L135<=216.8,\"III\",IF(L135<=226.6,\"I юн\",IF(L135<=243.3,\"II юн\",IF(L135<=257,\"III юн\",\"б/р\")))))))))","v":" "},null,null,{"$f":"IF(ISBLANK(P135),\" \",IF(ISTEXT(P135),\" \",IF(P135<=148.2,\"КМС\",IF(P135<=156.1,\"I\",IF(P135<=206,\"II\",IF(P135<=216.8,\"III\",IF(P135<=226.6,\"I юн\",IF(P135<=243.3,\"II юн\",IF(P135<=257,\"III юн\",\"б/р\")))))))))","v":" "}]
[null,null,"Плавание в ластах - 400 м (1460111811Я),  женщины"]
[{"$nulls":7},318,{"$f":"IF(ISBLANK(H137),\" \",IF(ISTEXT(H137),\" \",IF(H137<=Нормативы!$H$137,\"МСМК\",IF(H137<=Нормативы!$H$138,\"МС\",IF(H137<=Нормативы!$H$139,\"КМС\",IF(H137<=Нормативы!$H$140,\"I\",IF(H137<=Нормативы!$H$141,\"II\",IF(H137<=Нормативы!$H$142,\"III\",IF(H137<=Нормативы!$H$143,\"I юн\",IF(H137<=Нормативы!$H$144,\"II юн\",IF(H137<=Нормативы!$H$145,\"III юн\",\"б/р\")))))))))))","v":"МСМК"},{"$f":"IF(ISBLANK(H137),\" \",IF(ISTEXT(H137),\" \",IF(H137<=Нормативы!$H$137,\"МСМК\",IF(H137<=Нормативы!$H$138,\"МС\",IF(H137<=Нормативы!$H$139,\"КМС\",IF(H137<=Нормативы!$H$140,\"I\",IF(H137<=Нормативы!$H$141,\"II\",IF(H137<=Нормативы!$H$142,\"III\",IF(H137<=Нормативы!$H$143,\"I юн\",IF(H137<=Нормативы!$H$144,\"II юн\",IF(H137<=Нормативы!$H$145,\"III юн\",\"б/р\")))))))))))","v":"МСМК"},null,null,{"$f":"IF(ISBLANK(L137),\" \",IF(ISTEXT(L137),\" \",IF(L137<=Нормативы!$H$137,\"КМС\",IF(L137<=Нормативы!$H$138,\"КМС\",IF(L137<=Нормативы!$L$139,\"КМС\",IF(L137<=Нормативы!$L$140,\"I\",IF(L137<=Нормативы!$L$141,\"II\",IF(L137<=Нормативы!$L$142,\"III\",IF(L137<=Нормативы!$L$143,\"I юн\",IF(L137<=Нормативы!$L$144,\"II юн\",IF(L137<=Нормативы!$L$145,\"III юн\",\"б/р\")))))))))))","v":" "},{"$f":"IF(ISBLANK(L137),\" \",IF(ISTEXT(L137),\" \",IF(L137<=318.2,\"МСМК\",IF(L137<=328.6,\"МС\",IF(L137<=338.6,\"КМС\",IF(L137<=355.2,\"I\",IF(L137<=413.4,\"II\",IF(L137<=433,\"III\",IF(L137<=500,\"I юн\",IF(L137<=530,\"II юн\",IF(L137<=555,\"III юн\",\"б/р\")))))))))))","v":" "},null,null,{"$f":"IF(ISBLANK(P137),\" \",IF(ISTEXT(P137),\" \",IF(P137<=$H$137,\"МСМК\",IF(P137<=$H$138,\"МС\",IF(P137<=$H$139,\"КМС\",IF(P137<=$H$140,\"I\",IF(P137<=$H$141,\"II\",IF(P137<=$H$142,\"III\",IF(P137<=$H$143,\"I юн\",IF(P137<=$H$144,\"II юн\",IF(P137<=$H$145,\"III юн\",\"б/р\")))))))))))","v":" "}]
[{"$nulls":7},325.6,{"$f":"IF(ISBLANK(H138),\" \",IF(ISTEXT(H138),\" \",IF(H138<=Нормативы!$H$137,\"МСМК\",IF(H138<=Нормативы!$H$138,\"МС\",IF(H138<=Нормативы!$H$139,\"КМС\",IF(H138<=Нормативы!$H$140,\"I\",IF(H138<=Нормативы!$H$141,\"II\",IF(H138<=Нормативы!$H$142,\"III\",IF(H138<=Нормативы!$H$143,\"I юн\",IF(H138<=Нормативы!$H$144,\"II юн\",IF(H138<=Нормативы!$H$145,\"III юн\",\"б/р\")))))))))))","v":"МС"},{"$f":"IF(ISBLANK(H138),\" \",IF(ISTEXT(H138),\" \",IF(H138<=Нормативы!$H$137,\"МСМК\",IF(H138<=Нормативы!$H$138,\"МС\",IF(H138<=Нормативы!$H$139,\"КМС\",IF(H138<=Нормативы!$H$140,\"I\",IF(H138<=Нормативы!$H$141,\"II\",IF(H138<=Нормативы!$H$142,\"III\",IF(H138<=Нормативы!$H$143,\"I юн\",IF(H138<=Нормативы!$H$144,\"II юн\",IF(H138<=Нормативы!$H$145,\"III юн\",\"б/р\")))))))))))","v":"МС"},null,null,{"$f":"IF(ISBLANK(L138),\" \",IF(ISTEXT(L138),\" \",IF(L138<=Нормативы!$H$137,\"КМС\",IF(L138<=Нормативы!$H$138,\"КМС\",IF(L138<=Нормативы!$L$139,\"КМС\",IF(L138<=Нормативы!$L$140,\"I\",IF(L138<=Нормативы!$L$141,\"II\",IF(L138<=Нормативы!$L$142,\"III\",IF(L138<=Нормативы!$L$143,\"I юн\",IF(L138<=Нормативы!$L$144,\"II юн\",IF(L138<=Нормативы!$L$145,\"III юн\",\"б/р\")))))))))))","v":" "},{"$f":"IF(ISBLANK(L138),\" \",IF(ISTEXT(L138),\" \",IF(L138<=318.2,\"МСМК\",IF(L138<=328.6,\"МС\",IF(L138<=338.6,\"КМС\",IF(L138<=355.2,\"I\",IF(L138<=413.4,\"II\",IF(L138<=433,\"III\",IF(L138<=500,\"I юн\",IF(L138<=530,\"II юн\",IF(L138<=555,\"III юн\",\"б/р\")))))))))))","v":" "},null,null,{"$f":"IF(ISBLANK(P138),\" \",IF(ISTEXT(P138),\" \",IF(P138<=$H$137,\"МСМК\",IF(P138<=$H$138,\"МС\",IF(P138<=$H$139,\"КМС\",IF(P138<=$H$140,\"I\",IF(P138<=$H$141,\"II\",IF(P138<=$H$142,\"III\",IF(P138<=$H$143,\"I юн\",IF(P138<=$H$144,\"II юн\",IF(P138<=$H$145,\"III юн\",\"б/р\")))))))))))","v":" "}]
[{"$nulls":7},337.2,{"$f":"IF(ISBLANK(H139),\" \",IF(ISTEXT(H139),\" \",IF(H139<=Нормативы!$H$137,\"МСМК\",IF(H139<=Нормативы!$H$138,\"МС\",IF(H139<=Нормативы!$H$139,\"КМС\",IF(H139<=Нормативы!$H$140,\"I\",IF(H139<=Нормативы!$H$141,\"II\",IF(H139<=Нормативы!$H$142,\"III\",IF(H139<=Нормативы!$H$143,\"I юн\",IF(H139<=Нормативы!$H$144,\"II юн\",IF(H139<=Нормативы!$H$145,\"III юн\",\"б/р\")))))))))))","v":"КМС"},{"$f":"IF(ISBLANK(H139),\" \",IF(ISTEXT(H139),\" \",IF(H139<=Нормативы!$H$137,\"МСМК\",IF(H139<=Нормативы!$H$138,\"МС\",IF(H139<=Нормативы!$H$139,\"КМС\",IF(H139<=Нормативы!$H$140,\"I\",IF(H139<=Нормативы!$H$141,\"II\",IF(H139<=Нормативы!$H$142,\"III\",IF(H139<=Нормативы!$H$143,\"I юн\",IF(H139<=Нормативы!$H$144,\"II юн\",IF(H139<=Нормативы!$H$145,\"III юн\",\"б/р\")))))))))))","v":"КМС"},null,{"$f":"H139-0.2","v":337},{"$f":"IF(ISBLANK(L139),\" \",IF(ISTEXT(L139),\" \",IF(L139<=Нормативы!$H$137,\"КМС\",IF(L139<=Нормативы!$H$138,\"КМС\",IF(L139<=Нормативы!$L$139,\"КМС\",IF(L139<=Нормативы!$L$140,\"I\",IF(L139<=Нормативы!$L$141,\"II\",IF(L139<=Нормативы!$L$142,\"III\",IF(L139<=Нормативы!$L$143,\"I юн\",IF(L139<=Нормативы!$L$144,\"II юн\",IF(L139<=Нормативы!$L$145,\"III юн\",\"б/р\")))))))))))","v":"КМС"},{"$f":"IF(ISBLANK(L139),\" \",IF(ISTEXT(L139),\" \",IF(L139<=Нормативы!$H$137,\"КМС\",IF(L139<=Нормативы!$H$138,\"КМС\",IF(L139<=Нормативы!$L$139,\"КМС\",IF(L139<=Нормативы!$L$140,\"I\",IF(L139<=Нормативы!$L$141,\"II\",IF(L139<=Нормативы!$L$142,\"III\",IF(L139<=Нормативы!$L$143,\"I юн\",IF(L139<=Нормативы!$L$144,\"II юн\",IF(L139<=Нормативы!$L$145,\"III юн\",\"б/р\")))))))))))","v":"КМС"},null,null,{"$f":"IF(ISBLANK(P139),\" \",IF(ISTEXT(P139),\" \",IF(P139<=$H$137,\"МСМК\",IF(P139<=$H$138,\"МС\",IF(P139<=$H$139,\"КМС\",IF(P139<=$H$140,\"I\",IF(P139<=$H$141,\"II\",IF(P139<=$H$142,\"III\",IF(P139<=$H$143,\"I юн\",IF(P139<=$H$144,\"II юн\",IF(P139<=$H$145,\"III юн\",\"б/р\")))))))))))","v":" "}]
[{"$nulls":7},353.2,{"$f":"IF(ISBLANK(H140),\" \",IF(ISTEXT(H140),\" \",IF(H140<=Нормативы!$H$137,\"МСМК\",IF(H140<=Нормативы!$H$138,\"МС\",IF(H140<=Нормативы!$H$139,\"КМС\",IF(H140<=Нормативы!$H$140,\"I\",IF(H140<=Нормативы!$H$141,\"II\",IF(H140<=Нормативы!$H$142,\"III\",IF(H140<=Нормативы!$H$143,\"I юн\",IF(H140<=Нормативы!$H$144,\"II юн\",IF(H140<=Нормативы!$H$145,\"III юн\",\"б/р\")))))))))))","v":"I"},{"$f":"IF(ISBLANK(H140),\" \",IF(ISTEXT(H140),\" \",IF(H140<=Нормативы!$H$137,\"МСМК\",IF(H140<=Нормативы!$H$138,\"МС\",IF(H140<=Нормативы!$H$139,\"КМС\",IF(H140<=Нормативы!$H$140,\"I\",IF(H140<=Нормативы!$H$141,\"II\",IF(H140<=Нормативы!$H$142,\"III\",IF(H140<=Нормативы!$H$143,\"I юн\",IF(H140<=Нормативы!$H$144,\"II юн\",IF(H140<=Нормативы!$H$145,\"III юн\",\"б/р\")))))))))))","v":"I"},null,353,{"$f":"IF(ISBLANK(L140),\" \",IF(ISTEXT(L140),\" \",IF(L140<=Нормативы!$H$137,\"КМС\",IF(L140<=Нормативы!$H$138,\"КМС\",IF(L140<=Нормативы!$L$139,\"КМС\",IF(L140<=Нормативы!$L$140,\"I\",IF(L140<=Нормативы!$L$141,\"II\",IF(L140<=Нормативы!$L$142,\"III\",IF(L140<=Нормативы!$L$143,\"I юн\",IF(L140<=Нормативы!$L$144,\"II юн\",IF(L140<=Нормативы!$L$145,\"III юн\",\"б/р\")))))))))))","v":"I"},{"$f":"IF(ISBLANK(L140),\" \",IF(ISTEXT(L140),\" \",IF(L140<=Нормативы!$H$137,\"КМС\",IF(L140<=Нормативы!$H$138,\"КМС\",IF(L140<=Нормативы!$L$139,\"КМС\",IF(L140<=Нормативы!$L$140,\"I\",IF(L140<=Нормативы!$L$141,\"II\",IF(L140<=Нормативы!$L$142,\"III\",IF(L140<=Нормативы!$L$143,\"I юн\",IF(L140<=Нормативы!$L$144,\"II юн\",IF(L140<=Нормативы!$L$145,\"III юн\",\"б/р\")))))))))))","v":"I"},null,null,{"$f":"IF(ISBLANK(P140),\" \",IF(ISTEXT(P140),\" \",IF(P140<=$H$137,\"МСМК\",IF(P140<=$H$138,\"МС\",IF(P140<=$H$139,\"КМС\",IF(P140<=$H$140,\"I\",IF(P140<=$H$141,\"II\",IF(P140<=$H$142,\"III\",IF(P140<=$H$143,\"I юн\",IF(P140<=$H$144,\"II юн\",IF(P140<=$H$145,\"III юн\",\"б/р\")))))))))))","v":" "}]
[{"$nulls":7},410.2,{"$f":"IF(ISBLANK(H141),\" \",IF(ISTEXT(H141),\" \",IF(H141<=Нормативы!$H$137,\"МСМК\",IF(H141<=Нормативы!$H$138,\"МС\",IF(H141<=Нормативы!$H$139,\"КМС\",IF(H141<=Нормативы!$H$140,\"I\",IF(H141<=Нормативы!$H$141,\"II\",IF(H141<=Нормативы!$H$142,\"III\",IF(H141<=Нормативы!$H$143,\"I юн\",IF(H141<=Нормативы!$H$144,\"II юн\",IF(H141<=Нормативы!$H$145,\"III юн\",\"б/р\")))))))))))","v":"II"},{"$f":"IF(ISBLANK(H141),\" \",IF(ISTEXT(H141),\" \",IF(H141<=Нормативы!$H$137,\"МСМК\",IF(H141<=Нормативы!$H$138,\"МС\",IF(H141<=Нормативы!$H$139,\"КМС\",IF(H141<=Нормативы!$H$140,\"I\",IF(H141<=Нормативы!$H$141,\"II\",IF(H141<=Нормативы!$H$142,\"III\",IF(H141<=Нормативы!$H$143,\"I юн\",IF(H141<=Нормативы!$H$144,\"II юн\",IF(H141<=Нормативы!$H$145,\"III юн\",\"б/р\")))))))))))","v":"II"},null,410,{"$f":"IF(ISBLANK(L141),\" \",IF(ISTEXT(L141),\" \",IF(L141<=Нормативы!$H$137,\"КМС\",IF(L141<=Нормативы!$H$138,\"КМС\",IF(L141<=Нормативы!$L$139,\"КМС\",IF(L141<=Нормативы!$L$140,\"I\",IF(L141<=Нормативы!$L$141,\"II\",IF(L141<=Нормативы!$L$142,\"III\",IF(L141<=Нормативы!$L$143,\"I юн\",IF(L141<=Нормативы!$L$144,\"II юн\",IF(L141<=Нормативы!$L$145,\"III юн\",\"б/р\")))))))))))","v":"II"},{"$f":"IF(ISBLANK(L141),\" \",IF(ISTEXT(L141),\" \",IF(L141<=Нормативы!$H$137,\"КМС\",IF(L141<=Нормативы!$H$138,\"КМС\",IF(L141<=Нормативы!$L$139,\"КМС\",IF(L141<=Нормативы!$L$140,\"I\",IF(L141<=Нормативы!$L$141,\"II\",IF(L141<=Нормативы!$L$142,\"III\",IF(L141<=Нормативы!$L$143,\"I юн\",IF(L141<=Нормативы!$L$144,\"II юн\",IF(L141<=Нормативы!$L$145,\"III юн\",\"б/р\")))))))))))","v":"II"},null,null,{"$f":"IF(ISBLANK(P141),\" \",IF(ISTEXT(P141),\" \",IF(P141<=$H$137,\"МСМК\",IF(P141<=$H$138,\"МС\",IF(P141<=$H$139,\"КМС\",IF(P141<=$H$140,\"I\",IF(P141<=$H$141,\"II\",IF(P141<=$H$142,\"III\",IF(P141<=$H$143,\"I юн\",IF(P141<=$H$144,\"II юн\",IF(P141<=$H$145,\"III юн\",\"б/р\")))))))))))","v":" "}]
[{"$nulls":7},430.2,{"$f":"IF(ISBLANK(H142),\" \",IF(ISTEXT(H142),\" \",IF(H142<=Нормативы!$H$137,\"МСМК\",IF(H142<=Нормативы!$H$138,\"МС\",IF(H142<=Нормативы!$H$139,\"КМС\",IF(H142<=Нормативы!$H$140,\"I\",IF(H142<=Нормативы!$H$141,\"II\",IF(H142<=Нормативы!$H$142,\"III\",IF(H142<=Нормативы!$H$143,\"I юн\",IF(H142<=Нормативы!$H$144,\"II юн\",IF(H142<=Нормативы!$H$145,\"III юн\",\"б/р\")))))))))))","v":"III"},{"$f":"IF(ISBLANK(H142),\" \",IF(ISTEXT(H142),\" \",IF(H142<=Нормативы!$H$137,\"МСМК\",IF(H142<=Нормативы!$H$138,\"МС\",IF(H142<=Нормативы!$H$139,\"КМС\",IF(H142<=Нормативы!$H$140,\"I\",IF(H142<=Нормативы!$H$141,\"II\",IF(H142<=Нормативы!$H$142,\"III\",IF(H142<=Нормативы!$H$143,\"I юн\",IF(H142<=Нормативы!$H$144,\"II юн\",IF(H142<=Нормативы!$H$145,\"III юн\",\"б/р\")))))))))))","v":"III"},null,430,{"$f":"IF(ISBLANK(L142),\" \",IF(ISTEXT(L142),\" \",IF(L142<=Нормативы!$H$137,\"КМС\",IF(L142<=Нормативы!$H$138,\"КМС\",IF(L142<=Нормативы!$L$139,\"КМС\",IF(L142<=Нормативы!$L$140,\"I\",IF(L142<=Нормативы!$L$141,\"II\",IF(L142<=Нормативы!$L$142,\"III\",IF(L142<=Нормативы!$L$143,\"I юн\",IF(L142<=Нормативы!$L$144,\"II юн\",IF(L142<=Нормативы!$L$145,\"III юн\",\"б/р\")))))))))))","v":"III"},{"$f":"IF(ISBLANK(L142),\" \",IF(ISTEXT(L142),\" \",IF(L142<=Нормативы!$H$137,\"КМС\",IF(L142<=Нормативы!$H$138,\"КМС\",IF(L142<=Нормативы!$L$139,\"КМС\",IF(L142<=Нормативы!$L$140,\"I\",IF(L142<=Нормативы!$L$141,\"II\",IF(L142<=Нормативы!$L$142,\"III\",IF(L142<=Нормативы!$L$143,\"I юн\",IF(L142<=Нормативы!$L$144,\"II юн\",IF(L142<=Нормативы!$L$145,\"III юн\",\"б/р\")))))))))))","v":"III"},null,null,{"$f":"IF(ISBLANK(P142),\" \",IF(ISTEXT(P142),\" \",IF(P142<=$H$137,\"МСМК\",IF(P142<=$H$138,\"МС\",IF(P142<=$H$139,\"КМС\",IF(P142<=$H$140,\"I\",IF(P142<=$H$141,\"II\",IF(P142<=$H$142,\"III\",IF(P142<=$H$143,\"I юн\",IF(P142<=$H$144,\"II юн\",IF(P142<=$H$145,\"III юн\",\"б/р\")))))))))))","v":" "}]
[{"$nulls":7},457.2,{"$f":"IF(ISBLANK(H143),\" \",IF(ISTEXT(H143),\" \",IF(H143<=Нормативы!$H$137,\"МСМК\",IF(H143<=Нормативы!$H$138,\"МС\",IF(H143<=Нормативы!$H$139,\"КМС\",IF(H143<=Нормативы!$H$140,\"I\",IF(H143<=Нормативы!$H$141,\"II\",IF(H143<=Нормативы!$H$142,\"III\",IF(H143<=Нормативы!$H$143,\"I юн\",IF(H143<=Нормативы!$H$144,\"II юн\",IF(H143<=Нормативы!$H$145,\"III юн\",\"б/р\")))))))))))","v":"I юн"},{"$f":"IF(ISBLANK(H143),\" \",IF(ISTEXT(H143),\" \",IF(H143<=Нормативы!$H$137,\"МСМК\",IF(H143<=Нормативы!$H$138,\"МС\",IF(H143<=Нормативы!$H$139,\"КМС\",IF(H143<=Нормативы!$H$140,\"I\",IF(H143<=Нормативы!$H$141,\"II\",IF(H143<=Нормативы!$H$142,\"III\",IF(H143<=Нормативы!$H$143,\"I юн\",IF(H143<=Нормативы!$H$144,\"II юн\",IF(H143<=Нормативы!$H$145,\"III юн\",\"б/р\")))))))))))","v":"I юн"},null,457,{"$f":"IF(ISBLANK(L143),\" \",IF(ISTEXT(L143),\" \",IF(L143<=Нормативы!$H$137,\"КМС\",IF(L143<=Нормативы!$H$138,\"КМС\",IF(L143<=Нормативы!$L$139,\"КМС\",IF(L143<=Нормативы!$L$140,\"I\",IF(L143<=Нормативы!$L$141,\"II\",IF(L143<=Нормативы!$L$142,\"III\",IF(L143<=Нормативы!$L$143,\"I юн\",IF(L143<=Нормативы!$L$144,\"II юн\",IF(L143<=Нормативы!$L$145,\"III юн\",\"б/р\")))))))))))","v":"I юн"},{"$f":"IF(ISBLANK(L143),\" \",IF(ISTEXT(L143),\" \",IF(L143<=Нормативы!$H$137,\"КМС\",IF(L143<=Нормативы!$H$138,\"КМС\",IF(L143<=Нормативы!$L$139,\"КМС\",IF(L143<=Нормативы!$L$140,\"I\",IF(L143<=Нормативы!$L$141,\"II\",IF(L143<=Нормативы!$L$142,\"III\",IF(L143<=Нормативы!$L$143,\"I юн\",IF(L143<=Нормативы!$L$144,\"II юн\",IF(L143<=Нормативы!$L$145,\"III юн\",\"б/р\")))))))))))","v":"I юн"},null,null,{"$f":"IF(ISBLANK(P143),\" \",IF(ISTEXT(P143),\" \",IF(P143<=$H$137,\"МСМК\",IF(P143<=$H$138,\"МС\",IF(P143<=$H$139,\"КМС\",IF(P143<=$H$140,\"I\",IF(P143<=$H$141,\"II\",IF(P143<=$H$142,\"III\",IF(P143<=$H$143,\"I юн\",IF(P143<=$H$144,\"II юн\",IF(P143<=$H$145,\"III юн\",\"б/р\")))))))))))","v":" "}]
[{"$nulls":7},526.2,{"$f":"IF(ISBLANK(H144),\" \",IF(ISTEXT(H144),\" \",IF(H144<=Нормативы!$H$137,\"МСМК\",IF(H144<=Нормативы!$H$138,\"МС\",IF(H144<=Нормативы!$H$139,\"КМС\",IF(H144<=Нормативы!$H$140,\"I\",IF(H144<=Нормативы!$H$141,\"II\",IF(H144<=Нормативы!$H$142,\"III\",IF(H144<=Нормативы!$H$143,\"I юн\",IF(H144<=Нормативы!$H$144,\"II юн\",IF(H144<=Нормативы!$H$145,\"III юн\",\"б/р\")))))))))))","v":"II юн"},{"$f":"IF(ISBLANK(H144),\" \",IF(ISTEXT(H144),\" \",IF(H144<=Нормативы!$H$137,\"МСМК\",IF(H144<=Нормативы!$H$138,\"МС\",IF(H144<=Нормативы!$H$139,\"КМС\",IF(H144<=Нормативы!$H$140,\"I\",IF(H144<=Нормативы!$H$141,\"II\",IF(H144<=Нормативы!$H$142,\"III\",IF(H144<=Нормативы!$H$143,\"I юн\",IF(H144<=Нормативы!$H$144,\"II юн\",IF(H144<=Нормативы!$H$145,\"III юн\",\"б/р\")))))))))))","v":"II юн"},null,526,{"$f":"IF(ISBLANK(L144),\" \",IF(ISTEXT(L144),\" \",IF(L144<=Нормативы!$H$137,\"КМС\",IF(L144<=Нормативы!$H$138,\"КМС\",IF(L144<=Нормативы!$L$139,\"КМС\",IF(L144<=Нормативы!$L$140,\"I\",IF(L144<=Нормативы!$L$141,\"II\",IF(L144<=Нормативы!$L$142,\"III\",IF(L144<=Нормативы!$L$143,\"I юн\",IF(L144<=Нормативы!$L$144,\"II юн\",IF(L144<=Нормативы!$L$145,\"III юн\",\"б/р\")))))))))))","v":"II юн"},{"$f":"IF(ISBLANK(L144),\" \",IF(ISTEXT(L144),\" \",IF(L144<=Нормативы!$H$137,\"КМС\",IF(L144<=Нормативы!$H$138,\"КМС\",IF(L144<=Нормативы!$L$139,\"КМС\",IF(L144<=Нормативы!$L$140,\"I\",IF(L144<=Нормативы!$L$141,\"II\",IF(L144<=Нормативы!$L$142,\"III\",IF(L144<=Нормативы!$L$143,\"I юн\",IF(L144<=Нормативы!$L$144,\"II юн\",IF(L144<=Нормативы!$L$145,\"III юн\",\"б/р\")))))))))))","v":"II юн"},null,null,{"$f":"IF(ISBLANK(P144),\" \",IF(ISTEXT(P144),\" \",IF(P144<=$H$137,\"МСМК\",IF(P144<=$H$138,\"МС\",IF(P144<=$H$139,\"КМС\",IF(P144<=$H$140,\"I\",IF(P144<=$H$141,\"II\",IF(P144<=$H$142,\"III\",IF(P144<=$H$143,\"I юн\",IF(P144<=$H$144,\"II юн\",IF(P144<=$H$145,\"III юн\",\"б/р\")))))))))))","v":" "}]
[{"$nulls":7},550.2,{"$f":"IF(ISBLANK(H145),\" \",IF(ISTEXT(H145),\" \",IF(H145<=Нормативы!$H$137,\"МСМК\",IF(H145<=Нормативы!$H$138,\"МС\",IF(H145<=Нормативы!$H$139,\"КМС\",IF(H145<=Нормативы!$H$140,\"I\",IF(H145<=Нормативы!$H$141,\"II\",IF(H145<=Нормативы!$H$142,\"III\",IF(H145<=Нормативы!$H$143,\"I юн\",IF(H145<=Нормативы!$H$144,\"II юн\",IF(H145<=Нормативы!$H$145,\"III юн\",\"б/р\")))))))))))","v":"III юн"},{"$f":"IF(ISBLANK(H145),\" \",IF(ISTEXT(H145),\" \",IF(H145<=Нормативы!$H$137,\"МСМК\",IF(H145<=Нормативы!$H$138,\"МС\",IF(H145<=Нормативы!$H$139,\"КМС\",IF(H145<=Нормативы!$H$140,\"I\",IF(H145<=Нормативы!$H$141,\"II\",IF(H145<=Нормативы!$H$142,\"III\",IF(H145<=Нормативы!$H$143,\"I юн\",IF(H145<=Нормативы!$H$144,\"II юн\",IF(H145<=Нормативы!$H$145,\"III юн\",\"б/р\")))))))))))","v":"III юн"},null,550,{"$f":"IF(ISBLANK(L145),\" \",IF(ISTEXT(L145),\" \",IF(L145<=Нормативы!$H$137,\"КМС\",IF(L145<=Нормативы!$H$138,\"КМС\",IF(L145<=Нормативы!$L$139,\"КМС\",IF(L145<=Нормативы!$L$140,\"I\",IF(L145<=Нормативы!$L$141,\"II\",IF(L145<=Нормативы!$L$142,\"III\",IF(L145<=Нормативы!$L$143,\"I юн\",IF(L145<=Нормативы!$L$144,\"II юн\",IF(L145<=Нормативы!$L$145,\"III юн\",\"б/р\")))))))))))","v":"III юн"},{"$f":"IF(ISBLANK(L145),\" \",IF(ISTEXT(L145),\" \",IF(L145<=Нормативы!$H$137,\"КМС\",IF(L145<=Нормативы!$H$138,\"КМС\",IF(L145<=Нормативы!$L$139,\"КМС\",IF(L145<=Нормативы!$L$140,\"I\",IF(L145<=Нормативы!$L$141,\"II\",IF(L145<=Нормативы!$L$142,\"III\",IF(L145<=Нормативы!$L$143,\"I юн\",IF(L145<=Нормативы!$L$144,\"II юн\",IF(L145<=Нормативы!$L$145,\"III юн\",\"б/р\")))))))))))","v":"III юн"},null,null,{"$f":"IF(ISBLANK(P145),\" \",IF(ISTEXT(P145),\" \",IF(P145<=$H$137,\"МСМК\",IF(P145<=$H$138,\"МС\",IF(P145<=$H$139,\"КМС\",IF(P145<=$H$140,\"I\",IF(P145<=$H$141,\"II\",IF(P145<=$H$142,\"III\",IF(P145<=$H$143,\"I юн\",IF(P145<=$H$144,\"II юн\",IF(P145<=$H$145,\"III юн\",\"б/р\")))))))))))","v":" "}]
[]
[null,null,"Плавание в ластах - 400 м (1460111811Я),  мужчины"]
[{"$nulls":7},303,{"$f":"IF(ISBLANK(H148),\" \",IF(ISTEXT(H148),\" \",IF(H148<=Нормативы!$H$148,\"МСМК\",IF(H148<=Нормативы!$H$149,\"МС\",IF(H148<=Нормативы!$H$150,\"КМС\",IF(H148<=Нормативы!$H$151,\"I\",IF(H148<=Нормативы!$H$152,\"II\",IF(H148<=Нормативы!$H$153,\"III\",IF(H148<=Нормативы!$H$154,\"I юн\",IF(H148<=Нормативы!$H$155,\"II юн\",IF(H148<=Нормативы!$H$156,\"III юн\",\"б/р\")))))))))))","v":"МСМК"},{"$f":"IF(ISBLANK(H148),\" \",IF(ISTEXT(H148),\" \",IF(H148<=Нормативы!$H$148,\"МСМК\",IF(H148<=Нормативы!$H$149,\"МС\",IF(H148<=Нормативы!$H$150,\"КМС\",IF(H148<=Нормативы!$H$151,\"I\",IF(H148<=Нормативы!$H$152,\"II\",IF(H148<=Нормативы!$H$153,\"III\",IF(H148<=Нормативы!$H$154,\"I юн\",IF(H148<=Нормативы!$H$155,\"II юн\",IF(H148<=Нормативы!$H$156,\"III юн\",\"б/р\")))))))))))","v":"МСМК"},null,null,{"$f":"IF(ISBLANK(L148),\" \",IF(ISTEXT(L148),\" \",IF(L148<=Нормативы!$H$148,\"КМС\",IF(L148<=Нормативы!$H$149,\"КМС\",IF(L148<=Нормативы!$L$150,\"КМС\",IF(L148<=Нормативы!$L$151,\"I\",IF(L148<=Нормативы!$L$152,\"II\",IF(L148<=Нормативы!$L$153,\"III\",IF(L148<=Нормативы!$L$154,\"I юн\",IF(L148<=Нормативы!$L$155,\"II юн\",IF(L148<=Нормативы!$L$156,\"III юн\",\"б/р\")))))))))))","v":" "},{"$f":"IF(ISBLANK(L148),\" \",IF(ISTEXT(L148),\" \",IF(L148<=304.2,\"МСМК\",IF(L148<=314,\"МС\",IF(L148<=322,\"КМС\",IF(L148<=336.8,\"I\",IF(L148<=354.8,\"II\",IF(L148<=412.8,\"III\",IF(L148<=441.7,\"I юн\",IF(L148<=507.6,\"II юн\",IF(L148<=533.5,\"III юн\",\"б/р\")))))))))))","v":" "},null,null,{"$f":"IF(ISBLANK(P148),\" \",IF(ISTEXT(P148),\" \",IF(P148<=$H$148,\"МСМК\",IF(P148<=$H$149,\"МС\",IF(P148<=$H$150,\"КМС\",IF(P148<=$H$151,\"I\",IF(P148<=$H$152,\"II\",IF(P148<=$H$153,\"III\",IF(P148<=$H$154,\"I юн\",IF(P148<=$H$155,\"II юн\",IF(P148<=$H$156,\"III юн\",\"б/р\")))))))))))","v":" "}]
[{"$nulls":7},312.5,{"$f":"IF(ISBLANK(H149),\" \",IF(ISTEXT(H149),\" \",IF(H149<=Нормативы!$H$148,\"МСМК\",IF(H149<=Нормативы!$H$149,\"МС\",IF(H149<=Нормативы!$H$150,\"КМС\",IF(H149<=Нормативы!$H$151,\"I\",IF(H149<=Нормативы!$H$152,\"II\",IF(H149<=Нормативы!$H$153,\"III\",IF(H149<=Нормативы!$H$154,\"I юн\",IF(H149<=Нормативы!$H$155,\"II юн\",IF(H149<=Нормативы!$H$156,\"III юн\",\"б/р\")))))))))))","v":"МС"},{"$f":"IF(ISBLANK(H149),\" \",IF(ISTEXT(H149),\" \",IF(H149<=Нормативы!$H$148,\"МСМК\",IF(H149<=Нормативы!$H$149,\"МС\",IF(H149<=Нормативы!$H$150,\"КМС\",IF(H149<=Нормативы!$H$151,\"I\",IF(H149<=Нормативы!$H$152,\"II\",IF(H149<=Нормативы!$H$153,\"III\",IF(H149<=Нормативы!$H$154,\"I юн\",IF(H149<=Нормативы!$H$155,\"II юн\",IF(H149<=Нормативы!$H$156,\"III юн\",\"б/р\")))))))))))","v":"МС"},null,null,{"$f":"IF(ISBLANK(L149),\" \",IF(ISTEXT(L149),\" \",IF(L149<=Нормативы!$H$148,\"КМС\",IF(L149<=Нормативы!$H$149,\"КМС\",IF(L149<=Нормативы!$L$150,\"КМС\",IF(L149<=Нормативы!$L$151,\"I\",IF(L149<=Нормативы!$L$152,\"II\",IF(L149<=Нормативы!$L$153,\"III\",IF(L149<=Нормативы!$L$154,\"I юн\",IF(L149<=Нормативы!$L$155,\"II юн\",IF(L149<=Нормативы!$L$156,\"III юн\",\"б/р\")))))))))))","v":" "},{"$f":"IF(ISBLANK(L149),\" \",IF(ISTEXT(L149),\" \",IF(L149<=304.2,\"МСМК\",IF(L149<=314,\"МС\",IF(L149<=322,\"КМС\",IF(L149<=336.8,\"I\",IF(L149<=354.8,\"II\",IF(L149<=412.8,\"III\",IF(L149<=441.7,\"I юн\",IF(L149<=507.6,\"II юн\",IF(L149<=533.5,\"III юн\",\"б/р\")))))))))))","v":" "},null,null,{"$f":"IF(ISBLANK(P149),\" \",IF(ISTEXT(P149),\" \",IF(P149<=$H$148,\"МСМК\",IF(P149<=$H$149,\"МС\",IF(P149<=$H$150,\"КМС\",IF(P149<=$H$151,\"I\",IF(P149<=$H$152,\"II\",IF(P149<=$H$153,\"III\",IF(P149<=$H$154,\"I юн\",IF(P149<=$H$155,\"II юн\",IF(P149<=$H$156,\"III юн\",\"б/р\")))))))))))","v":" "}]
[{"$nulls":7},320.2,{"$f":"IF(ISBLANK(H150),\" \",IF(ISTEXT(H150),\" \",IF(H150<=Нормативы!$H$148,\"МСМК\",IF(H150<=Нормативы!$H$149,\"МС\",IF(H150<=Нормативы!$H$150,\"КМС\",IF(H150<=Нормативы!$H$151,\"I\",IF(H150<=Нормативы!$H$152,\"II\",IF(H150<=Нормативы!$H$153,\"III\",IF(H150<=Нормативы!$H$154,\"I юн\",IF(H150<=Нормативы!$H$155,\"II юн\",IF(H150<=Нормативы!$H$156,\"III юн\",\"б/р\")))))))))))","v":"КМС"},{"$f":"IF(ISBLANK(H150),\" \",IF(ISTEXT(H150),\" \",IF(H150<=Нормативы!$H$148,\"МСМК\",IF(H150<=Нормативы!$H$149,\"МС\",IF(H150<=Нормативы!$H$150,\"КМС\",IF(H150<=Нормативы!$H$151,\"I\",IF(H150<=Нормативы!$H$152,\"II\",IF(H150<=Нормативы!$H$153,\"III\",IF(H150<=Нормативы!$H$154,\"I юн\",IF(H150<=Нормативы!$H$155,\"II юн\",IF(H150<=Нормативы!$H$156,\"III юн\",\"б/р\")))))))))))","v":"КМС"},null,{"$f":"H150-0.2","v":320},{"$f":"IF(ISBLANK(L150),\" \",IF(ISTEXT(L150),\" \",IF(L150<=Нормативы!$H$148,\"КМС\",IF(L150<=Нормативы!$H$149,\"КМС\",IF(L150<=Нормативы!$L$150,\"КМС\",IF(L150<=Нормативы!$L$151,\"I\",IF(L150<=Нормативы!$L$152,\"II\",IF(L150<=Нормативы!$L$153,\"III\",IF(L150<=Нормативы!$L$154,\"I юн\",IF(L150<=Нормативы!$L$155,\"II юн\",IF(L150<=Нормативы!$L$156,\"III юн\",\"б/р\")))))))))))","v":"КМС"},{"$f":"IF(ISBLANK(L150),\" \",IF(ISTEXT(L150),\" \",IF(L150<=Нормативы!$H$148,\"КМС\",IF(L150<=Нормативы!$H$149,\"КМС\",IF(L150<=Нормативы!$L$150,\"КМС\",IF(L150<=Нормативы!$L$151,\"I\",IF(L150<=Нормативы!$L$152,\"II\",IF(L150<=Нормативы!$L$153,\"III\",IF(L150<=Нормативы!$L$154,\"I юн\",IF(L150<=Нормативы!$L$155,\"II юн\",IF(L150<=Нормативы!$L$156,\"III юн\",\"б/р\")))))))))))","v":"КМС"},null,null,{"$f":"IF(ISBLANK(P150),\" \",IF(ISTEXT(P150),\" \",IF(P150<=$H$148,\"МСМК\",IF(P150<=$H$149,\"МС\",IF(P150<=$H$150,\"КМС\",IF(P150<=$H$151,\"I\",IF(P150<=$H$152,\"II\",IF(P150<=$H$153,\"III\",IF(P150<=$H$154,\"I юн\",IF(P150<=$H$155,\"II юн\",IF(P150<=$H$156,\"III юн\",\"б/р\")))))))))))","v":" "}]
[{"$nulls":7},335.7,{"$f":"IF(ISBLANK(H151),\" \",IF(ISTEXT(H151),\" \",IF(H151<=Нормативы!$H$148,\"МСМК\",IF(H151<=Нормативы!$H$149,\"МС\",IF(H151<=Нормативы!$H$150,\"КМС\",IF(H151<=Нормативы!$H$151,\"I\",IF(H151<=Нормативы!$H$152,\"II\",IF(H151<=Нормативы!$H$153,\"III\",IF(H151<=Нормативы!$H$154,\"I юн\",IF(H151<=Нормативы!$H$155,\"II юн\",IF(H151<=Нормативы!$H$156,\"III юн\",\"б/р\")))))))))))","v":"I"},{"$f":"IF(ISBLANK(H151),\" \",IF(ISTEXT(H151),\" \",IF(H151<=Нормативы!$H$148,\"МСМК\",IF(H151<=Нормативы!$H$149,\"МС\",IF(H151<=Нормативы!$H$150,\"КМС\",IF(H151<=Нормативы!$H$151,\"I\",IF(H151<=Нормативы!$H$152,\"II\",IF(H151<=Нормативы!$H$153,\"III\",IF(H151<=Нормативы!$H$154,\"I юн\",IF(H151<=Нормативы!$H$155,\"II юн\",IF(H151<=Нормативы!$H$156,\"III юн\",\"б/р\")))))))))))","v":"I"},null,335.5,{"$f":"IF(ISBLANK(L151),\" \",IF(ISTEXT(L151),\" \",IF(L151<=Нормативы!$H$148,\"КМС\",IF(L151<=Нормативы!$H$149,\"КМС\",IF(L151<=Нормативы!$L$150,\"КМС\",IF(L151<=Нормативы!$L$151,\"I\",IF(L151<=Нормативы!$L$152,\"II\",IF(L151<=Нормативы!$L$153,\"III\",IF(L151<=Нормативы!$L$154,\"I юн\",IF(L151<=Нормативы!$L$155,\"II юн\",IF(L151<=Нормативы!$L$156,\"III юн\",\"б/р\")))))))))))","v":"I"},{"$f":"IF(ISBLANK(L151),\" \",IF(ISTEXT(L151),\" \",IF(L151<=Нормативы!$H$148,\"КМС\",IF(L151<=Нормативы!$H$149,\"КМС\",IF(L151<=Нормативы!$L$150,\"КМС\",IF(L151<=Нормативы!$L$151,\"I\",IF(L151<=Нормативы!$L$152,\"II\",IF(L151<=Нормативы!$L$153,\"III\",IF(L151<=Нормативы!$L$154,\"I юн\",IF(L151<=Нормативы!$L$155,\"II юн\",IF(L151<=Нормативы!$L$156,\"III юн\",\"б/р\")))))))))))","v":"I"},null,null,{"$f":"IF(ISBLANK(P151),\" \",IF(ISTEXT(P151),\" \",IF(P151<=$H$148,\"МСМК\",IF(P151<=$H$149,\"МС\",IF(P151<=$H$150,\"КМС\",IF(P151<=$H$151,\"I\",IF(P151<=$H$152,\"II\",IF(P151<=$H$153,\"III\",IF(P151<=$H$154,\"I юн\",IF(P151<=$H$155,\"II юн\",IF(P151<=$H$156,\"III юн\",\"б/р\")))))))))))","v":" "}]
[{"$nulls":7},352.7,{"$f":"IF(ISBLANK(H152),\" \",IF(ISTEXT(H152),\" \",IF(H152<=Нормативы!$H$148,\"МСМК\",IF(H152<=Нормативы!$H$149,\"МС\",IF(H152<=Нормативы!$H$150,\"КМС\",IF(H152<=Нормативы!$H$151,\"I\",IF(H152<=Нормативы!$H$152,\"II\",IF(H152<=Нормативы!$H$153,\"III\",IF(H152<=Нормативы!$H$154,\"I юн\",IF(H152<=Нормативы!$H$155,\"II юн\",IF(H152<=Нормативы!$H$156,\"III юн\",\"б/р\")))))))))))","v":"II"},{"$f":"IF(ISBLANK(H152),\" \",IF(ISTEXT(H152),\" \",IF(H152<=Нормативы!$H$148,\"МСМК\",IF(H152<=Нормативы!$H$149,\"МС\",IF(H152<=Нормативы!$H$150,\"КМС\",IF(H152<=Нормативы!$H$151,\"I\",IF(H152<=Нормативы!$H$152,\"II\",IF(H152<=Нормативы!$H$153,\"III\",IF(H152<=Нормативы!$H$154,\"I юн\",IF(H152<=Нормативы!$H$155,\"II юн\",IF(H152<=Нормативы!$H$156,\"III юн\",\"б/р\")))))))))))","v":"II"},null,352.5,{"$f":"IF(ISBLANK(L152),\" \",IF(ISTEXT(L152),\" \",IF(L152<=Нормативы!$H$148,\"КМС\",IF(L152<=Нормативы!$H$149,\"КМС\",IF(L152<=Нормативы!$L$150,\"КМС\",IF(L152<=Нормативы!$L$151,\"I\",IF(L152<=Нормативы!$L$152,\"II\",IF(L152<=Нормативы!$L$153,\"III\",IF(L152<=Нормативы!$L$154,\"I юн\",IF(L152<=Нормативы!$L$155,\"II юн\",IF(L152<=Нормативы!$L$156,\"III юн\",\"б/р\")))))))))))","v":"II"},{"$f":"IF(ISBLANK(L152),\" \",IF(ISTEXT(L152),\" \",IF(L152<=Нормативы!$H$148,\"КМС\",IF(L152<=Нормативы!$H$149,\"КМС\",IF(L152<=Нормативы!$L$150,\"КМС\",IF(L152<=Нормативы!$L$151,\"I\",IF(L152<=Нормативы!$L$152,\"II\",IF(L152<=Нормативы!$L$153,\"III\",IF(L152<=Нормативы!$L$154,\"I юн\",IF(L152<=Нормативы!$L$155,\"II юн\",IF(L152<=Нормативы!$L$156,\"III юн\",\"б/р\")))))))))))","v":"II"},null,null,{"$f":"IF(ISBLANK(P152),\" \",IF(ISTEXT(P152),\" \",IF(P152<=$H$148,\"МСМК\",IF(P152<=$H$149,\"МС\",IF(P152<=$H$150,\"КМС\",IF(P152<=$H$151,\"I\",IF(P152<=$H$152,\"II\",IF(P152<=$H$153,\"III\",IF(P152<=$H$154,\"I юн\",IF(P152<=$H$155,\"II юн\",IF(P152<=$H$156,\"III юн\",\"б/р\")))))))))))","v":" "}]
[{"$nulls":7},411.8,{"$f":"IF(ISBLANK(H153),\" \",IF(ISTEXT(H153),\" \",IF(H153<=Нормативы!$H$148,\"МСМК\",IF(H153<=Нормативы!$H$149,\"МС\",IF(H153<=Нормативы!$H$150,\"КМС\",IF(H153<=Нормативы!$H$151,\"I\",IF(H153<=Нормативы!$H$152,\"II\",IF(H153<=Нормативы!$H$153,\"III\",IF(H153<=Нормативы!$H$154,\"I юн\",IF(H153<=Нормативы!$H$155,\"II юн\",IF(H153<=Нормативы!$H$156,\"III юн\",\"б/р\")))))))))))","v":"III"},{"$f":"IF(ISBLANK(H153),\" \",IF(ISTEXT(H153),\" \",IF(H153<=Нормативы!$H$148,\"МСМК\",IF(H153<=Нормативы!$H$149,\"МС\",IF(H153<=Нормативы!$H$150,\"КМС\",IF(H153<=Нормативы!$H$151,\"I\",IF(H153<=Нормативы!$H$152,\"II\",IF(H153<=Нормативы!$H$153,\"III\",IF(H153<=Нормативы!$H$154,\"I юн\",IF(H153<=Нормативы!$H$155,\"II юн\",IF(H153<=Нормативы!$H$156,\"III юн\",\"б/р\")))))))))))","v":"III"},null,411.6,{"$f":"IF(ISBLANK(L153),\" \",IF(ISTEXT(L153),\" \",IF(L153<=Нормативы!$H$148,\"КМС\",IF(L153<=Нормативы!$H$149,\"КМС\",IF(L153<=Нормативы!$L$150,\"КМС\",IF(L153<=Нормативы!$L$151,\"I\",IF(L153<=Нормативы!$L$152,\"II\",IF(L153<=Нормативы!$L$153,\"III\",IF(L153<=Нормативы!$L$154,\"I юн\",IF(L153<=Нормативы!$L$155,\"II юн\",IF(L153<=Нормативы!$L$156,\"III юн\",\"б/р\")))))))))))","v":"III"},{"$f":"IF(ISBLANK(L153),\" \",IF(ISTEXT(L153),\" \",IF(L153<=Нормативы!$H$148,\"КМС\",IF(L153<=Нормативы!$H$149,\"КМС\",IF(L153<=Нормативы!$L$150,\"КМС\",IF(L153<=Нормативы!$L$151,\"I\",IF(L153<=Нормативы!$L$152,\"II\",IF(L153<=Нормативы!$L$153,\"III\",IF(L153<=Нормативы!$L$154,\"I юн\",IF(L153<=Нормативы!$L$155,\"II юн\",IF(L153<=Нормативы!$L$156,\"III юн\",\"б/р\")))))))))))","v":"III"},null,null,{"$f":"IF(ISBLANK(P153),\" \",IF(ISTEXT(P153),\" \",IF(P153<=$H$148,\"МСМК\",IF(P153<=$H$149,\"МС\",IF(P153<=$H$150,\"КМС\",IF(P153<=$H$151,\"I\",IF(P153<=$H$152,\"II\",IF(P153<=$H$153,\"III\",IF(P153<=$H$154,\"I юн\",IF(P153<=$H$155,\"II юн\",IF(P153<=$H$156,\"III юн\",\"б/р\")))))))))))","v":" "}]
[{"$nulls":7},440,{"$f":"IF(ISBLANK(H154),\" \",IF(ISTEXT(H154),\" \",IF(H154<=Нормативы!$H$148,\"МСМК\",IF(H154<=Нормативы!$H$149,\"МС\",IF(H154<=Нормативы!$H$150,\"КМС\",IF(H154<=Нормативы!$H$151,\"I\",IF(H154<=Нормативы!$H$152,\"II\",IF(H154<=Нормативы!$H$153,\"III\",IF(H154<=Нормативы!$H$154,\"I юн\",IF(H154<=Нормативы!$H$155,\"II юн\",IF(H154<=Нормативы!$H$156,\"III юн\",\"б/р\")))))))))))","v":"I юн"},{"$f":"IF(ISBLANK(H154),\" \",IF(ISTEXT(H154),\" \",IF(H154<=Нормативы!$H$148,\"МСМК\",IF(H154<=Нормативы!$H$149,\"МС\",IF(H154<=Нормативы!$H$150,\"КМС\",IF(H154<=Нормативы!$H$151,\"I\",IF(H154<=Нормативы!$H$152,\"II\",IF(H154<=Нормативы!$H$153,\"III\",IF(H154<=Нормативы!$H$154,\"I юн\",IF(H154<=Нормативы!$H$155,\"II юн\",IF(H154<=Нормативы!$H$156,\"III юн\",\"б/р\")))))))))))","v":"I юн"},null,439.8,{"$f":"IF(ISBLANK(L154),\" \",IF(ISTEXT(L154),\" \",IF(L154<=Нормативы!$H$148,\"КМС\",IF(L154<=Нормативы!$H$149,\"КМС\",IF(L154<=Нормативы!$L$150,\"КМС\",IF(L154<=Нормативы!$L$151,\"I\",IF(L154<=Нормативы!$L$152,\"II\",IF(L154<=Нормативы!$L$153,\"III\",IF(L154<=Нормативы!$L$154,\"I юн\",IF(L154<=Нормативы!$L$155,\"II юн\",IF(L154<=Нормативы!$L$156,\"III юн\",\"б/р\")))))))))))","v":"I юн"},{"$f":"IF(ISBLANK(L154),\" \",IF(ISTEXT(L154),\" \",IF(L154<=Нормативы!$H$148,\"КМС\",IF(L154<=Нормативы!$H$149,\"КМС\",IF(L154<=Нормативы!$L$150,\"КМС\",IF(L154<=Нормативы!$L$151,\"I\",IF(L154<=Нормативы!$L$152,\"II\",IF(L154<=Нормативы!$L$153,\"III\",IF(L154<=Нормативы!$L$154,\"I юн\",IF(L154<=Нормативы!$L$155,\"II юн\",IF(L154<=Нормативы!$L$156,\"III юн\",\"б/р\")))))))))))","v":"I юн"},null,null,{"$f":"IF(ISBLANK(P154),\" \",IF(ISTEXT(P154),\" \",IF(P154<=$H$148,\"МСМК\",IF(P154<=$H$149,\"МС\",IF(P154<=$H$150,\"КМС\",IF(P154<=$H$151,\"I\",IF(P154<=$H$152,\"II\",IF(P154<=$H$153,\"III\",IF(P154<=$H$154,\"I юн\",IF(P154<=$H$155,\"II юн\",IF(P154<=$H$156,\"III юн\",\"б/р\")))))))))))","v":" "}]
[{"$nulls":7},505.7,{"$f":"IF(ISBLANK(H155),\" \",IF(ISTEXT(H155),\" \",IF(H155<=Нормативы!$H$148,\"МСМК\",IF(H155<=Нормативы!$H$149,\"МС\",IF(H155<=Нормативы!$H$150,\"КМС\",IF(H155<=Нормативы!$H$151,\"I\",IF(H155<=Нормативы!$H$152,\"II\",IF(H155<=Нормативы!$H$153,\"III\",IF(H155<=Нормативы!$H$154,\"I юн\",IF(H155<=Нормативы!$H$155,\"II юн\",IF(H155<=Нормативы!$H$156,\"III юн\",\"б/р\")))))))))))","v":"II юн"},{"$f":"IF(ISBLANK(H155),\" \",IF(ISTEXT(H155),\" \",IF(H155<=Нормативы!$H$148,\"МСМК\",IF(H155<=Нормативы!$H$149,\"МС\",IF(H155<=Нормативы!$H$150,\"КМС\",IF(H155<=Нормативы!$H$151,\"I\",IF(H155<=Нормативы!$H$152,\"II\",IF(H155<=Нормативы!$H$153,\"III\",IF(H155<=Нормативы!$H$154,\"I юн\",IF(H155<=Нормативы!$H$155,\"II юн\",IF(H155<=Нормативы!$H$156,\"III юн\",\"б/р\")))))))))))","v":"II юн"},null,505.5,{"$f":"IF(ISBLANK(L155),\" \",IF(ISTEXT(L155),\" \",IF(L155<=Нормативы!$H$148,\"КМС\",IF(L155<=Нормативы!$H$149,\"КМС\",IF(L155<=Нормативы!$L$150,\"КМС\",IF(L155<=Нормативы!$L$151,\"I\",IF(L155<=Нормативы!$L$152,\"II\",IF(L155<=Нормативы!$L$153,\"III\",IF(L155<=Нормативы!$L$154,\"I юн\",IF(L155<=Нормативы!$L$155,\"II юн\",IF(L155<=Нормативы!$L$156,\"III юн\",\"б/р\")))))))))))","v":"II юн"},{"$f":"IF(ISBLANK(L155),\" \",IF(ISTEXT(L155),\" \",IF(L155<=Нормативы!$H$148,\"КМС\",IF(L155<=Нормативы!$H$149,\"КМС\",IF(L155<=Нормативы!$L$150,\"КМС\",IF(L155<=Нормативы!$L$151,\"I\",IF(L155<=Нормативы!$L$152,\"II\",IF(L155<=Нормативы!$L$153,\"III\",IF(L155<=Нормативы!$L$154,\"I юн\",IF(L155<=Нормативы!$L$155,\"II юн\",IF(L155<=Нормативы!$L$156,\"III юн\",\"б/р\")))))))))))","v":"II юн"},null,null,{"$f":"IF(ISBLANK(P155),\" \",IF(ISTEXT(P155),\" \",IF(P155<=$H$148,\"МСМК\",IF(P155<=$H$149,\"МС\",IF(P155<=$H$150,\"КМС\",IF(P155<=$H$151,\"I\",IF(P155<=$H$152,\"II\",IF(P155<=$H$153,\"III\",IF(P155<=$H$154,\"I юн\",IF(P155<=$H$155,\"II юн\",IF(P155<=$H$156,\"III юн\",\"б/р\")))))))))))","v":" "}]
[{"$nulls":7},530.2,{"$f":"IF(ISBLANK(H156),\" \",IF(ISTEXT(H156),\" \",IF(H156<=Нормативы!$H$148,\"МСМК\",IF(H156<=Нормативы!$H$149,\"МС\",IF(H156<=Нормативы!$H$150,\"КМС\",IF(H156<=Нормативы!$H$151,\"I\",IF(H156<=Нормативы!$H$152,\"II\",IF(H156<=Нормативы!$H$153,\"III\",IF(H156<=Нормативы!$H$154,\"I юн\",IF(H156<=Нормативы!$H$155,\"II юн\",IF(H156<=Нормативы!$H$156,\"III юн\",\"б/р\")))))))))))","v":"III юн"},{"$f":"IF(ISBLANK(H156),\" \",IF(ISTEXT(H156),\" \",IF(H156<=Нормативы!$H$148,\"МСМК\",IF(H156<=Нормативы!$H$149,\"МС\",IF(H156<=Нормативы!$H$150,\"КМС\",IF(H156<=Нормативы!$H$151,\"I\",IF(H156<=Нормативы!$H$152,\"II\",IF(H156<=Нормативы!$H$153,\"III\",IF(H156<=Нормативы!$H$154,\"I юн\",IF(H156<=Нормативы!$H$155,\"II юн\",IF(H156<=Нормативы!$H$156,\"III юн\",\"б/р\")))))))))))","v":"III юн"},null,530,{"$f":"IF(ISBLANK(L156),\" \",IF(ISTEXT(L156),\" \",IF(L156<=Нормативы!$H$148,\"КМС\",IF(L156<=Нормативы!$H$149,\"КМС\",IF(L156<=Нормативы!$L$150,\"КМС\",IF(L156<=Нормативы!$L$151,\"I\",IF(L156<=Нормативы!$L$152,\"II\",IF(L156<=Нормативы!$L$153,\"III\",IF(L156<=Нормативы!$L$154,\"I юн\",IF(L156<=Нормативы!$L$155,\"II юн\",IF(L156<=Нормативы!$L$156,\"III юн\",\"б/р\")))))))))))","v":"III юн"},{"$f":"IF(ISBLANK(L156),\" \",IF(ISTEXT(L156),\" \",IF(L156<=Нормативы!$H$148,\"КМС\",IF(L156<=Нормативы!$H$149,\"КМС\",IF(L156<=Нормативы!$L$150,\"КМС\",IF(L156<=Нормативы!$L$151,\"I\",IF(L156<=Нормативы!$L$152,\"II\",IF(L156<=Нормативы!$L$153,\"III\",IF(L156<=Нормативы!$L$154,\"I юн\",IF(L156<=Нормативы!$L$155,\"II юн\",IF(L156<=Нормативы!$L$156,\"III юн\",\"б/р\")))))))))))","v":"III юн"},null,null,{"$f":"IF(ISBLANK(P156),\" \",IF(ISTEXT(P156),\" \",IF(P156<=$H$148,\"МСМК\",IF(P156<=$H$149,\"МС\",IF(P156<=$H$150,\"КМС\",IF(P156<=$H$151,\"I\",IF(P156<=$H$152,\"II\",IF(P156<=$H$153,\"III\",IF(P156<=$H$154,\"I юн\",IF(P156<=$H$155,\"II юн\",IF(P156<=$H$156,\"III юн\",\"б/р\")))))))))))","v":" "}]
[]
[null,null,"Плавание в классических ластах- 400 м (1460411811Я),  женщины"]
[{"$nulls":7},348.9,{"$f":"IF(ISBLANK(H159),\" \",IF(ISTEXT(H159),\" \",IF(H159<=Нормативы!$H$159,\"МСМК\",IF(H159<=Нормативы!$H$160,\"МС\",IF(H159<=Нормативы!$H$161,\"КМС\",IF(H159<=Нормативы!$H$162,\"I\",IF(H159<=Нормативы!$H$163,\"II\",IF(H159<=Нормативы!$H$164,\"III\",IF(H159<=Нормативы!$H$165,\"I юн\",IF(H159<=Нормативы!$H$166,\"II юн\",IF(H159<=Нормативы!$H$167,\"III юн\",\"б/р\")))))))))))","v":"МСМК"},{"$f":"IF(ISBLANK(H159),\" \",IF(ISTEXT(H159),\" \",IF(H159<=Нормативы!$H$159,\"МСМК\",IF(H159<=Нормативы!$H$160,\"МС\",IF(H159<=Нормативы!$H$161,\"КМС\",IF(H159<=Нормативы!$H$162,\"I\",IF(H159<=Нормативы!$H$163,\"II\",IF(H159<=Нормативы!$H$164,\"III\",IF(H159<=Нормативы!$H$165,\"I юн\",IF(H159<=Нормативы!$H$166,\"II юн\",IF(H159<=Нормативы!$H$167,\"III юн\",\"б/р\")))))))))))","v":"МСМК"},null,null,{"$f":"IF(ISBLANK(L159),\" \",IF(ISTEXT(L159),\" \",IF(L159<=Нормативы!$H$159,\"КМС\",IF(L159<=Нормативы!$H$160,\"КМС\",IF(L159<=Нормативы!$L$161,\"КМС\",IF(L159<=Нормативы!$L$162,\"I\",IF(L159<=Нормативы!$L$163,\"II\",IF(L159<=Нормативы!$L$164,\"III\",IF(L159<=Нормативы!$L$165,\"I юн\",IF(L159<=Нормативы!$L$166,\"II юн\",IF(L159<=Нормативы!$L$167,\"III юн\",\"б/р\")))))))))))","v":" "},{"$f":"IF(ISBLANK(L159),\" \",IF(ISTEXT(L159),\" \",IF(L159<=349,\"МСМК\",IF(L159<=404.4,\"МС\",IF(L159<=414,\"КМС\",IF(L159<=430,\"I\",IF(L159<=448,\"II\",IF(L159<=508,\"III\",IF(L159<=534,\"I юн\",IF(L159<=601,\"II юн\",IF(L159<=630,\"III юн\",\"б/р\")))))))))))","v":" "},null,null,{"$f":"IF(ISBLANK(P159),\" \",IF(ISTEXT(P159),\" \",IF(P159<=$H$159,\"МСМК\",IF(P159<=$H$160,\"МС\",IF(P159<=$H$161,\"КМС\",IF(P159<=$H$162,\"I\",IF(P159<=$H$163,\"II\",IF(P159<=$H$164,\"III\",IF(P159<=$H$165,\"I юн\",IF(P159<=$H$166,\"II юн\",IF(P159<=$H$167,\"III юн\",\"б/р\")))))))))))","v":" "}]
[{"$nulls":7},359.5,{"$f":"IF(ISBLANK(H160),\" \",IF(ISTEXT(H160),\" \",IF(H160<=Нормативы!$H$159,\"МСМК\",IF(H160<=Нормативы!$H$160,\"МС\",IF(H160<=Нормативы!$H$161,\"КМС\",IF(H160<=Нормативы!$H$162,\"I\",IF(H160<=Нормативы!$H$163,\"II\",IF(H160<=Нормативы!$H$164,\"III\",IF(H160<=Нормативы!$H$165,\"I юн\",IF(H160<=Нормативы!$H$166,\"II юн\",IF(H160<=Нормативы!$H$167,\"III юн\",\"б/р\")))))))))))","v":"МС"},{"$f":"IF(ISBLANK(H160),\" \",IF(ISTEXT(H160),\" \",IF(H160<=Нормативы!$H$159,\"МСМК\",IF(H160<=Нормативы!$H$160,\"МС\",IF(H160<=Нормативы!$H$161,\"КМС\",IF(H160<=Нормативы!$H$162,\"I\",IF(H160<=Нормативы!$H$163,\"II\",IF(H160<=Нормативы!$H$164,\"III\",IF(H160<=Нормативы!$H$165,\"I юн\",IF(H160<=Нормативы!$H$166,\"II юн\",IF(H160<=Нормативы!$H$167,\"III юн\",\"б/р\")))))))))))","v":"МС"},null,null,{"$f":"IF(ISBLANK(L160),\" \",IF(ISTEXT(L160),\" \",IF(L160<=Нормативы!$H$159,\"КМС\",IF(L160<=Нормативы!$H$160,\"КМС\",IF(L160<=Нормативы!$L$161,\"КМС\",IF(L160<=Нормативы!$L$162,\"I\",IF(L160<=Нормативы!$L$163,\"II\",IF(L160<=Нормативы!$L$164,\"III\",IF(L160<=Нормативы!$L$165,\"I юн\",IF(L160<=Нормативы!$L$166,\"II юн\",IF(L160<=Нормативы!$L$167,\"III юн\",\"б/р\")))))))))))","v":" "},{"$f":"IF(ISBLANK(L160),\" \",IF(ISTEXT(L160),\" \",IF(L160<=349,\"МСМК\",IF(L160<=404.4,\"МС\",IF(L160<=414,\"КМС\",IF(L160<=430,\"I\",IF(L160<=448,\"II\",IF(L160<=508,\"III\",IF(L160<=534,\"I юн\",IF(L160<=601,\"II юн\",IF(L160<=630,\"III юн\",\"б/р\")))))))))))","v":" "},null,null,{"$f":"IF(ISBLANK(P160),\" \",IF(ISTEXT(P160),\" \",IF(P160<=$H$159,\"МСМК\",IF(P160<=$H$160,\"МС\",IF(P160<=$H$161,\"КМС\",IF(P160<=$H$162,\"I\",IF(P160<=$H$163,\"II\",IF(P160<=$H$164,\"III\",IF(P160<=$H$165,\"I юн\",IF(P160<=$H$166,\"II юн\",IF(P160<=$H$167,\"III юн\",\"б/р\")))))))))))","v":" "}]
[{"$nulls":7},412.8,{"$f":"IF(ISBLANK(H161),\" \",IF(ISTEXT(H161),\" \",IF(H161<=Нормативы!$H$159,\"МСМК\",IF(H161<=Нормативы!$H$160,\"МС\",IF(H161<=Нормативы!$H$161,\"КМС\",IF(H161<=Нормативы!$H$162,\"I\",IF(H161<=Нормативы!$H$163,\"II\",IF(H161<=Нормативы!$H$164,\"III\",IF(H161<=Нормативы!$H$165,\"I юн\",IF(H161<=Нормативы!$H$166,\"II юн\",IF(H161<=Нормативы!$H$167,\"III юн\",\"б/р\")))))))))))","v":"КМС"},{"$f":"IF(ISBLANK(H161),\" \",IF(ISTEXT(H161),\" \",IF(H161<=Нормативы!$H$159,\"МСМК\",IF(H161<=Нормативы!$H$160,\"МС\",IF(H161<=Нормативы!$H$161,\"КМС\",IF(H161<=Нормативы!$H$162,\"I\",IF(H161<=Нормативы!$H$163,\"II\",IF(H161<=Нормативы!$H$164,\"III\",IF(H161<=Нормативы!$H$165,\"I юн\",IF(H161<=Нормативы!$H$166,\"II юн\",IF(H161<=Нормативы!$H$167,\"III юн\",\"б/р\")))))))))))","v":"КМС"},null,{"$f":"H161-0.2","v":412.6},{"$f":"IF(ISBLANK(L161),\" \",IF(ISTEXT(L161),\" \",IF(L161<=Нормативы!$H$159,\"КМС\",IF(L161<=Нормативы!$H$160,\"КМС\",IF(L161<=Нормативы!$L$161,\"КМС\",IF(L161<=Нормативы!$L$162,\"I\",IF(L161<=Нормативы!$L$163,\"II\",IF(L161<=Нормативы!$L$164,\"III\",IF(L161<=Нормативы!$L$165,\"I юн\",IF(L161<=Нормативы!$L$166,\"II юн\",IF(L161<=Нормативы!$L$167,\"III юн\",\"б/р\")))))))))))","v":"КМС"},{"$f":"IF(ISBLANK(L161),\" \",IF(ISTEXT(L161),\" \",IF(L161<=Нормативы!$H$159,\"КМС\",IF(L161<=Нормативы!$H$160,\"КМС\",IF(L161<=Нормативы!$L$161,\"КМС\",IF(L161<=Нормативы!$L$162,\"I\",IF(L161<=Нормативы!$L$163,\"II\",IF(L161<=Нормативы!$L$164,\"III\",IF(L161<=Нормативы!$L$165,\"I юн\",IF(L161<=Нормативы!$L$166,\"II юн\",IF(L161<=Нормативы!$L$167,\"III юн\",\"б/р\")))))))))))","v":"КМС"},null,null,{"$f":"IF(ISBLANK(P161),\" \",IF(ISTEXT(P161),\" \",IF(P161<=$H$159,\"МСМК\",IF(P161<=$H$160,\"МС\",IF(P161<=$H$161,\"КМС\",IF(P161<=$H$162,\"I\",IF(P161<=$H$163,\"II\",IF(P161<=$H$164,\"III\",IF(P161<=$H$165,\"I юн\",IF(P161<=$H$166,\"II юн\",IF(P161<=$H$167,\"III юн\",\"б/р\")))))))))))","v":" "}]
[{"$nulls":7},428.2,{"$f":"IF(ISBLANK(H162),\" \",IF(ISTEXT(H162),\" \",IF(H162<=Нормативы!$H$159,\"МСМК\",IF(H162<=Нормативы!$H$160,\"МС\",IF(H162<=Нормативы!$H$161,\"КМС\",IF(H162<=Нормативы!$H$162,\"I\",IF(H162<=Нормативы!$H$163,\"II\",IF(H162<=Нормативы!$H$164,\"III\",IF(H162<=Нормативы!$H$165,\"I юн\",IF(H162<=Нормативы!$H$166,\"II юн\",IF(H162<=Нормативы!$H$167,\"III юн\",\"б/р\")))))))))))","v":"I"},{"$f":"IF(ISBLANK(H162),\" \",IF(ISTEXT(H162),\" \",IF(H162<=Нормативы!$H$159,\"МСМК\",IF(H162<=Нормативы!$H$160,\"МС\",IF(H162<=Нормативы!$H$161,\"КМС\",IF(H162<=Нормативы!$H$162,\"I\",IF(H162<=Нормативы!$H$163,\"II\",IF(H162<=Нормативы!$H$164,\"III\",IF(H162<=Нормативы!$H$165,\"I юн\",IF(H162<=Нормативы!$H$166,\"II юн\",IF(H162<=Нормативы!$H$167,\"III юн\",\"б/р\")))))))))))","v":"I"},null,428,{"$f":"IF(ISBLANK(L162),\" \",IF(ISTEXT(L162),\" \",IF(L162<=Нормативы!$H$159,\"КМС\",IF(L162<=Нормативы!$H$160,\"КМС\",IF(L162<=Нормативы!$L$161,\"КМС\",IF(L162<=Нормативы!$L$162,\"I\",IF(L162<=Нормативы!$L$163,\"II\",IF(L162<=Нормативы!$L$164,\"III\",IF(L162<=Нормативы!$L$165,\"I юн\",IF(L162<=Нормативы!$L$166,\"II юн\",IF(L162<=Нормативы!$L$167,\"III юн\",\"б/р\")))))))))))","v":"I"},{"$f":"IF(ISBLANK(L162),\" \",IF(ISTEXT(L162),\" \",IF(L162<=Нормативы!$H$159,\"КМС\",IF(L162<=Нормативы!$H$160,\"КМС\",IF(L162<=Нормативы!$L$161,\"КМС\",IF(L162<=Нормативы!$L$162,\"I\",IF(L162<=Нормативы!$L$163,\"II\",IF(L162<=Нормативы!$L$164,\"III\",IF(L162<=Нормативы!$L$165,\"I юн\",IF(L162<=Нормативы!$L$166,\"II юн\",IF(L162<=Нормативы!$L$167,\"III юн\",\"б/р\")))))))))))","v":"I"},null,null,{"$f":"IF(ISBLANK(P162),\" \",IF(ISTEXT(P162),\" \",IF(P162<=$H$159,\"МСМК\",IF(P162<=$H$160,\"МС\",IF(P162<=$H$161,\"КМС\",IF(P162<=$H$162,\"I\",IF(P162<=$H$163,\"II\",IF(P162<=$H$164,\"III\",IF(P162<=$H$165,\"I юн\",IF(P162<=$H$166,\"II юн\",IF(P162<=$H$167,\"III юн\",\"б/р\")))))))))))","v":" "}]
[{"$nulls":7},446.7,{"$f":"IF(ISBLANK(H163),\" \",IF(ISTEXT(H163),\" \",IF(H163<=Нормативы!$H$159,\"МСМК\",IF(H163<=Нормативы!$H$160,\"МС\",IF(H163<=Нормативы!$H$161,\"КМС\",IF(H163<=Нормативы!$H$162,\"I\",IF(H163<=Нормативы!$H$163,\"II\",IF(H163<=Нормативы!$H$164,\"III\",IF(H163<=Нормативы!$H$165,\"I юн\",IF(H163<=Нормативы!$H$166,\"II юн\",IF(H163<=Нормативы!$H$167,\"III юн\",\"б/р\")))))))))))","v":"II"},{"$f":"IF(ISBLANK(H163),\" \",IF(ISTEXT(H163),\" \",IF(H163<=Нормативы!$H$159,\"МСМК\",IF(H163<=Нормативы!$H$160,\"МС\",IF(H163<=Нормативы!$H$161,\"КМС\",IF(H163<=Нормативы!$H$162,\"I\",IF(H163<=Нормативы!$H$163,\"II\",IF(H163<=Нормативы!$H$164,\"III\",IF(H163<=Нормативы!$H$165,\"I юн\",IF(H163<=Нормативы!$H$166,\"II юн\",IF(H163<=Нормативы!$H$167,\"III юн\",\"б/р\")))))))))))","v":"II"},null,446.5,{"$f":"IF(ISBLANK(L163),\" \",IF(ISTEXT(L163),\" \",IF(L163<=Нормативы!$H$159,\"КМС\",IF(L163<=Нормативы!$H$160,\"КМС\",IF(L163<=Нормативы!$L$161,\"КМС\",IF(L163<=Нормативы!$L$162,\"I\",IF(L163<=Нормативы!$L$163,\"II\",IF(L163<=Нормативы!$L$164,\"III\",IF(L163<=Нормативы!$L$165,\"I юн\",IF(L163<=Нормативы!$L$166,\"II юн\",IF(L163<=Нормативы!$L$167,\"III юн\",\"б/р\")))))))))))","v":"II"},{"$f":"IF(ISBLANK(L163),\" \",IF(ISTEXT(L163),\" \",IF(L163<=Нормативы!$H$159,\"КМС\",IF(L163<=Нормативы!$H$160,\"КМС\",IF(L163<=Нормативы!$L$161,\"КМС\",IF(L163<=Нормативы!$L$162,\"I\",IF(L163<=Нормативы!$L$163,\"II\",IF(L163<=Нормативы!$L$164,\"III\",IF(L163<=Нормативы!$L$165,\"I юн\",IF(L163<=Нормативы!$L$166,\"II юн\",IF(L163<=Нормативы!$L$167,\"III юн\",\"б/р\")))))))))))","v":"II"},null,null,{"$f":"IF(ISBLANK(P163),\" \",IF(ISTEXT(P163),\" \",IF(P163<=$H$159,\"МСМК\",IF(P163<=$H$160,\"МС\",IF(P163<=$H$161,\"КМС\",IF(P163<=$H$162,\"I\",IF(P163<=$H$163,\"II\",IF(P163<=$H$164,\"III\",IF(P163<=$H$165,\"I юн\",IF(P163<=$H$166,\"II юн\",IF(P163<=$H$167,\"III юн\",\"б/р\")))))))))))","v":" "}]
[{"$nulls":7},506.2,{"$f":"IF(ISBLANK(H164),\" \",IF(ISTEXT(H164),\" \",IF(H164<=Нормативы!$H$159,\"МСМК\",IF(H164<=Нормативы!$H$160,\"МС\",IF(H164<=Нормативы!$H$161,\"КМС\",IF(H164<=Нормативы!$H$162,\"I\",IF(H164<=Нормативы!$H$163,\"II\",IF(H164<=Нормативы!$H$164,\"III\",IF(H164<=Нормативы!$H$165,\"I юн\",IF(H164<=Нормативы!$H$166,\"II юн\",IF(H164<=Нормативы!$H$167,\"III юн\",\"б/р\")))))))))))","v":"III"},{"$f":"IF(ISBLANK(H164),\" \",IF(ISTEXT(H164),\" \",IF(H164<=Нормативы!$H$159,\"МСМК\",IF(H164<=Нормативы!$H$160,\"МС\",IF(H164<=Нормативы!$H$161,\"КМС\",IF(H164<=Нормативы!$H$162,\"I\",IF(H164<=Нормативы!$H$163,\"II\",IF(H164<=Нормативы!$H$164,\"III\",IF(H164<=Нормативы!$H$165,\"I юн\",IF(H164<=Нормативы!$H$166,\"II юн\",IF(H164<=Нормативы!$H$167,\"III юн\",\"б/р\")))))))))))","v":"III"},null,506,{"$f":"IF(ISBLANK(L164),\" \",IF(ISTEXT(L164),\" \",IF(L164<=Нормативы!$H$159,\"КМС\",IF(L164<=Нормативы!$H$160,\"КМС\",IF(L164<=Нормативы!$L$161,\"КМС\",IF(L164<=Нормативы!$L$162,\"I\",IF(L164<=Нормативы!$L$163,\"II\",IF(L164<=Нормативы!$L$164,\"III\",IF(L164<=Нормативы!$L$165,\"I юн\",IF(L164<=Нормативы!$L$166,\"II юн\",IF(L164<=Нормативы!$L$167,\"III юн\",\"б/р\")))))))))))","v":"III"},{"$f":"IF(ISBLANK(L164),\" \",IF(ISTEXT(L164),\" \",IF(L164<=Нормативы!$H$159,\"КМС\",IF(L164<=Нормативы!$H$160,\"КМС\",IF(L164<=Нормативы!$L$161,\"КМС\",IF(L164<=Нормативы!$L$162,\"I\",IF(L164<=Нормативы!$L$163,\"II\",IF(L164<=Нормативы!$L$164,\"III\",IF(L164<=Нормативы!$L$165,\"I юн\",IF(L164<=Нормативы!$L$166,\"II юн\",IF(L164<=Нормативы!$L$167,\"III юн\",\"б/р\")))))))))))","v":"III"},null,null,{"$f":"IF(ISBLANK(P164),\" \",IF(ISTEXT(P164),\" \",IF(P164<=$H$159,\"МСМК\",IF(P164<=$H$160,\"МС\",IF(P164<=$H$161,\"КМС\",IF(P164<=$H$162,\"I\",IF(P164<=$H$163,\"II\",IF(P164<=$H$164,\"III\",IF(P164<=$H$165,\"I юн\",IF(P164<=$H$166,\"II юн\",IF(P164<=$H$167,\"III юн\",\"б/р\")))))))))))","v":" "}]
[{"$nulls":7},530.2,{"$f":"IF(ISBLANK(H165),\" \",IF(ISTEXT(H165),\" \",IF(H165<=Нормативы!$H$159,\"МСМК\",IF(H165<=Нормативы!$H$160,\"МС\",IF(H165<=Нормативы!$H$161,\"КМС\",IF(H165<=Нормативы!$H$162,\"I\",IF(H165<=Нормативы!$H$163,\"II\",IF(H165<=Нормативы!$H$164,\"III\",IF(H165<=Нормативы!$H$165,\"I юн\",IF(H165<=Нормативы!$H$166,\"II юн\",IF(H165<=Нормативы!$H$167,\"III юн\",\"б/р\")))))))))))","v":"I юн"},{"$f":"IF(ISBLANK(H165),\" \",IF(ISTEXT(H165),\" \",IF(H165<=Нормативы!$H$159,\"МСМК\",IF(H165<=Нормативы!$H$160,\"МС\",IF(H165<=Нормативы!$H$161,\"КМС\",IF(H165<=Нормативы!$H$162,\"I\",IF(H165<=Нормативы!$H$163,\"II\",IF(H165<=Нормативы!$H$164,\"III\",IF(H165<=Нормативы!$H$165,\"I юн\",IF(H165<=Нормативы!$H$166,\"II юн\",IF(H165<=Нормативы!$H$167,\"III юн\",\"б/р\")))))))))))","v":"I юн"},null,530,{"$f":"IF(ISBLANK(L165),\" \",IF(ISTEXT(L165),\" \",IF(L165<=Нормативы!$H$159,\"КМС\",IF(L165<=Нормативы!$H$160,\"КМС\",IF(L165<=Нормативы!$L$161,\"КМС\",IF(L165<=Нормативы!$L$162,\"I\",IF(L165<=Нормативы!$L$163,\"II\",IF(L165<=Нормативы!$L$164,\"III\",IF(L165<=Нормативы!$L$165,\"I юн\",IF(L165<=Нормативы!$L$166,\"II юн\",IF(L165<=Нормативы!$L$167,\"III юн\",\"б/р\")))))))))))","v":"I юн"},{"$f":"IF(ISBLANK(L165),\" \",IF(ISTEXT(L165),\" \",IF(L165<=Нормативы!$H$159,\"КМС\",IF(L165<=Нормативы!$H$160,\"КМС\",IF(L165<=Нормативы!$L$161,\"КМС\",IF(L165<=Нормативы!$L$162,\"I\",IF(L165<=Нормативы!$L$163,\"II\",IF(L165<=Нормативы!$L$164,\"III\",IF(L165<=Нормативы!$L$165,\"I юн\",IF(L165<=Нормативы!$L$166,\"II юн\",IF(L165<=Нормативы!$L$167,\"III юн\",\"б/р\")))))))))))","v":"I юн"},null,null,{"$f":"IF(ISBLANK(P165),\" \",IF(ISTEXT(P165),\" \",IF(P165<=$H$159,\"МСМК\",IF(P165<=$H$160,\"МС\",IF(P165<=$H$161,\"КМС\",IF(P165<=$H$162,\"I\",IF(P165<=$H$163,\"II\",IF(P165<=$H$164,\"III\",IF(P165<=$H$165,\"I юн\",IF(P165<=$H$166,\"II юн\",IF(P165<=$H$167,\"III юн\",\"б/р\")))))))))))","v":" "}]
[{"$nulls":7},558.2,{"$f":"IF(ISBLANK(H166),\" \",IF(ISTEXT(H166),\" \",IF(H166<=Нормативы!$H$159,\"МСМК\",IF(H166<=Нормативы!$H$160,\"МС\",IF(H166<=Нормативы!$H$161,\"КМС\",IF(H166<=Нормативы!$H$162,\"I\",IF(H166<=Нормативы!$H$163,\"II\",IF(H166<=Нормативы!$H$164,\"III\",IF(H166<=Нормативы!$H$165,\"I юн\",IF(H166<=Нормативы!$H$166,\"II юн\",IF(H166<=Нормативы!$H$167,\"III юн\",\"б/р\")))))))))))","v":"II юн"},{"$f":"IF(ISBLANK(H166),\" \",IF(ISTEXT(H166),\" \",IF(H166<=Нормативы!$H$159,\"МСМК\",IF(H166<=Нормативы!$H$160,\"МС\",IF(H166<=Нормативы!$H$161,\"КМС\",IF(H166<=Нормативы!$H$162,\"I\",IF(H166<=Нормативы!$H$163,\"II\",IF(H166<=Нормативы!$H$164,\"III\",IF(H166<=Нормативы!$H$165,\"I юн\",IF(H166<=Нормативы!$H$166,\"II юн\",IF(H166<=Нормативы!$H$167,\"III юн\",\"б/р\")))))))))))","v":"II юн"},null,558,{"$f":"IF(ISBLANK(L166),\" \",IF(ISTEXT(L166),\" \",IF(L166<=Нормативы!$H$159,\"КМС\",IF(L166<=Нормативы!$H$160,\"КМС\",IF(L166<=Нормативы!$L$161,\"КМС\",IF(L166<=Нормативы!$L$162,\"I\",IF(L166<=Нормативы!$L$163,\"II\",IF(L166<=Нормативы!$L$164,\"III\",IF(L166<=Нормативы!$L$165,\"I юн\",IF(L166<=Нормативы!$L$166,\"II юн\",IF(L166<=Нормативы!$L$167,\"III юн\",\"б/р\")))))))))))","v":"II юн"},{"$f":"IF(ISBLANK(L166),\" \",IF(ISTEXT(L166),\" \",IF(L166<=Нормативы!$H$159,\"КМС\",IF(L166<=Нормативы!$H$160,\"КМС\",IF(L166<=Нормативы!$L$161,\"КМС\",IF(L166<=Нормативы!$L$162,\"I\",IF(L166<=Нормативы!$L$163,\"II\",IF(L166<=Нормативы!$L$164,\"III\",IF(L166<=Нормативы!$L$165,\"I юн\",IF(L166<=Нормативы!$L$166,\"II юн\",IF(L166<=Нормативы!$L$167,\"III юн\",\"б/р\")))))))))))","v":"II юн"},null,null,{"$f":"IF(ISBLANK(P166),\" \",IF(ISTEXT(P166),\" \",IF(P166<=$H$159,\"МСМК\",IF(P166<=$H$160,\"МС\",IF(P166<=$H$161,\"КМС\",IF(P166<=$H$162,\"I\",IF(P166<=$H$163,\"II\",IF(P166<=$H$164,\"III\",IF(P166<=$H$165,\"I юн\",IF(P166<=$H$166,\"II юн\",IF(P166<=$H$167,\"III юн\",\"б/р\")))))))))))","v":" "}]
[{"$nulls":7},626.2,{"$f":"IF(ISBLANK(H167),\" \",IF(ISTEXT(H167),\" \",IF(H167<=Нормативы!$H$159,\"МСМК\",IF(H167<=Нормативы!$H$160,\"МС\",IF(H167<=Нормативы!$H$161,\"КМС\",IF(H167<=Нормативы!$H$162,\"I\",IF(H167<=Нормативы!$H$163,\"II\",IF(H167<=Нормативы!$H$164,\"III\",IF(H167<=Нормативы!$H$165,\"I юн\",IF(H167<=Нормативы!$H$166,\"II юн\",IF(H167<=Нормативы!$H$167,\"III юн\",\"б/р\")))))))))))","v":"III юн"},{"$f":"IF(ISBLANK(H167),\" \",IF(ISTEXT(H167),\" \",IF(H167<=Нормативы!$H$159,\"МСМК\",IF(H167<=Нормативы!$H$160,\"МС\",IF(H167<=Нормативы!$H$161,\"КМС\",IF(H167<=Нормативы!$H$162,\"I\",IF(H167<=Нормативы!$H$163,\"II\",IF(H167<=Нормативы!$H$164,\"III\",IF(H167<=Нормативы!$H$165,\"I юн\",IF(H167<=Нормативы!$H$166,\"II юн\",IF(H167<=Нормативы!$H$167,\"III юн\",\"б/р\")))))))))))","v":"III юн"},null,626,{"$f":"IF(ISBLANK(L167),\" \",IF(ISTEXT(L167),\" \",IF(L167<=Нормативы!$H$159,\"КМС\",IF(L167<=Нормативы!$H$160,\"КМС\",IF(L167<=Нормативы!$L$161,\"КМС\",IF(L167<=Нормативы!$L$162,\"I\",IF(L167<=Нормативы!$L$163,\"II\",IF(L167<=Нормативы!$L$164,\"III\",IF(L167<=Нормативы!$L$165,\"I юн\",IF(L167<=Нормативы!$L$166,\"II юн\",IF(L167<=Нормативы!$L$167,\"III юн\",\"б/р\")))))))))))","v":"III юн"},{"$f":"IF(ISBLANK(L167),\" \",IF(ISTEXT(L167),\" \",IF(L167<=Нормативы!$H$159,\"КМС\",IF(L167<=Нормативы!$H$160,\"КМС\",IF(L167<=Нормативы!$L$161,\"КМС\",IF(L167<=Нормативы!$L$162,\"I\",IF(L167<=Нормативы!$L$163,\"II\",IF(L167<=Нормативы!$L$164,\"III\",IF(L167<=Нормативы!$L$165,\"I юн\",IF(L167<=Нормативы!$L$166,\"II юн\",IF(L167<=Нормативы!$L$167,\"III юн\",\"б/р\")))))))))))","v":"III юн"},null,null,{"$f":"IF(ISBLANK(P167),\" \",IF(ISTEXT(P167),\" \",IF(P167<=$H$159,\"МСМК\",IF(P167<=$H$160,\"МС\",IF(P167<=$H$161,\"КМС\",IF(P167<=$H$162,\"I\",IF(P167<=$H$163,\"II\",IF(P167<=$H$164,\"III\",IF(P167<=$H$165,\"I юн\",IF(P167<=$H$166,\"II юн\",IF(P167<=$H$167,\"III юн\",\"б/р\")))))))))))","v":" "}]
[]
[null,null,"Плавание в классических ластах- 400 м (1460411811Я),  мужчины"]
[{"$nulls":7},332.4,{"$f":"IF(ISBLANK(H170),\" \",IF(ISTEXT(H170),\" \",IF(H170<=Нормативы!$H$170,\"МСМК\",IF(H170<=Нормативы!$H$171,\"МС\",IF(H170<=Нормативы!$H$172,\"КМС\",IF(H170<=Нормативы!$H$173,\"I\",IF(H170<=Нормативы!$H$174,\"II\",IF(H170<=Нормативы!$H$175,\"III\",IF(H170<=Нормативы!$H$176,\"I юн\",IF(H170<=Нормативы!$H$177,\"II юн\",IF(H170<=Нормативы!$H$178,\"III юн\",\"б/р\")))))))))))","v":"МСМК"},{"$f":"IF(ISBLANK(H170),\" \",IF(ISTEXT(H170),\" \",IF(H170<=Нормативы!$H$170,\"МСМК\",IF(H170<=Нормативы!$H$171,\"МС\",IF(H170<=Нормативы!$H$172,\"КМС\",IF(H170<=Нормативы!$H$173,\"I\",IF(H170<=Нормативы!$H$174,\"II\",IF(H170<=Нормативы!$H$175,\"III\",IF(H170<=Нормативы!$H$176,\"I юн\",IF(H170<=Нормативы!$H$177,\"II юн\",IF(H170<=Нормативы!$H$178,\"III юн\",\"б/р\")))))))))))","v":"МСМК"},null,null,{"$f":"IF(ISBLANK(L170),\" \",IF(ISTEXT(L170),\" \",IF(L170<=Нормативы!$H$170,\"КМС\",IF(L170<=Нормативы!$H$171,\"КМС\",IF(L170<=Нормативы!$L$172,\"КМС\",IF(L170<=Нормативы!$L$173,\"I\",IF(L170<=Нормативы!$L$174,\"II\",IF(L170<=Нормативы!$L$175,\"III\",IF(L170<=Нормативы!$L$176,\"I юн\",IF(L170<=Нормативы!$L$177,\"II юн\",IF(L170<=Нормативы!$L$178,\"III юн\",\"б/р\")))))))))))","v":" "},{"$f":"IF(ISBLANK(L170),\" \",IF(ISTEXT(L170),\" \",IF(L170<=332.5,\"МСМК\",IF(L170<=345.2,\"МС\",IF(L170<=355,\"КМС\",IF(L170<=410,\"I\",IF(L170<=428,\"II\",IF(L170<=448,\"III\",IF(L170<=512.5,\"I юн\",IF(L170<=538.5,\"II юн\",IF(L170<=607,\"III юн\",\"б/р\")))))))))))","v":" "},null,null,{"$f":"IF(ISBLANK(P170),\" \",IF(ISTEXT(P170),\" \",IF(P170<=$H$170,\"МСМК\",IF(P170<=$H$171,\"МС\",IF(P170<=$H$172,\"КМС\",IF(P170<=$H$173,\"I\",IF(P170<=$H$174,\"II\",IF(P170<=$H$175,\"III\",IF(P170<=$H$176,\"I юн\",IF(P170<=$H$177,\"II юн\",IF(P170<=$H$178,\"III юн\",\"б/р\")))))))))))","v":" "}]
[{"$nulls":7},342.5,{"$f":"IF(ISBLANK(H171),\" \",IF(ISTEXT(H171),\" \",IF(H171<=Нормативы!$H$170,\"МСМК\",IF(H171<=Нормативы!$H$171,\"МС\",IF(H171<=Нормативы!$H$172,\"КМС\",IF(H171<=Нормативы!$H$173,\"I\",IF(H171<=Нормативы!$H$174,\"II\",IF(H171<=Нормативы!$H$175,\"III\",IF(H171<=Нормативы!$H$176,\"I юн\",IF(H171<=Нормативы!$H$177,\"II юн\",IF(H171<=Нормативы!$H$178,\"III юн\",\"б/р\")))))))))))","v":"МС"},{"$f":"IF(ISBLANK(H171),\" \",IF(ISTEXT(H171),\" \",IF(H171<=Нормативы!$H$170,\"МСМК\",IF(H171<=Нормативы!$H$171,\"МС\",IF(H171<=Нормативы!$H$172,\"КМС\",IF(H171<=Нормативы!$H$173,\"I\",IF(H171<=Нормативы!$H$174,\"II\",IF(H171<=Нормативы!$H$175,\"III\",IF(H171<=Нормативы!$H$176,\"I юн\",IF(H171<=Нормативы!$H$177,\"II юн\",IF(H171<=Нормативы!$H$178,\"III юн\",\"б/р\")))))))))))","v":"МС"},null,null,{"$f":"IF(ISBLANK(L171),\" \",IF(ISTEXT(L171),\" \",IF(L171<=Нормативы!$H$170,\"КМС\",IF(L171<=Нормативы!$H$171,\"КМС\",IF(L171<=Нормативы!$L$172,\"КМС\",IF(L171<=Нормативы!$L$173,\"I\",IF(L171<=Нормативы!$L$174,\"II\",IF(L171<=Нормативы!$L$175,\"III\",IF(L171<=Нормативы!$L$176,\"I юн\",IF(L171<=Нормативы!$L$177,\"II юн\",IF(L171<=Нормативы!$L$178,\"III юн\",\"б/р\")))))))))))","v":" "},{"$f":"IF(ISBLANK(L171),\" \",IF(ISTEXT(L171),\" \",IF(L171<=332.5,\"МСМК\",IF(L171<=345.2,\"МС\",IF(L171<=355,\"КМС\",IF(L171<=410,\"I\",IF(L171<=428,\"II\",IF(L171<=448,\"III\",IF(L171<=512.5,\"I юн\",IF(L171<=538.5,\"II юн\",IF(L171<=607,\"III юн\",\"б/р\")))))))))))","v":" "},null,null,{"$f":"IF(ISBLANK(P171),\" \",IF(ISTEXT(P171),\" \",IF(P171<=$H$170,\"МСМК\",IF(P171<=$H$171,\"МС\",IF(P171<=$H$172,\"КМС\",IF(P171<=$H$173,\"I\",IF(P171<=$H$174,\"II\",IF(P171<=$H$175,\"III\",IF(P171<=$H$176,\"I юн\",IF(P171<=$H$177,\"II юн\",IF(P171<=$H$178,\"III юн\",\"б/р\")))))))))))","v":" "}]
[{"$nulls":7},353.2,{"$f":"IF(ISBLANK(H172),\" \",IF(ISTEXT(H172),\" \",IF(H172<=Нормативы!$H$170,\"МСМК\",IF(H172<=Нормативы!$H$171,\"МС\",IF(H172<=Нормативы!$H$172,\"КМС\",IF(H172<=Нормативы!$H$173,\"I\",IF(H172<=Нормативы!$H$174,\"II\",IF(H172<=Нормативы!$H$175,\"III\",IF(H172<=Нормативы!$H$176,\"I юн\",IF(H172<=Нормативы!$H$177,\"II юн\",IF(H172<=Нормативы!$H$178,\"III юн\",\"б/р\")))))))))))","v":"КМС"},{"$f":"IF(ISBLANK(H172),\" \",IF(ISTEXT(H172),\" \",IF(H172<=Нормативы!$H$170,\"МСМК\",IF(H172<=Нормативы!$H$171,\"МС\",IF(H172<=Нормативы!$H$172,\"КМС\",IF(H172<=Нормативы!$H$173,\"I\",IF(H172<=Нормативы!$H$174,\"II\",IF(H172<=Нормативы!$H$175,\"III\",IF(H172<=Нормативы!$H$176,\"I юн\",IF(H172<=Нормативы!$H$177,\"II юн\",IF(H172<=Нормативы!$H$178,\"III юн\",\"б/р\")))))))))))","v":"КМС"},null,{"$f":"H172-0.2","v":353},{"$f":"IF(ISBLANK(L172),\" \",IF(ISTEXT(L172),\" \",IF(L172<=Нормативы!$H$170,\"КМС\",IF(L172<=Нормативы!$H$171,\"КМС\",IF(L172<=Нормативы!$L$172,\"КМС\",IF(L172<=Нормативы!$L$173,\"I\",IF(L172<=Нормативы!$L$174,\"II\",IF(L172<=Нормативы!$L$175,\"III\",IF(L172<=Нормативы!$L$176,\"I юн\",IF(L172<=Нормативы!$L$177,\"II юн\",IF(L172<=Нормативы!$L$178,\"III юн\",\"б/р\")))))))))))","v":"КМС"},{"$f":"IF(ISBLANK(L172),\" \",IF(ISTEXT(L172),\" \",IF(L172<=Нормативы!$H$170,\"КМС\",IF(L172<=Нормативы!$H$171,\"КМС\",IF(L172<=Нормативы!$L$172,\"КМС\",IF(L172<=Нормативы!$L$173,\"I\",IF(L172<=Нормативы!$L$174,\"II\",IF(L172<=Нормативы!$L$175,\"III\",IF(L172<=Нормативы!$L$176,\"I юн\",IF(L172<=Нормативы!$L$177,\"II юн\",IF(L172<=Нормативы!$L$178,\"III юн\",\"б/р\")))))))))))","v":"КМС"},null,null,{"$f":"IF(ISBLANK(P172),\" \",IF(ISTEXT(P172),\" \",IF(P172<=$H$170,\"МСМК\",IF(P172<=$H$171,\"МС\",IF(P172<=$H$172,\"КМС\",IF(P172<=$H$173,\"I\",IF(P172<=$H$174,\"II\",IF(P172<=$H$175,\"III\",IF(P172<=$H$176,\"I юн\",IF(P172<=$H$177,\"II юн\",IF(P172<=$H$178,\"III юн\",\"б/р\")))))))))))","v":" "}]
[{"$nulls":7},407.2,{"$f":"IF(ISBLANK(H173),\" \",IF(ISTEXT(H173),\" \",IF(H173<=Нормативы!$H$170,\"МСМК\",IF(H173<=Нормативы!$H$171,\"МС\",IF(H173<=Нормативы!$H$172,\"КМС\",IF(H173<=Нормативы!$H$173,\"I\",IF(H173<=Нормативы!$H$174,\"II\",IF(H173<=Нормативы!$H$175,\"III\",IF(H173<=Нормативы!$H$176,\"I юн\",IF(H173<=Нормативы!$H$177,\"II юн\",IF(H173<=Нормативы!$H$178,\"III юн\",\"б/р\")))))))))))","v":"I"},{"$f":"IF(ISBLANK(H173),\" \",IF(ISTEXT(H173),\" \",IF(H173<=Нормативы!$H$170,\"МСМК\",IF(H173<=Нормативы!$H$171,\"МС\",IF(H173<=Нормативы!$H$172,\"КМС\",IF(H173<=Нормативы!$H$173,\"I\",IF(H173<=Нормативы!$H$174,\"II\",IF(H173<=Нормативы!$H$175,\"III\",IF(H173<=Нормативы!$H$176,\"I юн\",IF(H173<=Нормативы!$H$177,\"II юн\",IF(H173<=Нормативы!$H$178,\"III юн\",\"б/р\")))))))))))","v":"I"},null,407,{"$f":"IF(ISBLANK(L173),\" \",IF(ISTEXT(L173),\" \",IF(L173<=Нормативы!$H$170,\"КМС\",IF(L173<=Нормативы!$H$171,\"КМС\",IF(L173<=Нормативы!$L$172,\"КМС\",IF(L173<=Нормативы!$L$173,\"I\",IF(L173<=Нормативы!$L$174,\"II\",IF(L173<=Нормативы!$L$175,\"III\",IF(L173<=Нормативы!$L$176,\"I юн\",IF(L173<=Нормативы!$L$177,\"II юн\",IF(L173<=Нормативы!$L$178,\"III юн\",\"б/р\")))))))))))","v":"I"},{"$f":"IF(ISBLANK(L173),\" \",IF(ISTEXT(L173),\" \",IF(L173<=Нормативы!$H$170,\"КМС\",IF(L173<=Нормативы!$H$171,\"КМС\",IF(L173<=Нормативы!$L$172,\"КМС\",IF(L173<=Нормативы!$L$173,\"I\",IF(L173<=Нормативы!$L$174,\"II\",IF(L173<=Нормативы!$L$175,\"III\",IF(L173<=Нормативы!$L$176,\"I юн\",IF(L173<=Нормативы!$L$177,\"II юн\",IF(L173<=Нормативы!$L$178,\"III юн\",\"б/р\")))))))))))","v":"I"},null,null,{"$f":"IF(ISBLANK(P173),\" \",IF(ISTEXT(P173),\" \",IF(P173<=$H$170,\"МСМК\",IF(P173<=$H$171,\"МС\",IF(P173<=$H$172,\"КМС\",IF(P173<=$H$173,\"I\",IF(P173<=$H$174,\"II\",IF(P173<=$H$175,\"III\",IF(P173<=$H$176,\"I юн\",IF(P173<=$H$177,\"II юн\",IF(P173<=$H$178,\"III юн\",\"б/р\")))))))))))","v":" "}]
[{"$nulls":7},425.2,{"$f":"IF(ISBLANK(H174),\" \",IF(ISTEXT(H174),\" \",IF(H174<=Нормативы!$H$170,\"МСМК\",IF(H174<=Нормативы!$H$171,\"МС\",IF(H174<=Нормативы!$H$172,\"КМС\",IF(H174<=Нормативы!$H$173,\"I\",IF(H174<=Нормативы!$H$174,\"II\",IF(H174<=Нормативы!$H$175,\"III\",IF(H174<=Нормативы!$H$176,\"I юн\",IF(H174<=Нормативы!$H$177,\"II юн\",IF(H174<=Нормативы!$H$178,\"III юн\",\"б/р\")))))))))))","v":"II"},{"$f":"IF(ISBLANK(H174),\" \",IF(ISTEXT(H174),\" \",IF(H174<=Нормативы!$H$170,\"МСМК\",IF(H174<=Нормативы!$H$171,\"МС\",IF(H174<=Нормативы!$H$172,\"КМС\",IF(H174<=Нормативы!$H$173,\"I\",IF(H174<=Нормативы!$H$174,\"II\",IF(H174<=Нормативы!$H$175,\"III\",IF(H174<=Нормативы!$H$176,\"I юн\",IF(H174<=Нормативы!$H$177,\"II юн\",IF(H174<=Нормативы!$H$178,\"III юн\",\"б/р\")))))))))))","v":"II"},null,425,{"$f":"IF(ISBLANK(L174),\" \",IF(ISTEXT(L174),\" \",IF(L174<=Нормативы!$H$170,\"КМС\",IF(L174<=Нормативы!$H$171,\"КМС\",IF(L174<=Нормативы!$L$172,\"КМС\",IF(L174<=Нормативы!$L$173,\"I\",IF(L174<=Нормативы!$L$174,\"II\",IF(L174<=Нормативы!$L$175,\"III\",IF(L174<=Нормативы!$L$176,\"I юн\",IF(L174<=Нормативы!$L$177,\"II юн\",IF(L174<=Нормативы!$L$178,\"III юн\",\"б/р\")))))))))))","v":"II"},{"$f":"IF(ISBLANK(L174),\" \",IF(ISTEXT(L174),\" \",IF(L174<=Нормативы!$H$170,\"КМС\",IF(L174<=Нормативы!$H$171,\"КМС\",IF(L174<=Нормативы!$L$172,\"КМС\",IF(L174<=Нормативы!$L$173,\"I\",IF(L174<=Нормативы!$L$174,\"II\",IF(L174<=Нормативы!$L$175,\"III\",IF(L174<=Нормативы!$L$176,\"I юн\",IF(L174<=Нормативы!$L$177,\"II юн\",IF(L174<=Нормативы!$L$178,\"III юн\",\"б/р\")))))))))))","v":"II"},null,null,{"$f":"IF(ISBLANK(P174),\" \",IF(ISTEXT(P174),\" \",IF(P174<=$H$170,\"МСМК\",IF(P174<=$H$171,\"МС\",IF(P174<=$H$172,\"КМС\",IF(P174<=$H$173,\"I\",IF(P174<=$H$174,\"II\",IF(P174<=$H$175,\"III\",IF(P174<=$H$176,\"I юн\",IF(P174<=$H$177,\"II юн\",IF(P174<=$H$178,\"III юн\",\"б/р\")))))))))))","v":" "}]
[{"$nulls":7},445.2,{"$f":"IF(ISBLANK(H175),\" \",IF(ISTEXT(H175),\" \",IF(H175<=Нормативы!$H$170,\"МСМК\",IF(H175<=Нормативы!$H$171,\"МС\",IF(H175<=Нормативы!$H$172,\"КМС\",IF(H175<=Нормативы!$H$173,\"I\",IF(H175<=Нормативы!$H$174,\"II\",IF(H175<=Нормативы!$H$175,\"III\",IF(H175<=Нормативы!$H$176,\"I юн\",IF(H175<=Нормативы!$H$177,\"II юн\",IF(H175<=Нормативы!$H$178,\"III юн\",\"б/р\")))))))))))","v":"III"},{"$f":"IF(ISBLANK(H175),\" \",IF(ISTEXT(H175),\" \",IF(H175<=Нормативы!$H$170,\"МСМК\",IF(H175<=Нормативы!$H$171,\"МС\",IF(H175<=Нормативы!$H$172,\"КМС\",IF(H175<=Нормативы!$H$173,\"I\",IF(H175<=Нормативы!$H$174,\"II\",IF(H175<=Нормативы!$H$175,\"III\",IF(H175<=Нормативы!$H$176,\"I юн\",IF(H175<=Нормативы!$H$177,\"II юн\",IF(H175<=Нормативы!$H$178,\"III юн\",\"б/р\")))))))))))","v":"III"},null,445,{"$f":"IF(ISBLANK(L175),\" \",IF(ISTEXT(L175),\" \",IF(L175<=Нормативы!$H$170,\"КМС\",IF(L175<=Нормативы!$H$171,\"КМС\",IF(L175<=Нормативы!$L$172,\"КМС\",IF(L175<=Нормативы!$L$173,\"I\",IF(L175<=Нормативы!$L$174,\"II\",IF(L175<=Нормативы!$L$175,\"III\",IF(L175<=Нормативы!$L$176,\"I юн\",IF(L175<=Нормативы!$L$177,\"II юн\",IF(L175<=Нормативы!$L$178,\"III юн\",\"б/р\")))))))))))","v":"III"},{"$f":"IF(ISBLANK(L175),\" \",IF(ISTEXT(L175),\" \",IF(L175<=Нормативы!$H$170,\"КМС\",IF(L175<=Нормативы!$H$171,\"КМС\",IF(L175<=Нормативы!$L$172,\"КМС\",IF(L175<=Нормативы!$L$173,\"I\",IF(L175<=Нормативы!$L$174,\"II\",IF(L175<=Нормативы!$L$175,\"III\",IF(L175<=Нормативы!$L$176,\"I юн\",IF(L175<=Нормативы!$L$177,\"II юн\",IF(L175<=Нормативы!$L$178,\"III юн\",\"б/р\")))))))))))","v":"III"},null,null,{"$f":"IF(ISBLANK(P175),\" \",IF(ISTEXT(P175),\" \",IF(P175<=$H$170,\"МСМК\",IF(P175<=$H$171,\"МС\",IF(P175<=$H$172,\"КМС\",IF(P175<=$H$173,\"I\",IF(P175<=$H$174,\"II\",IF(P175<=$H$175,\"III\",IF(P175<=$H$176,\"I юн\",IF(P175<=$H$177,\"II юн\",IF(P175<=$H$178,\"III юн\",\"б/р\")))))))))))","v":" "}]
[{"$nulls":7},507.7,{"$f":"IF(ISBLANK(H176),\" \",IF(ISTEXT(H176),\" \",IF(H176<=Нормативы!$H$170,\"МСМК\",IF(H176<=Нормативы!$H$171,\"МС\",IF(H176<=Нормативы!$H$172,\"КМС\",IF(H176<=Нормативы!$H$173,\"I\",IF(H176<=Нормативы!$H$174,\"II\",IF(H176<=Нормативы!$H$175,\"III\",IF(H176<=Нормативы!$H$176,\"I юн\",IF(H176<=Нормативы!$H$177,\"II юн\",IF(H176<=Нормативы!$H$178,\"III юн\",\"б/р\")))))))))))","v":"I юн"},{"$f":"IF(ISBLANK(H176),\" \",IF(ISTEXT(H176),\" \",IF(H176<=Нормативы!$H$170,\"МСМК\",IF(H176<=Нормативы!$H$171,\"МС\",IF(H176<=Нормативы!$H$172,\"КМС\",IF(H176<=Нормативы!$H$173,\"I\",IF(H176<=Нормативы!$H$174,\"II\",IF(H176<=Нормативы!$H$175,\"III\",IF(H176<=Нормативы!$H$176,\"I юн\",IF(H176<=Нормативы!$H$177,\"II юн\",IF(H176<=Нормативы!$H$178,\"III юн\",\"б/р\")))))))))))","v":"I юн"},null,507.5,{"$f":"IF(ISBLANK(L176),\" \",IF(ISTEXT(L176),\" \",IF(L176<=Нормативы!$H$170,\"КМС\",IF(L176<=Нормативы!$H$171,\"КМС\",IF(L176<=Нормативы!$L$172,\"КМС\",IF(L176<=Нормативы!$L$173,\"I\",IF(L176<=Нормативы!$L$174,\"II\",IF(L176<=Нормативы!$L$175,\"III\",IF(L176<=Нормативы!$L$176,\"I юн\",IF(L176<=Нормативы!$L$177,\"II юн\",IF(L176<=Нормативы!$L$178,\"III юн\",\"б/р\")))))))))))","v":"I юн"},{"$f":"IF(ISBLANK(L176),\" \",IF(ISTEXT(L176),\" \",IF(L176<=Нормативы!$H$170,\"КМС\",IF(L176<=Нормативы!$H$171,\"КМС\",IF(L176<=Нормативы!$L$172,\"КМС\",IF(L176<=Нормативы!$L$173,\"I\",IF(L176<=Нормативы!$L$174,\"II\",IF(L176<=Нормативы!$L$175,\"III\",IF(L176<=Нормативы!$L$176,\"I юн\",IF(L176<=Нормативы!$L$177,\"II юн\",IF(L176<=Нормативы!$L$178,\"III юн\",\"б/р\")))))))))))","v":"I юн"},null,null,{"$f":"IF(ISBLANK(P176),\" \",IF(ISTEXT(P176),\" \",IF(P176<=$H$170,\"МСМК\",IF(P176<=$H$171,\"МС\",IF(P176<=$H$172,\"КМС\",IF(P176<=$H$173,\"I\",IF(P176<=$H$174,\"II\",IF(P176<=$H$175,\"III\",IF(P176<=$H$176,\"I юн\",IF(P176<=$H$177,\"II юн\",IF(P176<=$H$178,\"III юн\",\"б/р\")))))))))))","v":" "}]
[{"$nulls":7},530.7,{"$f":"IF(ISBLANK(H177),\" \",IF(ISTEXT(H177),\" \",IF(H177<=Нормативы!$H$170,\"МСМК\",IF(H177<=Нормативы!$H$171,\"МС\",IF(H177<=Нормативы!$H$172,\"КМС\",IF(H177<=Нормативы!$H$173,\"I\",IF(H177<=Нормативы!$H$174,\"II\",IF(H177<=Нормативы!$H$175,\"III\",IF(H177<=Нормативы!$H$176,\"I юн\",IF(H177<=Нормативы!$H$177,\"II юн\",IF(H177<=Нормативы!$H$178,\"III юн\",\"б/р\")))))))))))","v":"II юн"},{"$f":"IF(ISBLANK(H177),\" \",IF(ISTEXT(H177),\" \",IF(H177<=Нормативы!$H$170,\"МСМК\",IF(H177<=Нормативы!$H$171,\"МС\",IF(H177<=Нормативы!$H$172,\"КМС\",IF(H177<=Нормативы!$H$173,\"I\",IF(H177<=Нормативы!$H$174,\"II\",IF(H177<=Нормативы!$H$175,\"III\",IF(H177<=Нормативы!$H$176,\"I юн\",IF(H177<=Нормативы!$H$177,\"II юн\",IF(H177<=Нормативы!$H$178,\"III юн\",\"б/р\")))))))))))","v":"II юн"},null,530.5,{"$f":"IF(ISBLANK(L177),\" \",IF(ISTEXT(L177),\" \",IF(L177<=Нормативы!$H$170,\"КМС\",IF(L177<=Нормативы!$H$171,\"КМС\",IF(L177<=Нормативы!$L$172,\"КМС\",IF(L177<=Нормативы!$L$173,\"I\",IF(L177<=Нормативы!$L$174,\"II\",IF(L177<=Нормативы!$L$175,\"III\",IF(L177<=Нормативы!$L$176,\"I юн\",IF(L177<=Нормативы!$L$177,\"II юн\",IF(L177<=Нормативы!$L$178,\"III юн\",\"б/р\")))))))))))","v":"II юн"},{"$f":"IF(ISBLANK(L177),\" \",IF(ISTEXT(L177),\" \",IF(L177<=Нормативы!$H$170,\"КМС\",IF(L177<=Нормативы!$H$171,\"КМС\",IF(L177<=Нормативы!$L$172,\"КМС\",IF(L177<=Нормативы!$L$173,\"I\",IF(L177<=Нормативы!$L$174,\"II\",IF(L177<=Нормативы!$L$175,\"III\",IF(L177<=Нормативы!$L$176,\"I юн\",IF(L177<=Нормативы!$L$177,\"II юн\",IF(L177<=Нормативы!$L$178,\"III юн\",\"б/р\")))))))))))","v":"II юн"},null,null,{"$f":"IF(ISBLANK(P177),\" \",IF(ISTEXT(P177),\" \",IF(P177<=$H$170,\"МСМК\",IF(P177<=$H$171,\"МС\",IF(P177<=$H$172,\"КМС\",IF(P177<=$H$173,\"I\",IF(P177<=$H$174,\"II\",IF(P177<=$H$175,\"III\",IF(P177<=$H$176,\"I юн\",IF(P177<=$H$177,\"II юн\",IF(P177<=$H$178,\"III юн\",\"б/р\")))))))))))","v":" "}]
[{"$nulls":7},558.2,{"$f":"IF(ISBLANK(H178),\" \",IF(ISTEXT(H178),\" \",IF(H178<=Нормативы!$H$170,\"МСМК\",IF(H178<=Нормативы!$H$171,\"МС\",IF(H178<=Нормативы!$H$172,\"КМС\",IF(H178<=Нормативы!$H$173,\"I\",IF(H178<=Нормативы!$H$174,\"II\",IF(H178<=Нормативы!$H$175,\"III\",IF(H178<=Нормативы!$H$176,\"I юн\",IF(H178<=Нормативы!$H$177,\"II юн\",IF(H178<=Нормативы!$H$178,\"III юн\",\"б/р\")))))))))))","v":"III юн"},{"$f":"IF(ISBLANK(H178),\" \",IF(ISTEXT(H178),\" \",IF(H178<=Нормативы!$H$170,\"МСМК\",IF(H178<=Нормативы!$H$171,\"МС\",IF(H178<=Нормативы!$H$172,\"КМС\",IF(H178<=Нормативы!$H$173,\"I\",IF(H178<=Нормативы!$H$174,\"II\",IF(H178<=Нормативы!$H$175,\"III\",IF(H178<=Нормативы!$H$176,\"I юн\",IF(H178<=Нормативы!$H$177,\"II юн\",IF(H178<=Нормативы!$H$178,\"III юн\",\"б/р\")))))))))))","v":"III юн"},null,558,{"$f":"IF(ISBLANK(L178),\" \",IF(ISTEXT(L178),\" \",IF(L178<=Нормативы!$H$170,\"КМС\",IF(L178<=Нормативы!$H$171,\"КМС\",IF(L178<=Нормативы!$L$172,\"КМС\",IF(L178<=Нормативы!$L$173,\"I\",IF(L178<=Нормативы!$L$174,\"II\",IF(L178<=Нормативы!$L$175,\"III\",IF(L178<=Нормативы!$L$176,\"I юн\",IF(L178<=Нормативы!$L$177,\"II юн\",IF(L178<=Нормативы!$L$178,\"III юн\",\"б/р\")))))))))))","v":"III юн"},{"$f":"IF(ISBLANK(L178),\" \",IF(ISTEXT(L178),\" \",IF(L178<=Нормативы!$H$170,\"КМС\",IF(L178<=Нормативы!$H$171,\"КМС\",IF(L178<=Нормативы!$L$172,\"КМС\",IF(L178<=Нормативы!$L$173,\"I\",IF(L178<=Нормативы!$L$174,\"II\",IF(L178<=Нормативы!$L$175,\"III\",IF(L178<=Нормативы!$L$176,\"I юн\",IF(L178<=Нормативы!$L$177,\"II юн\",IF(L178<=Нормативы!$L$178,\"III юн\",\"б/р\")))))))))))","v":"III юн"},null,null,{"$f":"IF(ISBLANK(P178),\" \",IF(ISTEXT(P178),\" \",IF(P178<=$H$170,\"МСМК\",IF(P178<=$H$171,\"МС\",IF(P178<=$H$172,\"КМС\",IF(P178<=$H$173,\"I\",IF(P178<=$H$174,\"II\",IF(P178<=$H$175,\"III\",IF(P178<=$H$176,\"I юн\",IF(P178<=$H$177,\"II юн\",IF(P178<=$H$178,\"III юн\",\"б/р\")))))))))))","v":" "}]
[{"$nulls":8},{"$f":"IF(ISBLANK(H179),\" \",IF(ISTEXT(H179),\" \",IF(H179<=148.2,\"КМС\",IF(H179<=156.1,\"I\",IF(H179<=206,\"II\",IF(H179<=216.8,\"III\",IF(H179<=226.6,\"I юн\",IF(H179<=243.3,\"II юн\",IF(H179<=257,\"III юн\",\"б/р\")))))))))","v":" "},{"$f":"IF(ISBLANK(H179),\" \",IF(ISTEXT(H179),\" \",IF(H179<=148.2,\"КМС\",IF(H179<=156.1,\"I\",IF(H179<=206,\"II\",IF(H179<=216.8,\"III\",IF(H179<=226.6,\"I юн\",IF(H179<=243.3,\"II юн\",IF(H179<=257,\"III юн\",\"б/р\")))))))))","v":" "},null,null,{"$f":"IF(ISBLANK(L179),\" \",IF(ISTEXT(L179),\" \",IF(L179<=148.2,\"КМС\",IF(L179<=156.1,\"I\",IF(L179<=206,\"II\",IF(L179<=216.8,\"III\",IF(L179<=226.6,\"I юн\",IF(L179<=243.3,\"II юн\",IF(L179<=257,\"III юн\",\"б/р\")))))))))","v":" "},{"$f":"IF(ISBLANK(L179),\" \",IF(ISTEXT(L179),\" \",IF(L179<=148.2,\"КМС\",IF(L179<=156.1,\"I\",IF(L179<=206,\"II\",IF(L179<=216.8,\"III\",IF(L179<=226.6,\"I юн\",IF(L179<=243.3,\"II юн\",IF(L179<=257,\"III юн\",\"б/р\")))))))))","v":" "},null,null,{"$f":"IF(ISBLANK(P179),\" \",IF(ISTEXT(P179),\" \",IF(P179<=148.2,\"КМС\",IF(P179<=156.1,\"I\",IF(P179<=206,\"II\",IF(P179<=216.8,\"III\",IF(P179<=226.6,\"I юн\",IF(P179<=243.3,\"II юн\",IF(P179<=257,\"III юн\",\"б/р\")))))))))","v":" "}]
[null,null,"Плавание в ластах - 800 м (1460121811Я),  женщины"]
[{"$nulls":7},703.8,{"$f":"IF(ISBLANK(H181),\" \",IF(ISTEXT(H181),\" \",IF(H181<=Нормативы!$H$181,\"МСМК\",IF(H181<=Нормативы!$H$182,\"МС\",IF(H181<=Нормативы!$H$183,\"КМС\",IF(H181<=Нормативы!$H$184,\"I\",IF(H181<=Нормативы!$H$185,\"II\",IF(H181<=Нормативы!$H$186,\"III\",IF(H181<=Нормативы!$H$187,\"I юн\",IF(H181<=Нормативы!$H$188,\"II юн\",IF(H181<=Нормативы!$H$189,\"III юн\",\"б/р\")))))))))))","v":"МСМК"},{"$f":"IF(ISBLANK(H181),\" \",IF(ISTEXT(H181),\" \",IF(H181<=Нормативы!$H$181,\"МСМК\",IF(H181<=Нормативы!$H$182,\"МС\",IF(H181<=Нормативы!$H$183,\"КМС\",IF(H181<=Нормативы!$H$184,\"I\",IF(H181<=Нормативы!$H$185,\"II\",IF(H181<=Нормативы!$H$186,\"III\",IF(H181<=Нормативы!$H$187,\"I юн\",IF(H181<=Нормативы!$H$188,\"II юн\",IF(H181<=Нормативы!$H$189,\"III юн\",\"б/р\")))))))))))","v":"МСМК"},null,null,{"$f":"IF(ISBLANK(L181),\" \",IF(ISTEXT(L181),\" \",IF(L181<=Нормативы!$H$181,\"КМС\",IF(L181<=Нормативы!$H$182,\"КМС\",IF(L181<=Нормативы!$L$183,\"КМС\",IF(L181<=Нормативы!$L$184,\"I\",IF(L181<=Нормативы!$L$185,\"II\",IF(L181<=Нормативы!$L$186,\"III\",IF(L181<=Нормативы!$L$187,\"I юн\",IF(L181<=Нормативы!$L$188,\"II юн\",IF(L181<=Нормативы!$L$189,\"III юн\",\"б/р\")))))))))))","v":" "},{"$f":"IF(ISBLANK(L181),\" \",IF(ISTEXT(L181),\" \",IF(L181<=705.2,\"МСМК\",IF(L181<=725.7,\"МС\",IF(L181<=748,\"КМС\",IF(L181<=820.5,\"I\",IF(L181<=902.5,\"II\",IF(L181<=944.5,\"III\",IF(L181<=1038.5,\"I юн\",IF(L181<=1142,\"II юн\",IF(L181<=1236.5,\"III юн\",\"б/р\")))))))))))","v":" "},null,null,{"$f":"IF(ISBLANK(P181),\" \",IF(ISTEXT(P181),\" \",IF(P181<=$H$181,\"МСМК\",IF(P181<=$H$182,\"МС\",IF(P181<=$H$183,\"КМС\",IF(P181<=$H$184,\"I\",IF(P181<=$H$185,\"II\",IF(P181<=$H$186,\"III\",IF(P181<=$H$187,\"I юн\",IF(P181<=$H$188,\"II юн\",IF(P181<=$H$189,\"III юн\",\"б/р\")))))))))))","v":" "}]
[{"$nulls":7},720.7,{"$f":"IF(ISBLANK(H182),\" \",IF(ISTEXT(H182),\" \",IF(H182<=Нормативы!$H$181,\"МСМК\",IF(H182<=Нормативы!$H$182,\"МС\",IF(H182<=Нормативы!$H$183,\"КМС\",IF(H182<=Нормативы!$H$184,\"I\",IF(H182<=Нормативы!$H$185,\"II\",IF(H182<=Нормативы!$H$186,\"III\",IF(H182<=Нормативы!$H$187,\"I юн\",IF(H182<=Нормативы!$H$188,\"II юн\",IF(H182<=Нормативы!$H$189,\"III юн\",\"б/р\")))))))))))","v":"МС"},{"$f":"IF(ISBLANK(H182),\" \",IF(ISTEXT(H182),\" \",IF(H182<=Нормативы!$H$181,\"МСМК\",IF(H182<=Нормативы!$H$182,\"МС\",IF(H182<=Нормативы!$H$183,\"КМС\",IF(H182<=Нормативы!$H$184,\"I\",IF(H182<=Нормативы!$H$185,\"II\",IF(H182<=Нормативы!$H$186,\"III\",IF(H182<=Нормативы!$H$187,\"I юн\",IF(H182<=Нормативы!$H$188,\"II юн\",IF(H182<=Нормативы!$H$189,\"III юн\",\"б/р\")))))))))))","v":"МС"},null,null,{"$f":"IF(ISBLANK(L182),\" \",IF(ISTEXT(L182),\" \",IF(L182<=Нормативы!$H$181,\"КМС\",IF(L182<=Нормативы!$H$182,\"КМС\",IF(L182<=Нормативы!$L$183,\"КМС\",IF(L182<=Нормативы!$L$184,\"I\",IF(L182<=Нормативы!$L$185,\"II\",IF(L182<=Нормативы!$L$186,\"III\",IF(L182<=Нормативы!$L$187,\"I юн\",IF(L182<=Нормативы!$L$188,\"II юн\",IF(L182<=Нормативы!$L$189,\"III юн\",\"б/р\")))))))))))","v":" "},{"$f":"IF(ISBLANK(L182),\" \",IF(ISTEXT(L182),\" \",IF(L182<=705.2,\"МСМК\",IF(L182<=725.7,\"МС\",IF(L182<=748,\"КМС\",IF(L182<=820.5,\"I\",IF(L182<=902.5,\"II\",IF(L182<=944.5,\"III\",IF(L182<=1038.5,\"I юн\",IF(L182<=1142,\"II юн\",IF(L182<=1236.5,\"III юн\",\"б/р\")))))))))))","v":" "},null,null,{"$f":"IF(ISBLANK(P182),\" \",IF(ISTEXT(P182),\" \",IF(P182<=$H$181,\"МСМК\",IF(P182<=$H$182,\"МС\",IF(P182<=$H$183,\"КМС\",IF(P182<=$H$184,\"I\",IF(P182<=$H$185,\"II\",IF(P182<=$H$186,\"III\",IF(P182<=$H$187,\"I юн\",IF(P182<=$H$188,\"II юн\",IF(P182<=$H$189,\"III юн\",\"б/р\")))))))))))","v":" "}]
[{"$nulls":7},746.7,{"$f":"IF(ISBLANK(H183),\" \",IF(ISTEXT(H183),\" \",IF(H183<=Нормативы!$H$181,\"МСМК\",IF(H183<=Нормативы!$H$182,\"МС\",IF(H183<=Нормативы!$H$183,\"КМС\",IF(H183<=Нормативы!$H$184,\"I\",IF(H183<=Нормативы!$H$185,\"II\",IF(H183<=Нормативы!$H$186,\"III\",IF(H183<=Нормативы!$H$187,\"I юн\",IF(H183<=Нормативы!$H$188,\"II юн\",IF(H183<=Нормативы!$H$189,\"III юн\",\"б/р\")))))))))))","v":"КМС"},{"$f":"IF(ISBLANK(H183),\" \",IF(ISTEXT(H183),\" \",IF(H183<=Нормативы!$H$181,\"МСМК\",IF(H183<=Нормативы!$H$182,\"МС\",IF(H183<=Нормативы!$H$183,\"КМС\",IF(H183<=Нормативы!$H$184,\"I\",IF(H183<=Нормативы!$H$185,\"II\",IF(H183<=Нормативы!$H$186,\"III\",IF(H183<=Нормативы!$H$187,\"I юн\",IF(H183<=Нормативы!$H$188,\"II юн\",IF(H183<=Нормативы!$H$189,\"III юн\",\"б/р\")))))))))))","v":"КМС"},null,{"$f":"H183-0.2","v":746.5},{"$f":"IF(ISBLANK(L183),\" \",IF(ISTEXT(L183),\" \",IF(L183<=Нормативы!$H$181,\"КМС\",IF(L183<=Нормативы!$H$182,\"КМС\",IF(L183<=Нормативы!$L$183,\"КМС\",IF(L183<=Нормативы!$L$184,\"I\",IF(L183<=Нормативы!$L$185,\"II\",IF(L183<=Нормативы!$L$186,\"III\",IF(L183<=Нормативы!$L$187,\"I юн\",IF(L183<=Нормативы!$L$188,\"II юн\",IF(L183<=Нормативы!$L$189,\"III юн\",\"б/р\")))))))))))","v":"КМС"},{"$f":"IF(ISBLANK(L183),\" \",IF(ISTEXT(L183),\" \",IF(L183<=Нормативы!$H$181,\"КМС\",IF(L183<=Нормативы!$H$182,\"КМС\",IF(L183<=Нормативы!$L$183,\"КМС\",IF(L183<=Нормативы!$L$184,\"I\",IF(L183<=Нормативы!$L$185,\"II\",IF(L183<=Нормативы!$L$186,\"III\",IF(L183<=Нормативы!$L$187,\"I юн\",IF(L183<=Нормативы!$L$188,\"II юн\",IF(L183<=Нормативы!$L$189,\"III юн\",\"б/р\")))))))))))","v":"КМС"},null,null,{"$f":"IF(ISBLANK(P183),\" \",IF(ISTEXT(P183),\" \",IF(P183<=$H$181,\"МСМК\",IF(P183<=$H$182,\"МС\",IF(P183<=$H$183,\"КМС\",IF(P183<=$H$184,\"I\",IF(P183<=$H$185,\"II\",IF(P183<=$H$186,\"III\",IF(P183<=$H$187,\"I юн\",IF(P183<=$H$188,\"II юн\",IF(P183<=$H$189,\"III юн\",\"б/р\")))))))))))","v":" "}]
[{"$nulls":7},818.5,{"$f":"IF(ISBLANK(H184),\" \",IF(ISTEXT(H184),\" \",IF(H184<=Нормативы!$H$181,\"МСМК\",IF(H184<=Нормативы!$H$182,\"МС\",IF(H184<=Нормативы!$H$183,\"КМС\",IF(H184<=Нормативы!$H$184,\"I\",IF(H184<=Нормативы!$H$185,\"II\",IF(H184<=Нормативы!$H$186,\"III\",IF(H184<=Нормативы!$H$187,\"I юн\",IF(H184<=Нормативы!$H$188,\"II юн\",IF(H184<=Нормативы!$H$189,\"III юн\",\"б/р\")))))))))))","v":"I"},{"$f":"IF(ISBLANK(H184),\" \",IF(ISTEXT(H184),\" \",IF(H184<=Нормативы!$H$181,\"МСМК\",IF(H184<=Нормативы!$H$182,\"МС\",IF(H184<=Нормативы!$H$183,\"КМС\",IF(H184<=Нормативы!$H$184,\"I\",IF(H184<=Нормативы!$H$185,\"II\",IF(H184<=Нормативы!$H$186,\"III\",IF(H184<=Нормативы!$H$187,\"I юн\",IF(H184<=Нормативы!$H$188,\"II юн\",IF(H184<=Нормативы!$H$189,\"III юн\",\"б/р\")))))))))))","v":"I"},null,818.3,{"$f":"IF(ISBLANK(L184),\" \",IF(ISTEXT(L184),\" \",IF(L184<=Нормативы!$H$181,\"КМС\",IF(L184<=Нормативы!$H$182,\"КМС\",IF(L184<=Нормативы!$L$183,\"КМС\",IF(L184<=Нормативы!$L$184,\"I\",IF(L184<=Нормативы!$L$185,\"II\",IF(L184<=Нормативы!$L$186,\"III\",IF(L184<=Нормативы!$L$187,\"I юн\",IF(L184<=Нормативы!$L$188,\"II юн\",IF(L184<=Нормативы!$L$189,\"III юн\",\"б/р\")))))))))))","v":"I"},{"$f":"IF(ISBLANK(L184),\" \",IF(ISTEXT(L184),\" \",IF(L184<=Нормативы!$H$181,\"КМС\",IF(L184<=Нормативы!$H$182,\"КМС\",IF(L184<=Нормативы!$L$183,\"КМС\",IF(L184<=Нормативы!$L$184,\"I\",IF(L184<=Нормативы!$L$185,\"II\",IF(L184<=Нормативы!$L$186,\"III\",IF(L184<=Нормативы!$L$187,\"I юн\",IF(L184<=Нормативы!$L$188,\"II юн\",IF(L184<=Нормативы!$L$189,\"III юн\",\"б/р\")))))))))))","v":"I"},null,null,{"$f":"IF(ISBLANK(P184),\" \",IF(ISTEXT(P184),\" \",IF(P184<=$H$181,\"МСМК\",IF(P184<=$H$182,\"МС\",IF(P184<=$H$183,\"КМС\",IF(P184<=$H$184,\"I\",IF(P184<=$H$185,\"II\",IF(P184<=$H$186,\"III\",IF(P184<=$H$187,\"I юн\",IF(P184<=$H$188,\"II юн\",IF(P184<=$H$189,\"III юн\",\"б/р\")))))))))))","v":" "}]
[{"$nulls":7},860,{"$f":"IF(ISBLANK(H185),\" \",IF(ISTEXT(H185),\" \",IF(H185<=Нормативы!$H$181,\"МСМК\",IF(H185<=Нормативы!$H$182,\"МС\",IF(H185<=Нормативы!$H$183,\"КМС\",IF(H185<=Нормативы!$H$184,\"I\",IF(H185<=Нормативы!$H$185,\"II\",IF(H185<=Нормативы!$H$186,\"III\",IF(H185<=Нормативы!$H$187,\"I юн\",IF(H185<=Нормативы!$H$188,\"II юн\",IF(H185<=Нормативы!$H$189,\"III юн\",\"б/р\")))))))))))","v":"II"},{"$f":"IF(ISBLANK(H185),\" \",IF(ISTEXT(H185),\" \",IF(H185<=Нормативы!$H$181,\"МСМК\",IF(H185<=Нормативы!$H$182,\"МС\",IF(H185<=Нормативы!$H$183,\"КМС\",IF(H185<=Нормативы!$H$184,\"I\",IF(H185<=Нормативы!$H$185,\"II\",IF(H185<=Нормативы!$H$186,\"III\",IF(H185<=Нормативы!$H$187,\"I юн\",IF(H185<=Нормативы!$H$188,\"II юн\",IF(H185<=Нормативы!$H$189,\"III юн\",\"б/р\")))))))))))","v":"II"},null,859.8,{"$f":"IF(ISBLANK(L185),\" \",IF(ISTEXT(L185),\" \",IF(L185<=Нормативы!$H$181,\"КМС\",IF(L185<=Нормативы!$H$182,\"КМС\",IF(L185<=Нормативы!$L$183,\"КМС\",IF(L185<=Нормативы!$L$184,\"I\",IF(L185<=Нормативы!$L$185,\"II\",IF(L185<=Нормативы!$L$186,\"III\",IF(L185<=Нормативы!$L$187,\"I юн\",IF(L185<=Нормативы!$L$188,\"II юн\",IF(L185<=Нормативы!$L$189,\"III юн\",\"б/р\")))))))))))","v":"II"},{"$f":"IF(ISBLANK(L185),\" \",IF(ISTEXT(L185),\" \",IF(L185<=Нормативы!$H$181,\"КМС\",IF(L185<=Нормативы!$H$182,\"КМС\",IF(L185<=Нормативы!$L$183,\"КМС\",IF(L185<=Нормативы!$L$184,\"I\",IF(L185<=Нормативы!$L$185,\"II\",IF(L185<=Нормативы!$L$186,\"III\",IF(L185<=Нормативы!$L$187,\"I юн\",IF(L185<=Нормативы!$L$188,\"II юн\",IF(L185<=Нормативы!$L$189,\"III юн\",\"б/р\")))))))))))","v":"II"},null,null,{"$f":"IF(ISBLANK(P185),\" \",IF(ISTEXT(P185),\" \",IF(P185<=$H$181,\"МСМК\",IF(P185<=$H$182,\"МС\",IF(P185<=$H$183,\"КМС\",IF(P185<=$H$184,\"I\",IF(P185<=$H$185,\"II\",IF(P185<=$H$186,\"III\",IF(P185<=$H$187,\"I юн\",IF(P185<=$H$188,\"II юн\",IF(P185<=$H$189,\"III юн\",\"б/р\")))))))))))","v":" "}]
[{"$nulls":7},940.7,{"$f":"IF(ISBLANK(H186),\" \",IF(ISTEXT(H186),\" \",IF(H186<=Нормативы!$H$181,\"МСМК\",IF(H186<=Нормативы!$H$182,\"МС\",IF(H186<=Нормативы!$H$183,\"КМС\",IF(H186<=Нормативы!$H$184,\"I\",IF(H186<=Нормативы!$H$185,\"II\",IF(H186<=Нормативы!$H$186,\"III\",IF(H186<=Нормативы!$H$187,\"I юн\",IF(H186<=Нормативы!$H$188,\"II юн\",IF(H186<=Нормативы!$H$189,\"III юн\",\"б/р\")))))))))))","v":"III"},{"$f":"IF(ISBLANK(H186),\" \",IF(ISTEXT(H186),\" \",IF(H186<=Нормативы!$H$181,\"МСМК\",IF(H186<=Нормативы!$H$182,\"МС\",IF(H186<=Нормативы!$H$183,\"КМС\",IF(H186<=Нормативы!$H$184,\"I\",IF(H186<=Нормативы!$H$185,\"II\",IF(H186<=Нормативы!$H$186,\"III\",IF(H186<=Нормативы!$H$187,\"I юн\",IF(H186<=Нормативы!$H$188,\"II юн\",IF(H186<=Нормативы!$H$189,\"III юн\",\"б/р\")))))))))))","v":"III"},null,940.5,{"$f":"IF(ISBLANK(L186),\" \",IF(ISTEXT(L186),\" \",IF(L186<=Нормативы!$H$181,\"КМС\",IF(L186<=Нормативы!$H$182,\"КМС\",IF(L186<=Нормативы!$L$183,\"КМС\",IF(L186<=Нормативы!$L$184,\"I\",IF(L186<=Нормативы!$L$185,\"II\",IF(L186<=Нормативы!$L$186,\"III\",IF(L186<=Нормативы!$L$187,\"I юн\",IF(L186<=Нормативы!$L$188,\"II юн\",IF(L186<=Нормативы!$L$189,\"III юн\",\"б/р\")))))))))))","v":"III"},{"$f":"IF(ISBLANK(L186),\" \",IF(ISTEXT(L186),\" \",IF(L186<=Нормативы!$H$181,\"КМС\",IF(L186<=Нормативы!$H$182,\"КМС\",IF(L186<=Нормативы!$L$183,\"КМС\",IF(L186<=Нормативы!$L$184,\"I\",IF(L186<=Нормативы!$L$185,\"II\",IF(L186<=Нормативы!$L$186,\"III\",IF(L186<=Нормативы!$L$187,\"I юн\",IF(L186<=Нормативы!$L$188,\"II юн\",IF(L186<=Нормативы!$L$189,\"III юн\",\"б/р\")))))))))))","v":"III"},null,null,{"$f":"IF(ISBLANK(P186),\" \",IF(ISTEXT(P186),\" \",IF(P186<=$H$181,\"МСМК\",IF(P186<=$H$182,\"МС\",IF(P186<=$H$183,\"КМС\",IF(P186<=$H$184,\"I\",IF(P186<=$H$185,\"II\",IF(P186<=$H$186,\"III\",IF(P186<=$H$187,\"I юн\",IF(P186<=$H$188,\"II юн\",IF(P186<=$H$189,\"III юн\",\"б/р\")))))))))))","v":" "}]
[{"$nulls":7},1030.7,{"$f":"IF(ISBLANK(H187),\" \",IF(ISTEXT(H187),\" \",IF(H187<=Нормативы!$H$181,\"МСМК\",IF(H187<=Нормативы!$H$182,\"МС\",IF(H187<=Нормативы!$H$183,\"КМС\",IF(H187<=Нормативы!$H$184,\"I\",IF(H187<=Нормативы!$H$185,\"II\",IF(H187<=Нормативы!$H$186,\"III\",IF(H187<=Нормативы!$H$187,\"I юн\",IF(H187<=Нормативы!$H$188,\"II юн\",IF(H187<=Нормативы!$H$189,\"III юн\",\"б/р\")))))))))))","v":"I юн"},{"$f":"IF(ISBLANK(H187),\" \",IF(ISTEXT(H187),\" \",IF(H187<=Нормативы!$H$181,\"МСМК\",IF(H187<=Нормативы!$H$182,\"МС\",IF(H187<=Нормативы!$H$183,\"КМС\",IF(H187<=Нормативы!$H$184,\"I\",IF(H187<=Нормативы!$H$185,\"II\",IF(H187<=Нормативы!$H$186,\"III\",IF(H187<=Нормативы!$H$187,\"I юн\",IF(H187<=Нормативы!$H$188,\"II юн\",IF(H187<=Нормативы!$H$189,\"III юн\",\"б/р\")))))))))))","v":"I юн"},null,1030.5,{"$f":"IF(ISBLANK(L187),\" \",IF(ISTEXT(L187),\" \",IF(L187<=Нормативы!$H$181,\"КМС\",IF(L187<=Нормативы!$H$182,\"КМС\",IF(L187<=Нормативы!$L$183,\"КМС\",IF(L187<=Нормативы!$L$184,\"I\",IF(L187<=Нормативы!$L$185,\"II\",IF(L187<=Нормативы!$L$186,\"III\",IF(L187<=Нормативы!$L$187,\"I юн\",IF(L187<=Нормативы!$L$188,\"II юн\",IF(L187<=Нормативы!$L$189,\"III юн\",\"б/р\")))))))))))","v":"I юн"},{"$f":"IF(ISBLANK(L187),\" \",IF(ISTEXT(L187),\" \",IF(L187<=Нормативы!$H$181,\"КМС\",IF(L187<=Нормативы!$H$182,\"КМС\",IF(L187<=Нормативы!$L$183,\"КМС\",IF(L187<=Нормативы!$L$184,\"I\",IF(L187<=Нормативы!$L$185,\"II\",IF(L187<=Нормативы!$L$186,\"III\",IF(L187<=Нормативы!$L$187,\"I юн\",IF(L187<=Нормативы!$L$188,\"II юн\",IF(L187<=Нормативы!$L$189,\"III юн\",\"б/р\")))))))))))","v":"I юн"},null,null,{"$f":"IF(ISBLANK(P187),\" \",IF(ISTEXT(P187),\" \",IF(P187<=$H$181,\"МСМК\",IF(P187<=$H$182,\"МС\",IF(P187<=$H$183,\"КМС\",IF(P187<=$H$184,\"I\",IF(P187<=$H$185,\"II\",IF(P187<=$H$186,\"III\",IF(P187<=$H$187,\"I юн\",IF(P187<=$H$188,\"II юн\",IF(P187<=$H$189,\"III юн\",\"б/р\")))))))))))","v":" "}]
[{"$nulls":7},1137.2,{"$f":"IF(ISBLANK(H188),\" \",IF(ISTEXT(H188),\" \",IF(H188<=Нормативы!$H$181,\"МСМК\",IF(H188<=Нормативы!$H$182,\"МС\",IF(H188<=Нормативы!$H$183,\"КМС\",IF(H188<=Нормативы!$H$184,\"I\",IF(H188<=Нормативы!$H$185,\"II\",IF(H188<=Нормативы!$H$186,\"III\",IF(H188<=Нормативы!$H$187,\"I юн\",IF(H188<=Нормативы!$H$188,\"II юн\",IF(H188<=Нормативы!$H$189,\"III юн\",\"б/р\")))))))))))","v":"II юн"},{"$f":"IF(ISBLANK(H188),\" \",IF(ISTEXT(H188),\" \",IF(H188<=Нормативы!$H$181,\"МСМК\",IF(H188<=Нормативы!$H$182,\"МС\",IF(H188<=Нормативы!$H$183,\"КМС\",IF(H188<=Нормативы!$H$184,\"I\",IF(H188<=Нормативы!$H$185,\"II\",IF(H188<=Нормативы!$H$186,\"III\",IF(H188<=Нормативы!$H$187,\"I юн\",IF(H188<=Нормативы!$H$188,\"II юн\",IF(H188<=Нормативы!$H$189,\"III юн\",\"б/р\")))))))))))","v":"II юн"},null,1137,{"$f":"IF(ISBLANK(L188),\" \",IF(ISTEXT(L188),\" \",IF(L188<=Нормативы!$H$181,\"КМС\",IF(L188<=Нормативы!$H$182,\"КМС\",IF(L188<=Нормативы!$L$183,\"КМС\",IF(L188<=Нормативы!$L$184,\"I\",IF(L188<=Нормативы!$L$185,\"II\",IF(L188<=Нормативы!$L$186,\"III\",IF(L188<=Нормативы!$L$187,\"I юн\",IF(L188<=Нормативы!$L$188,\"II юн\",IF(L188<=Нормативы!$L$189,\"III юн\",\"б/р\")))))))))))","v":"II юн"},{"$f":"IF(ISBLANK(L188),\" \",IF(ISTEXT(L188),\" \",IF(L188<=Нормативы!$H$181,\"КМС\",IF(L188<=Нормативы!$H$182,\"КМС\",IF(L188<=Нормативы!$L$183,\"КМС\",IF(L188<=Нормативы!$L$184,\"I\",IF(L188<=Нормативы!$L$185,\"II\",IF(L188<=Нормативы!$L$186,\"III\",IF(L188<=Нормативы!$L$187,\"I юн\",IF(L188<=Нормативы!$L$188,\"II юн\",IF(L188<=Нормативы!$L$189,\"III юн\",\"б/р\")))))))))))","v":"II юн"},null,null,{"$f":"IF(ISBLANK(P188),\" \",IF(ISTEXT(P188),\" \",IF(P188<=$H$181,\"МСМК\",IF(P188<=$H$182,\"МС\",IF(P188<=$H$183,\"КМС\",IF(P188<=$H$184,\"I\",IF(P188<=$H$185,\"II\",IF(P188<=$H$186,\"III\",IF(P188<=$H$187,\"I юн\",IF(P188<=$H$188,\"II юн\",IF(P188<=$H$189,\"III юн\",\"б/р\")))))))))))","v":" "}]
[{"$nulls":7},1230,{"$f":"IF(ISBLANK(H189),\" \",IF(ISTEXT(H189),\" \",IF(H189<=Нормативы!$H$181,\"МСМК\",IF(H189<=Нормативы!$H$182,\"МС\",IF(H189<=Нормативы!$H$183,\"КМС\",IF(H189<=Нормативы!$H$184,\"I\",IF(H189<=Нормативы!$H$185,\"II\",IF(H189<=Нормативы!$H$186,\"III\",IF(H189<=Нормативы!$H$187,\"I юн\",IF(H189<=Нормативы!$H$188,\"II юн\",IF(H189<=Нормативы!$H$189,\"III юн\",\"б/р\")))))))))))","v":"III юн"},{"$f":"IF(ISBLANK(H189),\" \",IF(ISTEXT(H189),\" \",IF(H189<=Нормативы!$H$181,\"МСМК\",IF(H189<=Нормативы!$H$182,\"МС\",IF(H189<=Нормативы!$H$183,\"КМС\",IF(H189<=Нормативы!$H$184,\"I\",IF(H189<=Нормативы!$H$185,\"II\",IF(H189<=Нормативы!$H$186,\"III\",IF(H189<=Нормативы!$H$187,\"I юн\",IF(H189<=Нормативы!$H$188,\"II юн\",IF(H189<=Нормативы!$H$189,\"III юн\",\"б/р\")))))))))))","v":"III юн"},null,1229.8,{"$f":"IF(ISBLANK(L189),\" \",IF(ISTEXT(L189),\" \",IF(L189<=Нормативы!$H$181,\"КМС\",IF(L189<=Нормативы!$H$182,\"КМС\",IF(L189<=Нормативы!$L$183,\"КМС\",IF(L189<=Нормативы!$L$184,\"I\",IF(L189<=Нормативы!$L$185,\"II\",IF(L189<=Нормативы!$L$186,\"III\",IF(L189<=Нормативы!$L$187,\"I юн\",IF(L189<=Нормативы!$L$188,\"II юн\",IF(L189<=Нормативы!$L$189,\"III юн\",\"б/р\")))))))))))","v":"III юн"},{"$f":"IF(ISBLANK(L189),\" \",IF(ISTEXT(L189),\" \",IF(L189<=Нормативы!$H$181,\"КМС\",IF(L189<=Нормативы!$H$182,\"КМС\",IF(L189<=Нормативы!$L$183,\"КМС\",IF(L189<=Нормативы!$L$184,\"I\",IF(L189<=Нормативы!$L$185,\"II\",IF(L189<=Нормативы!$L$186,\"III\",IF(L189<=Нормативы!$L$187,\"I юн\",IF(L189<=Нормативы!$L$188,\"II юн\",IF(L189<=Нормативы!$L$189,\"III юн\",\"б/р\")))))))))))","v":"III юн"},null,null,{"$f":"IF(ISBLANK(P189),\" \",IF(ISTEXT(P189),\" \",IF(P189<=$H$181,\"МСМК\",IF(P189<=$H$182,\"МС\",IF(P189<=$H$183,\"КМС\",IF(P189<=$H$184,\"I\",IF(P189<=$H$185,\"II\",IF(P189<=$H$186,\"III\",IF(P189<=$H$187,\"I юн\",IF(P189<=$H$188,\"II юн\",IF(P189<=$H$189,\"III юн\",\"б/р\")))))))))))","v":" "}]
[]
[null,null,"Плавание в ластах - 800 м (1460121811Я),  мужчины"]
[{"$nulls":7},633,{"$f":"IF(ISBLANK(H192),\" \",IF(ISTEXT(H192),\" \",IF(H192<=Нормативы!$H$192,\"МСМК\",IF(H192<=Нормативы!$H$193,\"МС\",IF(H192<=Нормативы!$H$194,\"КМС\",IF(H192<=Нормативы!$H$195,\"I\",IF(H192<=Нормативы!$H$196,\"II\",IF(H192<=Нормативы!$H$197,\"III\",IF(H192<=Нормативы!$H$198,\"I юн\",IF(H192<=Нормативы!$H$199,\"II юн\",IF(H192<=Нормативы!$H$200,\"III юн\",\"б/р\")))))))))))","v":"МСМК"},{"$f":"IF(ISBLANK(H192),\" \",IF(ISTEXT(H192),\" \",IF(H192<=Нормативы!$H$192,\"МСМК\",IF(H192<=Нормативы!$H$193,\"МС\",IF(H192<=Нормативы!$H$194,\"КМС\",IF(H192<=Нормативы!$H$195,\"I\",IF(H192<=Нормативы!$H$196,\"II\",IF(H192<=Нормативы!$H$197,\"III\",IF(H192<=Нормативы!$H$198,\"I юн\",IF(H192<=Нормативы!$H$199,\"II юн\",IF(H192<=Нормативы!$H$200,\"III юн\",\"б/р\")))))))))))","v":"МСМК"},null,null,{"$f":"IF(ISBLANK(L192),\" \",IF(ISTEXT(L192),\" \",IF(L192<=Нормативы!$H$192,\"КМС\",IF(L192<=Нормативы!$H$193,\"КМС\",IF(L192<=Нормативы!$L$194,\"КМС\",IF(L192<=Нормативы!$L$195,\"I\",IF(L192<=Нормативы!$L$196,\"II\",IF(L192<=Нормативы!$L$197,\"III\",IF(L192<=Нормативы!$L$198,\"I юн\",IF(L192<=Нормативы!$L$199,\"II юн\",IF(L192<=Нормативы!$L$200,\"III юн\",\"б/р\")))))))))))","v":" "},{"$f":"IF(ISBLANK(L192),\" \",IF(ISTEXT(L192),\" \",IF(L192<=634.7,\"МСМК\",IF(L192<=652.2,\"МС\",IF(L192<=714.5,\"КМС\",IF(L192<=736,\"I\",IF(L192<=825,\"II\",IF(L192<=905.2,\"III\",IF(L192<=955,\"I юн\",IF(L192<=1054,\"II юн\",IF(L192<=1150.5,\"III юн\",\"б/р\")))))))))))","v":" "},null,null,{"$f":"IF(ISBLANK(P192),\" \",IF(ISTEXT(P192),\" \",IF(P192<=$H$192,\"МСМК\",IF(P192<=$H$193,\"МС\",IF(P192<=$H$194,\"КМС\",IF(P192<=$H$195,\"I\",IF(P192<=$H$196,\"II\",IF(P192<=$H$197,\"III\",IF(P192<=$H$198,\"I юн\",IF(P192<=$H$199,\"II юн\",IF(P192<=$H$200,\"III юн\",\"б/р\")))))))))))","v":" "}]
[{"$nulls":7},650,{"$f":"IF(ISBLANK(H193),\" \",IF(ISTEXT(H193),\" \",IF(H193<=Нормативы!$H$192,\"МСМК\",IF(H193<=Нормативы!$H$193,\"МС\",IF(H193<=Нормативы!$H$194,\"КМС\",IF(H193<=Нормативы!$H$195,\"I\",IF(H193<=Нормативы!$H$196,\"II\",IF(H193<=Нормативы!$H$197,\"III\",IF(H193<=Нормативы!$H$198,\"I юн\",IF(H193<=Нормативы!$H$199,\"II юн\",IF(H193<=Нормативы!$H$200,\"III юн\",\"б/р\")))))))))))","v":"МС"},{"$f":"IF(ISBLANK(H193),\" \",IF(ISTEXT(H193),\" \",IF(H193<=Нормативы!$H$192,\"МСМК\",IF(H193<=Нормативы!$H$193,\"МС\",IF(H193<=Нормативы!$H$194,\"КМС\",IF(H193<=Нормативы!$H$195,\"I\",IF(H193<=Нормативы!$H$196,\"II\",IF(H193<=Нормативы!$H$197,\"III\",IF(H193<=Нормативы!$H$198,\"I юн\",IF(H193<=Нормативы!$H$199,\"II юн\",IF(H193<=Нормативы!$H$200,\"III юн\",\"б/р\")))))))))))","v":"МС"},null,null,{"$f":"IF(ISBLANK(L193),\" \",IF(ISTEXT(L193),\" \",IF(L193<=Нормативы!$H$192,\"КМС\",IF(L193<=Нормативы!$H$193,\"КМС\",IF(L193<=Нормативы!$L$194,\"КМС\",IF(L193<=Нормативы!$L$195,\"I\",IF(L193<=Нормативы!$L$196,\"II\",IF(L193<=Нормативы!$L$197,\"III\",IF(L193<=Нормативы!$L$198,\"I юн\",IF(L193<=Нормативы!$L$199,\"II юн\",IF(L193<=Нормативы!$L$200,\"III юн\",\"б/р\")))))))))))","v":" "},{"$f":"IF(ISBLANK(L193),\" \",IF(ISTEXT(L193),\" \",IF(L193<=634.7,\"МСМК\",IF(L193<=652.2,\"МС\",IF(L193<=714.5,\"КМС\",IF(L193<=736,\"I\",IF(L193<=825,\"II\",IF(L193<=905.2,\"III\",IF(L193<=955,\"I юн\",IF(L193<=1054,\"II юн\",IF(L193<=1150.5,\"III юн\",\"б/р\")))))))))))","v":" "},null,null,{"$f":"IF(ISBLANK(P193),\" \",IF(ISTEXT(P193),\" \",IF(P193<=$H$192,\"МСМК\",IF(P193<=$H$193,\"МС\",IF(P193<=$H$194,\"КМС\",IF(P193<=$H$195,\"I\",IF(P193<=$H$196,\"II\",IF(P193<=$H$197,\"III\",IF(P193<=$H$198,\"I юн\",IF(P193<=$H$199,\"II юн\",IF(P193<=$H$200,\"III юн\",\"б/р\")))))))))))","v":" "}]
[{"$nulls":7},713.7,{"$f":"IF(ISBLANK(H194),\" \",IF(ISTEXT(H194),\" \",IF(H194<=Нормативы!$H$192,\"МСМК\",IF(H194<=Нормативы!$H$193,\"МС\",IF(H194<=Нормативы!$H$194,\"КМС\",IF(H194<=Нормативы!$H$195,\"I\",IF(H194<=Нормативы!$H$196,\"II\",IF(H194<=Нормативы!$H$197,\"III\",IF(H194<=Нормативы!$H$198,\"I юн\",IF(H194<=Нормативы!$H$199,\"II юн\",IF(H194<=Нормативы!$H$200,\"III юн\",\"б/р\")))))))))))","v":"КМС"},{"$f":"IF(ISBLANK(H194),\" \",IF(ISTEXT(H194),\" \",IF(H194<=Нормативы!$H$192,\"МСМК\",IF(H194<=Нормативы!$H$193,\"МС\",IF(H194<=Нормативы!$H$194,\"КМС\",IF(H194<=Нормативы!$H$195,\"I\",IF(H194<=Нормативы!$H$196,\"II\",IF(H194<=Нормативы!$H$197,\"III\",IF(H194<=Нормативы!$H$198,\"I юн\",IF(H194<=Нормативы!$H$199,\"II юн\",IF(H194<=Нормативы!$H$200,\"III юн\",\"б/р\")))))))))))","v":"КМС"},null,{"$f":"H194-0.2","v":713.5},{"$f":"IF(ISBLANK(L194),\" \",IF(ISTEXT(L194),\" \",IF(L194<=Нормативы!$H$192,\"КМС\",IF(L194<=Нормативы!$H$193,\"КМС\",IF(L194<=Нормативы!$L$194,\"КМС\",IF(L194<=Нормативы!$L$195,\"I\",IF(L194<=Нормативы!$L$196,\"II\",IF(L194<=Нормативы!$L$197,\"III\",IF(L194<=Нормативы!$L$198,\"I юн\",IF(L194<=Нормативы!$L$199,\"II юн\",IF(L194<=Нормативы!$L$200,\"III юн\",\"б/р\")))))))))))","v":"КМС"},{"$f":"IF(ISBLANK(L194),\" \",IF(ISTEXT(L194),\" \",IF(L194<=Нормативы!$H$192,\"КМС\",IF(L194<=Нормативы!$H$193,\"КМС\",IF(L194<=Нормативы!$L$194,\"КМС\",IF(L194<=Нормативы!$L$195,\"I\",IF(L194<=Нормативы!$L$196,\"II\",IF(L194<=Нормативы!$L$197,\"III\",IF(L194<=Нормативы!$L$198,\"I юн\",IF(L194<=Нормативы!$L$199,\"II юн\",IF(L194<=Нормативы!$L$200,\"III юн\",\"б/р\")))))))))))","v":"КМС"},null,null,{"$f":"IF(ISBLANK(P194),\" \",IF(ISTEXT(P194),\" \",IF(P194<=$H$192,\"МСМК\",IF(P194<=$H$193,\"МС\",IF(P194<=$H$194,\"КМС\",IF(P194<=$H$195,\"I\",IF(P194<=$H$196,\"II\",IF(P194<=$H$197,\"III\",IF(P194<=$H$198,\"I юн\",IF(P194<=$H$199,\"II юн\",IF(P194<=$H$200,\"III юн\",\"б/р\")))))))))))","v":" "}]
[{"$nulls":7},734.7,{"$f":"IF(ISBLANK(H195),\" \",IF(ISTEXT(H195),\" \",IF(H195<=Нормативы!$H$192,\"МСМК\",IF(H195<=Нормативы!$H$193,\"МС\",IF(H195<=Нормативы!$H$194,\"КМС\",IF(H195<=Нормативы!$H$195,\"I\",IF(H195<=Нормативы!$H$196,\"II\",IF(H195<=Нормативы!$H$197,\"III\",IF(H195<=Нормативы!$H$198,\"I юн\",IF(H195<=Нормативы!$H$199,\"II юн\",IF(H195<=Нормативы!$H$200,\"III юн\",\"б/р\")))))))))))","v":"I"},{"$f":"IF(ISBLANK(H195),\" \",IF(ISTEXT(H195),\" \",IF(H195<=Нормативы!$H$192,\"МСМК\",IF(H195<=Нормативы!$H$193,\"МС\",IF(H195<=Нормативы!$H$194,\"КМС\",IF(H195<=Нормативы!$H$195,\"I\",IF(H195<=Нормативы!$H$196,\"II\",IF(H195<=Нормативы!$H$197,\"III\",IF(H195<=Нормативы!$H$198,\"I юн\",IF(H195<=Нормативы!$H$199,\"II юн\",IF(H195<=Нормативы!$H$200,\"III юн\",\"б/р\")))))))))))","v":"I"},null,734.5,{"$f":"IF(ISBLANK(L195),\" \",IF(ISTEXT(L195),\" \",IF(L195<=Нормативы!$H$192,\"КМС\",IF(L195<=Нормативы!$H$193,\"КМС\",IF(L195<=Нормативы!$L$194,\"КМС\",IF(L195<=Нормативы!$L$195,\"I\",IF(L195<=Нормативы!$L$196,\"II\",IF(L195<=Нормативы!$L$197,\"III\",IF(L195<=Нормативы!$L$198,\"I юн\",IF(L195<=Нормативы!$L$199,\"II юн\",IF(L195<=Нормативы!$L$200,\"III юн\",\"б/р\")))))))))))","v":"I"},{"$f":"IF(ISBLANK(L195),\" \",IF(ISTEXT(L195),\" \",IF(L195<=Нормативы!$H$192,\"КМС\",IF(L195<=Нормативы!$H$193,\"КМС\",IF(L195<=Нормативы!$L$194,\"КМС\",IF(L195<=Нормативы!$L$195,\"I\",IF(L195<=Нормативы!$L$196,\"II\",IF(L195<=Нормативы!$L$197,\"III\",IF(L195<=Нормативы!$L$198,\"I юн\",IF(L195<=Нормативы!$L$199,\"II юн\",IF(L195<=Нормативы!$L$200,\"III юн\",\"б/р\")))))))))))","v":"I"},null,null,{"$f":"IF(ISBLANK(P195),\" \",IF(ISTEXT(P195),\" \",IF(P195<=$H$192,\"МСМК\",IF(P195<=$H$193,\"МС\",IF(P195<=$H$194,\"КМС\",IF(P195<=$H$195,\"I\",IF(P195<=$H$196,\"II\",IF(P195<=$H$197,\"III\",IF(P195<=$H$198,\"I юн\",IF(P195<=$H$199,\"II юн\",IF(P195<=$H$200,\"III юн\",\"б/р\")))))))))))","v":" "}]
[{"$nulls":7},823.2,{"$f":"IF(ISBLANK(H196),\" \",IF(ISTEXT(H196),\" \",IF(H196<=Нормативы!$H$192,\"МСМК\",IF(H196<=Нормативы!$H$193,\"МС\",IF(H196<=Нормативы!$H$194,\"КМС\",IF(H196<=Нормативы!$H$195,\"I\",IF(H196<=Нормативы!$H$196,\"II\",IF(H196<=Нормативы!$H$197,\"III\",IF(H196<=Нормативы!$H$198,\"I юн\",IF(H196<=Нормативы!$H$199,\"II юн\",IF(H196<=Нормативы!$H$200,\"III юн\",\"б/р\")))))))))))","v":"II"},{"$f":"IF(ISBLANK(H196),\" \",IF(ISTEXT(H196),\" \",IF(H196<=Нормативы!$H$192,\"МСМК\",IF(H196<=Нормативы!$H$193,\"МС\",IF(H196<=Нормативы!$H$194,\"КМС\",IF(H196<=Нормативы!$H$195,\"I\",IF(H196<=Нормативы!$H$196,\"II\",IF(H196<=Нормативы!$H$197,\"III\",IF(H196<=Нормативы!$H$198,\"I юн\",IF(H196<=Нормативы!$H$199,\"II юн\",IF(H196<=Нормативы!$H$200,\"III юн\",\"б/р\")))))))))))","v":"II"},null,823,{"$f":"IF(ISBLANK(L196),\" \",IF(ISTEXT(L196),\" \",IF(L196<=Нормативы!$H$192,\"КМС\",IF(L196<=Нормативы!$H$193,\"КМС\",IF(L196<=Нормативы!$L$194,\"КМС\",IF(L196<=Нормативы!$L$195,\"I\",IF(L196<=Нормативы!$L$196,\"II\",IF(L196<=Нормативы!$L$197,\"III\",IF(L196<=Нормативы!$L$198,\"I юн\",IF(L196<=Нормативы!$L$199,\"II юн\",IF(L196<=Нормативы!$L$200,\"III юн\",\"б/р\")))))))))))","v":"II"},{"$f":"IF(ISBLANK(L196),\" \",IF(ISTEXT(L196),\" \",IF(L196<=Нормативы!$H$192,\"КМС\",IF(L196<=Нормативы!$H$193,\"КМС\",IF(L196<=Нормативы!$L$194,\"КМС\",IF(L196<=Нормативы!$L$195,\"I\",IF(L196<=Нормативы!$L$196,\"II\",IF(L196<=Нормативы!$L$197,\"III\",IF(L196<=Нормативы!$L$198,\"I юн\",IF(L196<=Нормативы!$L$199,\"II юн\",IF(L196<=Нормативы!$L$200,\"III юн\",\"б/р\")))))))))))","v":"II"},null,null,{"$f":"IF(ISBLANK(P196),\" \",IF(ISTEXT(P196),\" \",IF(P196<=$H$192,\"МСМК\",IF(P196<=$H$193,\"МС\",IF(P196<=$H$194,\"КМС\",IF(P196<=$H$195,\"I\",IF(P196<=$H$196,\"II\",IF(P196<=$H$197,\"III\",IF(P196<=$H$198,\"I юн\",IF(P196<=$H$199,\"II юн\",IF(P196<=$H$200,\"III юн\",\"б/р\")))))))))))","v":" "}]
[{"$nulls":7},903.2,{"$f":"IF(ISBLANK(H197),\" \",IF(ISTEXT(H197),\" \",IF(H197<=Нормативы!$H$192,\"МСМК\",IF(H197<=Нормативы!$H$193,\"МС\",IF(H197<=Нормативы!$H$194,\"КМС\",IF(H197<=Нормативы!$H$195,\"I\",IF(H197<=Нормативы!$H$196,\"II\",IF(H197<=Нормативы!$H$197,\"III\",IF(H197<=Нормативы!$H$198,\"I юн\",IF(H197<=Нормативы!$H$199,\"II юн\",IF(H197<=Нормативы!$H$200,\"III юн\",\"б/р\")))))))))))","v":"III"},{"$f":"IF(ISBLANK(H197),\" \",IF(ISTEXT(H197),\" \",IF(H197<=Нормативы!$H$192,\"МСМК\",IF(H197<=Нормативы!$H$193,\"МС\",IF(H197<=Нормативы!$H$194,\"КМС\",IF(H197<=Нормативы!$H$195,\"I\",IF(H197<=Нормативы!$H$196,\"II\",IF(H197<=Нормативы!$H$197,\"III\",IF(H197<=Нормативы!$H$198,\"I юн\",IF(H197<=Нормативы!$H$199,\"II юн\",IF(H197<=Нормативы!$H$200,\"III юн\",\"б/р\")))))))))))","v":"III"},null,903,{"$f":"IF(ISBLANK(L197),\" \",IF(ISTEXT(L197),\" \",IF(L197<=Нормативы!$H$192,\"КМС\",IF(L197<=Нормативы!$H$193,\"КМС\",IF(L197<=Нормативы!$L$194,\"КМС\",IF(L197<=Нормативы!$L$195,\"I\",IF(L197<=Нормативы!$L$196,\"II\",IF(L197<=Нормативы!$L$197,\"III\",IF(L197<=Нормативы!$L$198,\"I юн\",IF(L197<=Нормативы!$L$199,\"II юн\",IF(L197<=Нормативы!$L$200,\"III юн\",\"б/р\")))))))))))","v":"III"},{"$f":"IF(ISBLANK(L197),\" \",IF(ISTEXT(L197),\" \",IF(L197<=Нормативы!$H$192,\"КМС\",IF(L197<=Нормативы!$H$193,\"КМС\",IF(L197<=Нормативы!$L$194,\"КМС\",IF(L197<=Нормативы!$L$195,\"I\",IF(L197<=Нормативы!$L$196,\"II\",IF(L197<=Нормативы!$L$197,\"III\",IF(L197<=Нормативы!$L$198,\"I юн\",IF(L197<=Нормативы!$L$199,\"II юн\",IF(L197<=Нормативы!$L$200,\"III юн\",\"б/р\")))))))))))","v":"III"},null,null,{"$f":"IF(ISBLANK(P197),\" \",IF(ISTEXT(P197),\" \",IF(P197<=$H$192,\"МСМК\",IF(P197<=$H$193,\"МС\",IF(P197<=$H$194,\"КМС\",IF(P197<=$H$195,\"I\",IF(P197<=$H$196,\"II\",IF(P197<=$H$197,\"III\",IF(P197<=$H$198,\"I юн\",IF(P197<=$H$199,\"II юн\",IF(P197<=$H$200,\"III юн\",\"б/р\")))))))))))","v":" "}]
[{"$nulls":7},950.4000000000001,{"$f":"IF(ISBLANK(H198),\" \",IF(ISTEXT(H198),\" \",IF(H198<=Нормативы!$H$192,\"МСМК\",IF(H198<=Нормативы!$H$193,\"МС\",IF(H198<=Нормативы!$H$194,\"КМС\",IF(H198<=Нормативы!$H$195,\"I\",IF(H198<=Нормативы!$H$196,\"II\",IF(H198<=Нормативы!$H$197,\"III\",IF(H198<=Нормативы!$H$198,\"I юн\",IF(H198<=Нормативы!$H$199,\"II юн\",IF(H198<=Нормативы!$H$200,\"III юн\",\"б/р\")))))))))))","v":"I юн"},{"$f":"IF(ISBLANK(H198),\" \",IF(ISTEXT(H198),\" \",IF(H198<=Нормативы!$H$192,\"МСМК\",IF(H198<=Нормативы!$H$193,\"МС\",IF(H198<=Нормативы!$H$194,\"КМС\",IF(H198<=Нормативы!$H$195,\"I\",IF(H198<=Нормативы!$H$196,\"II\",IF(H198<=Нормативы!$H$197,\"III\",IF(H198<=Нормативы!$H$198,\"I юн\",IF(H198<=Нормативы!$H$199,\"II юн\",IF(H198<=Нормативы!$H$200,\"III юн\",\"б/р\")))))))))))","v":"I юн"},null,950.2,{"$f":"IF(ISBLANK(L198),\" \",IF(ISTEXT(L198),\" \",IF(L198<=Нормативы!$H$192,\"КМС\",IF(L198<=Нормативы!$H$193,\"КМС\",IF(L198<=Нормативы!$L$194,\"КМС\",IF(L198<=Нормативы!$L$195,\"I\",IF(L198<=Нормативы!$L$196,\"II\",IF(L198<=Нормативы!$L$197,\"III\",IF(L198<=Нормативы!$L$198,\"I юн\",IF(L198<=Нормативы!$L$199,\"II юн\",IF(L198<=Нормативы!$L$200,\"III юн\",\"б/р\")))))))))))","v":"I юн"},{"$f":"IF(ISBLANK(L198),\" \",IF(ISTEXT(L198),\" \",IF(L198<=Нормативы!$H$192,\"КМС\",IF(L198<=Нормативы!$H$193,\"КМС\",IF(L198<=Нормативы!$L$194,\"КМС\",IF(L198<=Нормативы!$L$195,\"I\",IF(L198<=Нормативы!$L$196,\"II\",IF(L198<=Нормативы!$L$197,\"III\",IF(L198<=Нормативы!$L$198,\"I юн\",IF(L198<=Нормативы!$L$199,\"II юн\",IF(L198<=Нормативы!$L$200,\"III юн\",\"б/р\")))))))))))","v":"I юн"},null,null,{"$f":"IF(ISBLANK(P198),\" \",IF(ISTEXT(P198),\" \",IF(P198<=$H$192,\"МСМК\",IF(P198<=$H$193,\"МС\",IF(P198<=$H$194,\"КМС\",IF(P198<=$H$195,\"I\",IF(P198<=$H$196,\"II\",IF(P198<=$H$197,\"III\",IF(P198<=$H$198,\"I юн\",IF(P198<=$H$199,\"II юн\",IF(P198<=$H$200,\"III юн\",\"б/р\")))))))))))","v":" "}]
[{"$nulls":7},1052,{"$f":"IF(ISBLANK(H199),\" \",IF(ISTEXT(H199),\" \",IF(H199<=Нормативы!$H$192,\"МСМК\",IF(H199<=Нормативы!$H$193,\"МС\",IF(H199<=Нормативы!$H$194,\"КМС\",IF(H199<=Нормативы!$H$195,\"I\",IF(H199<=Нормативы!$H$196,\"II\",IF(H199<=Нормативы!$H$197,\"III\",IF(H199<=Нормативы!$H$198,\"I юн\",IF(H199<=Нормативы!$H$199,\"II юн\",IF(H199<=Нормативы!$H$200,\"III юн\",\"б/р\")))))))))))","v":"II юн"},{"$f":"IF(ISBLANK(H199),\" \",IF(ISTEXT(H199),\" \",IF(H199<=Нормативы!$H$192,\"МСМК\",IF(H199<=Нормативы!$H$193,\"МС\",IF(H199<=Нормативы!$H$194,\"КМС\",IF(H199<=Нормативы!$H$195,\"I\",IF(H199<=Нормативы!$H$196,\"II\",IF(H199<=Нормативы!$H$197,\"III\",IF(H199<=Нормативы!$H$198,\"I юн\",IF(H199<=Нормативы!$H$199,\"II юн\",IF(H199<=Нормативы!$H$200,\"III юн\",\"б/р\")))))))))))","v":"II юн"},null,1051.8,{"$f":"IF(ISBLANK(L199),\" \",IF(ISTEXT(L199),\" \",IF(L199<=Нормативы!$H$192,\"КМС\",IF(L199<=Нормативы!$H$193,\"КМС\",IF(L199<=Нормативы!$L$194,\"КМС\",IF(L199<=Нормативы!$L$195,\"I\",IF(L199<=Нормативы!$L$196,\"II\",IF(L199<=Нормативы!$L$197,\"III\",IF(L199<=Нормативы!$L$198,\"I юн\",IF(L199<=Нормативы!$L$199,\"II юн\",IF(L199<=Нормативы!$L$200,\"III юн\",\"б/р\")))))))))))","v":"II юн"},{"$f":"IF(ISBLANK(L199),\" \",IF(ISTEXT(L199),\" \",IF(L199<=Нормативы!$H$192,\"КМС\",IF(L199<=Нормативы!$H$193,\"КМС\",IF(L199<=Нормативы!$L$194,\"КМС\",IF(L199<=Нормативы!$L$195,\"I\",IF(L199<=Нормативы!$L$196,\"II\",IF(L199<=Нормативы!$L$197,\"III\",IF(L199<=Нормативы!$L$198,\"I юн\",IF(L199<=Нормативы!$L$199,\"II юн\",IF(L199<=Нормативы!$L$200,\"III юн\",\"б/р\")))))))))))","v":"II юн"},null,null,{"$f":"IF(ISBLANK(P199),\" \",IF(ISTEXT(P199),\" \",IF(P199<=$H$192,\"МСМК\",IF(P199<=$H$193,\"МС\",IF(P199<=$H$194,\"КМС\",IF(P199<=$H$195,\"I\",IF(P199<=$H$196,\"II\",IF(P199<=$H$197,\"III\",IF(P199<=$H$198,\"I юн\",IF(P199<=$H$199,\"II юн\",IF(P199<=$H$200,\"III юн\",\"б/р\")))))))))))","v":" "}]
[{"$nulls":7},1145.2,{"$f":"IF(ISBLANK(H200),\" \",IF(ISTEXT(H200),\" \",IF(H200<=Нормативы!$H$192,\"МСМК\",IF(H200<=Нормативы!$H$193,\"МС\",IF(H200<=Нормативы!$H$194,\"КМС\",IF(H200<=Нормативы!$H$195,\"I\",IF(H200<=Нормативы!$H$196,\"II\",IF(H200<=Нормативы!$H$197,\"III\",IF(H200<=Нормативы!$H$198,\"I юн\",IF(H200<=Нормативы!$H$199,\"II юн\",IF(H200<=Нормативы!$H$200,\"III юн\",\"б/р\")))))))))))","v":"III юн"},{"$f":"IF(ISBLANK(H200),\" \",IF(ISTEXT(H200),\" \",IF(H200<=Нормативы!$H$192,\"МСМК\",IF(H200<=Нормативы!$H$193,\"МС\",IF(H200<=Нормативы!$H$194,\"КМС\",IF(H200<=Нормативы!$H$195,\"I\",IF(H200<=Нормативы!$H$196,\"II\",IF(H200<=Нормативы!$H$197,\"III\",IF(H200<=Нормативы!$H$198,\"I юн\",IF(H200<=Нормативы!$H$199,\"II юн\",IF(H200<=Нормативы!$H$200,\"III юн\",\"б/р\")))))))))))","v":"III юн"},null,1145,{"$f":"IF(ISBLANK(L200),\" \",IF(ISTEXT(L200),\" \",IF(L200<=Нормативы!$H$192,\"КМС\",IF(L200<=Нормативы!$H$193,\"КМС\",IF(L200<=Нормативы!$L$194,\"КМС\",IF(L200<=Нормативы!$L$195,\"I\",IF(L200<=Нормативы!$L$196,\"II\",IF(L200<=Нормативы!$L$197,\"III\",IF(L200<=Нормативы!$L$198,\"I юн\",IF(L200<=Нормативы!$L$199,\"II юн\",IF(L200<=Нормативы!$L$200,\"III юн\",\"б/р\")))))))))))","v":"III юн"},{"$f":"IF(ISBLANK(L200),\" \",IF(ISTEXT(L200),\" \",IF(L200<=Нормативы!$H$192,\"КМС\",IF(L200<=Нормативы!$H$193,\"КМС\",IF(L200<=Нормативы!$L$194,\"КМС\",IF(L200<=Нормативы!$L$195,\"I\",IF(L200<=Нормативы!$L$196,\"II\",IF(L200<=Нормативы!$L$197,\"III\",IF(L200<=Нормативы!$L$198,\"I юн\",IF(L200<=Нормативы!$L$199,\"II юн\",IF(L200<=Нормативы!$L$200,\"III юн\",\"б/р\")))))))))))","v":"III юн"},null,null,{"$f":"IF(ISBLANK(P200),\" \",IF(ISTEXT(P200),\" \",IF(P200<=$H$192,\"МСМК\",IF(P200<=$H$193,\"МС\",IF(P200<=$H$194,\"КМС\",IF(P200<=$H$195,\"I\",IF(P200<=$H$196,\"II\",IF(P200<=$H$197,\"III\",IF(P200<=$H$198,\"I юн\",IF(P200<=$H$199,\"II юн\",IF(P200<=$H$200,\"III юн\",\"б/р\")))))))))))","v":" "}]
[]
[null,null,"Плавание в ластах - 1500 м (1460131811Я),  женщины"]
[{"$nulls":7},1339,{"$f":"IF(ISBLANK(H203),\" \",IF(ISTEXT(H203),\" \",IF(H203<=Нормативы!$H$203,\"МСМК\",IF(H203<=Нормативы!$H$204,\"МС\",IF(H203<=Нормативы!$H$205,\"КМС\",IF(H203<=Нормативы!$H$206,\"I\",IF(H203<=Нормативы!$H$207,\"II\",IF(H203<=Нормативы!$H$208,\"III\",\"б/р\"))))))))","v":"МСМК"},{"$f":"IF(ISBLANK(H203),\" \",IF(ISTEXT(H203),\" \",IF(H203<=Нормативы!$H$203,\"МСМК\",IF(H203<=Нормативы!$H$204,\"МС\",IF(H203<=Нормативы!$H$205,\"КМС\",IF(H203<=Нормативы!$H$206,\"I\",IF(H203<=Нормативы!$H$207,\"II\",IF(H203<=Нормативы!$H$208,\"III\",\"б/р\"))))))))","v":"МСМК"},null,null,{"$f":"IF(ISBLANK(L203),\" \",IF(ISTEXT(L203),\" \",IF(L203<=Нормативы!$H$203,\"КМС\",IF(L203<=Нормативы!$H$204,\"КМС\",IF(L203<=Нормативы!$L$205,\"КМС\",IF(L203<=Нормативы!$L$206,\"I\",IF(L203<=Нормативы!$L$207,\"II\",IF(L203<=Нормативы!$L$208,\"III\",\"б/р\"))))))))","v":" "},{"$f":"IF(ISBLANK(L203),\" \",IF(ISTEXT(L203),\" \",IF(L203<=1339.2,\"МСМК\",IF(L203<=1418.2,\"МС\",IF(L203<=1458.5,\"КМС\",IF(L203<=1600,\"I\",IF(L203<=1724.5,\"II\",IF(L203<=1850,\"III\",\"б/р\"))))))))","v":" "},null,null,{"$f":"IF(ISBLANK(P203),\" \",IF(ISTEXT(P203),\" \",IF(P203<=$H$203,\"МСМК\",IF(P203<=$H$204,\"МС\",IF(P203<=$H$205,\"КМС\",IF(P203<=$H$206,\"I\",IF(P203<=$H$207,\"II\",IF(P203<=$H$208,\"III\",\"б/р\"))))))))","v":" "}]
[{"$nulls":7},1415,{"$f":"IF(ISBLANK(H204),\" \",IF(ISTEXT(H204),\" \",IF(H204<=Нормативы!$H$203,\"МСМК\",IF(H204<=Нормативы!$H$204,\"МС\",IF(H204<=Нормативы!$H$205,\"КМС\",IF(H204<=Нормативы!$H$206,\"I\",IF(H204<=Нормативы!$H$207,\"II\",IF(H204<=Нормативы!$H$208,\"III\",\"б/р\"))))))))","v":"МС"},{"$f":"IF(ISBLANK(H204),\" \",IF(ISTEXT(H204),\" \",IF(H204<=Нормативы!$H$203,\"МСМК\",IF(H204<=Нормативы!$H$204,\"МС\",IF(H204<=Нормативы!$H$205,\"КМС\",IF(H204<=Нормативы!$H$206,\"I\",IF(H204<=Нормативы!$H$207,\"II\",IF(H204<=Нормативы!$H$208,\"III\",\"б/р\"))))))))","v":"МС"},null,null,{"$f":"IF(ISBLANK(L204),\" \",IF(ISTEXT(L204),\" \",IF(L204<=Нормативы!$H$203,\"КМС\",IF(L204<=Нормативы!$H$204,\"КМС\",IF(L204<=Нормативы!$L$205,\"КМС\",IF(L204<=Нормативы!$L$206,\"I\",IF(L204<=Нормативы!$L$207,\"II\",IF(L204<=Нормативы!$L$208,\"III\",\"б/р\"))))))))","v":" "},{"$f":"IF(ISBLANK(L204),\" \",IF(ISTEXT(L204),\" \",IF(L204<=1339.2,\"МСМК\",IF(L204<=1418.2,\"МС\",IF(L204<=1458.5,\"КМС\",IF(L204<=1600,\"I\",IF(L204<=1724.5,\"II\",IF(L204<=1850,\"III\",\"б/р\"))))))))","v":" "},null,null,{"$f":"IF(ISBLANK(P204),\" \",IF(ISTEXT(P204),\" \",IF(P204<=$H$203,\"МСМК\",IF(P204<=$H$204,\"МС\",IF(P204<=$H$205,\"КМС\",IF(P204<=$H$206,\"I\",IF(P204<=$H$207,\"II\",IF(P204<=$H$208,\"III\",\"б/р\"))))))))","v":" "}]
[{"$nulls":7},1456.2,{"$f":"IF(ISBLANK(H205),\" \",IF(ISTEXT(H205),\" \",IF(H205<=Нормативы!$H$203,\"МСМК\",IF(H205<=Нормативы!$H$204,\"МС\",IF(H205<=Нормативы!$H$205,\"КМС\",IF(H205<=Нормативы!$H$206,\"I\",IF(H205<=Нормативы!$H$207,\"II\",IF(H205<=Нормативы!$H$208,\"III\",\"б/р\"))))))))","v":"КМС"},{"$f":"IF(ISBLANK(H205),\" \",IF(ISTEXT(H205),\" \",IF(H205<=Нормативы!$H$203,\"МСМК\",IF(H205<=Нормативы!$H$204,\"МС\",IF(H205<=Нормативы!$H$205,\"КМС\",IF(H205<=Нормативы!$H$206,\"I\",IF(H205<=Нормативы!$H$207,\"II\",IF(H205<=Нормативы!$H$208,\"III\",\"б/р\"))))))))","v":"КМС"},null,{"$f":"H205-0.2","v":1456},{"$f":"IF(ISBLANK(L205),\" \",IF(ISTEXT(L205),\" \",IF(L205<=Нормативы!$H$203,\"КМС\",IF(L205<=Нормативы!$H$204,\"КМС\",IF(L205<=Нормативы!$L$205,\"КМС\",IF(L205<=Нормативы!$L$206,\"I\",IF(L205<=Нормативы!$L$207,\"II\",IF(L205<=Нормативы!$L$208,\"III\",\"б/р\"))))))))","v":"КМС"},{"$f":"IF(ISBLANK(L205),\" \",IF(ISTEXT(L205),\" \",IF(L205<=Нормативы!$H$203,\"КМС\",IF(L205<=Нормативы!$H$204,\"КМС\",IF(L205<=Нормативы!$L$205,\"КМС\",IF(L205<=Нормативы!$L$206,\"I\",IF(L205<=Нормативы!$L$207,\"II\",IF(L205<=Нормативы!$L$208,\"III\",\"б/р\"))))))))","v":"КМС"},null,null,{"$f":"IF(ISBLANK(P205),\" \",IF(ISTEXT(P205),\" \",IF(P205<=$H$203,\"МСМК\",IF(P205<=$H$204,\"МС\",IF(P205<=$H$205,\"КМС\",IF(P205<=$H$206,\"I\",IF(P205<=$H$207,\"II\",IF(P205<=$H$208,\"III\",\"б/р\"))))))))","v":" "}]
[{"$nulls":7},1556.7,{"$f":"IF(ISBLANK(H206),\" \",IF(ISTEXT(H206),\" \",IF(H206<=Нормативы!$H$203,\"МСМК\",IF(H206<=Нормативы!$H$204,\"МС\",IF(H206<=Нормативы!$H$205,\"КМС\",IF(H206<=Нормативы!$H$206,\"I\",IF(H206<=Нормативы!$H$207,\"II\",IF(H206<=Нормативы!$H$208,\"III\",\"б/р\"))))))))","v":"I"},{"$f":"IF(ISBLANK(H206),\" \",IF(ISTEXT(H206),\" \",IF(H206<=Нормативы!$H$203,\"МСМК\",IF(H206<=Нормативы!$H$204,\"МС\",IF(H206<=Нормативы!$H$205,\"КМС\",IF(H206<=Нормативы!$H$206,\"I\",IF(H206<=Нормативы!$H$207,\"II\",IF(H206<=Нормативы!$H$208,\"III\",\"б/р\"))))))))","v":"I"},null,1556.5,{"$f":"IF(ISBLANK(L206),\" \",IF(ISTEXT(L206),\" \",IF(L206<=Нормативы!$H$203,\"КМС\",IF(L206<=Нормативы!$H$204,\"КМС\",IF(L206<=Нормативы!$L$205,\"КМС\",IF(L206<=Нормативы!$L$206,\"I\",IF(L206<=Нормативы!$L$207,\"II\",IF(L206<=Нормативы!$L$208,\"III\",\"б/р\"))))))))","v":"I"},{"$f":"IF(ISBLANK(L206),\" \",IF(ISTEXT(L206),\" \",IF(L206<=Нормативы!$H$203,\"КМС\",IF(L206<=Нормативы!$H$204,\"КМС\",IF(L206<=Нормативы!$L$205,\"КМС\",IF(L206<=Нормативы!$L$206,\"I\",IF(L206<=Нормативы!$L$207,\"II\",IF(L206<=Нормативы!$L$208,\"III\",\"б/р\"))))))))","v":"I"},null,null,{"$f":"IF(ISBLANK(P206),\" \",IF(ISTEXT(P206),\" \",IF(P206<=$H$203,\"МСМК\",IF(P206<=$H$204,\"МС\",IF(P206<=$H$205,\"КМС\",IF(P206<=$H$206,\"I\",IF(P206<=$H$207,\"II\",IF(P206<=$H$208,\"III\",\"б/р\"))))))))","v":" "}]
[{"$nulls":7},1720.2,{"$f":"IF(ISBLANK(H207),\" \",IF(ISTEXT(H207),\" \",IF(H207<=Нормативы!$H$203,\"МСМК\",IF(H207<=Нормативы!$H$204,\"МС\",IF(H207<=Нормативы!$H$205,\"КМС\",IF(H207<=Нормативы!$H$206,\"I\",IF(H207<=Нормативы!$H$207,\"II\",IF(H207<=Нормативы!$H$208,\"III\",\"б/р\"))))))))","v":"II"},{"$f":"IF(ISBLANK(H207),\" \",IF(ISTEXT(H207),\" \",IF(H207<=Нормативы!$H$203,\"МСМК\",IF(H207<=Нормативы!$H$204,\"МС\",IF(H207<=Нормативы!$H$205,\"КМС\",IF(H207<=Нормативы!$H$206,\"I\",IF(H207<=Нормативы!$H$207,\"II\",IF(H207<=Нормативы!$H$208,\"III\",\"б/р\"))))))))","v":"II"},null,1720,{"$f":"IF(ISBLANK(L207),\" \",IF(ISTEXT(L207),\" \",IF(L207<=Нормативы!$H$203,\"КМС\",IF(L207<=Нормативы!$H$204,\"КМС\",IF(L207<=Нормативы!$L$205,\"КМС\",IF(L207<=Нормативы!$L$206,\"I\",IF(L207<=Нормативы!$L$207,\"II\",IF(L207<=Нормативы!$L$208,\"III\",\"б/р\"))))))))","v":"II"},{"$f":"IF(ISBLANK(L207),\" \",IF(ISTEXT(L207),\" \",IF(L207<=Нормативы!$H$203,\"КМС\",IF(L207<=Нормативы!$H$204,\"КМС\",IF(L207<=Нормативы!$L$205,\"КМС\",IF(L207<=Нормативы!$L$206,\"I\",IF(L207<=Нормативы!$L$207,\"II\",IF(L207<=Нормативы!$L$208,\"III\",\"б/р\"))))))))","v":"II"},null,null,{"$f":"IF(ISBLANK(P207),\" \",IF(ISTEXT(P207),\" \",IF(P207<=$H$203,\"МСМК\",IF(P207<=$H$204,\"МС\",IF(P207<=$H$205,\"КМС\",IF(P207<=$H$206,\"I\",IF(P207<=$H$207,\"II\",IF(P207<=$H$208,\"III\",\"б/р\"))))))))","v":" "}]
[{"$nulls":7},1845,{"$f":"IF(ISBLANK(H208),\" \",IF(ISTEXT(H208),\" \",IF(H208<=Нормативы!$H$203,\"МСМК\",IF(H208<=Нормативы!$H$204,\"МС\",IF(H208<=Нормативы!$H$205,\"КМС\",IF(H208<=Нормативы!$H$206,\"I\",IF(H208<=Нормативы!$H$207,\"II\",IF(H208<=Нормативы!$H$208,\"III\",\"б/р\"))))))))","v":"III"},{"$f":"IF(ISBLANK(H208),\" \",IF(ISTEXT(H208),\" \",IF(H208<=Нормативы!$H$203,\"МСМК\",IF(H208<=Нормативы!$H$204,\"МС\",IF(H208<=Нормативы!$H$205,\"КМС\",IF(H208<=Нормативы!$H$206,\"I\",IF(H208<=Нормативы!$H$207,\"II\",IF(H208<=Нормативы!$H$208,\"III\",\"б/р\"))))))))","v":"III"},null,1844.8,{"$f":"IF(ISBLANK(L208),\" \",IF(ISTEXT(L208),\" \",IF(L208<=Нормативы!$H$203,\"КМС\",IF(L208<=Нормативы!$H$204,\"КМС\",IF(L208<=Нормативы!$L$205,\"КМС\",IF(L208<=Нормативы!$L$206,\"I\",IF(L208<=Нормативы!$L$207,\"II\",IF(L208<=Нормативы!$L$208,\"III\",\"б/р\"))))))))","v":"III"},{"$f":"IF(ISBLANK(L208),\" \",IF(ISTEXT(L208),\" \",IF(L208<=Нормативы!$H$203,\"КМС\",IF(L208<=Нормативы!$H$204,\"КМС\",IF(L208<=Нормативы!$L$205,\"КМС\",IF(L208<=Нормативы!$L$206,\"I\",IF(L208<=Нормативы!$L$207,\"II\",IF(L208<=Нормативы!$L$208,\"III\",\"б/р\"))))))))","v":"III"},null,null,{"$f":"IF(ISBLANK(P208),\" \",IF(ISTEXT(P208),\" \",IF(P208<=$H$203,\"МСМК\",IF(P208<=$H$204,\"МС\",IF(P208<=$H$205,\"КМС\",IF(P208<=$H$206,\"I\",IF(P208<=$H$207,\"II\",IF(P208<=$H$208,\"III\",\"б/р\"))))))))","v":" "}]
[]
[null,null,"Плавание в ластах - 1500 м (1460131811Я),  мужчины"]
[]
[{"$nulls":7},1240,{"$f":"IF(ISBLANK(H212),\" \",IF(ISTEXT(H212),\" \",IF(H212<=Нормативы!$H$212,\"МСМК\",IF(H212<=Нормативы!$H$213,\"МС\",IF(H212<=Нормативы!$H$214,\"КМС\",IF(H212<=Нормативы!$H$215,\"I\",IF(H212<=Нормативы!$H$216,\"II\",IF(H212<=Нормативы!$H$217,\"III\",\"б/р\"))))))))","v":"МСМК"},{"$f":"IF(ISBLANK(H212),\" \",IF(ISTEXT(H212),\" \",IF(H212<=Нормативы!$H$212,\"МСМК\",IF(H212<=Нормативы!$H$213,\"МС\",IF(H212<=Нормативы!$H$214,\"КМС\",IF(H212<=Нормативы!$H$215,\"I\",IF(H212<=Нормативы!$H$216,\"II\",IF(H212<=Нормативы!$H$217,\"III\",\"б/р\"))))))))","v":"МСМК"},null,null,{"$f":"IF(ISBLANK(L212),\" \",IF(ISTEXT(L212),\" \",IF(L212<=Нормативы!$H$212,\"КМС\",IF(L212<=Нормативы!$H$213,\"КМС\",IF(L212<=Нормативы!$L$214,\"КМС\",IF(L212<=Нормативы!$L$215,\"I\",IF(L212<=Нормативы!$L$216,\"II\",IF(L212<=Нормативы!$L$217,\"III\",\"б/р\"))))))))","v":" "},{"$f":"IF(ISBLANK(L212),\" \",IF(ISTEXT(L212),\" \",IF(L212<=1241.2,\"МСМК\",IF(L212<=1320.7,\"МС\",IF(L212<=1358,\"КМС\",IF(L212<=1452.5,\"I\",IF(L212<=1615,\"II\",IF(L212<=1733,\"III\",\"б/р\"))))))))","v":" "},null,null,{"$f":"IF(ISBLANK(P212),\" \",IF(ISTEXT(P212),\" \",IF(P212<=$H$212,\"МСМК\",IF(P212<=$H$213,\"МС\",IF(P212<=$H$214,\"КМС\",IF(P212<=$H$215,\"I\",IF(P212<=$H$216,\"II\",IF(P212<=$H$217,\"III\",\"б/р\"))))))))","v":" "}]
[{"$nulls":7},1320,{"$f":"IF(ISBLANK(H213),\" \",IF(ISTEXT(H213),\" \",IF(H213<=Нормативы!$H$212,\"МСМК\",IF(H213<=Нормативы!$H$213,\"МС\",IF(H213<=Нормативы!$H$214,\"КМС\",IF(H213<=Нормативы!$H$215,\"I\",IF(H213<=Нормативы!$H$216,\"II\",IF(H213<=Нормативы!$H$217,\"III\",\"б/р\"))))))))","v":"МС"},{"$f":"IF(ISBLANK(H213),\" \",IF(ISTEXT(H213),\" \",IF(H213<=Нормативы!$H$212,\"МСМК\",IF(H213<=Нормативы!$H$213,\"МС\",IF(H213<=Нормативы!$H$214,\"КМС\",IF(H213<=Нормативы!$H$215,\"I\",IF(H213<=Нормативы!$H$216,\"II\",IF(H213<=Нормативы!$H$217,\"III\",\"б/р\"))))))))","v":"МС"},null,null,{"$f":"IF(ISBLANK(L213),\" \",IF(ISTEXT(L213),\" \",IF(L213<=Нормативы!$H$212,\"КМС\",IF(L213<=Нормативы!$H$213,\"КМС\",IF(L213<=Нормативы!$L$214,\"КМС\",IF(L213<=Нормативы!$L$215,\"I\",IF(L213<=Нормативы!$L$216,\"II\",IF(L213<=Нормативы!$L$217,\"III\",\"б/р\"))))))))","v":" "},{"$f":"IF(ISBLANK(L213),\" \",IF(ISTEXT(L213),\" \",IF(L213<=1241.2,\"МСМК\",IF(L213<=1320.7,\"МС\",IF(L213<=1358,\"КМС\",IF(L213<=1452.5,\"I\",IF(L213<=1615,\"II\",IF(L213<=1733,\"III\",\"б/р\"))))))))","v":" "},null,null,{"$f":"IF(ISBLANK(P213),\" \",IF(ISTEXT(P213),\" \",IF(P213<=$H$212,\"МСМК\",IF(P213<=$H$213,\"МС\",IF(P213<=$H$214,\"КМС\",IF(P213<=$H$215,\"I\",IF(P213<=$H$216,\"II\",IF(P213<=$H$217,\"III\",\"б/р\"))))))))","v":" "}]
[{"$nulls":7},1356,{"$f":"IF(ISBLANK(H214),\" \",IF(ISTEXT(H214),\" \",IF(H214<=Нормативы!$H$212,\"МСМК\",IF(H214<=Нормативы!$H$213,\"МС\",IF(H214<=Нормативы!$H$214,\"КМС\",IF(H214<=Нормативы!$H$215,\"I\",IF(H214<=Нормативы!$H$216,\"II\",IF(H214<=Нормативы!$H$217,\"III\",\"б/р\"))))))))","v":"КМС"},{"$f":"IF(ISBLANK(H214),\" \",IF(ISTEXT(H214),\" \",IF(H214<=Нормативы!$H$212,\"МСМК\",IF(H214<=Нормативы!$H$213,\"МС\",IF(H214<=Нормативы!$H$214,\"КМС\",IF(H214<=Нормативы!$H$215,\"I\",IF(H214<=Нормативы!$H$216,\"II\",IF(H214<=Нормативы!$H$217,\"III\",\"б/р\"))))))))","v":"КМС"},null,{"$f":"H214-0.2","v":1355.8},{"$f":"IF(ISBLANK(L214),\" \",IF(ISTEXT(L214),\" \",IF(L214<=Нормативы!$H$212,\"КМС\",IF(L214<=Нормативы!$H$213,\"КМС\",IF(L214<=Нормативы!$L$214,\"КМС\",IF(L214<=Нормативы!$L$215,\"I\",IF(L214<=Нормативы!$L$216,\"II\",IF(L214<=Нормативы!$L$217,\"III\",\"б/р\"))))))))","v":"КМС"},{"$f":"IF(ISBLANK(L214),\" \",IF(ISTEXT(L214),\" \",IF(L214<=Нормативы!$H$212,\"КМС\",IF(L214<=Нормативы!$H$213,\"КМС\",IF(L214<=Нормативы!$L$214,\"КМС\",IF(L214<=Нормативы!$L$215,\"I\",IF(L214<=Нормативы!$L$216,\"II\",IF(L214<=Нормативы!$L$217,\"III\",\"б/р\"))))))))","v":"КМС"},null,null,{"$f":"IF(ISBLANK(P214),\" \",IF(ISTEXT(P214),\" \",IF(P214<=$H$212,\"МСМК\",IF(P214<=$H$213,\"МС\",IF(P214<=$H$214,\"КМС\",IF(P214<=$H$215,\"I\",IF(P214<=$H$216,\"II\",IF(P214<=$H$217,\"III\",\"б/р\"))))))))","v":" "}]
[{"$nulls":7},1450.5,{"$f":"IF(ISBLANK(H215),\" \",IF(ISTEXT(H215),\" \",IF(H215<=Нормативы!$H$212,\"МСМК\",IF(H215<=Нормативы!$H$213,\"МС\",IF(H215<=Нормативы!$H$214,\"КМС\",IF(H215<=Нормативы!$H$215,\"I\",IF(H215<=Нормативы!$H$216,\"II\",IF(H215<=Нормативы!$H$217,\"III\",\"б/р\"))))))))","v":"I"},{"$f":"IF(ISBLANK(H215),\" \",IF(ISTEXT(H215),\" \",IF(H215<=Нормативы!$H$212,\"МСМК\",IF(H215<=Нормативы!$H$213,\"МС\",IF(H215<=Нормативы!$H$214,\"КМС\",IF(H215<=Нормативы!$H$215,\"I\",IF(H215<=Нормативы!$H$216,\"II\",IF(H215<=Нормативы!$H$217,\"III\",\"б/р\"))))))))","v":"I"},null,1450.3,{"$f":"IF(ISBLANK(L215),\" \",IF(ISTEXT(L215),\" \",IF(L215<=Нормативы!$H$212,\"КМС\",IF(L215<=Нормативы!$H$213,\"КМС\",IF(L215<=Нормативы!$L$214,\"КМС\",IF(L215<=Нормативы!$L$215,\"I\",IF(L215<=Нормативы!$L$216,\"II\",IF(L215<=Нормативы!$L$217,\"III\",\"б/р\"))))))))","v":"I"},{"$f":"IF(ISBLANK(L215),\" \",IF(ISTEXT(L215),\" \",IF(L215<=Нормативы!$H$212,\"КМС\",IF(L215<=Нормативы!$H$213,\"КМС\",IF(L215<=Нормативы!$L$214,\"КМС\",IF(L215<=Нормативы!$L$215,\"I\",IF(L215<=Нормативы!$L$216,\"II\",IF(L215<=Нормативы!$L$217,\"III\",\"б/р\"))))))))","v":"I"},null,null,{"$f":"IF(ISBLANK(P215),\" \",IF(ISTEXT(P215),\" \",IF(P215<=$H$212,\"МСМК\",IF(P215<=$H$213,\"МС\",IF(P215<=$H$214,\"КМС\",IF(P215<=$H$215,\"I\",IF(P215<=$H$216,\"II\",IF(P215<=$H$217,\"III\",\"б/р\"))))))))","v":" "}]
[{"$nulls":7},1610.2,{"$f":"IF(ISBLANK(H216),\" \",IF(ISTEXT(H216),\" \",IF(H216<=Нормативы!$H$212,\"МСМК\",IF(H216<=Нормативы!$H$213,\"МС\",IF(H216<=Нормативы!$H$214,\"КМС\",IF(H216<=Нормативы!$H$215,\"I\",IF(H216<=Нормативы!$H$216,\"II\",IF(H216<=Нормативы!$H$217,\"III\",\"б/р\"))))))))","v":"II"},{"$f":"IF(ISBLANK(H216),\" \",IF(ISTEXT(H216),\" \",IF(H216<=Нормативы!$H$212,\"МСМК\",IF(H216<=Нормативы!$H$213,\"МС\",IF(H216<=Нормативы!$H$214,\"КМС\",IF(H216<=Нормативы!$H$215,\"I\",IF(H216<=Нормативы!$H$216,\"II\",IF(H216<=Нормативы!$H$217,\"III\",\"б/р\"))))))))","v":"II"},null,1610,{"$f":"IF(ISBLANK(L216),\" \",IF(ISTEXT(L216),\" \",IF(L216<=Нормативы!$H$212,\"КМС\",IF(L216<=Нормативы!$H$213,\"КМС\",IF(L216<=Нормативы!$L$214,\"КМС\",IF(L216<=Нормативы!$L$215,\"I\",IF(L216<=Нормативы!$L$216,\"II\",IF(L216<=Нормативы!$L$217,\"III\",\"б/р\"))))))))","v":"II"},{"$f":"IF(ISBLANK(L216),\" \",IF(ISTEXT(L216),\" \",IF(L216<=Нормативы!$H$212,\"КМС\",IF(L216<=Нормативы!$H$213,\"КМС\",IF(L216<=Нормативы!$L$214,\"КМС\",IF(L216<=Нормативы!$L$215,\"I\",IF(L216<=Нормативы!$L$216,\"II\",IF(L216<=Нормативы!$L$217,\"III\",\"б/р\"))))))))","v":"II"},null,null,{"$f":"IF(ISBLANK(P216),\" \",IF(ISTEXT(P216),\" \",IF(P216<=$H$212,\"МСМК\",IF(P216<=$H$213,\"МС\",IF(P216<=$H$214,\"КМС\",IF(P216<=$H$215,\"I\",IF(P216<=$H$216,\"II\",IF(P216<=$H$217,\"III\",\"б/р\"))))))))","v":" "}]
[{"$nulls":7},1730,{"$f":"IF(ISBLANK(H217),\" \",IF(ISTEXT(H217),\" \",IF(H217<=Нормативы!$H$212,\"МСМК\",IF(H217<=Нормативы!$H$213,\"МС\",IF(H217<=Нормативы!$H$214,\"КМС\",IF(H217<=Нормативы!$H$215,\"I\",IF(H217<=Нормативы!$H$216,\"II\",IF(H217<=Нормативы!$H$217,\"III\",\"б/р\"))))))))","v":"III"},{"$f":"IF(ISBLANK(H217),\" \",IF(ISTEXT(H217),\" \",IF(H217<=Нормативы!$H$212,\"МСМК\",IF(H217<=Нормативы!$H$213,\"МС\",IF(H217<=Нормативы!$H$214,\"КМС\",IF(H217<=Нормативы!$H$215,\"I\",IF(H217<=Нормативы!$H$216,\"II\",IF(H217<=Нормативы!$H$217,\"III\",\"б/р\"))))))))","v":"III"},null,1729.8,{"$f":"IF(ISBLANK(L217),\" \",IF(ISTEXT(L217),\" \",IF(L217<=Нормативы!$H$212,\"КМС\",IF(L217<=Нормативы!$H$213,\"КМС\",IF(L217<=Нормативы!$L$214,\"КМС\",IF(L217<=Нормативы!$L$215,\"I\",IF(L217<=Нормативы!$L$216,\"II\",IF(L217<=Нормативы!$L$217,\"III\",\"б/р\"))))))))","v":"III"},{"$f":"IF(ISBLANK(L217),\" \",IF(ISTEXT(L217),\" \",IF(L217<=Нормативы!$H$212,\"КМС\",IF(L217<=Нормативы!$H$213,\"КМС\",IF(L217<=Нормативы!$L$214,\"КМС\",IF(L217<=Нормативы!$L$215,\"I\",IF(L217<=Нормативы!$L$216,\"II\",IF(L217<=Нормативы!$L$217,\"III\",\"б/р\"))))))))","v":"III"},null,null,{"$f":"IF(ISBLANK(P217),\" \",IF(ISTEXT(P217),\" \",IF(P217<=$H$212,\"МСМК\",IF(P217<=$H$213,\"МС\",IF(P217<=$H$214,\"КМС\",IF(P217<=$H$215,\"I\",IF(P217<=$H$216,\"II\",IF(P217<=$H$217,\"III\",\"б/р\"))))))))","v":" "}]
[]
[null,null,"Подводное плавание - 100 м (1460141811Я),  женщины"]
[{"$nulls":7},36,{"$f":"IF(ISBLANK(H220),\" \",IF(ISTEXT(H220),\" \",IF(H220<=Нормативы!$H$220,\"МСМК\",IF(H220<=Нормативы!$H$221,\"МС\",IF(H220<=Нормативы!$H$222,\"КМС\",IF(H220<=Нормативы!$H$223,\"I\",IF(H220<=Нормативы!$H$224,\"II\",IF(H220<=Нормативы!$H$225,\"III\",IF(H220<=Нормативы!$H$226,\"I юн\",IF(H220<=Нормативы!$H$227,\"II юн\",IF(H220<=Нормативы!$H$228,\"III юн\",\"б/р\")))))))))))","v":"МСМК"},{"$f":"IF(ISBLANK(H220),\" \",IF(ISTEXT(H220),\" \",IF(H220<=Нормативы!$H$220,\"МСМК\",IF(H220<=Нормативы!$H$221,\"МС\",IF(H220<=Нормативы!$H$222,\"КМС\",IF(H220<=Нормативы!$H$223,\"I\",IF(H220<=Нормативы!$H$224,\"II\",IF(H220<=Нормативы!$H$225,\"III\",IF(H220<=Нормативы!$H$226,\"I юн\",IF(H220<=Нормативы!$H$227,\"II юн\",IF(H220<=Нормативы!$H$228,\"III юн\",\"б/р\")))))))))))","v":"МСМК"},null,null,{"$f":"IF(ISBLANK(L220),\" \",IF(ISTEXT(L220),\" \",IF(L220<=Нормативы!$H$220,\"КМС\",IF(L220<=Нормативы!$H$221,\"КМС\",IF(L220<=Нормативы!$L$222,\"КМС\",IF(L220<=Нормативы!$L$223,\"I\",IF(L220<=Нормативы!$L$224,\"II\",IF(L220<=Нормативы!$L$225,\"III\",IF(L220<=Нормативы!$L$226,\"I юн\",IF(L220<=Нормативы!$L$227,\"II юн\",IF(L220<=Нормативы!$L$228,\"III юн\",\"б/р\")))))))))))","v":" "},{"$f":"IF(ISBLANK(L220),\" \",IF(ISTEXT(L220),\" \",IF(L220<=36.3,\"МСМК\",IF(L220<=38.1,\"МС\",IF(L220<=39.7,\"КМС\",IF(L220<=42.6,\"I\",IF(L220<=46.2,\"II\",IF(L220<=50.2,\"III\",IF(L220<=55,\"I юн\",IF(L220<=100,\"II юн\",IF(L220<=105.2,\"III юн\",\"б/р\")))))))))))","v":" "},null,null,{"$f":"IF(ISBLANK(P220),\" \",IF(ISTEXT(P220),\" \",IF(P220<=$H$220,\"МСМК\",IF(P220<=$H$221,\"МС\",IF(P220<=$H$222,\"КМС\",IF(P220<=$H$223,\"I\",IF(P220<=$H$224,\"II\",IF(P220<=$H$225,\"III\",IF(P220<=$H$226,\"I юн\",IF(P220<=$H$227,\"II юн\",IF(P220<=$H$228,\"III юн\",\"б/р\")))))))))))","v":" "}]
[{"$nulls":7},37.9,{"$f":"IF(ISBLANK(H221),\" \",IF(ISTEXT(H221),\" \",IF(H221<=Нормативы!$H$220,\"МСМК\",IF(H221<=Нормативы!$H$221,\"МС\",IF(H221<=Нормативы!$H$222,\"КМС\",IF(H221<=Нормативы!$H$223,\"I\",IF(H221<=Нормативы!$H$224,\"II\",IF(H221<=Нормативы!$H$225,\"III\",IF(H221<=Нормативы!$H$226,\"I юн\",IF(H221<=Нормативы!$H$227,\"II юн\",IF(H221<=Нормативы!$H$228,\"III юн\",\"б/р\")))))))))))","v":"МС"},{"$f":"IF(ISBLANK(H221),\" \",IF(ISTEXT(H221),\" \",IF(H221<=Нормативы!$H$220,\"МСМК\",IF(H221<=Нормативы!$H$221,\"МС\",IF(H221<=Нормативы!$H$222,\"КМС\",IF(H221<=Нормативы!$H$223,\"I\",IF(H221<=Нормативы!$H$224,\"II\",IF(H221<=Нормативы!$H$225,\"III\",IF(H221<=Нормативы!$H$226,\"I юн\",IF(H221<=Нормативы!$H$227,\"II юн\",IF(H221<=Нормативы!$H$228,\"III юн\",\"б/р\")))))))))))","v":"МС"},null,null,{"$f":"IF(ISBLANK(L221),\" \",IF(ISTEXT(L221),\" \",IF(L221<=Нормативы!$H$220,\"КМС\",IF(L221<=Нормативы!$H$221,\"КМС\",IF(L221<=Нормативы!$L$222,\"КМС\",IF(L221<=Нормативы!$L$223,\"I\",IF(L221<=Нормативы!$L$224,\"II\",IF(L221<=Нормативы!$L$225,\"III\",IF(L221<=Нормативы!$L$226,\"I юн\",IF(L221<=Нормативы!$L$227,\"II юн\",IF(L221<=Нормативы!$L$228,\"III юн\",\"б/р\")))))))))))","v":" "},{"$f":"IF(ISBLANK(L221),\" \",IF(ISTEXT(L221),\" \",IF(L221<=36.3,\"МСМК\",IF(L221<=38.1,\"МС\",IF(L221<=39.7,\"КМС\",IF(L221<=42.6,\"I\",IF(L221<=46.2,\"II\",IF(L221<=50.2,\"III\",IF(L221<=55,\"I юн\",IF(L221<=100,\"II юн\",IF(L221<=105.2,\"III юн\",\"б/р\")))))))))))","v":" "},null,null,{"$f":"IF(ISBLANK(P221),\" \",IF(ISTEXT(P221),\" \",IF(P221<=$H$220,\"МСМК\",IF(P221<=$H$221,\"МС\",IF(P221<=$H$222,\"КМС\",IF(P221<=$H$223,\"I\",IF(P221<=$H$224,\"II\",IF(P221<=$H$225,\"III\",IF(P221<=$H$226,\"I юн\",IF(P221<=$H$227,\"II юн\",IF(P221<=$H$228,\"III юн\",\"б/р\")))))))))))","v":" "}]
[{"$nulls":7},39.7,{"$f":"IF(ISBLANK(H222),\" \",IF(ISTEXT(H222),\" \",IF(H222<=Нормативы!$H$220,\"МСМК\",IF(H222<=Нормативы!$H$221,\"МС\",IF(H222<=Нормативы!$H$222,\"КМС\",IF(H222<=Нормативы!$H$223,\"I\",IF(H222<=Нормативы!$H$224,\"II\",IF(H222<=Нормативы!$H$225,\"III\",IF(H222<=Нормативы!$H$226,\"I юн\",IF(H222<=Нормативы!$H$227,\"II юн\",IF(H222<=Нормативы!$H$228,\"III юн\",\"б/р\")))))))))))","v":"КМС"},{"$f":"IF(ISBLANK(H222),\" \",IF(ISTEXT(H222),\" \",IF(H222<=Нормативы!$H$220,\"МСМК\",IF(H222<=Нормативы!$H$221,\"МС\",IF(H222<=Нормативы!$H$222,\"КМС\",IF(H222<=Нормативы!$H$223,\"I\",IF(H222<=Нормативы!$H$224,\"II\",IF(H222<=Нормативы!$H$225,\"III\",IF(H222<=Нормативы!$H$226,\"I юн\",IF(H222<=Нормативы!$H$227,\"II юн\",IF(H222<=Нормативы!$H$228,\"III юн\",\"б/р\")))))))))))","v":"КМС"},null,{"$f":"H222-0.2","v":39.5},{"$f":"IF(ISBLANK(L222),\" \",IF(ISTEXT(L222),\" \",IF(L222<=Нормативы!$H$220,\"КМС\",IF(L222<=Нормативы!$H$221,\"КМС\",IF(L222<=Нормативы!$L$222,\"КМС\",IF(L222<=Нормативы!$L$223,\"I\",IF(L222<=Нормативы!$L$224,\"II\",IF(L222<=Нормативы!$L$225,\"III\",IF(L222<=Нормативы!$L$226,\"I юн\",IF(L222<=Нормативы!$L$227,\"II юн\",IF(L222<=Нормативы!$L$228,\"III юн\",\"б/р\")))))))))))","v":"КМС"},{"$f":"IF(ISBLANK(L222),\" \",IF(ISTEXT(L222),\" \",IF(L222<=Нормативы!$H$220,\"КМС\",IF(L222<=Нормативы!$H$221,\"КМС\",IF(L222<=Нормативы!$L$222,\"КМС\",IF(L222<=Нормативы!$L$223,\"I\",IF(L222<=Нормативы!$L$224,\"II\",IF(L222<=Нормативы!$L$225,\"III\",IF(L222<=Нормативы!$L$226,\"I юн\",IF(L222<=Нормативы!$L$227,\"II юн\",IF(L222<=Нормативы!$L$228,\"III юн\",\"б/р\")))))))))))","v":"КМС"},null,null,{"$f":"IF(ISBLANK(P222),\" \",IF(ISTEXT(P222),\" \",IF(P222<=$H$220,\"МСМК\",IF(P222<=$H$221,\"МС\",IF(P222<=$H$222,\"КМС\",IF(P222<=$H$223,\"I\",IF(P222<=$H$224,\"II\",IF(P222<=$H$225,\"III\",IF(P222<=$H$226,\"I юн\",IF(P222<=$H$227,\"II юн\",IF(P222<=$H$228,\"III юн\",\"б/р\")))))))))))","v":" "}]
[{"$nulls":7},42.7,{"$f":"IF(ISBLANK(H223),\" \",IF(ISTEXT(H223),\" \",IF(H223<=Нормативы!$H$220,\"МСМК\",IF(H223<=Нормативы!$H$221,\"МС\",IF(H223<=Нормативы!$H$222,\"КМС\",IF(H223<=Нормативы!$H$223,\"I\",IF(H223<=Нормативы!$H$224,\"II\",IF(H223<=Нормативы!$H$225,\"III\",IF(H223<=Нормативы!$H$226,\"I юн\",IF(H223<=Нормативы!$H$227,\"II юн\",IF(H223<=Нормативы!$H$228,\"III юн\",\"б/р\")))))))))))","v":"I"},{"$f":"IF(ISBLANK(H223),\" \",IF(ISTEXT(H223),\" \",IF(H223<=Нормативы!$H$220,\"МСМК\",IF(H223<=Нормативы!$H$221,\"МС\",IF(H223<=Нормативы!$H$222,\"КМС\",IF(H223<=Нормативы!$H$223,\"I\",IF(H223<=Нормативы!$H$224,\"II\",IF(H223<=Нормативы!$H$225,\"III\",IF(H223<=Нормативы!$H$226,\"I юн\",IF(H223<=Нормативы!$H$227,\"II юн\",IF(H223<=Нормативы!$H$228,\"III юн\",\"б/р\")))))))))))","v":"I"},null,42.5,{"$f":"IF(ISBLANK(L223),\" \",IF(ISTEXT(L223),\" \",IF(L223<=Нормативы!$H$220,\"КМС\",IF(L223<=Нормативы!$H$221,\"КМС\",IF(L223<=Нормативы!$L$222,\"КМС\",IF(L223<=Нормативы!$L$223,\"I\",IF(L223<=Нормативы!$L$224,\"II\",IF(L223<=Нормативы!$L$225,\"III\",IF(L223<=Нормативы!$L$226,\"I юн\",IF(L223<=Нормативы!$L$227,\"II юн\",IF(L223<=Нормативы!$L$228,\"III юн\",\"б/р\")))))))))))","v":"I"},{"$f":"IF(ISBLANK(L223),\" \",IF(ISTEXT(L223),\" \",IF(L223<=Нормативы!$H$220,\"КМС\",IF(L223<=Нормативы!$H$221,\"КМС\",IF(L223<=Нормативы!$L$222,\"КМС\",IF(L223<=Нормативы!$L$223,\"I\",IF(L223<=Нормативы!$L$224,\"II\",IF(L223<=Нормативы!$L$225,\"III\",IF(L223<=Нормативы!$L$226,\"I юн\",IF(L223<=Нормативы!$L$227,\"II юн\",IF(L223<=Нормативы!$L$228,\"III юн\",\"б/р\")))))))))))","v":"I"},null,null,{"$f":"IF(ISBLANK(P223),\" \",IF(ISTEXT(P223),\" \",IF(P223<=$H$220,\"МСМК\",IF(P223<=$H$221,\"МС\",IF(P223<=$H$222,\"КМС\",IF(P223<=$H$223,\"I\",IF(P223<=$H$224,\"II\",IF(P223<=$H$225,\"III\",IF(P223<=$H$226,\"I юн\",IF(P223<=$H$227,\"II юн\",IF(P223<=$H$228,\"III юн\",\"б/р\")))))))))))","v":" "}]
[{"$nulls":7},46.2,{"$f":"IF(ISBLANK(H224),\" \",IF(ISTEXT(H224),\" \",IF(H224<=Нормативы!$H$220,\"МСМК\",IF(H224<=Нормативы!$H$221,\"МС\",IF(H224<=Нормативы!$H$222,\"КМС\",IF(H224<=Нормативы!$H$223,\"I\",IF(H224<=Нормативы!$H$224,\"II\",IF(H224<=Нормативы!$H$225,\"III\",IF(H224<=Нормативы!$H$226,\"I юн\",IF(H224<=Нормативы!$H$227,\"II юн\",IF(H224<=Нормативы!$H$228,\"III юн\",\"б/р\")))))))))))","v":"II"},{"$f":"IF(ISBLANK(H224),\" \",IF(ISTEXT(H224),\" \",IF(H224<=Нормативы!$H$220,\"МСМК\",IF(H224<=Нормативы!$H$221,\"МС\",IF(H224<=Нормативы!$H$222,\"КМС\",IF(H224<=Нормативы!$H$223,\"I\",IF(H224<=Нормативы!$H$224,\"II\",IF(H224<=Нормативы!$H$225,\"III\",IF(H224<=Нормативы!$H$226,\"I юн\",IF(H224<=Нормативы!$H$227,\"II юн\",IF(H224<=Нормативы!$H$228,\"III юн\",\"б/р\")))))))))))","v":"II"},null,46,{"$f":"IF(ISBLANK(L224),\" \",IF(ISTEXT(L224),\" \",IF(L224<=Нормативы!$H$220,\"КМС\",IF(L224<=Нормативы!$H$221,\"КМС\",IF(L224<=Нормативы!$L$222,\"КМС\",IF(L224<=Нормативы!$L$223,\"I\",IF(L224<=Нормативы!$L$224,\"II\",IF(L224<=Нормативы!$L$225,\"III\",IF(L224<=Нормативы!$L$226,\"I юн\",IF(L224<=Нормативы!$L$227,\"II юн\",IF(L224<=Нормативы!$L$228,\"III юн\",\"б/р\")))))))))))","v":"II"},{"$f":"IF(ISBLANK(L224),\" \",IF(ISTEXT(L224),\" \",IF(L224<=Нормативы!$H$220,\"КМС\",IF(L224<=Нормативы!$H$221,\"КМС\",IF(L224<=Нормативы!$L$222,\"КМС\",IF(L224<=Нормативы!$L$223,\"I\",IF(L224<=Нормативы!$L$224,\"II\",IF(L224<=Нормативы!$L$225,\"III\",IF(L224<=Нормативы!$L$226,\"I юн\",IF(L224<=Нормативы!$L$227,\"II юн\",IF(L224<=Нормативы!$L$228,\"III юн\",\"б/р\")))))))))))","v":"II"},null,null,{"$f":"IF(ISBLANK(P224),\" \",IF(ISTEXT(P224),\" \",IF(P224<=$H$220,\"МСМК\",IF(P224<=$H$221,\"МС\",IF(P224<=$H$222,\"КМС\",IF(P224<=$H$223,\"I\",IF(P224<=$H$224,\"II\",IF(P224<=$H$225,\"III\",IF(P224<=$H$226,\"I юн\",IF(P224<=$H$227,\"II юн\",IF(P224<=$H$228,\"III юн\",\"б/р\")))))))))))","v":" "}]
[{"$nulls":7},50,{"$f":"IF(ISBLANK(H225),\" \",IF(ISTEXT(H225),\" \",IF(H225<=Нормативы!$H$220,\"МСМК\",IF(H225<=Нормативы!$H$221,\"МС\",IF(H225<=Нормативы!$H$222,\"КМС\",IF(H225<=Нормативы!$H$223,\"I\",IF(H225<=Нормативы!$H$224,\"II\",IF(H225<=Нормативы!$H$225,\"III\",IF(H225<=Нормативы!$H$226,\"I юн\",IF(H225<=Нормативы!$H$227,\"II юн\",IF(H225<=Нормативы!$H$228,\"III юн\",\"б/р\")))))))))))","v":"III"},{"$f":"IF(ISBLANK(H225),\" \",IF(ISTEXT(H225),\" \",IF(H225<=Нормативы!$H$220,\"МСМК\",IF(H225<=Нормативы!$H$221,\"МС\",IF(H225<=Нормативы!$H$222,\"КМС\",IF(H225<=Нормативы!$H$223,\"I\",IF(H225<=Нормативы!$H$224,\"II\",IF(H225<=Нормативы!$H$225,\"III\",IF(H225<=Нормативы!$H$226,\"I юн\",IF(H225<=Нормативы!$H$227,\"II юн\",IF(H225<=Нормативы!$H$228,\"III юн\",\"б/р\")))))))))))","v":"III"},null,49.8,{"$f":"IF(ISBLANK(L225),\" \",IF(ISTEXT(L225),\" \",IF(L225<=Нормативы!$H$220,\"КМС\",IF(L225<=Нормативы!$H$221,\"КМС\",IF(L225<=Нормативы!$L$222,\"КМС\",IF(L225<=Нормативы!$L$223,\"I\",IF(L225<=Нормативы!$L$224,\"II\",IF(L225<=Нормативы!$L$225,\"III\",IF(L225<=Нормативы!$L$226,\"I юн\",IF(L225<=Нормативы!$L$227,\"II юн\",IF(L225<=Нормативы!$L$228,\"III юн\",\"б/р\")))))))))))","v":"III"},{"$f":"IF(ISBLANK(L225),\" \",IF(ISTEXT(L225),\" \",IF(L225<=Нормативы!$H$220,\"КМС\",IF(L225<=Нормативы!$H$221,\"КМС\",IF(L225<=Нормативы!$L$222,\"КМС\",IF(L225<=Нормативы!$L$223,\"I\",IF(L225<=Нормативы!$L$224,\"II\",IF(L225<=Нормативы!$L$225,\"III\",IF(L225<=Нормативы!$L$226,\"I юн\",IF(L225<=Нормативы!$L$227,\"II юн\",IF(L225<=Нормативы!$L$228,\"III юн\",\"б/р\")))))))))))","v":"III"},null,null,{"$f":"IF(ISBLANK(P225),\" \",IF(ISTEXT(P225),\" \",IF(P225<=$H$220,\"МСМК\",IF(P225<=$H$221,\"МС\",IF(P225<=$H$222,\"КМС\",IF(P225<=$H$223,\"I\",IF(P225<=$H$224,\"II\",IF(P225<=$H$225,\"III\",IF(P225<=$H$226,\"I юн\",IF(P225<=$H$227,\"II юн\",IF(P225<=$H$228,\"III юн\",\"б/р\")))))))))))","v":" "}]
[{"$nulls":7},54.7,{"$f":"IF(ISBLANK(H226),\" \",IF(ISTEXT(H226),\" \",IF(H226<=Нормативы!$H$220,\"МСМК\",IF(H226<=Нормативы!$H$221,\"МС\",IF(H226<=Нормативы!$H$222,\"КМС\",IF(H226<=Нормативы!$H$223,\"I\",IF(H226<=Нормативы!$H$224,\"II\",IF(H226<=Нормативы!$H$225,\"III\",IF(H226<=Нормативы!$H$226,\"I юн\",IF(H226<=Нормативы!$H$227,\"II юн\",IF(H226<=Нормативы!$H$228,\"III юн\",\"б/р\")))))))))))","v":"I юн"},{"$f":"IF(ISBLANK(H226),\" \",IF(ISTEXT(H226),\" \",IF(H226<=Нормативы!$H$220,\"МСМК\",IF(H226<=Нормативы!$H$221,\"МС\",IF(H226<=Нормативы!$H$222,\"КМС\",IF(H226<=Нормативы!$H$223,\"I\",IF(H226<=Нормативы!$H$224,\"II\",IF(H226<=Нормативы!$H$225,\"III\",IF(H226<=Нормативы!$H$226,\"I юн\",IF(H226<=Нормативы!$H$227,\"II юн\",IF(H226<=Нормативы!$H$228,\"III юн\",\"б/р\")))))))))))","v":"I юн"},null,54.5,{"$f":"IF(ISBLANK(L226),\" \",IF(ISTEXT(L226),\" \",IF(L226<=Нормативы!$H$220,\"КМС\",IF(L226<=Нормативы!$H$221,\"КМС\",IF(L226<=Нормативы!$L$222,\"КМС\",IF(L226<=Нормативы!$L$223,\"I\",IF(L226<=Нормативы!$L$224,\"II\",IF(L226<=Нормативы!$L$225,\"III\",IF(L226<=Нормативы!$L$226,\"I юн\",IF(L226<=Нормативы!$L$227,\"II юн\",IF(L226<=Нормативы!$L$228,\"III юн\",\"б/р\")))))))))))","v":"I юн"},{"$f":"IF(ISBLANK(L226),\" \",IF(ISTEXT(L226),\" \",IF(L226<=Нормативы!$H$220,\"КМС\",IF(L226<=Нормативы!$H$221,\"КМС\",IF(L226<=Нормативы!$L$222,\"КМС\",IF(L226<=Нормативы!$L$223,\"I\",IF(L226<=Нормативы!$L$224,\"II\",IF(L226<=Нормативы!$L$225,\"III\",IF(L226<=Нормативы!$L$226,\"I юн\",IF(L226<=Нормативы!$L$227,\"II юн\",IF(L226<=Нормативы!$L$228,\"III юн\",\"б/р\")))))))))))","v":"I юн"},null,null,{"$f":"IF(ISBLANK(P226),\" \",IF(ISTEXT(P226),\" \",IF(P226<=$H$220,\"МСМК\",IF(P226<=$H$221,\"МС\",IF(P226<=$H$222,\"КМС\",IF(P226<=$H$223,\"I\",IF(P226<=$H$224,\"II\",IF(P226<=$H$225,\"III\",IF(P226<=$H$226,\"I юн\",IF(P226<=$H$227,\"II юн\",IF(P226<=$H$228,\"III юн\",\"б/р\")))))))))))","v":" "}]
[{"$nulls":7},59.900000000000006,{"$f":"IF(ISBLANK(H227),\" \",IF(ISTEXT(H227),\" \",IF(H227<=Нормативы!$H$220,\"МСМК\",IF(H227<=Нормативы!$H$221,\"МС\",IF(H227<=Нормативы!$H$222,\"КМС\",IF(H227<=Нормативы!$H$223,\"I\",IF(H227<=Нормативы!$H$224,\"II\",IF(H227<=Нормативы!$H$225,\"III\",IF(H227<=Нормативы!$H$226,\"I юн\",IF(H227<=Нормативы!$H$227,\"II юн\",IF(H227<=Нормативы!$H$228,\"III юн\",\"б/р\")))))))))))","v":"II юн"},{"$f":"IF(ISBLANK(H227),\" \",IF(ISTEXT(H227),\" \",IF(H227<=Нормативы!$H$220,\"МСМК\",IF(H227<=Нормативы!$H$221,\"МС\",IF(H227<=Нормативы!$H$222,\"КМС\",IF(H227<=Нормативы!$H$223,\"I\",IF(H227<=Нормативы!$H$224,\"II\",IF(H227<=Нормативы!$H$225,\"III\",IF(H227<=Нормативы!$H$226,\"I юн\",IF(H227<=Нормативы!$H$227,\"II юн\",IF(H227<=Нормативы!$H$228,\"III юн\",\"б/р\")))))))))))","v":"II юн"},null,59.7,{"$f":"IF(ISBLANK(L227),\" \",IF(ISTEXT(L227),\" \",IF(L227<=Нормативы!$H$220,\"КМС\",IF(L227<=Нормативы!$H$221,\"КМС\",IF(L227<=Нормативы!$L$222,\"КМС\",IF(L227<=Нормативы!$L$223,\"I\",IF(L227<=Нормативы!$L$224,\"II\",IF(L227<=Нормативы!$L$225,\"III\",IF(L227<=Нормативы!$L$226,\"I юн\",IF(L227<=Нормативы!$L$227,\"II юн\",IF(L227<=Нормативы!$L$228,\"III юн\",\"б/р\")))))))))))","v":"II юн"},{"$f":"IF(ISBLANK(L227),\" \",IF(ISTEXT(L227),\" \",IF(L227<=Нормативы!$H$220,\"КМС\",IF(L227<=Нормативы!$H$221,\"КМС\",IF(L227<=Нормативы!$L$222,\"КМС\",IF(L227<=Нормативы!$L$223,\"I\",IF(L227<=Нормативы!$L$224,\"II\",IF(L227<=Нормативы!$L$225,\"III\",IF(L227<=Нормативы!$L$226,\"I юн\",IF(L227<=Нормативы!$L$227,\"II юн\",IF(L227<=Нормативы!$L$228,\"III юн\",\"б/р\")))))))))))","v":"II юн"},null,null,{"$f":"IF(ISBLANK(P227),\" \",IF(ISTEXT(P227),\" \",IF(P227<=$H$220,\"МСМК\",IF(P227<=$H$221,\"МС\",IF(P227<=$H$222,\"КМС\",IF(P227<=$H$223,\"I\",IF(P227<=$H$224,\"II\",IF(P227<=$H$225,\"III\",IF(P227<=$H$226,\"I юн\",IF(P227<=$H$227,\"II юн\",IF(P227<=$H$228,\"III юн\",\"б/р\")))))))))))","v":" "}]
[{"$nulls":7},104.9,{"$f":"IF(ISBLANK(H228),\" \",IF(ISTEXT(H228),\" \",IF(H228<=Нормативы!$H$220,\"МСМК\",IF(H228<=Нормативы!$H$221,\"МС\",IF(H228<=Нормативы!$H$222,\"КМС\",IF(H228<=Нормативы!$H$223,\"I\",IF(H228<=Нормативы!$H$224,\"II\",IF(H228<=Нормативы!$H$225,\"III\",IF(H228<=Нормативы!$H$226,\"I юн\",IF(H228<=Нормативы!$H$227,\"II юн\",IF(H228<=Нормативы!$H$228,\"III юн\",\"б/р\")))))))))))","v":"III юн"},{"$f":"IF(ISBLANK(H228),\" \",IF(ISTEXT(H228),\" \",IF(H228<=Нормативы!$H$220,\"МСМК\",IF(H228<=Нормативы!$H$221,\"МС\",IF(H228<=Нормативы!$H$222,\"КМС\",IF(H228<=Нормативы!$H$223,\"I\",IF(H228<=Нормативы!$H$224,\"II\",IF(H228<=Нормативы!$H$225,\"III\",IF(H228<=Нормативы!$H$226,\"I юн\",IF(H228<=Нормативы!$H$227,\"II юн\",IF(H228<=Нормативы!$H$228,\"III юн\",\"б/р\")))))))))))","v":"III юн"},null,104.7,{"$f":"IF(ISBLANK(L228),\" \",IF(ISTEXT(L228),\" \",IF(L228<=Нормативы!$H$220,\"КМС\",IF(L228<=Нормативы!$H$221,\"КМС\",IF(L228<=Нормативы!$L$222,\"КМС\",IF(L228<=Нормативы!$L$223,\"I\",IF(L228<=Нормативы!$L$224,\"II\",IF(L228<=Нормативы!$L$225,\"III\",IF(L228<=Нормативы!$L$226,\"I юн\",IF(L228<=Нормативы!$L$227,\"II юн\",IF(L228<=Нормативы!$L$228,\"III юн\",\"б/р\")))))))))))","v":"III юн"},{"$f":"IF(ISBLANK(L228),\" \",IF(ISTEXT(L228),\" \",IF(L228<=Нормативы!$H$220,\"КМС\",IF(L228<=Нормативы!$H$221,\"КМС\",IF(L228<=Нормативы!$L$222,\"КМС\",IF(L228<=Нормативы!$L$223,\"I\",IF(L228<=Нормативы!$L$224,\"II\",IF(L228<=Нормативы!$L$225,\"III\",IF(L228<=Нормативы!$L$226,\"I юн\",IF(L228<=Нормативы!$L$227,\"II юн\",IF(L228<=Нормативы!$L$228,\"III юн\",\"б/р\")))))))))))","v":"III юн"},null,null,{"$f":"IF(ISBLANK(P228),\" \",IF(ISTEXT(P228),\" \",IF(P228<=$H$220,\"МСМК\",IF(P228<=$H$221,\"МС\",IF(P228<=$H$222,\"КМС\",IF(P228<=$H$223,\"I\",IF(P228<=$H$224,\"II\",IF(P228<=$H$225,\"III\",IF(P228<=$H$226,\"I юн\",IF(P228<=$H$227,\"II юн\",IF(P228<=$H$228,\"III юн\",\"б/р\")))))))))))","v":" "}]
[]
[null,null,"Подводное плавание - 100 м (1460141811Я),  мужчины"]
[{"$nulls":7},33,{"$f":"IF(ISBLANK(H231),\" \",IF(ISTEXT(H231),\" \",IF(H231<=Нормативы!$H$231,\"МСМК\",IF(H231<=Нормативы!$H$232,\"МС\",IF(H231<=Нормативы!$H$233,\"КМС\",IF(H231<=Нормативы!$H$234,\"I\",IF(H231<=Нормативы!$H$235,\"II\",IF(H231<=Нормативы!$H$236,\"III\",IF(H231<=Нормативы!$H$237,\"I юн\",IF(H231<=Нормативы!$H$238,\"II юн\",IF(H231<=Нормативы!$H$239,\"III юн\",\"б/р\")))))))))))","v":"МСМК"},{"$f":"IF(ISBLANK(H231),\" \",IF(ISTEXT(H231),\" \",IF(H231<=Нормативы!$H$231,\"МСМК\",IF(H231<=Нормативы!$H$232,\"МС\",IF(H231<=Нормативы!$H$233,\"КМС\",IF(H231<=Нормативы!$H$234,\"I\",IF(H231<=Нормативы!$H$235,\"II\",IF(H231<=Нормативы!$H$236,\"III\",IF(H231<=Нормативы!$H$237,\"I юн\",IF(H231<=Нормативы!$H$238,\"II юн\",IF(H231<=Нормативы!$H$239,\"III юн\",\"б/р\")))))))))))","v":"МСМК"},null,null,{"$f":"IF(ISBLANK(L231),\" \",IF(ISTEXT(L231),\" \",IF(L231<=Нормативы!$H$231,\"КМС\",IF(L231<=Нормативы!$H$232,\"КМС\",IF(L231<=Нормативы!$L$233,\"КМС\",IF(L231<=Нормативы!$L$234,\"I\",IF(L231<=Нормативы!$L$235,\"II\",IF(L231<=Нормативы!$L$236,\"III\",IF(L231<=Нормативы!$L$237,\"I юн\",IF(L231<=Нормативы!$L$238,\"II юн\",IF(L231<=Нормативы!$L$239,\"III юн\",\"б/р\")))))))))))","v":" "},{"$f":"IF(ISBLANK(L231),\" \",IF(ISTEXT(L231),\" \",IF(L231<=Нормативы!$H$231,\"КМС\",IF(L231<=Нормативы!$H$232,\"КМС\",IF(L231<=Нормативы!$L$233,\"КМС\",IF(L231<=Нормативы!$L$234,\"I\",IF(L231<=Нормативы!$L$235,\"II\",IF(L231<=Нормативы!$L$236,\"III\",IF(L231<=Нормативы!$L$237,\"I юн\",IF(L231<=Нормативы!$L$238,\"II юн\",IF(L231<=Нормативы!$L$239,\"III юн\",\"б/р\")))))))))))","v":" "},null,null,{"$f":"IF(ISBLANK(P231),\" \",IF(ISTEXT(P231),\" \",IF(P231<=$H$231,\"МСМК\",IF(P231<=$H$232,\"МС\",IF(P231<=$H$233,\"КМС\",IF(P231<=$H$234,\"I\",IF(P231<=$H$235,\"II\",IF(P231<=$H$236,\"III\",IF(P231<=$H$237,\"I юн\",IF(P231<=$H$238,\"II юн\",IF(P231<=$H$239,\"III юн\",\"б/р\")))))))))))","v":" "}]
[{"$nulls":7},34.5,{"$f":"IF(ISBLANK(H232),\" \",IF(ISTEXT(H232),\" \",IF(H232<=Нормативы!$H$231,\"МСМК\",IF(H232<=Нормативы!$H$232,\"МС\",IF(H232<=Нормативы!$H$233,\"КМС\",IF(H232<=Нормативы!$H$234,\"I\",IF(H232<=Нормативы!$H$235,\"II\",IF(H232<=Нормативы!$H$236,\"III\",IF(H232<=Нормативы!$H$237,\"I юн\",IF(H232<=Нормативы!$H$238,\"II юн\",IF(H232<=Нормативы!$H$239,\"III юн\",\"б/р\")))))))))))","v":"МС"},{"$f":"IF(ISBLANK(H232),\" \",IF(ISTEXT(H232),\" \",IF(H232<=Нормативы!$H$231,\"МСМК\",IF(H232<=Нормативы!$H$232,\"МС\",IF(H232<=Нормативы!$H$233,\"КМС\",IF(H232<=Нормативы!$H$234,\"I\",IF(H232<=Нормативы!$H$235,\"II\",IF(H232<=Нормативы!$H$236,\"III\",IF(H232<=Нормативы!$H$237,\"I юн\",IF(H232<=Нормативы!$H$238,\"II юн\",IF(H232<=Нормативы!$H$239,\"III юн\",\"б/р\")))))))))))","v":"МС"},null,null,{"$f":"IF(ISBLANK(L232),\" \",IF(ISTEXT(L232),\" \",IF(L232<=Нормативы!$H$231,\"КМС\",IF(L232<=Нормативы!$H$232,\"КМС\",IF(L232<=Нормативы!$L$233,\"КМС\",IF(L232<=Нормативы!$L$234,\"I\",IF(L232<=Нормативы!$L$235,\"II\",IF(L232<=Нормативы!$L$236,\"III\",IF(L232<=Нормативы!$L$237,\"I юн\",IF(L232<=Нормативы!$L$238,\"II юн\",IF(L232<=Нормативы!$L$239,\"III юн\",\"б/р\")))))))))))","v":" "},{"$f":"IF(ISBLANK(L232),\" \",IF(ISTEXT(L232),\" \",IF(L232<=Нормативы!$H$231,\"КМС\",IF(L232<=Нормативы!$H$232,\"КМС\",IF(L232<=Нормативы!$L$233,\"КМС\",IF(L232<=Нормативы!$L$234,\"I\",IF(L232<=Нормативы!$L$235,\"II\",IF(L232<=Нормативы!$L$236,\"III\",IF(L232<=Нормативы!$L$237,\"I юн\",IF(L232<=Нормативы!$L$238,\"II юн\",IF(L232<=Нормативы!$L$239,\"III юн\",\"б/р\")))))))))))","v":" "},null,null,{"$f":"IF(ISBLANK(P232),\" \",IF(ISTEXT(P232),\" \",IF(P232<=$H$231,\"МСМК\",IF(P232<=$H$232,\"МС\",IF(P232<=$H$233,\"КМС\",IF(P232<=$H$234,\"I\",IF(P232<=$H$235,\"II\",IF(P232<=$H$236,\"III\",IF(P232<=$H$237,\"I юн\",IF(P232<=$H$238,\"II юн\",IF(P232<=$H$239,\"III юн\",\"б/р\")))))))))))","v":" "}]
[{"$nulls":7},36.2,{"$f":"IF(ISBLANK(H233),\" \",IF(ISTEXT(H233),\" \",IF(H233<=Нормативы!$H$231,\"МСМК\",IF(H233<=Нормативы!$H$232,\"МС\",IF(H233<=Нормативы!$H$233,\"КМС\",IF(H233<=Нормативы!$H$234,\"I\",IF(H233<=Нормативы!$H$235,\"II\",IF(H233<=Нормативы!$H$236,\"III\",IF(H233<=Нормативы!$H$237,\"I юн\",IF(H233<=Нормативы!$H$238,\"II юн\",IF(H233<=Нормативы!$H$239,\"III юн\",\"б/р\")))))))))))","v":"КМС"},{"$f":"IF(ISBLANK(H233),\" \",IF(ISTEXT(H233),\" \",IF(H233<=Нормативы!$H$231,\"МСМК\",IF(H233<=Нормативы!$H$232,\"МС\",IF(H233<=Нормативы!$H$233,\"КМС\",IF(H233<=Нормативы!$H$234,\"I\",IF(H233<=Нормативы!$H$235,\"II\",IF(H233<=Нормативы!$H$236,\"III\",IF(H233<=Нормативы!$H$237,\"I юн\",IF(H233<=Нормативы!$H$238,\"II юн\",IF(H233<=Нормативы!$H$239,\"III юн\",\"б/р\")))))))))))","v":"КМС"},null,{"$f":"H233-0.2","v":36},{"$f":"IF(ISBLANK(L233),\" \",IF(ISTEXT(L233),\" \",IF(L233<=Нормативы!$H$231,\"КМС\",IF(L233<=Нормативы!$H$232,\"КМС\",IF(L233<=Нормативы!$L$233,\"КМС\",IF(L233<=Нормативы!$L$234,\"I\",IF(L233<=Нормативы!$L$235,\"II\",IF(L233<=Нормативы!$L$236,\"III\",IF(L233<=Нормативы!$L$237,\"I юн\",IF(L233<=Нормативы!$L$238,\"II юн\",IF(L233<=Нормативы!$L$239,\"III юн\",\"б/р\")))))))))))","v":"КМС"},{"$f":"IF(ISBLANK(L233),\" \",IF(ISTEXT(L233),\" \",IF(L233<=Нормативы!$H$231,\"КМС\",IF(L233<=Нормативы!$H$232,\"КМС\",IF(L233<=Нормативы!$L$233,\"КМС\",IF(L233<=Нормативы!$L$234,\"I\",IF(L233<=Нормативы!$L$235,\"II\",IF(L233<=Нормативы!$L$236,\"III\",IF(L233<=Нормативы!$L$237,\"I юн\",IF(L233<=Нормативы!$L$238,\"II юн\",IF(L233<=Нормативы!$L$239,\"III юн\",\"б/р\")))))))))))","v":"КМС"},null,null,{"$f":"IF(ISBLANK(P233),\" \",IF(ISTEXT(P233),\" \",IF(P233<=$H$231,\"МСМК\",IF(P233<=$H$232,\"МС\",IF(P233<=$H$233,\"КМС\",IF(P233<=$H$234,\"I\",IF(P233<=$H$235,\"II\",IF(P233<=$H$236,\"III\",IF(P233<=$H$237,\"I юн\",IF(P233<=$H$238,\"II юн\",IF(P233<=$H$239,\"III юн\",\"б/р\")))))))))))","v":" "}]
[{"$nulls":7},39.900000000000006,{"$f":"IF(ISBLANK(H234),\" \",IF(ISTEXT(H234),\" \",IF(H234<=Нормативы!$H$231,\"МСМК\",IF(H234<=Нормативы!$H$232,\"МС\",IF(H234<=Нормативы!$H$233,\"КМС\",IF(H234<=Нормативы!$H$234,\"I\",IF(H234<=Нормативы!$H$235,\"II\",IF(H234<=Нормативы!$H$236,\"III\",IF(H234<=Нормативы!$H$237,\"I юн\",IF(H234<=Нормативы!$H$238,\"II юн\",IF(H234<=Нормативы!$H$239,\"III юн\",\"б/р\")))))))))))","v":"I"},{"$f":"IF(ISBLANK(H234),\" \",IF(ISTEXT(H234),\" \",IF(H234<=Нормативы!$H$231,\"МСМК\",IF(H234<=Нормативы!$H$232,\"МС\",IF(H234<=Нормативы!$H$233,\"КМС\",IF(H234<=Нормативы!$H$234,\"I\",IF(H234<=Нормативы!$H$235,\"II\",IF(H234<=Нормативы!$H$236,\"III\",IF(H234<=Нормативы!$H$237,\"I юн\",IF(H234<=Нормативы!$H$238,\"II юн\",IF(H234<=Нормативы!$H$239,\"III юн\",\"б/р\")))))))))))","v":"I"},null,39.7,{"$f":"IF(ISBLANK(L234),\" \",IF(ISTEXT(L234),\" \",IF(L234<=Нормативы!$H$231,\"КМС\",IF(L234<=Нормативы!$H$232,\"КМС\",IF(L234<=Нормативы!$L$233,\"КМС\",IF(L234<=Нормативы!$L$234,\"I\",IF(L234<=Нормативы!$L$235,\"II\",IF(L234<=Нормативы!$L$236,\"III\",IF(L234<=Нормативы!$L$237,\"I юн\",IF(L234<=Нормативы!$L$238,\"II юн\",IF(L234<=Нормативы!$L$239,\"III юн\",\"б/р\")))))))))))","v":"I"},{"$f":"IF(ISBLANK(L234),\" \",IF(ISTEXT(L234),\" \",IF(L234<=Нормативы!$H$231,\"КМС\",IF(L234<=Нормативы!$H$232,\"КМС\",IF(L234<=Нормативы!$L$233,\"КМС\",IF(L234<=Нормативы!$L$234,\"I\",IF(L234<=Нормативы!$L$235,\"II\",IF(L234<=Нормативы!$L$236,\"III\",IF(L234<=Нормативы!$L$237,\"I юн\",IF(L234<=Нормативы!$L$238,\"II юн\",IF(L234<=Нормативы!$L$239,\"III юн\",\"б/р\")))))))))))","v":"I"},null,null,{"$f":"IF(ISBLANK(P234),\" \",IF(ISTEXT(P234),\" \",IF(P234<=$H$231,\"МСМК\",IF(P234<=$H$232,\"МС\",IF(P234<=$H$233,\"КМС\",IF(P234<=$H$234,\"I\",IF(P234<=$H$235,\"II\",IF(P234<=$H$236,\"III\",IF(P234<=$H$237,\"I юн\",IF(P234<=$H$238,\"II юн\",IF(P234<=$H$239,\"III юн\",\"б/р\")))))))))))","v":" "}]
[{"$nulls":7},42.2,{"$f":"IF(ISBLANK(H235),\" \",IF(ISTEXT(H235),\" \",IF(H235<=Нормативы!$H$231,\"МСМК\",IF(H235<=Нормативы!$H$232,\"МС\",IF(H235<=Нормативы!$H$233,\"КМС\",IF(H235<=Нормативы!$H$234,\"I\",IF(H235<=Нормативы!$H$235,\"II\",IF(H235<=Нормативы!$H$236,\"III\",IF(H235<=Нормативы!$H$237,\"I юн\",IF(H235<=Нормативы!$H$238,\"II юн\",IF(H235<=Нормативы!$H$239,\"III юн\",\"б/р\")))))))))))","v":"II"},{"$f":"IF(ISBLANK(H235),\" \",IF(ISTEXT(H235),\" \",IF(H235<=Нормативы!$H$231,\"МСМК\",IF(H235<=Нормативы!$H$232,\"МС\",IF(H235<=Нормативы!$H$233,\"КМС\",IF(H235<=Нормативы!$H$234,\"I\",IF(H235<=Нормативы!$H$235,\"II\",IF(H235<=Нормативы!$H$236,\"III\",IF(H235<=Нормативы!$H$237,\"I юн\",IF(H235<=Нормативы!$H$238,\"II юн\",IF(H235<=Нормативы!$H$239,\"III юн\",\"б/р\")))))))))))","v":"II"},null,42,{"$f":"IF(ISBLANK(L235),\" \",IF(ISTEXT(L235),\" \",IF(L235<=Нормативы!$H$231,\"КМС\",IF(L235<=Нормативы!$H$232,\"КМС\",IF(L235<=Нормативы!$L$233,\"КМС\",IF(L235<=Нормативы!$L$234,\"I\",IF(L235<=Нормативы!$L$235,\"II\",IF(L235<=Нормативы!$L$236,\"III\",IF(L235<=Нормативы!$L$237,\"I юн\",IF(L235<=Нормативы!$L$238,\"II юн\",IF(L235<=Нормативы!$L$239,\"III юн\",\"б/р\")))))))))))","v":"II"},{"$f":"IF(ISBLANK(L235),\" \",IF(ISTEXT(L235),\" \",IF(L235<=Нормативы!$H$231,\"КМС\",IF(L235<=Нормативы!$H$232,\"КМС\",IF(L235<=Нормативы!$L$233,\"КМС\",IF(L235<=Нормативы!$L$234,\"I\",IF(L235<=Нормативы!$L$235,\"II\",IF(L235<=Нормативы!$L$236,\"III\",IF(L235<=Нормативы!$L$237,\"I юн\",IF(L235<=Нормативы!$L$238,\"II юн\",IF(L235<=Нормативы!$L$239,\"III юн\",\"б/р\")))))))))))","v":"II"},null,null,{"$f":"IF(ISBLANK(P235),\" \",IF(ISTEXT(P235),\" \",IF(P235<=$H$231,\"МСМК\",IF(P235<=$H$232,\"МС\",IF(P235<=$H$233,\"КМС\",IF(P235<=$H$234,\"I\",IF(P235<=$H$235,\"II\",IF(P235<=$H$236,\"III\",IF(P235<=$H$237,\"I юн\",IF(P235<=$H$238,\"II юн\",IF(P235<=$H$239,\"III юн\",\"б/р\")))))))))))","v":" "}]
[{"$nulls":7},45.900000000000006,{"$f":"IF(ISBLANK(H236),\" \",IF(ISTEXT(H236),\" \",IF(H236<=Нормативы!$H$231,\"МСМК\",IF(H236<=Нормативы!$H$232,\"МС\",IF(H236<=Нормативы!$H$233,\"КМС\",IF(H236<=Нормативы!$H$234,\"I\",IF(H236<=Нормативы!$H$235,\"II\",IF(H236<=Нормативы!$H$236,\"III\",IF(H236<=Нормативы!$H$237,\"I юн\",IF(H236<=Нормативы!$H$238,\"II юн\",IF(H236<=Нормативы!$H$239,\"III юн\",\"б/р\")))))))))))","v":"III"},{"$f":"IF(ISBLANK(H236),\" \",IF(ISTEXT(H236),\" \",IF(H236<=Нормативы!$H$231,\"МСМК\",IF(H236<=Нормативы!$H$232,\"МС\",IF(H236<=Нормативы!$H$233,\"КМС\",IF(H236<=Нормативы!$H$234,\"I\",IF(H236<=Нормативы!$H$235,\"II\",IF(H236<=Нормативы!$H$236,\"III\",IF(H236<=Нормативы!$H$237,\"I юн\",IF(H236<=Нормативы!$H$238,\"II юн\",IF(H236<=Нормативы!$H$239,\"III юн\",\"б/р\")))))))))))","v":"III"},null,45.7,{"$f":"IF(ISBLANK(L236),\" \",IF(ISTEXT(L236),\" \",IF(L236<=Нормативы!$H$231,\"КМС\",IF(L236<=Нормативы!$H$232,\"КМС\",IF(L236<=Нормативы!$L$233,\"КМС\",IF(L236<=Нормативы!$L$234,\"I\",IF(L236<=Нормативы!$L$235,\"II\",IF(L236<=Нормативы!$L$236,\"III\",IF(L236<=Нормативы!$L$237,\"I юн\",IF(L236<=Нормативы!$L$238,\"II юн\",IF(L236<=Нормативы!$L$239,\"III юн\",\"б/р\")))))))))))","v":"III"},{"$f":"IF(ISBLANK(L236),\" \",IF(ISTEXT(L236),\" \",IF(L236<=Нормативы!$H$231,\"КМС\",IF(L236<=Нормативы!$H$232,\"КМС\",IF(L236<=Нормативы!$L$233,\"КМС\",IF(L236<=Нормативы!$L$234,\"I\",IF(L236<=Нормативы!$L$235,\"II\",IF(L236<=Нормативы!$L$236,\"III\",IF(L236<=Нормативы!$L$237,\"I юн\",IF(L236<=Нормативы!$L$238,\"II юн\",IF(L236<=Нормативы!$L$239,\"III юн\",\"б/р\")))))))))))","v":"III"},null,null,{"$f":"IF(ISBLANK(P236),\" \",IF(ISTEXT(P236),\" \",IF(P236<=$H$231,\"МСМК\",IF(P236<=$H$232,\"МС\",IF(P236<=$H$233,\"КМС\",IF(P236<=$H$234,\"I\",IF(P236<=$H$235,\"II\",IF(P236<=$H$236,\"III\",IF(P236<=$H$237,\"I юн\",IF(P236<=$H$238,\"II юн\",IF(P236<=$H$239,\"III юн\",\"б/р\")))))))))))","v":" "}]
[{"$nulls":7},50.2,{"$f":"IF(ISBLANK(H237),\" \",IF(ISTEXT(H237),\" \",IF(H237<=Нормативы!$H$231,\"МСМК\",IF(H237<=Нормативы!$H$232,\"МС\",IF(H237<=Нормативы!$H$233,\"КМС\",IF(H237<=Нормативы!$H$234,\"I\",IF(H237<=Нормативы!$H$235,\"II\",IF(H237<=Нормативы!$H$236,\"III\",IF(H237<=Нормативы!$H$237,\"I юн\",IF(H237<=Нормативы!$H$238,\"II юн\",IF(H237<=Нормативы!$H$239,\"III юн\",\"б/р\")))))))))))","v":"I юн"},{"$f":"IF(ISBLANK(H237),\" \",IF(ISTEXT(H237),\" \",IF(H237<=Нормативы!$H$231,\"МСМК\",IF(H237<=Нормативы!$H$232,\"МС\",IF(H237<=Нормативы!$H$233,\"КМС\",IF(H237<=Нормативы!$H$234,\"I\",IF(H237<=Нормативы!$H$235,\"II\",IF(H237<=Нормативы!$H$236,\"III\",IF(H237<=Нормативы!$H$237,\"I юн\",IF(H237<=Нормативы!$H$238,\"II юн\",IF(H237<=Нормативы!$H$239,\"III юн\",\"б/р\")))))))))))","v":"I юн"},null,50,{"$f":"IF(ISBLANK(L237),\" \",IF(ISTEXT(L237),\" \",IF(L237<=Нормативы!$H$231,\"КМС\",IF(L237<=Нормативы!$H$232,\"КМС\",IF(L237<=Нормативы!$L$233,\"КМС\",IF(L237<=Нормативы!$L$234,\"I\",IF(L237<=Нормативы!$L$235,\"II\",IF(L237<=Нормативы!$L$236,\"III\",IF(L237<=Нормативы!$L$237,\"I юн\",IF(L237<=Нормативы!$L$238,\"II юн\",IF(L237<=Нормативы!$L$239,\"III юн\",\"б/р\")))))))))))","v":"I юн"},{"$f":"IF(ISBLANK(L237),\" \",IF(ISTEXT(L237),\" \",IF(L237<=Нормативы!$H$231,\"КМС\",IF(L237<=Нормативы!$H$232,\"КМС\",IF(L237<=Нормативы!$L$233,\"КМС\",IF(L237<=Нормативы!$L$234,\"I\",IF(L237<=Нормативы!$L$235,\"II\",IF(L237<=Нормативы!$L$236,\"III\",IF(L237<=Нормативы!$L$237,\"I юн\",IF(L237<=Нормативы!$L$238,\"II юн\",IF(L237<=Нормативы!$L$239,\"III юн\",\"б/р\")))))))))))","v":"I юн"},null,null,{"$f":"IF(ISBLANK(P237),\" \",IF(ISTEXT(P237),\" \",IF(P237<=$H$231,\"МСМК\",IF(P237<=$H$232,\"МС\",IF(P237<=$H$233,\"КМС\",IF(P237<=$H$234,\"I\",IF(P237<=$H$235,\"II\",IF(P237<=$H$236,\"III\",IF(P237<=$H$237,\"I юн\",IF(P237<=$H$238,\"II юн\",IF(P237<=$H$239,\"III юн\",\"б/р\")))))))))))","v":" "}]
[{"$nulls":7},54.900000000000006,{"$f":"IF(ISBLANK(H238),\" \",IF(ISTEXT(H238),\" \",IF(H238<=Нормативы!$H$231,\"МСМК\",IF(H238<=Нормативы!$H$232,\"МС\",IF(H238<=Нормативы!$H$233,\"КМС\",IF(H238<=Нормативы!$H$234,\"I\",IF(H238<=Нормативы!$H$235,\"II\",IF(H238<=Нормативы!$H$236,\"III\",IF(H238<=Нормативы!$H$237,\"I юн\",IF(H238<=Нормативы!$H$238,\"II юн\",IF(H238<=Нормативы!$H$239,\"III юн\",\"б/р\")))))))))))","v":"II юн"},{"$f":"IF(ISBLANK(H238),\" \",IF(ISTEXT(H238),\" \",IF(H238<=Нормативы!$H$231,\"МСМК\",IF(H238<=Нормативы!$H$232,\"МС\",IF(H238<=Нормативы!$H$233,\"КМС\",IF(H238<=Нормативы!$H$234,\"I\",IF(H238<=Нормативы!$H$235,\"II\",IF(H238<=Нормативы!$H$236,\"III\",IF(H238<=Нормативы!$H$237,\"I юн\",IF(H238<=Нормативы!$H$238,\"II юн\",IF(H238<=Нормативы!$H$239,\"III юн\",\"б/р\")))))))))))","v":"II юн"},null,54.7,{"$f":"IF(ISBLANK(L238),\" \",IF(ISTEXT(L238),\" \",IF(L238<=Нормативы!$H$231,\"КМС\",IF(L238<=Нормативы!$H$232,\"КМС\",IF(L238<=Нормативы!$L$233,\"КМС\",IF(L238<=Нормативы!$L$234,\"I\",IF(L238<=Нормативы!$L$235,\"II\",IF(L238<=Нормативы!$L$236,\"III\",IF(L238<=Нормативы!$L$237,\"I юн\",IF(L238<=Нормативы!$L$238,\"II юн\",IF(L238<=Нормативы!$L$239,\"III юн\",\"б/р\")))))))))))","v":"II юн"},{"$f":"IF(ISBLANK(L238),\" \",IF(ISTEXT(L238),\" \",IF(L238<=Нормативы!$H$231,\"КМС\",IF(L238<=Нормативы!$H$232,\"КМС\",IF(L238<=Нормативы!$L$233,\"КМС\",IF(L238<=Нормативы!$L$234,\"I\",IF(L238<=Нормативы!$L$235,\"II\",IF(L238<=Нормативы!$L$236,\"III\",IF(L238<=Нормативы!$L$237,\"I юн\",IF(L238<=Нормативы!$L$238,\"II юн\",IF(L238<=Нормативы!$L$239,\"III юн\",\"б/р\")))))))))))","v":"II юн"},null,null,{"$f":"IF(ISBLANK(P238),\" \",IF(ISTEXT(P238),\" \",IF(P238<=$H$231,\"МСМК\",IF(P238<=$H$232,\"МС\",IF(P238<=$H$233,\"КМС\",IF(P238<=$H$234,\"I\",IF(P238<=$H$235,\"II\",IF(P238<=$H$236,\"III\",IF(P238<=$H$237,\"I юн\",IF(P238<=$H$238,\"II юн\",IF(P238<=$H$239,\"III юн\",\"б/р\")))))))))))","v":" "}]
[{"$nulls":7},59.2,{"$f":"IF(ISBLANK(H239),\" \",IF(ISTEXT(H239),\" \",IF(H239<=Нормативы!$H$231,\"МСМК\",IF(H239<=Нормативы!$H$232,\"МС\",IF(H239<=Нормативы!$H$233,\"КМС\",IF(H239<=Нормативы!$H$234,\"I\",IF(H239<=Нормативы!$H$235,\"II\",IF(H239<=Нормативы!$H$236,\"III\",IF(H239<=Нормативы!$H$237,\"I юн\",IF(H239<=Нормативы!$H$238,\"II юн\",IF(H239<=Нормативы!$H$239,\"III юн\",\"б/р\")))))))))))","v":"III юн"},{"$f":"IF(ISBLANK(H239),\" \",IF(ISTEXT(H239),\" \",IF(H239<=Нормативы!$H$231,\"МСМК\",IF(H239<=Нормативы!$H$232,\"МС\",IF(H239<=Нормативы!$H$233,\"КМС\",IF(H239<=Нормативы!$H$234,\"I\",IF(H239<=Нормативы!$H$235,\"II\",IF(H239<=Нормативы!$H$236,\"III\",IF(H239<=Нормативы!$H$237,\"I юн\",IF(H239<=Нормативы!$H$238,\"II юн\",IF(H239<=Нормативы!$H$239,\"III юн\",\"б/р\")))))))))))","v":"III юн"},null,59,{"$f":"IF(ISBLANK(L239),\" \",IF(ISTEXT(L239),\" \",IF(L239<=Нормативы!$H$231,\"КМС\",IF(L239<=Нормативы!$H$232,\"КМС\",IF(L239<=Нормативы!$L$233,\"КМС\",IF(L239<=Нормативы!$L$234,\"I\",IF(L239<=Нормативы!$L$235,\"II\",IF(L239<=Нормативы!$L$236,\"III\",IF(L239<=Нормативы!$L$237,\"I юн\",IF(L239<=Нормативы!$L$238,\"II юн\",IF(L239<=Нормативы!$L$239,\"III юн\",\"б/р\")))))))))))","v":"III юн"},{"$f":"IF(ISBLANK(L239),\" \",IF(ISTEXT(L239),\" \",IF(L239<=Нормативы!$H$231,\"КМС\",IF(L239<=Нормативы!$H$232,\"КМС\",IF(L239<=Нормативы!$L$233,\"КМС\",IF(L239<=Нормативы!$L$234,\"I\",IF(L239<=Нормативы!$L$235,\"II\",IF(L239<=Нормативы!$L$236,\"III\",IF(L239<=Нормативы!$L$237,\"I юн\",IF(L239<=Нормативы!$L$238,\"II юн\",IF(L239<=Нормативы!$L$239,\"III юн\",\"б/р\")))))))))))","v":"III юн"},null,null,{"$f":"IF(ISBLANK(P239),\" \",IF(ISTEXT(P239),\" \",IF(P239<=$H$231,\"МСМК\",IF(P239<=$H$232,\"МС\",IF(P239<=$H$233,\"КМС\",IF(P239<=$H$234,\"I\",IF(P239<=$H$235,\"II\",IF(P239<=$H$236,\"III\",IF(P239<=$H$237,\"I юн\",IF(P239<=$H$238,\"II юн\",IF(P239<=$H$239,\"III юн\",\"б/р\")))))))))))","v":" "}]
[]
[null,null,"Подводное плавание - 200 м (),  женщины"]
[{"$nulls":7},0,{"$f":"IF(ISBLANK(H242),\" \",IF(ISTEXT(H242),\" \",IF(H242<=304.6,\"МСМК\",IF(H242<=314.4,\"МС\",IF(H242<=323,\"КМС\",IF(H242<=338,\"I\",IF(H242<=356,\"II\",IF(H242<=415,\"III\",\"б/р\"))))))))","v":"МСМК"},{"$f":"IF(ISBLANK(H242),\" \",IF(ISTEXT(H242),\" \",IF(H242<=304.6,\"МСМК\",IF(H242<=314.4,\"МС\",IF(H242<=323,\"КМС\",IF(H242<=338,\"I\",IF(H242<=356,\"II\",IF(H242<=415,\"III\",\"б/р\"))))))))","v":"МСМК"},null,0,{"$f":"IF(ISBLANK(L242),\" \",IF(ISTEXT(L242),\" \",IF(L242<=304.6,\"МСМК\",IF(L242<=314.4,\"МС\",IF(L242<=323,\"КМС\",IF(L242<=338,\"I\",IF(L242<=356,\"II\",IF(L242<=415,\"III\",\"б/р\"))))))))","v":"МСМК"},{"$f":"IF(ISBLANK(L242),\" \",IF(ISTEXT(L242),\" \",IF(L242<=304.6,\"МСМК\",IF(L242<=314.4,\"МС\",IF(L242<=323,\"КМС\",IF(L242<=338,\"I\",IF(L242<=356,\"II\",IF(L242<=415,\"III\",\"б/р\"))))))))","v":"МСМК"},null,null,{"$f":"IF(ISBLANK(P242),\" \",IF(ISTEXT(P242),\" \",IF(P242<=304.6,\"МСМК\",IF(P242<=314.4,\"МС\",IF(P242<=323,\"КМС\",IF(P242<=338,\"I\",IF(P242<=356,\"II\",IF(P242<=415,\"III\",\"б/р\"))))))))","v":" "}]
[{"$nulls":7},0,"МСМК","МСМК",null,0,"МСМК","МСМК",null,null," "]
[{"$nulls":7},0,"МСМК","МСМК",null,0,"МСМК","МСМК",null,null," "]
[{"$nulls":7},0,"МСМК","МСМК",null,0,"МСМК","МСМК",null,null," "]
[{"$nulls":7},0,"МСМК","МСМК",null,0,"МСМК","МСМК",null,null," "]
[{"$nulls":7},0,"МСМК","МСМК",null,0,"МСМК","МСМК",null,null," "]
[]
[null,null,"Подводное плавание - 200 м (),  мужчины"]
[{"$nulls":7},0,{"$f":"IF(ISBLANK(H250),\" \",IF(ISTEXT(H250),\" \",IF(H250<=250.2,\"МСМК\",IF(H250<=259.2,\"МС\",IF(H250<=307.7,\"КМС\",IF(H250<=321,\"I\",IF(H250<=338,\"II\",IF(H250<=356.5,\"III\",\"б/р\"))))))))","v":"МСМК"},{"$f":"IF(ISBLANK(H250),\" \",IF(ISTEXT(H250),\" \",IF(H250<=250.2,\"МСМК\",IF(H250<=259.2,\"МС\",IF(H250<=307.7,\"КМС\",IF(H250<=321,\"I\",IF(H250<=338,\"II\",IF(H250<=356.5,\"III\",\"б/р\"))))))))","v":"МСМК"},null,0,{"$f":"IF(ISBLANK(L250),\" \",IF(ISTEXT(L250),\" \",IF(L250<=250.2,\"МСМК\",IF(L250<=259.2,\"МС\",IF(L250<=307.7,\"КМС\",IF(L250<=321,\"I\",IF(L250<=338,\"II\",IF(L250<=356.5,\"III\",\"б/р\"))))))))","v":"МСМК"},{"$f":"IF(ISBLANK(L250),\" \",IF(ISTEXT(L250),\" \",IF(L250<=250.2,\"МСМК\",IF(L250<=259.2,\"МС\",IF(L250<=307.7,\"КМС\",IF(L250<=321,\"I\",IF(L250<=338,\"II\",IF(L250<=356.5,\"III\",\"б/р\"))))))))","v":"МСМК"},null,null,{"$f":"IF(ISBLANK(P250),\" \",IF(ISTEXT(P250),\" \",IF(P250<=250.2,\"МСМК\",IF(P250<=259.2,\"МС\",IF(P250<=307.7,\"КМС\",IF(P250<=321,\"I\",IF(P250<=338,\"II\",IF(P250<=356.5,\"III\",\"б/р\"))))))))","v":" "}]
[{"$nulls":7},0,"МСМК","МСМК",null,0,"МСМК","МСМК",null,null," "]
[{"$nulls":7},0,"МСМК","МСМК",null,0,"МСМК","МСМК",null,null," "]
[{"$nulls":7},0,"МСМК","МСМК",null,0,"МСМК","МСМК",null,null," "]
[{"$nulls":7},0,"МСМК","МСМК",null,0,"МСМК","МСМК",null,null," "]
[{"$nulls":7},0,"МСМК","МСМК",null,0,"МСМК","МСМК",null,null," "]
[]
[null,null,"Подводное плавание - 400 м (1460151811Я),  женщины"]
[{"$nulls":7},305,{"$f":"IF(ISBLANK(H258),\" \",IF(ISTEXT(H258),\" \",IF(H258<=Нормативы!$H$258,\"МСМК\",IF(H258<=Нормативы!$H$259,\"МС\",IF(H258<=Нормативы!$H$260,\"КМС\",IF(H258<=Нормативы!$H$261,\"I\",IF(H258<=Нормативы!$H$262,\"II\",IF(H258<=Нормативы!$H$263,\"III\",\"б/р\"))))))))","v":"МСМК"},{"$f":"IF(ISBLANK(H258),\" \",IF(ISTEXT(H258),\" \",IF(H258<=Нормативы!$H$258,\"МСМК\",IF(H258<=Нормативы!$H$259,\"МС\",IF(H258<=Нормативы!$H$260,\"КМС\",IF(H258<=Нормативы!$H$261,\"I\",IF(H258<=Нормативы!$H$262,\"II\",IF(H258<=Нормативы!$H$263,\"III\",\"б/р\"))))))))","v":"МСМК"},null,null,{"$f":"IF(ISBLANK(L258),\" \",IF(ISTEXT(L258),\" \",IF(L258<=Нормативы!$H$258,\"КМС\",IF(L258<=Нормативы!$H$259,\"КМС\",IF(L258<=Нормативы!$L$260,\"КМС\",IF(L258<=Нормативы!$L$261,\"I\",IF(L258<=Нормативы!$L$262,\"II\",IF(L258<=Нормативы!$L$263,\"III\",\"б/р\"))))))))","v":" "},{"$f":"IF(ISBLANK(L258),\" \",IF(ISTEXT(L258),\" \",IF(L258<=304.6,\"МСМК\",IF(L258<=314.4,\"МС\",IF(L258<=323,\"КМС\",IF(L258<=338,\"I\",IF(L258<=356,\"II\",IF(L258<=415,\"III\",\"б/р\"))))))))","v":" "},null,null,{"$f":"IF(ISBLANK(P258),\" \",IF(ISTEXT(P258),\" \",IF(P258<=$H$258,\"МСМК\",IF(P258<=$H$259,\"МС\",IF(P258<=$H$260,\"КМС\",IF(P258<=$H$261,\"I\",IF(P258<=$H$262,\"II\",IF(P258<=$H$263,\"III\",\"б/р\"))))))))","v":" "}]
[{"$nulls":7},314.6,{"$f":"IF(ISBLANK(H259),\" \",IF(ISTEXT(H259),\" \",IF(H259<=Нормативы!$H$258,\"МСМК\",IF(H259<=Нормативы!$H$259,\"МС\",IF(H259<=Нормативы!$H$260,\"КМС\",IF(H259<=Нормативы!$H$261,\"I\",IF(H259<=Нормативы!$H$262,\"II\",IF(H259<=Нормативы!$H$263,\"III\",\"б/р\"))))))))","v":"МС"},{"$f":"IF(ISBLANK(H259),\" \",IF(ISTEXT(H259),\" \",IF(H259<=Нормативы!$H$258,\"МСМК\",IF(H259<=Нормативы!$H$259,\"МС\",IF(H259<=Нормативы!$H$260,\"КМС\",IF(H259<=Нормативы!$H$261,\"I\",IF(H259<=Нормативы!$H$262,\"II\",IF(H259<=Нормативы!$H$263,\"III\",\"б/р\"))))))))","v":"МС"},null,null,{"$f":"IF(ISBLANK(L259),\" \",IF(ISTEXT(L259),\" \",IF(L259<=Нормативы!$H$258,\"КМС\",IF(L259<=Нормативы!$H$259,\"КМС\",IF(L259<=Нормативы!$L$260,\"КМС\",IF(L259<=Нормативы!$L$261,\"I\",IF(L259<=Нормативы!$L$262,\"II\",IF(L259<=Нормативы!$L$263,\"III\",\"б/р\"))))))))","v":" "},{"$f":"IF(ISBLANK(L259),\" \",IF(ISTEXT(L259),\" \",IF(L259<=304.6,\"МСМК\",IF(L259<=314.4,\"МС\",IF(L259<=323,\"КМС\",IF(L259<=338,\"I\",IF(L259<=356,\"II\",IF(L259<=415,\"III\",\"б/р\"))))))))","v":" "},null,null,{"$f":"IF(ISBLANK(P259),\" \",IF(ISTEXT(P259),\" \",IF(P259<=$H$258,\"МСМК\",IF(P259<=$H$259,\"МС\",IF(P259<=$H$260,\"КМС\",IF(P259<=$H$261,\"I\",IF(P259<=$H$262,\"II\",IF(P259<=$H$263,\"III\",\"б/р\"))))))))","v":" "}]
[{"$nulls":7},323,{"$f":"IF(ISBLANK(H260),\" \",IF(ISTEXT(H260),\" \",IF(H260<=Нормативы!$H$258,\"МСМК\",IF(H260<=Нормативы!$H$259,\"МС\",IF(H260<=Нормативы!$H$260,\"КМС\",IF(H260<=Нормативы!$H$261,\"I\",IF(H260<=Нормативы!$H$262,\"II\",IF(H260<=Нормативы!$H$263,\"III\",\"б/р\"))))))))","v":"КМС"},{"$f":"IF(ISBLANK(H260),\" \",IF(ISTEXT(H260),\" \",IF(H260<=Нормативы!$H$258,\"МСМК\",IF(H260<=Нормативы!$H$259,\"МС\",IF(H260<=Нормативы!$H$260,\"КМС\",IF(H260<=Нормативы!$H$261,\"I\",IF(H260<=Нормативы!$H$262,\"II\",IF(H260<=Нормативы!$H$263,\"III\",\"б/р\"))))))))","v":"КМС"},null,{"$f":"H260-0.2","v":322.8},{"$f":"IF(ISBLANK(L260),\" \",IF(ISTEXT(L260),\" \",IF(L260<=Нормативы!$H$258,\"КМС\",IF(L260<=Нормативы!$H$259,\"КМС\",IF(L260<=Нормативы!$L$260,\"КМС\",IF(L260<=Нормативы!$L$261,\"I\",IF(L260<=Нормативы!$L$262,\"II\",IF(L260<=Нормативы!$L$263,\"III\",\"б/р\"))))))))","v":"КМС"},{"$f":"IF(ISBLANK(L260),\" \",IF(ISTEXT(L260),\" \",IF(L260<=Нормативы!$H$258,\"КМС\",IF(L260<=Нормативы!$H$259,\"КМС\",IF(L260<=Нормативы!$L$260,\"КМС\",IF(L260<=Нормативы!$L$261,\"I\",IF(L260<=Нормативы!$L$262,\"II\",IF(L260<=Нормативы!$L$263,\"III\",\"б/р\"))))))))","v":"КМС"},null,null,{"$f":"IF(ISBLANK(P260),\" \",IF(ISTEXT(P260),\" \",IF(P260<=$H$258,\"МСМК\",IF(P260<=$H$259,\"МС\",IF(P260<=$H$260,\"КМС\",IF(P260<=$H$261,\"I\",IF(P260<=$H$262,\"II\",IF(P260<=$H$263,\"III\",\"б/р\"))))))))","v":" "}]
[{"$nulls":7},338,{"$f":"IF(ISBLANK(H261),\" \",IF(ISTEXT(H261),\" \",IF(H261<=Нормативы!$H$258,\"МСМК\",IF(H261<=Нормативы!$H$259,\"МС\",IF(H261<=Нормативы!$H$260,\"КМС\",IF(H261<=Нормативы!$H$261,\"I\",IF(H261<=Нормативы!$H$262,\"II\",IF(H261<=Нормативы!$H$263,\"III\",\"б/р\"))))))))","v":"I"},{"$f":"IF(ISBLANK(H261),\" \",IF(ISTEXT(H261),\" \",IF(H261<=Нормативы!$H$258,\"МСМК\",IF(H261<=Нормативы!$H$259,\"МС\",IF(H261<=Нормативы!$H$260,\"КМС\",IF(H261<=Нормативы!$H$261,\"I\",IF(H261<=Нормативы!$H$262,\"II\",IF(H261<=Нормативы!$H$263,\"III\",\"б/р\"))))))))","v":"I"},null,337.8,{"$f":"IF(ISBLANK(L261),\" \",IF(ISTEXT(L261),\" \",IF(L261<=Нормативы!$H$258,\"КМС\",IF(L261<=Нормативы!$H$259,\"КМС\",IF(L261<=Нормативы!$L$260,\"КМС\",IF(L261<=Нормативы!$L$261,\"I\",IF(L261<=Нормативы!$L$262,\"II\",IF(L261<=Нормативы!$L$263,\"III\",\"б/р\"))))))))","v":"I"},{"$f":"IF(ISBLANK(L261),\" \",IF(ISTEXT(L261),\" \",IF(L261<=Нормативы!$H$258,\"КМС\",IF(L261<=Нормативы!$H$259,\"КМС\",IF(L261<=Нормативы!$L$260,\"КМС\",IF(L261<=Нормативы!$L$261,\"I\",IF(L261<=Нормативы!$L$262,\"II\",IF(L261<=Нормативы!$L$263,\"III\",\"б/р\"))))))))","v":"I"},null,null,{"$f":"IF(ISBLANK(P261),\" \",IF(ISTEXT(P261),\" \",IF(P261<=$H$258,\"МСМК\",IF(P261<=$H$259,\"МС\",IF(P261<=$H$260,\"КМС\",IF(P261<=$H$261,\"I\",IF(P261<=$H$262,\"II\",IF(P261<=$H$263,\"III\",\"б/р\"))))))))","v":" "}]
[{"$nulls":7},355.7,{"$f":"IF(ISBLANK(H262),\" \",IF(ISTEXT(H262),\" \",IF(H262<=Нормативы!$H$258,\"МСМК\",IF(H262<=Нормативы!$H$259,\"МС\",IF(H262<=Нормативы!$H$260,\"КМС\",IF(H262<=Нормативы!$H$261,\"I\",IF(H262<=Нормативы!$H$262,\"II\",IF(H262<=Нормативы!$H$263,\"III\",\"б/р\"))))))))","v":"II"},{"$f":"IF(ISBLANK(H262),\" \",IF(ISTEXT(H262),\" \",IF(H262<=Нормативы!$H$258,\"МСМК\",IF(H262<=Нормативы!$H$259,\"МС\",IF(H262<=Нормативы!$H$260,\"КМС\",IF(H262<=Нормативы!$H$261,\"I\",IF(H262<=Нормативы!$H$262,\"II\",IF(H262<=Нормативы!$H$263,\"III\",\"б/р\"))))))))","v":"II"},null,355.5,{"$f":"IF(ISBLANK(L262),\" \",IF(ISTEXT(L262),\" \",IF(L262<=Нормативы!$H$258,\"КМС\",IF(L262<=Нормативы!$H$259,\"КМС\",IF(L262<=Нормативы!$L$260,\"КМС\",IF(L262<=Нормативы!$L$261,\"I\",IF(L262<=Нормативы!$L$262,\"II\",IF(L262<=Нормативы!$L$263,\"III\",\"б/р\"))))))))","v":"II"},{"$f":"IF(ISBLANK(L262),\" \",IF(ISTEXT(L262),\" \",IF(L262<=Нормативы!$H$258,\"КМС\",IF(L262<=Нормативы!$H$259,\"КМС\",IF(L262<=Нормативы!$L$260,\"КМС\",IF(L262<=Нормативы!$L$261,\"I\",IF(L262<=Нормативы!$L$262,\"II\",IF(L262<=Нормативы!$L$263,\"III\",\"б/р\"))))))))","v":"II"},null,null,{"$f":"IF(ISBLANK(P262),\" \",IF(ISTEXT(P262),\" \",IF(P262<=$H$258,\"МСМК\",IF(P262<=$H$259,\"МС\",IF(P262<=$H$260,\"КМС\",IF(P262<=$H$261,\"I\",IF(P262<=$H$262,\"II\",IF(P262<=$H$263,\"III\",\"б/р\"))))))))","v":" "}]
[{"$nulls":7},413.8,{"$f":"IF(ISBLANK(H263),\" \",IF(ISTEXT(H263),\" \",IF(H263<=Нормативы!$H$258,\"МСМК\",IF(H263<=Нормативы!$H$259,\"МС\",IF(H263<=Нормативы!$H$260,\"КМС\",IF(H263<=Нормативы!$H$261,\"I\",IF(H263<=Нормативы!$H$262,\"II\",IF(H263<=Нормативы!$H$263,\"III\",\"б/р\"))))))))","v":"III"},{"$f":"IF(ISBLANK(H263),\" \",IF(ISTEXT(H263),\" \",IF(H263<=Нормативы!$H$258,\"МСМК\",IF(H263<=Нормативы!$H$259,\"МС\",IF(H263<=Нормативы!$H$260,\"КМС\",IF(H263<=Нормативы!$H$261,\"I\",IF(H263<=Нормативы!$H$262,\"II\",IF(H263<=Нормативы!$H$263,\"III\",\"б/р\"))))))))","v":"III"},null,413.6,{"$f":"IF(ISBLANK(L263),\" \",IF(ISTEXT(L263),\" \",IF(L263<=Нормативы!$H$258,\"КМС\",IF(L263<=Нормативы!$H$259,\"КМС\",IF(L263<=Нормативы!$L$260,\"КМС\",IF(L263<=Нормативы!$L$261,\"I\",IF(L263<=Нормативы!$L$262,\"II\",IF(L263<=Нормативы!$L$263,\"III\",\"б/р\"))))))))","v":"III"},{"$f":"IF(ISBLANK(L263),\" \",IF(ISTEXT(L263),\" \",IF(L263<=Нормативы!$H$258,\"КМС\",IF(L263<=Нормативы!$H$259,\"КМС\",IF(L263<=Нормативы!$L$260,\"КМС\",IF(L263<=Нормативы!$L$261,\"I\",IF(L263<=Нормативы!$L$262,\"II\",IF(L263<=Нормативы!$L$263,\"III\",\"б/р\"))))))))","v":"III"},null,null,{"$f":"IF(ISBLANK(P263),\" \",IF(ISTEXT(P263),\" \",IF(P263<=$H$258,\"МСМК\",IF(P263<=$H$259,\"МС\",IF(P263<=$H$260,\"КМС\",IF(P263<=$H$261,\"I\",IF(P263<=$H$262,\"II\",IF(P263<=$H$263,\"III\",\"б/р\"))))))))","v":" "}]
[]
[null,null,"Подводное плавание - 400 м (1460151811Я),  мужчины"]
[{"$nulls":7},250,{"$f":"IF(ISBLANK(H266),\" \",IF(ISTEXT(H266),\" \",IF(H266<=Нормативы!$H$266,\"МСМК\",IF(H266<=Нормативы!$H$267,\"МС\",IF(H266<=Нормативы!$H$268,\"КМС\",IF(H266<=Нормативы!$H$269,\"I\",IF(H266<=Нормативы!$H$270,\"II\",IF(H266<=Нормативы!$H$271,\"III\",\"б/р\"))))))))","v":"МСМК"},{"$f":"IF(ISBLANK(H266),\" \",IF(ISTEXT(H266),\" \",IF(H266<=Нормативы!$H$266,\"МСМК\",IF(H266<=Нормативы!$H$267,\"МС\",IF(H266<=Нормативы!$H$268,\"КМС\",IF(H266<=Нормативы!$H$269,\"I\",IF(H266<=Нормативы!$H$270,\"II\",IF(H266<=Нормативы!$H$271,\"III\",\"б/р\"))))))))","v":"МСМК"},null,null,{"$f":"IF(ISBLANK(L266),\" \",IF(ISTEXT(L266),\" \",IF(L266<=Нормативы!$H$266,\"КМС\",IF(L266<=Нормативы!$H$267,\"КМС\",IF(L266<=Нормативы!$L$268,\"КМС\",IF(L266<=Нормативы!$L$269,\"I\",IF(L266<=Нормативы!$L$270,\"II\",IF(L266<=Нормативы!$L$271,\"III\",\"б/р\"))))))))","v":" "},{"$f":"IF(ISBLANK(L266),\" \",IF(ISTEXT(L266),\" \",IF(L266<=250.2,\"МСМК\",IF(L266<=259.2,\"МС\",IF(L266<=307.7,\"КМС\",IF(L266<=321,\"I\",IF(L266<=338,\"II\",IF(L266<=356.5,\"III\",\"б/р\"))))))))","v":" "},null,null,{"$f":"IF(ISBLANK(P266),\" \",IF(ISTEXT(P266),\" \",IF(P266<=$H$266,\"МСМК\",IF(P266<=$H$267,\"МС\",IF(P266<=$H$268,\"КМС\",IF(P266<=$H$269,\"I\",IF(P266<=$H$270,\"II\",IF(P266<=$H$271,\"III\",\"б/р\"))))))))","v":" "}]
[{"$nulls":7},259,{"$f":"IF(ISBLANK(H267),\" \",IF(ISTEXT(H267),\" \",IF(H267<=Нормативы!$H$266,\"МСМК\",IF(H267<=Нормативы!$H$267,\"МС\",IF(H267<=Нормативы!$H$268,\"КМС\",IF(H267<=Нормативы!$H$269,\"I\",IF(H267<=Нормативы!$H$270,\"II\",IF(H267<=Нормативы!$H$271,\"III\",\"б/р\"))))))))","v":"МС"},{"$f":"IF(ISBLANK(H267),\" \",IF(ISTEXT(H267),\" \",IF(H267<=Нормативы!$H$266,\"МСМК\",IF(H267<=Нормативы!$H$267,\"МС\",IF(H267<=Нормативы!$H$268,\"КМС\",IF(H267<=Нормативы!$H$269,\"I\",IF(H267<=Нормативы!$H$270,\"II\",IF(H267<=Нормативы!$H$271,\"III\",\"б/р\"))))))))","v":"МС"},null,null,{"$f":"IF(ISBLANK(L267),\" \",IF(ISTEXT(L267),\" \",IF(L267<=Нормативы!$H$266,\"КМС\",IF(L267<=Нормативы!$H$267,\"КМС\",IF(L267<=Нормативы!$L$268,\"КМС\",IF(L267<=Нормативы!$L$269,\"I\",IF(L267<=Нормативы!$L$270,\"II\",IF(L267<=Нормативы!$L$271,\"III\",\"б/р\"))))))))","v":" "},{"$f":"IF(ISBLANK(L267),\" \",IF(ISTEXT(L267),\" \",IF(L267<=250.2,\"МСМК\",IF(L267<=259.2,\"МС\",IF(L267<=307.7,\"КМС\",IF(L267<=321,\"I\",IF(L267<=338,\"II\",IF(L267<=356.5,\"III\",\"б/р\"))))))))","v":" "},null,null,{"$f":"IF(ISBLANK(P267),\" \",IF(ISTEXT(P267),\" \",IF(P267<=$H$266,\"МСМК\",IF(P267<=$H$267,\"МС\",IF(P267<=$H$268,\"КМС\",IF(P267<=$H$269,\"I\",IF(P267<=$H$270,\"II\",IF(P267<=$H$271,\"III\",\"б/р\"))))))))","v":" "}]
[{"$nulls":7},307.5,{"$f":"IF(ISBLANK(H268),\" \",IF(ISTEXT(H268),\" \",IF(H268<=Нормативы!$H$266,\"МСМК\",IF(H268<=Нормативы!$H$267,\"МС\",IF(H268<=Нормативы!$H$268,\"КМС\",IF(H268<=Нормативы!$H$269,\"I\",IF(H268<=Нормативы!$H$270,\"II\",IF(H268<=Нормативы!$H$271,\"III\",\"б/р\"))))))))","v":"КМС"},{"$f":"IF(ISBLANK(H268),\" \",IF(ISTEXT(H268),\" \",IF(H268<=Нормативы!$H$266,\"МСМК\",IF(H268<=Нормативы!$H$267,\"МС\",IF(H268<=Нормативы!$H$268,\"КМС\",IF(H268<=Нормативы!$H$269,\"I\",IF(H268<=Нормативы!$H$270,\"II\",IF(H268<=Нормативы!$H$271,\"III\",\"б/р\"))))))))","v":"КМС"},null,{"$f":"H268-0.2","v":307.3},{"$f":"IF(ISBLANK(L268),\" \",IF(ISTEXT(L268),\" \",IF(L268<=Нормативы!$H$266,\"КМС\",IF(L268<=Нормативы!$H$267,\"КМС\",IF(L268<=Нормативы!$L$268,\"КМС\",IF(L268<=Нормативы!$L$269,\"I\",IF(L268<=Нормативы!$L$270,\"II\",IF(L268<=Нормативы!$L$271,\"III\",\"б/р\"))))))))","v":"КМС"},{"$f":"IF(ISBLANK(L268),\" \",IF(ISTEXT(L268),\" \",IF(L268<=Нормативы!$H$266,\"КМС\",IF(L268<=Нормативы!$H$267,\"КМС\",IF(L268<=Нормативы!$L$268,\"КМС\",IF(L268<=Нормативы!$L$269,\"I\",IF(L268<=Нормативы!$L$270,\"II\",IF(L268<=Нормативы!$L$271,\"III\",\"б/р\"))))))))","v":"КМС"},null,null,{"$f":"IF(ISBLANK(P268),\" \",IF(ISTEXT(P268),\" \",IF(P268<=$H$266,\"МСМК\",IF(P268<=$H$267,\"МС\",IF(P268<=$H$268,\"КМС\",IF(P268<=$H$269,\"I\",IF(P268<=$H$270,\"II\",IF(P268<=$H$271,\"III\",\"б/р\"))))))))","v":" "}]
[{"$nulls":7},321,{"$f":"IF(ISBLANK(H269),\" \",IF(ISTEXT(H269),\" \",IF(H269<=Нормативы!$H$266,\"МСМК\",IF(H269<=Нормативы!$H$267,\"МС\",IF(H269<=Нормативы!$H$268,\"КМС\",IF(H269<=Нормативы!$H$269,\"I\",IF(H269<=Нормативы!$H$270,\"II\",IF(H269<=Нормативы!$H$271,\"III\",\"б/р\"))))))))","v":"I"},{"$f":"IF(ISBLANK(H269),\" \",IF(ISTEXT(H269),\" \",IF(H269<=Нормативы!$H$266,\"МСМК\",IF(H269<=Нормативы!$H$267,\"МС\",IF(H269<=Нормативы!$H$268,\"КМС\",IF(H269<=Нормативы!$H$269,\"I\",IF(H269<=Нормативы!$H$270,\"II\",IF(H269<=Нормативы!$H$271,\"III\",\"б/р\"))))))))","v":"I"},null,320.8,{"$f":"IF(ISBLANK(L269),\" \",IF(ISTEXT(L269),\" \",IF(L269<=Нормативы!$H$266,\"КМС\",IF(L269<=Нормативы!$H$267,\"КМС\",IF(L269<=Нормативы!$L$268,\"КМС\",IF(L269<=Нормативы!$L$269,\"I\",IF(L269<=Нормативы!$L$270,\"II\",IF(L269<=Нормативы!$L$271,\"III\",\"б/р\"))))))))","v":"I"},{"$f":"IF(ISBLANK(L269),\" \",IF(ISTEXT(L269),\" \",IF(L269<=Нормативы!$H$266,\"КМС\",IF(L269<=Нормативы!$H$267,\"КМС\",IF(L269<=Нормативы!$L$268,\"КМС\",IF(L269<=Нормативы!$L$269,\"I\",IF(L269<=Нормативы!$L$270,\"II\",IF(L269<=Нормативы!$L$271,\"III\",\"б/р\"))))))))","v":"I"},null,null,{"$f":"IF(ISBLANK(P269),\" \",IF(ISTEXT(P269),\" \",IF(P269<=$H$266,\"МСМК\",IF(P269<=$H$267,\"МС\",IF(P269<=$H$268,\"КМС\",IF(P269<=$H$269,\"I\",IF(P269<=$H$270,\"II\",IF(P269<=$H$271,\"III\",\"б/р\"))))))))","v":" "}]
[{"$nulls":7},338,{"$f":"IF(ISBLANK(H270),\" \",IF(ISTEXT(H270),\" \",IF(H270<=Нормативы!$H$266,\"МСМК\",IF(H270<=Нормативы!$H$267,\"МС\",IF(H270<=Нормативы!$H$268,\"КМС\",IF(H270<=Нормативы!$H$269,\"I\",IF(H270<=Нормативы!$H$270,\"II\",IF(H270<=Нормативы!$H$271,\"III\",\"б/р\"))))))))","v":"II"},{"$f":"IF(ISBLANK(H270),\" \",IF(ISTEXT(H270),\" \",IF(H270<=Нормативы!$H$266,\"МСМК\",IF(H270<=Нормативы!$H$267,\"МС\",IF(H270<=Нормативы!$H$268,\"КМС\",IF(H270<=Нормативы!$H$269,\"I\",IF(H270<=Нормативы!$H$270,\"II\",IF(H270<=Нормативы!$H$271,\"III\",\"б/р\"))))))))","v":"II"},null,337.8,{"$f":"IF(ISBLANK(L270),\" \",IF(ISTEXT(L270),\" \",IF(L270<=Нормативы!$H$266,\"КМС\",IF(L270<=Нормативы!$H$267,\"КМС\",IF(L270<=Нормативы!$L$268,\"КМС\",IF(L270<=Нормативы!$L$269,\"I\",IF(L270<=Нормативы!$L$270,\"II\",IF(L270<=Нормативы!$L$271,\"III\",\"б/р\"))))))))","v":"II"},{"$f":"IF(ISBLANK(L270),\" \",IF(ISTEXT(L270),\" \",IF(L270<=Нормативы!$H$266,\"КМС\",IF(L270<=Нормативы!$H$267,\"КМС\",IF(L270<=Нормативы!$L$268,\"КМС\",IF(L270<=Нормативы!$L$269,\"I\",IF(L270<=Нормативы!$L$270,\"II\",IF(L270<=Нормативы!$L$271,\"III\",\"б/р\"))))))))","v":"II"},null,null,{"$f":"IF(ISBLANK(P270),\" \",IF(ISTEXT(P270),\" \",IF(P270<=$H$266,\"МСМК\",IF(P270<=$H$267,\"МС\",IF(P270<=$H$268,\"КМС\",IF(P270<=$H$269,\"I\",IF(P270<=$H$270,\"II\",IF(P270<=$H$271,\"III\",\"б/р\"))))))))","v":" "}]
[{"$nulls":7},356.5,{"$f":"IF(ISBLANK(H271),\" \",IF(ISTEXT(H271),\" \",IF(H271<=Нормативы!$H$266,\"МСМК\",IF(H271<=Нормативы!$H$267,\"МС\",IF(H271<=Нормативы!$H$268,\"КМС\",IF(H271<=Нормативы!$H$269,\"I\",IF(H271<=Нормативы!$H$270,\"II\",IF(H271<=Нормативы!$H$271,\"III\",\"б/р\"))))))))","v":"III"},{"$f":"IF(ISBLANK(H271),\" \",IF(ISTEXT(H271),\" \",IF(H271<=Нормативы!$H$266,\"МСМК\",IF(H271<=Нормативы!$H$267,\"МС\",IF(H271<=Нормативы!$H$268,\"КМС\",IF(H271<=Нормативы!$H$269,\"I\",IF(H271<=Нормативы!$H$270,\"II\",IF(H271<=Нормативы!$H$271,\"III\",\"б/р\"))))))))","v":"III"},null,356.3,{"$f":"IF(ISBLANK(L271),\" \",IF(ISTEXT(L271),\" \",IF(L271<=Нормативы!$H$266,\"КМС\",IF(L271<=Нормативы!$H$267,\"КМС\",IF(L271<=Нормативы!$L$268,\"КМС\",IF(L271<=Нормативы!$L$269,\"I\",IF(L271<=Нормативы!$L$270,\"II\",IF(L271<=Нормативы!$L$271,\"III\",\"б/р\"))))))))","v":"III"},{"$f":"IF(ISBLANK(L271),\" \",IF(ISTEXT(L271),\" \",IF(L271<=Нормативы!$H$266,\"КМС\",IF(L271<=Нормативы!$H$267,\"КМС\",IF(L271<=Нормативы!$L$268,\"КМС\",IF(L271<=Нормативы!$L$269,\"I\",IF(L271<=Нормативы!$L$270,\"II\",IF(L271<=Нормативы!$L$271,\"III\",\"б/р\"))))))))","v":"III"},null,null,{"$f":"IF(ISBLANK(P271),\" \",IF(ISTEXT(P271),\" \",IF(P271<=$H$266,\"МСМК\",IF(P271<=$H$267,\"МС\",IF(P271<=$H$268,\"КМС\",IF(P271<=$H$269,\"I\",IF(P271<=$H$270,\"II\",IF(P271<=$H$271,\"III\",\"б/р\"))))))))","v":" "}]
[]
[null,null,"Подводное плавание - 800 м (1460161811Я),  женщины"]
[{"$nulls":7},637.3]
[{"$nulls":7},657.2]
[{"$nulls":7},717]
[{"$nulls":7},748.8]
[{"$nulls":7},828.5]
[{"$nulls":7},912.2]
[]
[null,null,"Подводное плавание - 800 м (1460161811Я),  мужчины"]
[{"$nulls":7},604.4]
[{"$nulls":7},622.6]
[{"$nulls":7},640.8]
[{"$nulls":7},710]
[{"$nulls":7},746.4]
[{"$nulls":7},826.5]
[]
[null,null,"Ныряние в ластах в длину - 50 м (1460171811Я),  женщины"]
[{"$nulls":7},16.7,{"$f":"IF(ISBLANK(H290),\" \",IF(ISTEXT(H290),\" \",IF(H290<=Нормативы!$H$290,\"МСМК\",IF(H290<=Нормативы!$H$291,\"МС\",IF(H290<=Нормативы!$H$292,\"КМС\",IF(H290<=Нормативы!$H$293,\"I\",IF(H290<=Нормативы!$H$294,\"II\",IF(H290<=Нормативы!$H$295,\"III\",\"б/р\"))))))))","v":"МСМК"},{"$f":"IF(ISBLANK(H290),\" \",IF(ISTEXT(H290),\" \",IF(H290<=Нормативы!$H$290,\"МСМК\",IF(H290<=Нормативы!$H$291,\"МС\",IF(H290<=Нормативы!$H$292,\"КМС\",IF(H290<=Нормативы!$H$293,\"I\",IF(H290<=Нормативы!$H$294,\"II\",IF(H290<=Нормативы!$H$295,\"III\",\"б/р\"))))))))","v":"МСМК"},null,null,{"$f":"IF(ISBLANK(L290),\" \",IF(ISTEXT(L290),\" \",IF(L290<=Нормативы!$H$290,\"КМС\",IF(L290<=Нормативы!$H$291,\"КМС\",IF(L290<=Нормативы!$L$292,\"КМС\",IF(L290<=Нормативы!$L$293,\"I\",IF(L290<=Нормативы!$L$294,\"II\",IF(L290<=Нормативы!$L$295,\"III\",\"б/р\"))))))))","v":" "},{"$f":"IF(ISBLANK(L290),\" \",IF(ISTEXT(L290),\" \",IF(L290<=16.7,\"МСМК\",IF(L290<=17.5,\"МС\",IF(L290<=18.2,\"КМС\",IF(L290<=19.4,\"I\",IF(L290<=21.1,\"II\",IF(L290<=22.9,\"III\",\"б/р\"))))))))","v":" "},null,null,{"$f":"IF(ISBLANK(P290),\" \",IF(ISTEXT(P290),\" \",IF(P290<=$H$290,\"МСМК\",IF(P290<=$H$291,\"МС\",IF(P290<=$H$292,\"КМС\",IF(P290<=$H$293,\"I\",IF(P290<=$H$294,\"II\",IF(P290<=$H$295,\"III\",\"б/р\"))))))))","v":" "}]
[{"$nulls":7},17.3,{"$f":"IF(ISBLANK(H291),\" \",IF(ISTEXT(H291),\" \",IF(H291<=Нормативы!$H$290,\"МСМК\",IF(H291<=Нормативы!$H$291,\"МС\",IF(H291<=Нормативы!$H$292,\"КМС\",IF(H291<=Нормативы!$H$293,\"I\",IF(H291<=Нормативы!$H$294,\"II\",IF(H291<=Нормативы!$H$295,\"III\",\"б/р\"))))))))","v":"МС"},{"$f":"IF(ISBLANK(H291),\" \",IF(ISTEXT(H291),\" \",IF(H291<=Нормативы!$H$290,\"МСМК\",IF(H291<=Нормативы!$H$291,\"МС\",IF(H291<=Нормативы!$H$292,\"КМС\",IF(H291<=Нормативы!$H$293,\"I\",IF(H291<=Нормативы!$H$294,\"II\",IF(H291<=Нормативы!$H$295,\"III\",\"б/р\"))))))))","v":"МС"},null,null,{"$f":"IF(ISBLANK(L291),\" \",IF(ISTEXT(L291),\" \",IF(L291<=Нормативы!$H$290,\"КМС\",IF(L291<=Нормативы!$H$291,\"КМС\",IF(L291<=Нормативы!$L$292,\"КМС\",IF(L291<=Нормативы!$L$293,\"I\",IF(L291<=Нормативы!$L$294,\"II\",IF(L291<=Нормативы!$L$295,\"III\",\"б/р\"))))))))","v":" "},{"$f":"IF(ISBLANK(L291),\" \",IF(ISTEXT(L291),\" \",IF(L291<=16.7,\"МСМК\",IF(L291<=17.5,\"МС\",IF(L291<=18.2,\"КМС\",IF(L291<=19.4,\"I\",IF(L291<=21.1,\"II\",IF(L291<=22.9,\"III\",\"б/р\"))))))))","v":" "},null,null,{"$f":"IF(ISBLANK(P291),\" \",IF(ISTEXT(P291),\" \",IF(P291<=$H$290,\"МСМК\",IF(P291<=$H$291,\"МС\",IF(P291<=$H$292,\"КМС\",IF(P291<=$H$293,\"I\",IF(P291<=$H$294,\"II\",IF(P291<=$H$295,\"III\",\"б/р\"))))))))","v":" "}]
[{"$nulls":7},18.2,{"$f":"IF(ISBLANK(H292),\" \",IF(ISTEXT(H292),\" \",IF(H292<=Нормативы!$H$290,\"МСМК\",IF(H292<=Нормативы!$H$291,\"МС\",IF(H292<=Нормативы!$H$292,\"КМС\",IF(H292<=Нормативы!$H$293,\"I\",IF(H292<=Нормативы!$H$294,\"II\",IF(H292<=Нормативы!$H$295,\"III\",\"б/р\"))))))))","v":"КМС"},{"$f":"IF(ISBLANK(H292),\" \",IF(ISTEXT(H292),\" \",IF(H292<=Нормативы!$H$290,\"МСМК\",IF(H292<=Нормативы!$H$291,\"МС\",IF(H292<=Нормативы!$H$292,\"КМС\",IF(H292<=Нормативы!$H$293,\"I\",IF(H292<=Нормативы!$H$294,\"II\",IF(H292<=Нормативы!$H$295,\"III\",\"б/р\"))))))))","v":"КМС"},null,{"$f":"H292-0.2","v":18},{"$f":"IF(ISBLANK(L292),\" \",IF(ISTEXT(L292),\" \",IF(L292<=Нормативы!$H$290,\"КМС\",IF(L292<=Нормативы!$H$291,\"КМС\",IF(L292<=Нормативы!$L$292,\"КМС\",IF(L292<=Нормативы!$L$293,\"I\",IF(L292<=Нормативы!$L$294,\"II\",IF(L292<=Нормативы!$L$295,\"III\",\"б/р\"))))))))","v":"КМС"},{"$f":"IF(ISBLANK(L292),\" \",IF(ISTEXT(L292),\" \",IF(L292<=Нормативы!$H$290,\"КМС\",IF(L292<=Нормативы!$H$291,\"КМС\",IF(L292<=Нормативы!$L$292,\"КМС\",IF(L292<=Нормативы!$L$293,\"I\",IF(L292<=Нормативы!$L$294,\"II\",IF(L292<=Нормативы!$L$295,\"III\",\"б/р\"))))))))","v":"КМС"},null,null,{"$f":"IF(ISBLANK(P292),\" \",IF(ISTEXT(P292),\" \",IF(P292<=$H$290,\"МСМК\",IF(P292<=$H$291,\"МС\",IF(P292<=$H$292,\"КМС\",IF(P292<=$H$293,\"I\",IF(P292<=$H$294,\"II\",IF(P292<=$H$295,\"III\",\"б/р\"))))))))","v":" "}]
[{"$nulls":7},19.3,{"$f":"IF(ISBLANK(H293),\" \",IF(ISTEXT(H293),\" \",IF(H293<=Нормативы!$H$290,\"МСМК\",IF(H293<=Нормативы!$H$291,\"МС\",IF(H293<=Нормативы!$H$292,\"КМС\",IF(H293<=Нормативы!$H$293,\"I\",IF(H293<=Нормативы!$H$294,\"II\",IF(H293<=Нормативы!$H$295,\"III\",\"б/р\"))))))))","v":"I"},{"$f":"IF(ISBLANK(H293),\" \",IF(ISTEXT(H293),\" \",IF(H293<=Нормативы!$H$290,\"МСМК\",IF(H293<=Нормативы!$H$291,\"МС\",IF(H293<=Нормативы!$H$292,\"КМС\",IF(H293<=Нормативы!$H$293,\"I\",IF(H293<=Нормативы!$H$294,\"II\",IF(H293<=Нормативы!$H$295,\"III\",\"б/р\"))))))))","v":"I"},null,19.1,{"$f":"IF(ISBLANK(L293),\" \",IF(ISTEXT(L293),\" \",IF(L293<=Нормативы!$H$290,\"КМС\",IF(L293<=Нормативы!$H$291,\"КМС\",IF(L293<=Нормативы!$L$292,\"КМС\",IF(L293<=Нормативы!$L$293,\"I\",IF(L293<=Нормативы!$L$294,\"II\",IF(L293<=Нормативы!$L$295,\"III\",\"б/р\"))))))))","v":"I"},{"$f":"IF(ISBLANK(L293),\" \",IF(ISTEXT(L293),\" \",IF(L293<=Нормативы!$H$290,\"КМС\",IF(L293<=Нормативы!$H$291,\"КМС\",IF(L293<=Нормативы!$L$292,\"КМС\",IF(L293<=Нормативы!$L$293,\"I\",IF(L293<=Нормативы!$L$294,\"II\",IF(L293<=Нормативы!$L$295,\"III\",\"б/р\"))))))))","v":"I"},null,null,{"$f":"IF(ISBLANK(P293),\" \",IF(ISTEXT(P293),\" \",IF(P293<=$H$290,\"МСМК\",IF(P293<=$H$291,\"МС\",IF(P293<=$H$292,\"КМС\",IF(P293<=$H$293,\"I\",IF(P293<=$H$294,\"II\",IF(P293<=$H$295,\"III\",\"б/р\"))))))))","v":" "}]
[{"$nulls":7},21.099999999999998,{"$f":"IF(ISBLANK(H294),\" \",IF(ISTEXT(H294),\" \",IF(H294<=Нормативы!$H$290,\"МСМК\",IF(H294<=Нормативы!$H$291,\"МС\",IF(H294<=Нормативы!$H$292,\"КМС\",IF(H294<=Нормативы!$H$293,\"I\",IF(H294<=Нормативы!$H$294,\"II\",IF(H294<=Нормативы!$H$295,\"III\",\"б/р\"))))))))","v":"II"},{"$f":"IF(ISBLANK(H294),\" \",IF(ISTEXT(H294),\" \",IF(H294<=Нормативы!$H$290,\"МСМК\",IF(H294<=Нормативы!$H$291,\"МС\",IF(H294<=Нормативы!$H$292,\"КМС\",IF(H294<=Нормативы!$H$293,\"I\",IF(H294<=Нормативы!$H$294,\"II\",IF(H294<=Нормативы!$H$295,\"III\",\"б/р\"))))))))","v":"II"},null,20.9,{"$f":"IF(ISBLANK(L294),\" \",IF(ISTEXT(L294),\" \",IF(L294<=Нормативы!$H$290,\"КМС\",IF(L294<=Нормативы!$H$291,\"КМС\",IF(L294<=Нормативы!$L$292,\"КМС\",IF(L294<=Нормативы!$L$293,\"I\",IF(L294<=Нормативы!$L$294,\"II\",IF(L294<=Нормативы!$L$295,\"III\",\"б/р\"))))))))","v":"II"},{"$f":"IF(ISBLANK(L294),\" \",IF(ISTEXT(L294),\" \",IF(L294<=Нормативы!$H$290,\"КМС\",IF(L294<=Нормативы!$H$291,\"КМС\",IF(L294<=Нормативы!$L$292,\"КМС\",IF(L294<=Нормативы!$L$293,\"I\",IF(L294<=Нормативы!$L$294,\"II\",IF(L294<=Нормативы!$L$295,\"III\",\"б/р\"))))))))","v":"II"},null,null,{"$f":"IF(ISBLANK(P294),\" \",IF(ISTEXT(P294),\" \",IF(P294<=$H$290,\"МСМК\",IF(P294<=$H$291,\"МС\",IF(P294<=$H$292,\"КМС\",IF(P294<=$H$293,\"I\",IF(P294<=$H$294,\"II\",IF(P294<=$H$295,\"III\",\"б/р\"))))))))","v":" "}]
[{"$nulls":7},22.9,{"$f":"IF(ISBLANK(H295),\" \",IF(ISTEXT(H295),\" \",IF(H295<=Нормативы!$H$290,\"МСМК\",IF(H295<=Нормативы!$H$291,\"МС\",IF(H295<=Нормативы!$H$292,\"КМС\",IF(H295<=Нормативы!$H$293,\"I\",IF(H295<=Нормативы!$H$294,\"II\",IF(H295<=Нормативы!$H$295,\"III\",\"б/р\"))))))))","v":"III"},{"$f":"IF(ISBLANK(H295),\" \",IF(ISTEXT(H295),\" \",IF(H295<=Нормативы!$H$290,\"МСМК\",IF(H295<=Нормативы!$H$291,\"МС\",IF(H295<=Нормативы!$H$292,\"КМС\",IF(H295<=Нормативы!$H$293,\"I\",IF(H295<=Нормативы!$H$294,\"II\",IF(H295<=Нормативы!$H$295,\"III\",\"б/р\"))))))))","v":"III"},null,22.7,{"$f":"IF(ISBLANK(L295),\" \",IF(ISTEXT(L295),\" \",IF(L295<=Нормативы!$H$290,\"КМС\",IF(L295<=Нормативы!$H$291,\"КМС\",IF(L295<=Нормативы!$L$292,\"КМС\",IF(L295<=Нормативы!$L$293,\"I\",IF(L295<=Нормативы!$L$294,\"II\",IF(L295<=Нормативы!$L$295,\"III\",\"б/р\"))))))))","v":"III"},{"$f":"IF(ISBLANK(L295),\" \",IF(ISTEXT(L295),\" \",IF(L295<=Нормативы!$H$290,\"КМС\",IF(L295<=Нормативы!$H$291,\"КМС\",IF(L295<=Нормативы!$L$292,\"КМС\",IF(L295<=Нормативы!$L$293,\"I\",IF(L295<=Нормативы!$L$294,\"II\",IF(L295<=Нормативы!$L$295,\"III\",\"б/р\"))))))))","v":"III"},null,null,{"$f":"IF(ISBLANK(P295),\" \",IF(ISTEXT(P295),\" \",IF(P295<=$H$290,\"МСМК\",IF(P295<=$H$291,\"МС\",IF(P295<=$H$292,\"КМС\",IF(P295<=$H$293,\"I\",IF(P295<=$H$294,\"II\",IF(P295<=$H$295,\"III\",\"б/р\"))))))))","v":" "}]
[]
[null,null,"Ныряние в ластах в длину - 50 м (1460171811Я),  мужчины"]
[{"$nulls":7},14.7,{"$f":"IF(ISBLANK(H298),\" \",IF(ISTEXT(H298),\" \",IF(H298<=Нормативы!$H$298,\"МСМК\",IF(H298<=Нормативы!$H$299,\"МС\",IF(H298<=Нормативы!$H$300,\"КМС\",IF(H298<=Нормативы!$H$301,\"I\",IF(H298<=Нормативы!$H$302,\"II\",IF(H298<=Нормативы!$H$303,\"III\",\"б/р\"))))))))","v":"МСМК"},{"$f":"IF(ISBLANK(H298),\" \",IF(ISTEXT(H298),\" \",IF(H298<=Нормативы!$H$298,\"МСМК\",IF(H298<=Нормативы!$H$299,\"МС\",IF(H298<=Нормативы!$H$300,\"КМС\",IF(H298<=Нормативы!$H$301,\"I\",IF(H298<=Нормативы!$H$302,\"II\",IF(H298<=Нормативы!$H$303,\"III\",\"б/р\"))))))))","v":"МСМК"},null,null,{"$f":"IF(ISBLANK(L298),\" \",IF(ISTEXT(L298),\" \",IF(L298<=Нормативы!$H$298,\"КМС\",IF(L298<=Нормативы!$H$299,\"КМС\",IF(L298<=Нормативы!$L$300,\"КМС\",IF(L298<=Нормативы!$L$301,\"I\",IF(L298<=Нормативы!$L$302,\"II\",IF(L298<=Нормативы!$L$303,\"III\",\"б/р\"))))))))","v":" "},{"$f":"IF(ISBLANK(L298),\" \",IF(ISTEXT(L298),\" \",IF(L298<=14.9,\"МСМК\",IF(L298<=15.6,\"МС\",IF(L298<=16.2,\"КМС\",IF(L298<=17.3,\"I\",IF(L298<=18.8,\"II\",IF(L298<=20.4,\"III\",\"б/р\"))))))))","v":" "},null,null,{"$f":"IF(ISBLANK(P298),\" \",IF(ISTEXT(P298),\" \",IF(P298<=$H$298,\"МСМК\",IF(P298<=$H$299,\"МС\",IF(P298<=$H$300,\"КМС\",IF(P298<=$H$301,\"I\",IF(P298<=$H$302,\"II\",IF(P298<=$H$303,\"III\",\"б/р\"))))))))","v":" "}]
[{"$nulls":7},15.4,{"$f":"IF(ISBLANK(H299),\" \",IF(ISTEXT(H299),\" \",IF(H299<=Нормативы!$H$298,\"МСМК\",IF(H299<=Нормативы!$H$299,\"МС\",IF(H299<=Нормативы!$H$300,\"КМС\",IF(H299<=Нормативы!$H$301,\"I\",IF(H299<=Нормативы!$H$302,\"II\",IF(H299<=Нормативы!$H$303,\"III\",\"б/р\"))))))))","v":"МС"},{"$f":"IF(ISBLANK(H299),\" \",IF(ISTEXT(H299),\" \",IF(H299<=Нормативы!$H$298,\"МСМК\",IF(H299<=Нормативы!$H$299,\"МС\",IF(H299<=Нормативы!$H$300,\"КМС\",IF(H299<=Нормативы!$H$301,\"I\",IF(H299<=Нормативы!$H$302,\"II\",IF(H299<=Нормативы!$H$303,\"III\",\"б/р\"))))))))","v":"МС"},null,null,{"$f":"IF(ISBLANK(L299),\" \",IF(ISTEXT(L299),\" \",IF(L299<=Нормативы!$H$298,\"КМС\",IF(L299<=Нормативы!$H$299,\"КМС\",IF(L299<=Нормативы!$L$300,\"КМС\",IF(L299<=Нормативы!$L$301,\"I\",IF(L299<=Нормативы!$L$302,\"II\",IF(L299<=Нормативы!$L$303,\"III\",\"б/р\"))))))))","v":" "},{"$f":"IF(ISBLANK(L299),\" \",IF(ISTEXT(L299),\" \",IF(L299<=14.9,\"МСМК\",IF(L299<=15.6,\"МС\",IF(L299<=16.2,\"КМС\",IF(L299<=17.3,\"I\",IF(L299<=18.8,\"II\",IF(L299<=20.4,\"III\",\"б/р\"))))))))","v":" "},null,null,{"$f":"IF(ISBLANK(P299),\" \",IF(ISTEXT(P299),\" \",IF(P299<=$H$298,\"МСМК\",IF(P299<=$H$299,\"МС\",IF(P299<=$H$300,\"КМС\",IF(P299<=$H$301,\"I\",IF(P299<=$H$302,\"II\",IF(P299<=$H$303,\"III\",\"б/р\"))))))))","v":" "}]
[{"$nulls":7},16.2,{"$f":"IF(ISBLANK(H300),\" \",IF(ISTEXT(H300),\" \",IF(H300<=Нормативы!$H$298,\"МСМК\",IF(H300<=Нормативы!$H$299,\"МС\",IF(H300<=Нормативы!$H$300,\"КМС\",IF(H300<=Нормативы!$H$301,\"I\",IF(H300<=Нормативы!$H$302,\"II\",IF(H300<=Нормативы!$H$303,\"III\",\"б/р\"))))))))","v":"КМС"},{"$f":"IF(ISBLANK(H300),\" \",IF(ISTEXT(H300),\" \",IF(H300<=Нормативы!$H$298,\"МСМК\",IF(H300<=Нормативы!$H$299,\"МС\",IF(H300<=Нормативы!$H$300,\"КМС\",IF(H300<=Нормативы!$H$301,\"I\",IF(H300<=Нормативы!$H$302,\"II\",IF(H300<=Нормативы!$H$303,\"III\",\"б/р\"))))))))","v":"КМС"},null,{"$f":"H300-0.2","v":16},{"$f":"IF(ISBLANK(L300),\" \",IF(ISTEXT(L300),\" \",IF(L300<=Нормативы!$H$298,\"КМС\",IF(L300<=Нормативы!$H$299,\"КМС\",IF(L300<=Нормативы!$L$300,\"КМС\",IF(L300<=Нормативы!$L$301,\"I\",IF(L300<=Нормативы!$L$302,\"II\",IF(L300<=Нормативы!$L$303,\"III\",\"б/р\"))))))))","v":"КМС"},{"$f":"IF(ISBLANK(L300),\" \",IF(ISTEXT(L300),\" \",IF(L300<=Нормативы!$H$298,\"КМС\",IF(L300<=Нормативы!$H$299,\"КМС\",IF(L300<=Нормативы!$L$300,\"КМС\",IF(L300<=Нормативы!$L$301,\"I\",IF(L300<=Нормативы!$L$302,\"II\",IF(L300<=Нормативы!$L$303,\"III\",\"б/р\"))))))))","v":"КМС"},null,null,{"$f":"IF(ISBLANK(P300),\" \",IF(ISTEXT(P300),\" \",IF(P300<=$H$298,\"МСМК\",IF(P300<=$H$299,\"МС\",IF(P300<=$H$300,\"КМС\",IF(P300<=$H$301,\"I\",IF(P300<=$H$302,\"II\",IF(P300<=$H$303,\"III\",\"б/р\"))))))))","v":" "}]
[{"$nulls":7},17.2,{"$f":"IF(ISBLANK(H301),\" \",IF(ISTEXT(H301),\" \",IF(H301<=Нормативы!$H$298,\"МСМК\",IF(H301<=Нормативы!$H$299,\"МС\",IF(H301<=Нормативы!$H$300,\"КМС\",IF(H301<=Нормативы!$H$301,\"I\",IF(H301<=Нормативы!$H$302,\"II\",IF(H301<=Нормативы!$H$303,\"III\",\"б/р\"))))))))","v":"I"},{"$f":"IF(ISBLANK(H301),\" \",IF(ISTEXT(H301),\" \",IF(H301<=Нормативы!$H$298,\"МСМК\",IF(H301<=Нормативы!$H$299,\"МС\",IF(H301<=Нормативы!$H$300,\"КМС\",IF(H301<=Нормативы!$H$301,\"I\",IF(H301<=Нормативы!$H$302,\"II\",IF(H301<=Нормативы!$H$303,\"III\",\"б/р\"))))))))","v":"I"},null,17,{"$f":"IF(ISBLANK(L301),\" \",IF(ISTEXT(L301),\" \",IF(L301<=Нормативы!$H$298,\"КМС\",IF(L301<=Нормативы!$H$299,\"КМС\",IF(L301<=Нормативы!$L$300,\"КМС\",IF(L301<=Нормативы!$L$301,\"I\",IF(L301<=Нормативы!$L$302,\"II\",IF(L301<=Нормативы!$L$303,\"III\",\"б/р\"))))))))","v":"I"},{"$f":"IF(ISBLANK(L301),\" \",IF(ISTEXT(L301),\" \",IF(L301<=Нормативы!$H$298,\"КМС\",IF(L301<=Нормативы!$H$299,\"КМС\",IF(L301<=Нормативы!$L$300,\"КМС\",IF(L301<=Нормативы!$L$301,\"I\",IF(L301<=Нормативы!$L$302,\"II\",IF(L301<=Нормативы!$L$303,\"III\",\"б/р\"))))))))","v":"I"},null,null,{"$f":"IF(ISBLANK(P301),\" \",IF(ISTEXT(P301),\" \",IF(P301<=$H$298,\"МСМК\",IF(P301<=$H$299,\"МС\",IF(P301<=$H$300,\"КМС\",IF(P301<=$H$301,\"I\",IF(P301<=$H$302,\"II\",IF(P301<=$H$303,\"III\",\"б/р\"))))))))","v":" "}]
[{"$nulls":7},18.7,{"$f":"IF(ISBLANK(H302),\" \",IF(ISTEXT(H302),\" \",IF(H302<=Нормативы!$H$298,\"МСМК\",IF(H302<=Нормативы!$H$299,\"МС\",IF(H302<=Нормативы!$H$300,\"КМС\",IF(H302<=Нормативы!$H$301,\"I\",IF(H302<=Нормативы!$H$302,\"II\",IF(H302<=Нормативы!$H$303,\"III\",\"б/р\"))))))))","v":"II"},{"$f":"IF(ISBLANK(H302),\" \",IF(ISTEXT(H302),\" \",IF(H302<=Нормативы!$H$298,\"МСМК\",IF(H302<=Нормативы!$H$299,\"МС\",IF(H302<=Нормативы!$H$300,\"КМС\",IF(H302<=Нормативы!$H$301,\"I\",IF(H302<=Нормативы!$H$302,\"II\",IF(H302<=Нормативы!$H$303,\"III\",\"б/р\"))))))))","v":"II"},null,18.5,{"$f":"IF(ISBLANK(L302),\" \",IF(ISTEXT(L302),\" \",IF(L302<=Нормативы!$H$298,\"КМС\",IF(L302<=Нормативы!$H$299,\"КМС\",IF(L302<=Нормативы!$L$300,\"КМС\",IF(L302<=Нормативы!$L$301,\"I\",IF(L302<=Нормативы!$L$302,\"II\",IF(L302<=Нормативы!$L$303,\"III\",\"б/р\"))))))))","v":"II"},{"$f":"IF(ISBLANK(L302),\" \",IF(ISTEXT(L302),\" \",IF(L302<=Нормативы!$H$298,\"КМС\",IF(L302<=Нормативы!$H$299,\"КМС\",IF(L302<=Нормативы!$L$300,\"КМС\",IF(L302<=Нормативы!$L$301,\"I\",IF(L302<=Нормативы!$L$302,\"II\",IF(L302<=Нормативы!$L$303,\"III\",\"б/р\"))))))))","v":"II"},null,null,{"$f":"IF(ISBLANK(P302),\" \",IF(ISTEXT(P302),\" \",IF(P302<=$H$298,\"МСМК\",IF(P302<=$H$299,\"МС\",IF(P302<=$H$300,\"КМС\",IF(P302<=$H$301,\"I\",IF(P302<=$H$302,\"II\",IF(P302<=$H$303,\"III\",\"б/р\"))))))))","v":" "}]
[{"$nulls":7},20.2,{"$f":"IF(ISBLANK(H303),\" \",IF(ISTEXT(H303),\" \",IF(H303<=Нормативы!$H$298,\"МСМК\",IF(H303<=Нормативы!$H$299,\"МС\",IF(H303<=Нормативы!$H$300,\"КМС\",IF(H303<=Нормативы!$H$301,\"I\",IF(H303<=Нормативы!$H$302,\"II\",IF(H303<=Нормативы!$H$303,\"III\",\"б/р\"))))))))","v":"III"},{"$f":"IF(ISBLANK(H303),\" \",IF(ISTEXT(H303),\" \",IF(H303<=Нормативы!$H$298,\"МСМК\",IF(H303<=Нормативы!$H$299,\"МС\",IF(H303<=Нормативы!$H$300,\"КМС\",IF(H303<=Нормативы!$H$301,\"I\",IF(H303<=Нормативы!$H$302,\"II\",IF(H303<=Нормативы!$H$303,\"III\",\"б/р\"))))))))","v":"III"},null,20,{"$f":"IF(ISBLANK(L303),\" \",IF(ISTEXT(L303),\" \",IF(L303<=Нормативы!$H$298,\"КМС\",IF(L303<=Нормативы!$H$299,\"КМС\",IF(L303<=Нормативы!$L$300,\"КМС\",IF(L303<=Нормативы!$L$301,\"I\",IF(L303<=Нормативы!$L$302,\"II\",IF(L303<=Нормативы!$L$303,\"III\",\"б/р\"))))))))","v":"III"},{"$f":"IF(ISBLANK(L303),\" \",IF(ISTEXT(L303),\" \",IF(L303<=Нормативы!$H$298,\"КМС\",IF(L303<=Нормативы!$H$299,\"КМС\",IF(L303<=Нормативы!$L$300,\"КМС\",IF(L303<=Нормативы!$L$301,\"I\",IF(L303<=Нормативы!$L$302,\"II\",IF(L303<=Нормативы!$L$303,\"III\",\"б/р\"))))))))","v":"III"},null,null,{"$f":"IF(ISBLANK(P303),\" \",IF(ISTEXT(P303),\" \",IF(P303<=$H$298,\"МСМК\",IF(P303<=$H$299,\"МС\",IF(P303<=$H$300,\"КМС\",IF(P303<=$H$301,\"I\",IF(P303<=$H$302,\"II\",IF(P303<=$H$303,\"III\",\"б/р\"))))))))","v":" "}]
[]
[null,null,"Апноэ – динамическое  (1460311811Л), женщины"]
[{"$nulls":9},"метры",null,{"v":160,"d":"160.0 "},{"$f":"IF(ISBLANK(L306),\" \",IF(ISTEXT(L306),\" \",IF(L306>=Нормативы!$L$306,\"МСМК\",IF(L306>=Нормативы!$L$307,\"МС\",IF(L306>=Нормативы!$L$308,\"КМС\",IF(L306>=Нормативы!$L$309,\"I\",IF(L306>=Нормативы!$L$310,\"II\",IF(L306>=Нормативы!$L$311,\"III\",\"б/р\"))))))))","v":"МСМК"},{"$f":"IF(ISBLANK(L306),\" \",IF(ISTEXT(L306),\" \",IF(L306>=Нормативы!$L$306,\"МСМК\",IF(L306>=Нормативы!$L$307,\"МС\",IF(L306>=Нормативы!$L$308,\"КМС\",IF(L306>=Нормативы!$L$309,\"I\",IF(L306>=Нормативы!$L$310,\"II\",IF(L306>=Нормативы!$L$311,\"III\",\"б/р\"))))))))","v":"МСМК"},null,null,{"$f":"IF(ISBLANK(P306),\" \",IF(ISTEXT(P306),\" \",IF(P306>=$L$306,\"МСМК\",IF(P306>=$L$307,\"МС\",IF(P306>=$L$308,\"КМС\",IF(P306>=$L$309,\"I\",IF(P306>=$L$310,\"II\",IF(P306>=$L$311,\"III\",\"б/р\"))))))))","v":" "}]
[{"$nulls":9},"метры",null,{"v":130,"d":"130.0 "},{"$f":"IF(ISBLANK(L307),\" \",IF(ISTEXT(L307),\" \",IF(L307>=Нормативы!$L$306,\"МСМК\",IF(L307>=Нормативы!$L$307,\"МС\",IF(L307>=Нормативы!$L$308,\"КМС\",IF(L307>=Нормативы!$L$309,\"I\",IF(L307>=Нормативы!$L$310,\"II\",IF(L307>=Нормативы!$L$311,\"III\",\"б/р\"))))))))","v":"МС"},{"$f":"IF(ISBLANK(L307),\" \",IF(ISTEXT(L307),\" \",IF(L307>=Нормативы!$L$306,\"МСМК\",IF(L307>=Нормативы!$L$307,\"МС\",IF(L307>=Нормативы!$L$308,\"КМС\",IF(L307>=Нормативы!$L$309,\"I\",IF(L307>=Нормативы!$L$310,\"II\",IF(L307>=Нормативы!$L$311,\"III\",\"б/р\"))))))))","v":"МС"},null,null,{"$f":"IF(ISBLANK(P307),\" \",IF(ISTEXT(P307),\" \",IF(P307>=$L$306,\"МСМК\",IF(P307>=$L$307,\"МС\",IF(P307>=$L$308,\"КМС\",IF(P307>=$L$309,\"I\",IF(P307>=$L$310,\"II\",IF(P307>=$L$311,\"III\",\"б/р\"))))))))","v":" "}]
[{"$nulls":9},"метры",null,{"v":105,"d":"105.0 "},{"$f":"IF(ISBLANK(L308),\" \",IF(ISTEXT(L308),\" \",IF(L308>=Нормативы!$L$306,\"МСМК\",IF(L308>=Нормативы!$L$307,\"МС\",IF(L308>=Нормативы!$L$308,\"КМС\",IF(L308>=Нормативы!$L$309,\"I\",IF(L308>=Нормативы!$L$310,\"II\",IF(L308>=Нормативы!$L$311,\"III\",\"б/р\"))))))))","v":"КМС"},{"$f":"IF(ISBLANK(L308),\" \",IF(ISTEXT(L308),\" \",IF(L308>=Нормативы!$L$306,\"МСМК\",IF(L308>=Нормативы!$L$307,\"МС\",IF(L308>=Нормативы!$L$308,\"КМС\",IF(L308>=Нормативы!$L$309,\"I\",IF(L308>=Нормативы!$L$310,\"II\",IF(L308>=Нормативы!$L$311,\"III\",\"б/р\"))))))))","v":"КМС"},null,null,{"$f":"IF(ISBLANK(P308),\" \",IF(ISTEXT(P308),\" \",IF(P308>=$L$306,\"МСМК\",IF(P308>=$L$307,\"МС\",IF(P308>=$L$308,\"КМС\",IF(P308>=$L$309,\"I\",IF(P308>=$L$310,\"II\",IF(P308>=$L$311,\"III\",\"б/р\"))))))))","v":" "}]
[{"$nulls":9},"метры",null,{"v":91,"d":"91.0 "},{"$f":"IF(ISBLANK(L309),\" \",IF(ISTEXT(L309),\" \",IF(L309>=Нормативы!$L$306,\"МСМК\",IF(L309>=Нормативы!$L$307,\"МС\",IF(L309>=Нормативы!$L$308,\"КМС\",IF(L309>=Нормативы!$L$309,\"I\",IF(L309>=Нормативы!$L$310,\"II\",IF(L309>=Нормативы!$L$311,\"III\",\"б/р\"))))))))","v":"I"},{"$f":"IF(ISBLANK(L309),\" \",IF(ISTEXT(L309),\" \",IF(L309>=Нормативы!$L$306,\"МСМК\",IF(L309>=Нормативы!$L$307,\"МС\",IF(L309>=Нормативы!$L$308,\"КМС\",IF(L309>=Нормативы!$L$309,\"I\",IF(L309>=Нормативы!$L$310,\"II\",IF(L309>=Нормативы!$L$311,\"III\",\"б/р\"))))))))","v":"I"},null,null,{"$f":"IF(ISBLANK(P309),\" \",IF(ISTEXT(P309),\" \",IF(P309>=$L$306,\"МСМК\",IF(P309>=$L$307,\"МС\",IF(P309>=$L$308,\"КМС\",IF(P309>=$L$309,\"I\",IF(P309>=$L$310,\"II\",IF(P309>=$L$311,\"III\",\"б/р\"))))))))","v":" "}]
[{"$nulls":9},"метры",null,{"v":73,"d":"73.0 "},{"$f":"IF(ISBLANK(L310),\" \",IF(ISTEXT(L310),\" \",IF(L310>=Нормативы!$L$306,\"МСМК\",IF(L310>=Нормативы!$L$307,\"МС\",IF(L310>=Нормативы!$L$308,\"КМС\",IF(L310>=Нормативы!$L$309,\"I\",IF(L310>=Нормативы!$L$310,\"II\",IF(L310>=Нормативы!$L$311,\"III\",\"б/р\"))))))))","v":"II"},{"$f":"IF(ISBLANK(L310),\" \",IF(ISTEXT(L310),\" \",IF(L310>=Нормативы!$L$306,\"МСМК\",IF(L310>=Нормативы!$L$307,\"МС\",IF(L310>=Нормативы!$L$308,\"КМС\",IF(L310>=Нормативы!$L$309,\"I\",IF(L310>=Нормативы!$L$310,\"II\",IF(L310>=Нормативы!$L$311,\"III\",\"б/р\"))))))))","v":"II"},null,null,{"$f":"IF(ISBLANK(P310),\" \",IF(ISTEXT(P310),\" \",IF(P310>=$L$306,\"МСМК\",IF(P310>=$L$307,\"МС\",IF(P310>=$L$308,\"КМС\",IF(P310>=$L$309,\"I\",IF(P310>=$L$310,\"II\",IF(P310>=$L$311,\"III\",\"б/р\"))))))))","v":" "}]
[{"$nulls":9},"метры",null,{"v":55,"d":"55.0 "},{"$f":"IF(ISBLANK(L311),\" \",IF(ISTEXT(L311),\" \",IF(L311>=Нормативы!$L$306,\"МСМК\",IF(L311>=Нормативы!$L$307,\"МС\",IF(L311>=Нормативы!$L$308,\"КМС\",IF(L311>=Нормативы!$L$309,\"I\",IF(L311>=Нормативы!$L$310,\"II\",IF(L311>=Нормативы!$L$311,\"III\",\"б/р\"))))))))","v":"III"},{"$f":"IF(ISBLANK(L311),\" \",IF(ISTEXT(L311),\" \",IF(L311>=Нормативы!$L$306,\"МСМК\",IF(L311>=Нормативы!$L$307,\"МС\",IF(L311>=Нормативы!$L$308,\"КМС\",IF(L311>=Нормативы!$L$309,\"I\",IF(L311>=Нормативы!$L$310,\"II\",IF(L311>=Нормативы!$L$311,\"III\",\"б/р\"))))))))","v":"III"},null,null,{"$f":"IF(ISBLANK(P311),\" \",IF(ISTEXT(P311),\" \",IF(P311>=$L$306,\"МСМК\",IF(P311>=$L$307,\"МС\",IF(P311>=$L$308,\"КМС\",IF(P311>=$L$309,\"I\",IF(P311>=$L$310,\"II\",IF(P311>=$L$311,\"III\",\"б/р\"))))))))","v":" "}]
[]
[null,null,"Апноэ – динамическое  (1460311811Л), мужчины"]
[{"$nulls":9},"метры",null,{"v":188,"d":"188.0 "},{"$f":"IF(ISBLANK(L314),\" \",IF(ISTEXT(L314),\" \",IF(L314>=Нормативы!$L$314,\"МСМК\",IF(L314>=Нормативы!$L$315,\"МС\",IF(L314>=Нормативы!$L$316,\"КМС\",IF(L314>=Нормативы!$L$317,\"I\",IF(L314>=Нормативы!$L$318,\"II\",IF(L314>=Нормативы!$L$319,\"III\",\"б/р\"))))))))","v":"МСМК"},{"$f":"IF(ISBLANK(L314),\" \",IF(ISTEXT(L314),\" \",IF(L314>=Нормативы!$L$314,\"МСМК\",IF(L314>=Нормативы!$L$315,\"МС\",IF(L314>=Нормативы!$L$316,\"КМС\",IF(L314>=Нормативы!$L$317,\"I\",IF(L314>=Нормативы!$L$318,\"II\",IF(L314>=Нормативы!$L$319,\"III\",\"б/р\"))))))))","v":"МСМК"},null,null,{"$f":"IF(ISBLANK(P314),\" \",IF(ISTEXT(P314),\" \",IF(P314>=$L$314,\"МСМК\",IF(P314>=$L$315,\"МС\",IF(P314>=$L$316,\"КМС\",IF(P314>=$L$317,\"I\",IF(P314>=$L$318,\"II\",IF(P314>=$L$319,\"III\",\"б/р\"))))))))","v":" "}]
[{"$nulls":9},"метры",null,{"v":160,"d":"160.0 "},{"$f":"IF(ISBLANK(L315),\" \",IF(ISTEXT(L315),\" \",IF(L315>=Нормативы!$L$314,\"МСМК\",IF(L315>=Нормативы!$L$315,\"МС\",IF(L315>=Нормативы!$L$316,\"КМС\",IF(L315>=Нормативы!$L$317,\"I\",IF(L315>=Нормативы!$L$318,\"II\",IF(L315>=Нормативы!$L$319,\"III\",\"б/р\"))))))))","v":"МС"},{"$f":"IF(ISBLANK(L315),\" \",IF(ISTEXT(L315),\" \",IF(L315>=Нормативы!$L$314,\"МСМК\",IF(L315>=Нормативы!$L$315,\"МС\",IF(L315>=Нормативы!$L$316,\"КМС\",IF(L315>=Нормативы!$L$317,\"I\",IF(L315>=Нормативы!$L$318,\"II\",IF(L315>=Нормативы!$L$319,\"III\",\"б/р\"))))))))","v":"МС"},null,null,{"$f":"IF(ISBLANK(P315),\" \",IF(ISTEXT(P315),\" \",IF(P315>=$L$314,\"МСМК\",IF(P315>=$L$315,\"МС\",IF(P315>=$L$316,\"КМС\",IF(P315>=$L$317,\"I\",IF(P315>=$L$318,\"II\",IF(P315>=$L$319,\"III\",\"б/р\"))))))))","v":" "}]
[{"$nulls":9},"метры",null,{"v":140,"d":"140.0 "},{"$f":"IF(ISBLANK(L316),\" \",IF(ISTEXT(L316),\" \",IF(L316>=Нормативы!$L$314,\"МСМК\",IF(L316>=Нормативы!$L$315,\"МС\",IF(L316>=Нормативы!$L$316,\"КМС\",IF(L316>=Нормативы!$L$317,\"I\",IF(L316>=Нормативы!$L$318,\"II\",IF(L316>=Нормативы!$L$319,\"III\",\"б/р\"))))))))","v":"КМС"},{"$f":"IF(ISBLANK(L316),\" \",IF(ISTEXT(L316),\" \",IF(L316>=Нормативы!$L$314,\"МСМК\",IF(L316>=Нормативы!$L$315,\"МС\",IF(L316>=Нормативы!$L$316,\"КМС\",IF(L316>=Нормативы!$L$317,\"I\",IF(L316>=Нормативы!$L$318,\"II\",IF(L316>=Нормативы!$L$319,\"III\",\"б/р\"))))))))","v":"КМС"},null,null,{"$f":"IF(ISBLANK(P316),\" \",IF(ISTEXT(P316),\" \",IF(P316>=$L$314,\"МСМК\",IF(P316>=$L$315,\"МС\",IF(P316>=$L$316,\"КМС\",IF(P316>=$L$317,\"I\",IF(P316>=$L$318,\"II\",IF(P316>=$L$319,\"III\",\"б/р\"))))))))","v":" "}]
[{"$nulls":9},"метры",null,{"v":119,"d":"119.0 "},{"$f":"IF(ISBLANK(L317),\" \",IF(ISTEXT(L317),\" \",IF(L317>=Нормативы!$L$314,\"МСМК\",IF(L317>=Нормативы!$L$315,\"МС\",IF(L317>=Нормативы!$L$316,\"КМС\",IF(L317>=Нормативы!$L$317,\"I\",IF(L317>=Нормативы!$L$318,\"II\",IF(L317>=Нормативы!$L$319,\"III\",\"б/р\"))))))))","v":"I"},{"$f":"IF(ISBLANK(L317),\" \",IF(ISTEXT(L317),\" \",IF(L317>=Нормативы!$L$314,\"МСМК\",IF(L317>=Нормативы!$L$315,\"МС\",IF(L317>=Нормативы!$L$316,\"КМС\",IF(L317>=Нормативы!$L$317,\"I\",IF(L317>=Нормативы!$L$318,\"II\",IF(L317>=Нормативы!$L$319,\"III\",\"б/р\"))))))))","v":"I"},null,null,{"$f":"IF(ISBLANK(P317),\" \",IF(ISTEXT(P317),\" \",IF(P317>=$L$314,\"МСМК\",IF(P317>=$L$315,\"МС\",IF(P317>=$L$316,\"КМС\",IF(P317>=$L$317,\"I\",IF(P317>=$L$318,\"II\",IF(P317>=$L$319,\"III\",\"б/р\"))))))))","v":" "}]
[{"$nulls":9},"метры",null,{"v":99,"d":"99.0 "},{"$f":"IF(ISBLANK(L318),\" \",IF(ISTEXT(L318),\" \",IF(L318>=Нормативы!$L$314,\"МСМК\",IF(L318>=Нормативы!$L$315,\"МС\",IF(L318>=Нормативы!$L$316,\"КМС\",IF(L318>=Нормативы!$L$317,\"I\",IF(L318>=Нормативы!$L$318,\"II\",IF(L318>=Нормативы!$L$319,\"III\",\"б/р\"))))))))","v":"II"},{"$f":"IF(ISBLANK(L318),\" \",IF(ISTEXT(L318),\" \",IF(L318>=Нормативы!$L$314,\"МСМК\",IF(L318>=Нормативы!$L$315,\"МС\",IF(L318>=Нормативы!$L$316,\"КМС\",IF(L318>=Нормативы!$L$317,\"I\",IF(L318>=Нормативы!$L$318,\"II\",IF(L318>=Нормативы!$L$319,\"III\",\"б/р\"))))))))","v":"II"},null,null,{"$f":"IF(ISBLANK(P318),\" \",IF(ISTEXT(P318),\" \",IF(P318>=$L$314,\"МСМК\",IF(P318>=$L$315,\"МС\",IF(P318>=$L$316,\"КМС\",IF(P318>=$L$317,\"I\",IF(P318>=$L$318,\"II\",IF(P318>=$L$319,\"III\",\"б/р\"))))))))","v":" "}]
[{"$nulls":9},"метры",null,{"v":78,"d":"78.0 "},{"$f":"IF(ISBLANK(L319),\" \",IF(ISTEXT(L319),\" \",IF(L319>=Нормативы!$L$314,\"МСМК\",IF(L319>=Нормативы!$L$315,\"МС\",IF(L319>=Нормативы!$L$316,\"КМС\",IF(L319>=Нормативы!$L$317,\"I\",IF(L319>=Нормативы!$L$318,\"II\",IF(L319>=Нормативы!$L$319,\"III\",\"б/р\"))))))))","v":"III"},{"$f":"IF(ISBLANK(L319),\" \",IF(ISTEXT(L319),\" \",IF(L319>=Нормативы!$L$314,\"МСМК\",IF(L319>=Нормативы!$L$315,\"МС\",IF(L319>=Нормативы!$L$316,\"КМС\",IF(L319>=Нормативы!$L$317,\"I\",IF(L319>=Нормативы!$L$318,\"II\",IF(L319>=Нормативы!$L$319,\"III\",\"б/р\"))))))))","v":"III"},null,null,{"$f":"IF(ISBLANK(P319),\" \",IF(ISTEXT(P319),\" \",IF(P319>=$L$314,\"МСМК\",IF(P319>=$L$315,\"МС\",IF(P319>=$L$316,\"КМС\",IF(P319>=$L$317,\"I\",IF(P319>=$L$318,\"II\",IF(P319>=$L$319,\"III\",\"б/р\"))))))))","v":" "}]
[]
[null,null,"Апноэ - динамическое в ластах (1460321811Л), женщины"]
[{"$nulls":9},"метры",null,{"v":220,"d":"220.0 "},{"$f":"IF(ISBLANK(L322),\" \",IF(ISTEXT(L322),\" \",IF(L322>=Нормативы!$L$322,\"МСМК\",IF(L322>=Нормативы!$L$323,\"МС\",IF(L322>=Нормативы!$L$324,\"КМС\",IF(L322>=Нормативы!$L$325,\"I\",IF(L322>=Нормативы!$L$326,\"II\",IF(L322>=Нормативы!$L$327,\"III\",\"б/р\"))))))))","v":"МСМК"},{"$f":"IF(ISBLANK(L322),\" \",IF(ISTEXT(L322),\" \",IF(L322>=Нормативы!$L$322,\"МСМК\",IF(L322>=Нормативы!$L$323,\"МС\",IF(L322>=Нормативы!$L$324,\"КМС\",IF(L322>=Нормативы!$L$325,\"I\",IF(L322>=Нормативы!$L$326,\"II\",IF(L322>=Нормативы!$L$327,\"III\",\"б/р\"))))))))","v":"МСМК"},null,null,{"$f":"IF(ISBLANK(P322),\" \",IF(ISTEXT(P322),\" \",IF(P322>=$L$322,\"МСМК\",IF(P322>=$L$323,\"МС\",IF(P322>=$L$324,\"КМС\",IF(P322>=$L$325,\"I\",IF(P322>=$L$326,\"II\",IF(P322>=$L$327,\"III\",\"б/р\"))))))))","v":" "}]
[{"$nulls":9},"метры",null,{"v":180,"d":"180.0 "},{"$f":"IF(ISBLANK(L323),\" \",IF(ISTEXT(L323),\" \",IF(L323>=Нормативы!$L$322,\"МСМК\",IF(L323>=Нормативы!$L$323,\"МС\",IF(L323>=Нормативы!$L$324,\"КМС\",IF(L323>=Нормативы!$L$325,\"I\",IF(L323>=Нормативы!$L$326,\"II\",IF(L323>=Нормативы!$L$327,\"III\",\"б/р\"))))))))","v":"МС"},{"$f":"IF(ISBLANK(L323),\" \",IF(ISTEXT(L323),\" \",IF(L323>=Нормативы!$L$322,\"МСМК\",IF(L323>=Нормативы!$L$323,\"МС\",IF(L323>=Нормативы!$L$324,\"КМС\",IF(L323>=Нормативы!$L$325,\"I\",IF(L323>=Нормативы!$L$326,\"II\",IF(L323>=Нормативы!$L$327,\"III\",\"б/р\"))))))))","v":"МС"},null,null,{"$f":"IF(ISBLANK(P323),\" \",IF(ISTEXT(P323),\" \",IF(P323>=$L$322,\"МСМК\",IF(P323>=$L$323,\"МС\",IF(P323>=$L$324,\"КМС\",IF(P323>=$L$325,\"I\",IF(P323>=$L$326,\"II\",IF(P323>=$L$327,\"III\",\"б/р\"))))))))","v":" "}]
[{"$nulls":9},"метры",null,{"v":148,"d":"148.0 "},{"$f":"IF(ISBLANK(L324),\" \",IF(ISTEXT(L324),\" \",IF(L324>=Нормативы!$L$322,\"МСМК\",IF(L324>=Нормативы!$L$323,\"МС\",IF(L324>=Нормативы!$L$324,\"КМС\",IF(L324>=Нормативы!$L$325,\"I\",IF(L324>=Нормативы!$L$326,\"II\",IF(L324>=Нормативы!$L$327,\"III\",\"б/р\"))))))))","v":"КМС"},{"$f":"IF(ISBLANK(L324),\" \",IF(ISTEXT(L324),\" \",IF(L324>=Нормативы!$L$322,\"МСМК\",IF(L324>=Нормативы!$L$323,\"МС\",IF(L324>=Нормативы!$L$324,\"КМС\",IF(L324>=Нормативы!$L$325,\"I\",IF(L324>=Нормативы!$L$326,\"II\",IF(L324>=Нормативы!$L$327,\"III\",\"б/р\"))))))))","v":"КМС"},null,null,{"$f":"IF(ISBLANK(P324),\" \",IF(ISTEXT(P324),\" \",IF(P324>=$L$322,\"МСМК\",IF(P324>=$L$323,\"МС\",IF(P324>=$L$324,\"КМС\",IF(P324>=$L$325,\"I\",IF(P324>=$L$326,\"II\",IF(P324>=$L$327,\"III\",\"б/р\"))))))))","v":" "}]
[{"$nulls":9},"метры",null,{"v":120,"d":"120.0 "},{"$f":"IF(ISBLANK(L325),\" \",IF(ISTEXT(L325),\" \",IF(L325>=Нормативы!$L$322,\"МСМК\",IF(L325>=Нормативы!$L$323,\"МС\",IF(L325>=Нормативы!$L$324,\"КМС\",IF(L325>=Нормативы!$L$325,\"I\",IF(L325>=Нормативы!$L$326,\"II\",IF(L325>=Нормативы!$L$327,\"III\",\"б/р\"))))))))","v":"I"},{"$f":"IF(ISBLANK(L325),\" \",IF(ISTEXT(L325),\" \",IF(L325>=Нормативы!$L$322,\"МСМК\",IF(L325>=Нормативы!$L$323,\"МС\",IF(L325>=Нормативы!$L$324,\"КМС\",IF(L325>=Нормативы!$L$325,\"I\",IF(L325>=Нормативы!$L$326,\"II\",IF(L325>=Нормативы!$L$327,\"III\",\"б/р\"))))))))","v":"I"},null,null,{"$f":"IF(ISBLANK(P325),\" \",IF(ISTEXT(P325),\" \",IF(P325>=$L$322,\"МСМК\",IF(P325>=$L$323,\"МС\",IF(P325>=$L$324,\"КМС\",IF(P325>=$L$325,\"I\",IF(P325>=$L$326,\"II\",IF(P325>=$L$327,\"III\",\"б/р\"))))))))","v":" "}]
[{"$nulls":9},"метры",null,{"v":85,"d":"85.0 "},{"$f":"IF(ISBLANK(L326),\" \",IF(ISTEXT(L326),\" \",IF(L326>=Нормативы!$L$322,\"МСМК\",IF(L326>=Нормативы!$L$323,\"МС\",IF(L326>=Нормативы!$L$324,\"КМС\",IF(L326>=Нормативы!$L$325,\"I\",IF(L326>=Нормативы!$L$326,\"II\",IF(L326>=Нормативы!$L$327,\"III\",\"б/р\"))))))))","v":"II"},{"$f":"IF(ISBLANK(L326),\" \",IF(ISTEXT(L326),\" \",IF(L326>=Нормативы!$L$322,\"МСМК\",IF(L326>=Нормативы!$L$323,\"МС\",IF(L326>=Нормативы!$L$324,\"КМС\",IF(L326>=Нормативы!$L$325,\"I\",IF(L326>=Нормативы!$L$326,\"II\",IF(L326>=Нормативы!$L$327,\"III\",\"б/р\"))))))))","v":"II"},null,null,{"$f":"IF(ISBLANK(P326),\" \",IF(ISTEXT(P326),\" \",IF(P326>=$L$322,\"МСМК\",IF(P326>=$L$323,\"МС\",IF(P326>=$L$324,\"КМС\",IF(P326>=$L$325,\"I\",IF(P326>=$L$326,\"II\",IF(P326>=$L$327,\"III\",\"б/р\"))))))))","v":" "}]
[{"$nulls":9},"метры",null,{"v":69,"d":"69.0 "},{"$f":"IF(ISBLANK(L327),\" \",IF(ISTEXT(L327),\" \",IF(L327>=Нормативы!$L$322,\"МСМК\",IF(L327>=Нормативы!$L$323,\"МС\",IF(L327>=Нормативы!$L$324,\"КМС\",IF(L327>=Нормативы!$L$325,\"I\",IF(L327>=Нормативы!$L$326,\"II\",IF(L327>=Нормативы!$L$327,\"III\",\"б/р\"))))))))","v":"III"},{"$f":"IF(ISBLANK(L327),\" \",IF(ISTEXT(L327),\" \",IF(L327>=Нормативы!$L$322,\"МСМК\",IF(L327>=Нормативы!$L$323,\"МС\",IF(L327>=Нормативы!$L$324,\"КМС\",IF(L327>=Нормативы!$L$325,\"I\",IF(L327>=Нормативы!$L$326,\"II\",IF(L327>=Нормативы!$L$327,\"III\",\"б/р\"))))))))","v":"III"},null,null,{"$f":"IF(ISBLANK(P327),\" \",IF(ISTEXT(P327),\" \",IF(P327>=$L$322,\"МСМК\",IF(P327>=$L$323,\"МС\",IF(P327>=$L$324,\"КМС\",IF(P327>=$L$325,\"I\",IF(P327>=$L$326,\"II\",IF(P327>=$L$327,\"III\",\"б/р\"))))))))","v":" "}]
[]
[null,null,"Апноэ - динамическое в ластах (1460321811Л), мужчины"]
[{"$nulls":9},"метры",null,{"v":250,"d":"250.0 "},{"$f":"IF(ISBLANK(L330),\" \",IF(ISTEXT(L330),\" \",IF(L330>=Нормативы!$L$330,\"МСМК\",IF(L330>=Нормативы!$L$331,\"МС\",IF(L330>=Нормативы!$L$332,\"КМС\",IF(L330>=Нормативы!$L$333,\"I\",IF(L330>=Нормативы!$L$334,\"II\",IF(L330>=Нормативы!$L$335,\"III\",\"б/р\"))))))))","v":"МСМК"},{"$f":"IF(ISBLANK(L330),\" \",IF(ISTEXT(L330),\" \",IF(L330>=Нормативы!$L$330,\"МСМК\",IF(L330>=Нормативы!$L$331,\"МС\",IF(L330>=Нормативы!$L$332,\"КМС\",IF(L330>=Нормативы!$L$333,\"I\",IF(L330>=Нормативы!$L$334,\"II\",IF(L330>=Нормативы!$L$335,\"III\",\"б/р\"))))))))","v":"МСМК"},null,null,{"$f":"IF(ISBLANK(P330),\" \",IF(ISTEXT(P330),\" \",IF(P330>=$L$330,\"МСМК\",IF(P330>=$L$331,\"МС\",IF(P330>=$L$332,\"КМС\",IF(P330>=$L$333,\"I\",IF(P330>=$L$334,\"II\",IF(P330>=$L$335,\"III\",\"б/р\"))))))))","v":" "}]
[{"$nulls":9},"метры",null,{"v":210,"d":"210.0 "},{"$f":"IF(ISBLANK(L331),\" \",IF(ISTEXT(L331),\" \",IF(L331>=Нормативы!$L$330,\"МСМК\",IF(L331>=Нормативы!$L$331,\"МС\",IF(L331>=Нормативы!$L$332,\"КМС\",IF(L331>=Нормативы!$L$333,\"I\",IF(L331>=Нормативы!$L$334,\"II\",IF(L331>=Нормативы!$L$335,\"III\",\"б/р\"))))))))","v":"МС"},{"$f":"IF(ISBLANK(L331),\" \",IF(ISTEXT(L331),\" \",IF(L331>=Нормативы!$L$330,\"МСМК\",IF(L331>=Нормативы!$L$331,\"МС\",IF(L331>=Нормативы!$L$332,\"КМС\",IF(L331>=Нормативы!$L$333,\"I\",IF(L331>=Нормативы!$L$334,\"II\",IF(L331>=Нормативы!$L$335,\"III\",\"б/р\"))))))))","v":"МС"},null,null,{"$f":"IF(ISBLANK(P331),\" \",IF(ISTEXT(P331),\" \",IF(P331>=$L$330,\"МСМК\",IF(P331>=$L$331,\"МС\",IF(P331>=$L$332,\"КМС\",IF(P331>=$L$333,\"I\",IF(P331>=$L$334,\"II\",IF(P331>=$L$335,\"III\",\"б/р\"))))))))","v":" "}]
[{"$nulls":9},"метры",null,{"v":180,"d":"180.0 "},{"$f":"IF(ISBLANK(L332),\" \",IF(ISTEXT(L332),\" \",IF(L332>=Нормативы!$L$330,\"МСМК\",IF(L332>=Нормативы!$L$331,\"МС\",IF(L332>=Нормативы!$L$332,\"КМС\",IF(L332>=Нормативы!$L$333,\"I\",IF(L332>=Нормативы!$L$334,\"II\",IF(L332>=Нормативы!$L$335,\"III\",\"б/р\"))))))))","v":"КМС"},{"$f":"IF(ISBLANK(L332),\" \",IF(ISTEXT(L332),\" \",IF(L332>=Нормативы!$L$330,\"МСМК\",IF(L332>=Нормативы!$L$331,\"МС\",IF(L332>=Нормативы!$L$332,\"КМС\",IF(L332>=Нормативы!$L$333,\"I\",IF(L332>=Нормативы!$L$334,\"II\",IF(L332>=Нормативы!$L$335,\"III\",\"б/р\"))))))))","v":"КМС"},null,null,{"$f":"IF(ISBLANK(P332),\" \",IF(ISTEXT(P332),\" \",IF(P332>=$L$330,\"МСМК\",IF(P332>=$L$331,\"МС\",IF(P332>=$L$332,\"КМС\",IF(P332>=$L$333,\"I\",IF(P332>=$L$334,\"II\",IF(P332>=$L$335,\"III\",\"б/р\"))))))))","v":" "}]
[{"$nulls":9},"метры",null,{"v":148,"d":"148.0 "},{"$f":"IF(ISBLANK(L333),\" \",IF(ISTEXT(L333),\" \",IF(L333>=Нормативы!$L$330,\"МСМК\",IF(L333>=Нормативы!$L$331,\"МС\",IF(L333>=Нормативы!$L$332,\"КМС\",IF(L333>=Нормативы!$L$333,\"I\",IF(L333>=Нормативы!$L$334,\"II\",IF(L333>=Нормативы!$L$335,\"III\",\"б/р\"))))))))","v":"I"},{"$f":"IF(ISBLANK(L333),\" \",IF(ISTEXT(L333),\" \",IF(L333>=Нормативы!$L$330,\"МСМК\",IF(L333>=Нормативы!$L$331,\"МС\",IF(L333>=Нормативы!$L$332,\"КМС\",IF(L333>=Нормативы!$L$333,\"I\",IF(L333>=Нормативы!$L$334,\"II\",IF(L333>=Нормативы!$L$335,\"III\",\"б/р\"))))))))","v":"I"},null,null,{"$f":"IF(ISBLANK(P333),\" \",IF(ISTEXT(P333),\" \",IF(P333>=$L$330,\"МСМК\",IF(P333>=$L$331,\"МС\",IF(P333>=$L$332,\"КМС\",IF(P333>=$L$333,\"I\",IF(P333>=$L$334,\"II\",IF(P333>=$L$335,\"III\",\"б/р\"))))))))","v":" "}]
[{"$nulls":9},"метры",null,{"v":105,"d":"105.0 "},{"$f":"IF(ISBLANK(L334),\" \",IF(ISTEXT(L334),\" \",IF(L334>=Нормативы!$L$330,\"МСМК\",IF(L334>=Нормативы!$L$331,\"МС\",IF(L334>=Нормативы!$L$332,\"КМС\",IF(L334>=Нормативы!$L$333,\"I\",IF(L334>=Нормативы!$L$334,\"II\",IF(L334>=Нормативы!$L$335,\"III\",\"б/р\"))))))))","v":"II"},{"$f":"IF(ISBLANK(L334),\" \",IF(ISTEXT(L334),\" \",IF(L334>=Нормативы!$L$330,\"МСМК\",IF(L334>=Нормативы!$L$331,\"МС\",IF(L334>=Нормативы!$L$332,\"КМС\",IF(L334>=Нормативы!$L$333,\"I\",IF(L334>=Нормативы!$L$334,\"II\",IF(L334>=Нормативы!$L$335,\"III\",\"б/р\"))))))))","v":"II"},null,null,{"$f":"IF(ISBLANK(P334),\" \",IF(ISTEXT(P334),\" \",IF(P334>=$L$330,\"МСМК\",IF(P334>=$L$331,\"МС\",IF(P334>=$L$332,\"КМС\",IF(P334>=$L$333,\"I\",IF(P334>=$L$334,\"II\",IF(P334>=$L$335,\"III\",\"б/р\"))))))))","v":" "}]
[{"$nulls":9},"метры",null,{"v":90,"d":"90.0 "},{"$f":"IF(ISBLANK(L335),\" \",IF(ISTEXT(L335),\" \",IF(L335>=Нормативы!$L$330,\"МСМК\",IF(L335>=Нормативы!$L$331,\"МС\",IF(L335>=Нормативы!$L$332,\"КМС\",IF(L335>=Нормативы!$L$333,\"I\",IF(L335>=Нормативы!$L$334,\"II\",IF(L335>=Нормативы!$L$335,\"III\",\"б/р\"))))))))","v":"III"},{"$f":"IF(ISBLANK(L335),\" \",IF(ISTEXT(L335),\" \",IF(L335>=Нормативы!$L$330,\"МСМК\",IF(L335>=Нормативы!$L$331,\"МС\",IF(L335>=Нормативы!$L$332,\"КМС\",IF(L335>=Нормативы!$L$333,\"I\",IF(L335>=Нормативы!$L$334,\"II\",IF(L335>=Нормативы!$L$335,\"III\",\"б/р\"))))))))","v":"III"},null,null,{"$f":"IF(ISBLANK(P335),\" \",IF(ISTEXT(P335),\" \",IF(P335>=$L$330,\"МСМК\",IF(P335>=$L$331,\"МС\",IF(P335>=$L$332,\"КМС\",IF(P335>=$L$333,\"I\",IF(P335>=$L$334,\"II\",IF(P335>=$L$335,\"III\",\"б/р\"))))))))","v":" "}]
[]
[null,null,"Апноэ - динамическое в классических ластах (1460161811Л), женщины"]
[{"$nulls":9},"метры",null,{"v":210,"d":"210.0 "},{"$f":"IF(ISBLANK(L338),\" \",IF(ISTEXT(L338),\" \",IF(L338>=Нормативы!$L$338,\"МСМК\",IF(L338>=Нормативы!$L$339,\"МС\",IF(L338>=Нормативы!$L$340,\"КМС\",IF(L338>=Нормативы!$L$341,\"I\",IF(L338>=Нормативы!$L$342,\"II\",IF(L338>=Нормативы!$L$343,\"III\",\"б/р\"))))))))","v":"МСМК"},{"$f":"IF(ISBLANK(L338),\" \",IF(ISTEXT(L338),\" \",IF(L338>=Нормативы!$L$338,\"МСМК\",IF(L338>=Нормативы!$L$339,\"МС\",IF(L338>=Нормативы!$L$340,\"КМС\",IF(L338>=Нормативы!$L$341,\"I\",IF(L338>=Нормативы!$L$342,\"II\",IF(L338>=Нормативы!$L$343,\"III\",\"б/р\"))))))))","v":"МСМК"},null,null,{"$f":"IF(ISBLANK(P338),\" \",IF(ISTEXT(P338),\" \",IF(P338>=$L$338,\"МСМК\",IF(P338>=$L$339,\"МС\",IF(P338>=$L$340,\"КМС\",IF(P338>=$L$341,\"I\",IF(P338>=$L$342,\"II\",IF(P338>=$L$343,\"III\",\"б/р\"))))))))","v":" "}]
[{"$nulls":9},"метры",null,{"v":155,"d":"155.0 "},{"$f":"IF(ISBLANK(L339),\" \",IF(ISTEXT(L339),\" \",IF(L339>=Нормативы!$L$338,\"МСМК\",IF(L339>=Нормативы!$L$339,\"МС\",IF(L339>=Нормативы!$L$340,\"КМС\",IF(L339>=Нормативы!$L$341,\"I\",IF(L339>=Нормативы!$L$342,\"II\",IF(L339>=Нормативы!$L$343,\"III\",\"б/р\"))))))))","v":"МС"},{"$f":"IF(ISBLANK(L339),\" \",IF(ISTEXT(L339),\" \",IF(L339>=Нормативы!$L$338,\"МСМК\",IF(L339>=Нормативы!$L$339,\"МС\",IF(L339>=Нормативы!$L$340,\"КМС\",IF(L339>=Нормативы!$L$341,\"I\",IF(L339>=Нормативы!$L$342,\"II\",IF(L339>=Нормативы!$L$343,\"III\",\"б/р\"))))))))","v":"МС"},null,null,{"$f":"IF(ISBLANK(P339),\" \",IF(ISTEXT(P339),\" \",IF(P339>=$L$338,\"МСМК\",IF(P339>=$L$339,\"МС\",IF(P339>=$L$340,\"КМС\",IF(P339>=$L$341,\"I\",IF(P339>=$L$342,\"II\",IF(P339>=$L$343,\"III\",\"б/р\"))))))))","v":" "}]
[{"$nulls":9},"метры",null,{"v":125,"d":"125.0 "},{"$f":"IF(ISBLANK(L340),\" \",IF(ISTEXT(L340),\" \",IF(L340>=Нормативы!$L$338,\"МСМК\",IF(L340>=Нормативы!$L$339,\"МС\",IF(L340>=Нормативы!$L$340,\"КМС\",IF(L340>=Нормативы!$L$341,\"I\",IF(L340>=Нормативы!$L$342,\"II\",IF(L340>=Нормативы!$L$343,\"III\",\"б/р\"))))))))","v":"КМС"},{"$f":"IF(ISBLANK(L340),\" \",IF(ISTEXT(L340),\" \",IF(L340>=Нормативы!$L$338,\"МСМК\",IF(L340>=Нормативы!$L$339,\"МС\",IF(L340>=Нормативы!$L$340,\"КМС\",IF(L340>=Нормативы!$L$341,\"I\",IF(L340>=Нормативы!$L$342,\"II\",IF(L340>=Нормативы!$L$343,\"III\",\"б/р\"))))))))","v":"КМС"},null,null,{"$f":"IF(ISBLANK(P340),\" \",IF(ISTEXT(P340),\" \",IF(P340>=$L$338,\"МСМК\",IF(P340>=$L$339,\"МС\",IF(P340>=$L$340,\"КМС\",IF(P340>=$L$341,\"I\",IF(P340>=$L$342,\"II\",IF(P340>=$L$343,\"III\",\"б/р\"))))))))","v":" "}]
[{"$nulls":9},"метры",null,{"v":101,"d":"101.0 "},{"$f":"IF(ISBLANK(L341),\" \",IF(ISTEXT(L341),\" \",IF(L341>=Нормативы!$L$338,\"МСМК\",IF(L341>=Нормативы!$L$339,\"МС\",IF(L341>=Нормативы!$L$340,\"КМС\",IF(L341>=Нормативы!$L$341,\"I\",IF(L341>=Нормативы!$L$342,\"II\",IF(L341>=Нормативы!$L$343,\"III\",\"б/р\"))))))))","v":"I"},{"$f":"IF(ISBLANK(L341),\" \",IF(ISTEXT(L341),\" \",IF(L341>=Нормативы!$L$338,\"МСМК\",IF(L341>=Нормативы!$L$339,\"МС\",IF(L341>=Нормативы!$L$340,\"КМС\",IF(L341>=Нормативы!$L$341,\"I\",IF(L341>=Нормативы!$L$342,\"II\",IF(L341>=Нормативы!$L$343,\"III\",\"б/р\"))))))))","v":"I"},null,null,{"$f":"IF(ISBLANK(P341),\" \",IF(ISTEXT(P341),\" \",IF(P341>=$L$338,\"МСМК\",IF(P341>=$L$339,\"МС\",IF(P341>=$L$340,\"КМС\",IF(P341>=$L$341,\"I\",IF(P341>=$L$342,\"II\",IF(P341>=$L$343,\"III\",\"б/р\"))))))))","v":" "}]
[{"$nulls":9},"метры",null,{"v":79,"d":"79.0 "},{"$f":"IF(ISBLANK(L342),\" \",IF(ISTEXT(L342),\" \",IF(L342>=Нормативы!$L$338,\"МСМК\",IF(L342>=Нормативы!$L$339,\"МС\",IF(L342>=Нормативы!$L$340,\"КМС\",IF(L342>=Нормативы!$L$341,\"I\",IF(L342>=Нормативы!$L$342,\"II\",IF(L342>=Нормативы!$L$343,\"III\",\"б/р\"))))))))","v":"II"},{"$f":"IF(ISBLANK(L342),\" \",IF(ISTEXT(L342),\" \",IF(L342>=Нормативы!$L$338,\"МСМК\",IF(L342>=Нормативы!$L$339,\"МС\",IF(L342>=Нормативы!$L$340,\"КМС\",IF(L342>=Нормативы!$L$341,\"I\",IF(L342>=Нормативы!$L$342,\"II\",IF(L342>=Нормативы!$L$343,\"III\",\"б/р\"))))))))","v":"II"},null,null,{"$f":"IF(ISBLANK(P342),\" \",IF(ISTEXT(P342),\" \",IF(P342>=$L$338,\"МСМК\",IF(P342>=$L$339,\"МС\",IF(P342>=$L$340,\"КМС\",IF(P342>=$L$341,\"I\",IF(P342>=$L$342,\"II\",IF(P342>=$L$343,\"III\",\"б/р\"))))))))","v":" "}]
[{"$nulls":9},"метры",null,{"v":62,"d":"62.0 "},{"$f":"IF(ISBLANK(L343),\" \",IF(ISTEXT(L343),\" \",IF(L343>=Нормативы!$L$338,\"МСМК\",IF(L343>=Нормативы!$L$339,\"МС\",IF(L343>=Нормативы!$L$340,\"КМС\",IF(L343>=Нормативы!$L$341,\"I\",IF(L343>=Нормативы!$L$342,\"II\",IF(L343>=Нормативы!$L$343,\"III\",\"б/р\"))))))))","v":"III"},{"$f":"IF(ISBLANK(L343),\" \",IF(ISTEXT(L343),\" \",IF(L343>=Нормативы!$L$338,\"МСМК\",IF(L343>=Нормативы!$L$339,\"МС\",IF(L343>=Нормативы!$L$340,\"КМС\",IF(L343>=Нормативы!$L$341,\"I\",IF(L343>=Нормативы!$L$342,\"II\",IF(L343>=Нормативы!$L$343,\"III\",\"б/р\"))))))))","v":"III"},null,null,{"$f":"IF(ISBLANK(P343),\" \",IF(ISTEXT(P343),\" \",IF(P343>=$L$338,\"МСМК\",IF(P343>=$L$339,\"МС\",IF(P343>=$L$340,\"КМС\",IF(P343>=$L$341,\"I\",IF(P343>=$L$342,\"II\",IF(P343>=$L$343,\"III\",\"б/р\"))))))))","v":" "}]
[]
[null,null,"Апноэ - динамическое в классических ластах (1460161811Л), мужчины"]
[{"$nulls":9},"метры",null,{"v":235,"d":"235.0 "},{"$f":"IF(ISBLANK(L346),\" \",IF(ISTEXT(L346),\" \",IF(L346>=Нормативы!$L$346,\"МСМК\",IF(L346>=Нормативы!$L$347,\"МС\",IF(L346>=Нормативы!$L$348,\"КМС\",IF(L346>=Нормативы!$L$349,\"I\",IF(L346>=Нормативы!$L$350,\"II\",IF(L346>=Нормативы!$L$351,\"III\",\"б/р\"))))))))","v":"МСМК"},{"$f":"IF(ISBLANK(L346),\" \",IF(ISTEXT(L346),\" \",IF(L346>=Нормативы!$L$346,\"МСМК\",IF(L346>=Нормативы!$L$347,\"МС\",IF(L346>=Нормативы!$L$348,\"КМС\",IF(L346>=Нормативы!$L$349,\"I\",IF(L346>=Нормативы!$L$350,\"II\",IF(L346>=Нормативы!$L$351,\"III\",\"б/р\"))))))))","v":"МСМК"},null,null,{"$f":"IF(ISBLANK(P346),\" \",IF(ISTEXT(P346),\" \",IF(P346>=$L$346,\"МСМК\",IF(P346>=$L$347,\"МС\",IF(P346>=$L$348,\"КМС\",IF(P346>=$L$349,\"I\",IF(P346>=$L$350,\"II\",IF(P346>=$L$351,\"III\",\"б/р\"))))))))","v":" "}]
[{"$nulls":9},"метры",null,{"v":201,"d":"201.0 "},{"$f":"IF(ISBLANK(L347),\" \",IF(ISTEXT(L347),\" \",IF(L347>=Нормативы!$L$346,\"МСМК\",IF(L347>=Нормативы!$L$347,\"МС\",IF(L347>=Нормативы!$L$348,\"КМС\",IF(L347>=Нормативы!$L$349,\"I\",IF(L347>=Нормативы!$L$350,\"II\",IF(L347>=Нормативы!$L$351,\"III\",\"б/р\"))))))))","v":"МС"},{"$f":"IF(ISBLANK(L347),\" \",IF(ISTEXT(L347),\" \",IF(L347>=Нормативы!$L$346,\"МСМК\",IF(L347>=Нормативы!$L$347,\"МС\",IF(L347>=Нормативы!$L$348,\"КМС\",IF(L347>=Нормативы!$L$349,\"I\",IF(L347>=Нормативы!$L$350,\"II\",IF(L347>=Нормативы!$L$351,\"III\",\"б/р\"))))))))","v":"МС"},null,null,{"$f":"IF(ISBLANK(P347),\" \",IF(ISTEXT(P347),\" \",IF(P347>=$L$346,\"МСМК\",IF(P347>=$L$347,\"МС\",IF(P347>=$L$348,\"КМС\",IF(P347>=$L$349,\"I\",IF(P347>=$L$350,\"II\",IF(P347>=$L$351,\"III\",\"б/р\"))))))))","v":" "}]
[{"$nulls":9},"метры",null,{"v":162,"d":"162.0 "},{"$f":"IF(ISBLANK(L348),\" \",IF(ISTEXT(L348),\" \",IF(L348>=Нормативы!$L$346,\"МСМК\",IF(L348>=Нормативы!$L$347,\"МС\",IF(L348>=Нормативы!$L$348,\"КМС\",IF(L348>=Нормативы!$L$349,\"I\",IF(L348>=Нормативы!$L$350,\"II\",IF(L348>=Нормативы!$L$351,\"III\",\"б/р\"))))))))","v":"КМС"},{"$f":"IF(ISBLANK(L348),\" \",IF(ISTEXT(L348),\" \",IF(L348>=Нормативы!$L$346,\"МСМК\",IF(L348>=Нормативы!$L$347,\"МС\",IF(L348>=Нормативы!$L$348,\"КМС\",IF(L348>=Нормативы!$L$349,\"I\",IF(L348>=Нормативы!$L$350,\"II\",IF(L348>=Нормативы!$L$351,\"III\",\"б/р\"))))))))","v":"КМС"},null,null,{"$f":"IF(ISBLANK(P348),\" \",IF(ISTEXT(P348),\" \",IF(P348>=$L$346,\"МСМК\",IF(P348>=$L$347,\"МС\",IF(P348>=$L$348,\"КМС\",IF(P348>=$L$349,\"I\",IF(P348>=$L$350,\"II\",IF(P348>=$L$351,\"III\",\"б/р\"))))))))","v":" "}]
[{"$nulls":9},"метры",null,{"v":130,"d":"130.0 "},{"$f":"IF(ISBLANK(L349),\" \",IF(ISTEXT(L349),\" \",IF(L349>=Нормативы!$L$346,\"МСМК\",IF(L349>=Нормативы!$L$347,\"МС\",IF(L349>=Нормативы!$L$348,\"КМС\",IF(L349>=Нормативы!$L$349,\"I\",IF(L349>=Нормативы!$L$350,\"II\",IF(L349>=Нормативы!$L$351,\"III\",\"б/р\"))))))))","v":"I"},{"$f":"IF(ISBLANK(L349),\" \",IF(ISTEXT(L349),\" \",IF(L349>=Нормативы!$L$346,\"МСМК\",IF(L349>=Нормативы!$L$347,\"МС\",IF(L349>=Нормативы!$L$348,\"КМС\",IF(L349>=Нормативы!$L$349,\"I\",IF(L349>=Нормативы!$L$350,\"II\",IF(L349>=Нормативы!$L$351,\"III\",\"б/р\"))))))))","v":"I"},null,null,{"$f":"IF(ISBLANK(P349),\" \",IF(ISTEXT(P349),\" \",IF(P349>=$L$346,\"МСМК\",IF(P349>=$L$347,\"МС\",IF(P349>=$L$348,\"КМС\",IF(P349>=$L$349,\"I\",IF(P349>=$L$350,\"II\",IF(P349>=$L$351,\"III\",\"б/р\"))))))))","v":" "}]
[{"$nulls":9},"метры",null,{"v":105,"d":"105.0 "},{"$f":"IF(ISBLANK(L350),\" \",IF(ISTEXT(L350),\" \",IF(L350>=Нормативы!$L$346,\"МСМК\",IF(L350>=Нормативы!$L$347,\"МС\",IF(L350>=Нормативы!$L$348,\"КМС\",IF(L350>=Нормативы!$L$349,\"I\",IF(L350>=Нормативы!$L$350,\"II\",IF(L350>=Нормативы!$L$351,\"III\",\"б/р\"))))))))","v":"II"},{"$f":"IF(ISBLANK(L350),\" \",IF(ISTEXT(L350),\" \",IF(L350>=Нормативы!$L$346,\"МСМК\",IF(L350>=Нормативы!$L$347,\"МС\",IF(L350>=Нормативы!$L$348,\"КМС\",IF(L350>=Нормативы!$L$349,\"I\",IF(L350>=Нормативы!$L$350,\"II\",IF(L350>=Нормативы!$L$351,\"III\",\"б/р\"))))))))","v":"II"},null,null,{"$f":"IF(ISBLANK(P350),\" \",IF(ISTEXT(P350),\" \",IF(P350>=$L$346,\"МСМК\",IF(P350>=$L$347,\"МС\",IF(P350>=$L$348,\"КМС\",IF(P350>=$L$349,\"I\",IF(P350>=$L$350,\"II\",IF(P350>=$L$351,\"III\",\"б/р\"))))))))","v":" "}]
[{"$nulls":9},"метры",null,{"v":81,"d":"81.0 "},{"$f":"IF(ISBLANK(L351),\" \",IF(ISTEXT(L351),\" \",IF(L351>=Нормативы!$L$346,\"МСМК\",IF(L351>=Нормативы!$L$347,\"МС\",IF(L351>=Нормативы!$L$348,\"КМС\",IF(L351>=Нормативы!$L$349,\"I\",IF(L351>=Нормативы!$L$350,\"II\",IF(L351>=Нормативы!$L$351,\"III\",\"б/р\"))))))))","v":"III"},{"$f":"IF(ISBLANK(L351),\" \",IF(ISTEXT(L351),\" \",IF(L351>=Нормативы!$L$346,\"МСМК\",IF(L351>=Нормативы!$L$347,\"МС\",IF(L351>=Нормативы!$L$348,\"КМС\",IF(L351>=Нормативы!$L$349,\"I\",IF(L351>=Нормативы!$L$350,\"II\",IF(L351>=Нормативы!$L$351,\"III\",\"б/р\"))))))))","v":"III"},null,null,{"$f":"IF(ISBLANK(P351),\" \",IF(ISTEXT(P351),\" \",IF(P351>=$L$346,\"МСМК\",IF(P351>=$L$347,\"МС\",IF(P351>=$L$348,\"КМС\",IF(P351>=$L$349,\"I\",IF(P351>=$L$350,\"II\",IF(P351>=$L$351,\"III\",\"б/р\"))))))))","v":" "}]
[]
[null,null,"Апноэ - скоростное 100 м (1460211811Л), женщины"]
[{"$nulls":7},37,{"$f":"IF(ISBLANK(H354),\" \",IF(ISTEXT(H354),\" \",IF(H354<=Нормативы!$H$354,\"МСМК\",IF(H354<=Нормативы!$H$355,\"МС\",IF(H354<=Нормативы!$H$356,\"КМС\",IF(H354<=Нормативы!$H$357,\"I\",IF(H354<=Нормативы!$H$358,\"II\",IF(H354<=Нормативы!$H$359,\"III\",\"б/р\"))))))))","v":"МСМК"},{"$f":"IF(ISBLANK(H354),\" \",IF(ISTEXT(H354),\" \",IF(H354<=Нормативы!$H$354,\"МСМК\",IF(H354<=Нормативы!$H$355,\"МС\",IF(H354<=Нормативы!$H$356,\"КМС\",IF(H354<=Нормативы!$H$357,\"I\",IF(H354<=Нормативы!$H$358,\"II\",IF(H354<=Нормативы!$H$359,\"III\",\"б/р\"))))))))","v":"МСМК"},null,null,{"$f":"IF(ISBLANK(L354),\" \",IF(ISTEXT(L354),\" \",IF(L354<=Нормативы!$H$354,\"КМС\",IF(L354<=Нормативы!$H$355,\"КМС\",IF(L354<=Нормативы!$L$356,\"КМС\",IF(L354<=Нормативы!$L$357,\"I\",IF(L354<=Нормативы!$L$358,\"II\",IF(L354<=Нормативы!$L$359,\"III\",\"б/р\"))))))))","v":" "},{"$f":"IF(ISBLANK(L354),\" \",IF(ISTEXT(L354),\" \",IF(L354<=37.2,\"МСМК\",IF(L354<=39.5,\"МС\",IF(L354<=41.6,\"КМС\",IF(L354<=45,\"I\",IF(L354<=48.6,\"II\",IF(L354<=53,\"III\",\"б/р\"))))))))","v":" "},null,null,{"$f":"IF(ISBLANK(P354),\" \",IF(ISTEXT(P354),\" \",IF(P354<=$H$354,\"МСМК\",IF(P354<=$H$355,\"МС\",IF(P354<=$H$356,\"КМС\",IF(P354<=$H$357,\"I\",IF(P354<=$H$358,\"II\",IF(P354<=$H$359,\"III\",\"б/р\"))))))))","v":" "}]
[{"$nulls":7},39.4,{"$f":"IF(ISBLANK(H355),\" \",IF(ISTEXT(H355),\" \",IF(H355<=Нормативы!$H$354,\"МСМК\",IF(H355<=Нормативы!$H$355,\"МС\",IF(H355<=Нормативы!$H$356,\"КМС\",IF(H355<=Нормативы!$H$357,\"I\",IF(H355<=Нормативы!$H$358,\"II\",IF(H355<=Нормативы!$H$359,\"III\",\"б/р\"))))))))","v":"МС"},{"$f":"IF(ISBLANK(H355),\" \",IF(ISTEXT(H355),\" \",IF(H355<=Нормативы!$H$354,\"МСМК\",IF(H355<=Нормативы!$H$355,\"МС\",IF(H355<=Нормативы!$H$356,\"КМС\",IF(H355<=Нормативы!$H$357,\"I\",IF(H355<=Нормативы!$H$358,\"II\",IF(H355<=Нормативы!$H$359,\"III\",\"б/р\"))))))))","v":"МС"},null,null,{"$f":"IF(ISBLANK(L355),\" \",IF(ISTEXT(L355),\" \",IF(L355<=Нормативы!$H$354,\"КМС\",IF(L355<=Нормативы!$H$355,\"КМС\",IF(L355<=Нормативы!$L$356,\"КМС\",IF(L355<=Нормативы!$L$357,\"I\",IF(L355<=Нормативы!$L$358,\"II\",IF(L355<=Нормативы!$L$359,\"III\",\"б/р\"))))))))","v":" "},{"$f":"IF(ISBLANK(L355),\" \",IF(ISTEXT(L355),\" \",IF(L355<=37.2,\"МСМК\",IF(L355<=39.5,\"МС\",IF(L355<=41.6,\"КМС\",IF(L355<=45,\"I\",IF(L355<=48.6,\"II\",IF(L355<=53,\"III\",\"б/р\"))))))))","v":" "},null,null,{"$f":"IF(ISBLANK(P355),\" \",IF(ISTEXT(P355),\" \",IF(P355<=$H$354,\"МСМК\",IF(P355<=$H$355,\"МС\",IF(P355<=$H$356,\"КМС\",IF(P355<=$H$357,\"I\",IF(P355<=$H$358,\"II\",IF(P355<=$H$359,\"III\",\"б/р\"))))))))","v":" "}]
[{"$nulls":7},41.2,{"$f":"IF(ISBLANK(H356),\" \",IF(ISTEXT(H356),\" \",IF(H356<=Нормативы!$H$354,\"МСМК\",IF(H356<=Нормативы!$H$355,\"МС\",IF(H356<=Нормативы!$H$356,\"КМС\",IF(H356<=Нормативы!$H$357,\"I\",IF(H356<=Нормативы!$H$358,\"II\",IF(H356<=Нормативы!$H$359,\"III\",\"б/р\"))))))))","v":"КМС"},{"$f":"IF(ISBLANK(H356),\" \",IF(ISTEXT(H356),\" \",IF(H356<=Нормативы!$H$354,\"МСМК\",IF(H356<=Нормативы!$H$355,\"МС\",IF(H356<=Нормативы!$H$356,\"КМС\",IF(H356<=Нормативы!$H$357,\"I\",IF(H356<=Нормативы!$H$358,\"II\",IF(H356<=Нормативы!$H$359,\"III\",\"б/р\"))))))))","v":"КМС"},null,{"$f":"H356-0.2","v":41},{"$f":"IF(ISBLANK(L356),\" \",IF(ISTEXT(L356),\" \",IF(L356<=Нормативы!$H$354,\"КМС\",IF(L356<=Нормативы!$H$355,\"КМС\",IF(L356<=Нормативы!$L$356,\"КМС\",IF(L356<=Нормативы!$L$357,\"I\",IF(L356<=Нормативы!$L$358,\"II\",IF(L356<=Нормативы!$L$359,\"III\",\"б/р\"))))))))","v":"КМС"},{"$f":"IF(ISBLANK(L356),\" \",IF(ISTEXT(L356),\" \",IF(L356<=Нормативы!$H$354,\"КМС\",IF(L356<=Нормативы!$H$355,\"КМС\",IF(L356<=Нормативы!$L$356,\"КМС\",IF(L356<=Нормативы!$L$357,\"I\",IF(L356<=Нормативы!$L$358,\"II\",IF(L356<=Нормативы!$L$359,\"III\",\"б/р\"))))))))","v":"КМС"},null,null,{"$f":"IF(ISBLANK(P356),\" \",IF(ISTEXT(P356),\" \",IF(P356<=$H$354,\"МСМК\",IF(P356<=$H$355,\"МС\",IF(P356<=$H$356,\"КМС\",IF(P356<=$H$357,\"I\",IF(P356<=$H$358,\"II\",IF(P356<=$H$359,\"III\",\"б/р\"))))))))","v":" "}]
[{"$nulls":7},44.7,{"$f":"IF(ISBLANK(H357),\" \",IF(ISTEXT(H357),\" \",IF(H357<=Нормативы!$H$354,\"МСМК\",IF(H357<=Нормативы!$H$355,\"МС\",IF(H357<=Нормативы!$H$356,\"КМС\",IF(H357<=Нормативы!$H$357,\"I\",IF(H357<=Нормативы!$H$358,\"II\",IF(H357<=Нормативы!$H$359,\"III\",\"б/р\"))))))))","v":"I"},{"$f":"IF(ISBLANK(H357),\" \",IF(ISTEXT(H357),\" \",IF(H357<=Нормативы!$H$354,\"МСМК\",IF(H357<=Нормативы!$H$355,\"МС\",IF(H357<=Нормативы!$H$356,\"КМС\",IF(H357<=Нормативы!$H$357,\"I\",IF(H357<=Нормативы!$H$358,\"II\",IF(H357<=Нормативы!$H$359,\"III\",\"б/р\"))))))))","v":"I"},null,44.5,{"$f":"IF(ISBLANK(L357),\" \",IF(ISTEXT(L357),\" \",IF(L357<=Нормативы!$H$354,\"КМС\",IF(L357<=Нормативы!$H$355,\"КМС\",IF(L357<=Нормативы!$L$356,\"КМС\",IF(L357<=Нормативы!$L$357,\"I\",IF(L357<=Нормативы!$L$358,\"II\",IF(L357<=Нормативы!$L$359,\"III\",\"б/р\"))))))))","v":"I"},{"$f":"IF(ISBLANK(L357),\" \",IF(ISTEXT(L357),\" \",IF(L357<=Нормативы!$H$354,\"КМС\",IF(L357<=Нормативы!$H$355,\"КМС\",IF(L357<=Нормативы!$L$356,\"КМС\",IF(L357<=Нормативы!$L$357,\"I\",IF(L357<=Нормативы!$L$358,\"II\",IF(L357<=Нормативы!$L$359,\"III\",\"б/р\"))))))))","v":"I"},null,null,{"$f":"IF(ISBLANK(P357),\" \",IF(ISTEXT(P357),\" \",IF(P357<=$H$354,\"МСМК\",IF(P357<=$H$355,\"МС\",IF(P357<=$H$356,\"КМС\",IF(P357<=$H$357,\"I\",IF(P357<=$H$358,\"II\",IF(P357<=$H$359,\"III\",\"б/р\"))))))))","v":" "}]
[{"$nulls":7},48.7,{"$f":"IF(ISBLANK(H358),\" \",IF(ISTEXT(H358),\" \",IF(H358<=Нормативы!$H$354,\"МСМК\",IF(H358<=Нормативы!$H$355,\"МС\",IF(H358<=Нормативы!$H$356,\"КМС\",IF(H358<=Нормативы!$H$357,\"I\",IF(H358<=Нормативы!$H$358,\"II\",IF(H358<=Нормативы!$H$359,\"III\",\"б/р\"))))))))","v":"II"},{"$f":"IF(ISBLANK(H358),\" \",IF(ISTEXT(H358),\" \",IF(H358<=Нормативы!$H$354,\"МСМК\",IF(H358<=Нормативы!$H$355,\"МС\",IF(H358<=Нормативы!$H$356,\"КМС\",IF(H358<=Нормативы!$H$357,\"I\",IF(H358<=Нормативы!$H$358,\"II\",IF(H358<=Нормативы!$H$359,\"III\",\"б/р\"))))))))","v":"II"},null,48.5,{"$f":"IF(ISBLANK(L358),\" \",IF(ISTEXT(L358),\" \",IF(L358<=Нормативы!$H$354,\"КМС\",IF(L358<=Нормативы!$H$355,\"КМС\",IF(L358<=Нормативы!$L$356,\"КМС\",IF(L358<=Нормативы!$L$357,\"I\",IF(L358<=Нормативы!$L$358,\"II\",IF(L358<=Нормативы!$L$359,\"III\",\"б/р\"))))))))","v":"II"},{"$f":"IF(ISBLANK(L358),\" \",IF(ISTEXT(L358),\" \",IF(L358<=Нормативы!$H$354,\"КМС\",IF(L358<=Нормативы!$H$355,\"КМС\",IF(L358<=Нормативы!$L$356,\"КМС\",IF(L358<=Нормативы!$L$357,\"I\",IF(L358<=Нормативы!$L$358,\"II\",IF(L358<=Нормативы!$L$359,\"III\",\"б/р\"))))))))","v":"II"},null,null,{"$f":"IF(ISBLANK(P358),\" \",IF(ISTEXT(P358),\" \",IF(P358<=$H$354,\"МСМК\",IF(P358<=$H$355,\"МС\",IF(P358<=$H$356,\"КМС\",IF(P358<=$H$357,\"I\",IF(P358<=$H$358,\"II\",IF(P358<=$H$359,\"III\",\"б/р\"))))))))","v":" "}]
[{"$nulls":7},52.2,{"$f":"IF(ISBLANK(H359),\" \",IF(ISTEXT(H359),\" \",IF(H359<=Нормативы!$H$354,\"МСМК\",IF(H359<=Нормативы!$H$355,\"МС\",IF(H359<=Нормативы!$H$356,\"КМС\",IF(H359<=Нормативы!$H$357,\"I\",IF(H359<=Нормативы!$H$358,\"II\",IF(H359<=Нормативы!$H$359,\"III\",\"б/р\"))))))))","v":"III"},{"$f":"IF(ISBLANK(H359),\" \",IF(ISTEXT(H359),\" \",IF(H359<=Нормативы!$H$354,\"МСМК\",IF(H359<=Нормативы!$H$355,\"МС\",IF(H359<=Нормативы!$H$356,\"КМС\",IF(H359<=Нормативы!$H$357,\"I\",IF(H359<=Нормативы!$H$358,\"II\",IF(H359<=Нормативы!$H$359,\"III\",\"б/р\"))))))))","v":"III"},null,52,{"$f":"IF(ISBLANK(L359),\" \",IF(ISTEXT(L359),\" \",IF(L359<=Нормативы!$H$354,\"КМС\",IF(L359<=Нормативы!$H$355,\"КМС\",IF(L359<=Нормативы!$L$356,\"КМС\",IF(L359<=Нормативы!$L$357,\"I\",IF(L359<=Нормативы!$L$358,\"II\",IF(L359<=Нормативы!$L$359,\"III\",\"б/р\"))))))))","v":"III"},{"$f":"IF(ISBLANK(L359),\" \",IF(ISTEXT(L359),\" \",IF(L359<=Нормативы!$H$354,\"КМС\",IF(L359<=Нормативы!$H$355,\"КМС\",IF(L359<=Нормативы!$L$356,\"КМС\",IF(L359<=Нормативы!$L$357,\"I\",IF(L359<=Нормативы!$L$358,\"II\",IF(L359<=Нормативы!$L$359,\"III\",\"б/р\"))))))))","v":"III"},null,null,{"$f":"IF(ISBLANK(P359),\" \",IF(ISTEXT(P359),\" \",IF(P359<=$H$354,\"МСМК\",IF(P359<=$H$355,\"МС\",IF(P359<=$H$356,\"КМС\",IF(P359<=$H$357,\"I\",IF(P359<=$H$358,\"II\",IF(P359<=$H$359,\"III\",\"б/р\"))))))))","v":" "}]
[]
[null,null,"Апноэ - скоростное 100 м (1460211811Л), мужчины"]
[{"$nulls":7},32.6,{"$f":"IF(ISBLANK(H362),\" \",IF(ISTEXT(H362),\" \",IF(H362<=Нормативы!$H$362,\"МСМК\",IF(H362<=Нормативы!$H$363,\"МС\",IF(H362<=Нормативы!$H$364,\"КМС\",IF(H362<=Нормативы!$H$365,\"I\",IF(H362<=Нормативы!$H$366,\"II\",IF(H362<=Нормативы!$H$367,\"III\",\"б/р\"))))))))","v":"МСМК"},{"$f":"IF(ISBLANK(H362),\" \",IF(ISTEXT(H362),\" \",IF(H362<=Нормативы!$H$362,\"МСМК\",IF(H362<=Нормативы!$H$363,\"МС\",IF(H362<=Нормативы!$H$364,\"КМС\",IF(H362<=Нормативы!$H$365,\"I\",IF(H362<=Нормативы!$H$366,\"II\",IF(H362<=Нормативы!$H$367,\"III\",\"б/р\"))))))))","v":"МСМК"},null,null,{"$f":"IF(ISBLANK(L362),\" \",IF(ISTEXT(L362),\" \",IF(L362<=Нормативы!$H$362,\"КМС\",IF(L362<=Нормативы!$H$363,\"КМС\",IF(L362<=Нормативы!$L$364,\"КМС\",IF(L362<=Нормативы!$L$365,\"I\",IF(L362<=Нормативы!$L$366,\"II\",IF(L362<=Нормативы!$L$367,\"III\",\"б/р\"))))))))","v":" "},{"$f":"IF(ISBLANK(L362),\" \",IF(ISTEXT(L362),\" \",IF(L362<=32.8,\"МСМК\",IF(L362<=35,\"МС\",IF(L362<=39.6,\"КМС\",IF(L362<=42.2,\"I\",IF(L362<=45.6,\"II\",IF(L362<=49.5,\"III\",\"б/р\"))))))))","v":" "},null,null,{"$f":"IF(ISBLANK(P362),\" \",IF(ISTEXT(P362),\" \",IF(P362<=$H$362,\"МСМК\",IF(P362<=$H$363,\"МС\",IF(P362<=$H$364,\"КМС\",IF(P362<=$H$365,\"I\",IF(P362<=$H$366,\"II\",IF(P362<=$H$367,\"III\",\"б/р\"))))))))","v":" "}]
[{"$nulls":7},34,{"$f":"IF(ISBLANK(H363),\" \",IF(ISTEXT(H363),\" \",IF(H363<=Нормативы!$H$362,\"МСМК\",IF(H363<=Нормативы!$H$363,\"МС\",IF(H363<=Нормативы!$H$364,\"КМС\",IF(H363<=Нормативы!$H$365,\"I\",IF(H363<=Нормативы!$H$366,\"II\",IF(H363<=Нормативы!$H$367,\"III\",\"б/р\"))))))))","v":"МС"},{"$f":"IF(ISBLANK(H363),\" \",IF(ISTEXT(H363),\" \",IF(H363<=Нормативы!$H$362,\"МСМК\",IF(H363<=Нормативы!$H$363,\"МС\",IF(H363<=Нормативы!$H$364,\"КМС\",IF(H363<=Нормативы!$H$365,\"I\",IF(H363<=Нормативы!$H$366,\"II\",IF(H363<=Нормативы!$H$367,\"III\",\"б/р\"))))))))","v":"МС"},null,null,{"$f":"IF(ISBLANK(L363),\" \",IF(ISTEXT(L363),\" \",IF(L363<=Нормативы!$H$362,\"КМС\",IF(L363<=Нормативы!$H$363,\"КМС\",IF(L363<=Нормативы!$L$364,\"КМС\",IF(L363<=Нормативы!$L$365,\"I\",IF(L363<=Нормативы!$L$366,\"II\",IF(L363<=Нормативы!$L$367,\"III\",\"б/р\"))))))))","v":" "},{"$f":"IF(ISBLANK(L363),\" \",IF(ISTEXT(L363),\" \",IF(L363<=32.8,\"МСМК\",IF(L363<=35,\"МС\",IF(L363<=39.6,\"КМС\",IF(L363<=42.2,\"I\",IF(L363<=45.6,\"II\",IF(L363<=49.5,\"III\",\"б/р\"))))))))","v":" "},null,null,{"$f":"IF(ISBLANK(P363),\" \",IF(ISTEXT(P363),\" \",IF(P363<=$H$362,\"МСМК\",IF(P363<=$H$363,\"МС\",IF(P363<=$H$364,\"КМС\",IF(P363<=$H$365,\"I\",IF(P363<=$H$366,\"II\",IF(P363<=$H$367,\"III\",\"б/р\"))))))))","v":" "}]
[{"$nulls":7},38.7,{"$f":"IF(ISBLANK(H364),\" \",IF(ISTEXT(H364),\" \",IF(H364<=Нормативы!$H$362,\"МСМК\",IF(H364<=Нормативы!$H$363,\"МС\",IF(H364<=Нормативы!$H$364,\"КМС\",IF(H364<=Нормативы!$H$365,\"I\",IF(H364<=Нормативы!$H$366,\"II\",IF(H364<=Нормативы!$H$367,\"III\",\"б/р\"))))))))","v":"КМС"},{"$f":"IF(ISBLANK(H364),\" \",IF(ISTEXT(H364),\" \",IF(H364<=Нормативы!$H$362,\"МСМК\",IF(H364<=Нормативы!$H$363,\"МС\",IF(H364<=Нормативы!$H$364,\"КМС\",IF(H364<=Нормативы!$H$365,\"I\",IF(H364<=Нормативы!$H$366,\"II\",IF(H364<=Нормативы!$H$367,\"III\",\"б/р\"))))))))","v":"КМС"},null,{"$f":"H364-0.2","v":38.5},{"$f":"IF(ISBLANK(L364),\" \",IF(ISTEXT(L364),\" \",IF(L364<=Нормативы!$H$362,\"КМС\",IF(L364<=Нормативы!$H$363,\"КМС\",IF(L364<=Нормативы!$L$364,\"КМС\",IF(L364<=Нормативы!$L$365,\"I\",IF(L364<=Нормативы!$L$366,\"II\",IF(L364<=Нормативы!$L$367,\"III\",\"б/р\"))))))))","v":"КМС"},{"$f":"IF(ISBLANK(L364),\" \",IF(ISTEXT(L364),\" \",IF(L364<=Нормативы!$H$362,\"КМС\",IF(L364<=Нормативы!$H$363,\"КМС\",IF(L364<=Нормативы!$L$364,\"КМС\",IF(L364<=Нормативы!$L$365,\"I\",IF(L364<=Нормативы!$L$366,\"II\",IF(L364<=Нормативы!$L$367,\"III\",\"б/р\"))))))))","v":"КМС"},null,null,{"$f":"IF(ISBLANK(P364),\" \",IF(ISTEXT(P364),\" \",IF(P364<=$H$362,\"МСМК\",IF(P364<=$H$363,\"МС\",IF(P364<=$H$364,\"КМС\",IF(P364<=$H$365,\"I\",IF(P364<=$H$366,\"II\",IF(P364<=$H$367,\"III\",\"б/р\"))))))))","v":" "}]
[{"$nulls":7},41.7,{"$f":"IF(ISBLANK(H365),\" \",IF(ISTEXT(H365),\" \",IF(H365<=Нормативы!$H$362,\"МСМК\",IF(H365<=Нормативы!$H$363,\"МС\",IF(H365<=Нормативы!$H$364,\"КМС\",IF(H365<=Нормативы!$H$365,\"I\",IF(H365<=Нормативы!$H$366,\"II\",IF(H365<=Нормативы!$H$367,\"III\",\"б/р\"))))))))","v":"I"},{"$f":"IF(ISBLANK(H365),\" \",IF(ISTEXT(H365),\" \",IF(H365<=Нормативы!$H$362,\"МСМК\",IF(H365<=Нормативы!$H$363,\"МС\",IF(H365<=Нормативы!$H$364,\"КМС\",IF(H365<=Нормативы!$H$365,\"I\",IF(H365<=Нормативы!$H$366,\"II\",IF(H365<=Нормативы!$H$367,\"III\",\"б/р\"))))))))","v":"I"},null,41.5,{"$f":"IF(ISBLANK(L365),\" \",IF(ISTEXT(L365),\" \",IF(L365<=Нормативы!$H$362,\"КМС\",IF(L365<=Нормативы!$H$363,\"КМС\",IF(L365<=Нормативы!$L$364,\"КМС\",IF(L365<=Нормативы!$L$365,\"I\",IF(L365<=Нормативы!$L$366,\"II\",IF(L365<=Нормативы!$L$367,\"III\",\"б/р\"))))))))","v":"I"},{"$f":"IF(ISBLANK(L365),\" \",IF(ISTEXT(L365),\" \",IF(L365<=Нормативы!$H$362,\"КМС\",IF(L365<=Нормативы!$H$363,\"КМС\",IF(L365<=Нормативы!$L$364,\"КМС\",IF(L365<=Нормативы!$L$365,\"I\",IF(L365<=Нормативы!$L$366,\"II\",IF(L365<=Нормативы!$L$367,\"III\",\"б/р\"))))))))","v":"I"},null,null,{"$f":"IF(ISBLANK(P365),\" \",IF(ISTEXT(P365),\" \",IF(P365<=$H$362,\"МСМК\",IF(P365<=$H$363,\"МС\",IF(P365<=$H$364,\"КМС\",IF(P365<=$H$365,\"I\",IF(P365<=$H$366,\"II\",IF(P365<=$H$367,\"III\",\"б/р\"))))))))","v":" "}]
[{"$nulls":7},45.7,{"$f":"IF(ISBLANK(H366),\" \",IF(ISTEXT(H366),\" \",IF(H366<=Нормативы!$H$362,\"МСМК\",IF(H366<=Нормативы!$H$363,\"МС\",IF(H366<=Нормативы!$H$364,\"КМС\",IF(H366<=Нормативы!$H$365,\"I\",IF(H366<=Нормативы!$H$366,\"II\",IF(H366<=Нормативы!$H$367,\"III\",\"б/р\"))))))))","v":"II"},{"$f":"IF(ISBLANK(H366),\" \",IF(ISTEXT(H366),\" \",IF(H366<=Нормативы!$H$362,\"МСМК\",IF(H366<=Нормативы!$H$363,\"МС\",IF(H366<=Нормативы!$H$364,\"КМС\",IF(H366<=Нормативы!$H$365,\"I\",IF(H366<=Нормативы!$H$366,\"II\",IF(H366<=Нормативы!$H$367,\"III\",\"б/р\"))))))))","v":"II"},null,45.5,{"$f":"IF(ISBLANK(L366),\" \",IF(ISTEXT(L366),\" \",IF(L366<=Нормативы!$H$362,\"КМС\",IF(L366<=Нормативы!$H$363,\"КМС\",IF(L366<=Нормативы!$L$364,\"КМС\",IF(L366<=Нормативы!$L$365,\"I\",IF(L366<=Нормативы!$L$366,\"II\",IF(L366<=Нормативы!$L$367,\"III\",\"б/р\"))))))))","v":"II"},{"$f":"IF(ISBLANK(L366),\" \",IF(ISTEXT(L366),\" \",IF(L366<=Нормативы!$H$362,\"КМС\",IF(L366<=Нормативы!$H$363,\"КМС\",IF(L366<=Нормативы!$L$364,\"КМС\",IF(L366<=Нормативы!$L$365,\"I\",IF(L366<=Нормативы!$L$366,\"II\",IF(L366<=Нормативы!$L$367,\"III\",\"б/р\"))))))))","v":"II"},null,null,{"$f":"IF(ISBLANK(P366),\" \",IF(ISTEXT(P366),\" \",IF(P366<=$H$362,\"МСМК\",IF(P366<=$H$363,\"МС\",IF(P366<=$H$364,\"КМС\",IF(P366<=$H$365,\"I\",IF(P366<=$H$366,\"II\",IF(P366<=$H$367,\"III\",\"б/р\"))))))))","v":" "}]
[{"$nulls":7},49.2,{"$f":"IF(ISBLANK(H367),\" \",IF(ISTEXT(H367),\" \",IF(H367<=Нормативы!$H$362,\"МСМК\",IF(H367<=Нормативы!$H$363,\"МС\",IF(H367<=Нормативы!$H$364,\"КМС\",IF(H367<=Нормативы!$H$365,\"I\",IF(H367<=Нормативы!$H$366,\"II\",IF(H367<=Нормативы!$H$367,\"III\",\"б/р\"))))))))","v":"III"},{"$f":"IF(ISBLANK(H367),\" \",IF(ISTEXT(H367),\" \",IF(H367<=Нормативы!$H$362,\"МСМК\",IF(H367<=Нормативы!$H$363,\"МС\",IF(H367<=Нормативы!$H$364,\"КМС\",IF(H367<=Нормативы!$H$365,\"I\",IF(H367<=Нормативы!$H$366,\"II\",IF(H367<=Нормативы!$H$367,\"III\",\"б/р\"))))))))","v":"III"},null,49,{"$f":"IF(ISBLANK(L367),\" \",IF(ISTEXT(L367),\" \",IF(L367<=Нормативы!$H$362,\"КМС\",IF(L367<=Нормативы!$H$363,\"КМС\",IF(L367<=Нормативы!$L$364,\"КМС\",IF(L367<=Нормативы!$L$365,\"I\",IF(L367<=Нормативы!$L$366,\"II\",IF(L367<=Нормативы!$L$367,\"III\",\"б/р\"))))))))","v":"III"},{"$f":"IF(ISBLANK(L367),\" \",IF(ISTEXT(L367),\" \",IF(L367<=Нормативы!$H$362,\"КМС\",IF(L367<=Нормативы!$H$363,\"КМС\",IF(L367<=Нормативы!$L$364,\"КМС\",IF(L367<=Нормативы!$L$365,\"I\",IF(L367<=Нормативы!$L$366,\"II\",IF(L367<=Нормативы!$L$367,\"III\",\"б/р\"))))))))","v":"III"},null,null,{"$f":"IF(ISBLANK(P367),\" \",IF(ISTEXT(P367),\" \",IF(P367<=$H$362,\"МСМК\",IF(P367<=$H$363,\"МС\",IF(P367<=$H$364,\"КМС\",IF(P367<=$H$365,\"I\",IF(P367<=$H$366,\"II\",IF(P367<=$H$367,\"III\",\"б/р\"))))))))","v":" "}]
[]
[null,null,"Апноэ - 16 раз х 50м (1460371811Л), женщины"]
[{"$nulls":7},1135,{"$f":"IF(ISBLANK(H370),\" \",IF(ISTEXT(H370),\" \",IF(H370<=Нормативы!$H$370,\"МСМК\",IF(H370<=Нормативы!$H$371,\"МС\",IF(H370<=Нормативы!$H$372,\"КМС\",IF(H370<=Нормативы!$H$373,\"I\",IF(H370<=Нормативы!$H$374,\"II\",IF(H370<=Нормативы!$H$375,\"III\",\"б/р\"))))))))","v":"МСМК"},{"$f":"IF(ISBLANK(H370),\" \",IF(ISTEXT(H370),\" \",IF(H370<=Нормативы!$H$370,\"МСМК\",IF(H370<=Нормативы!$H$371,\"МС\",IF(H370<=Нормативы!$H$372,\"КМС\",IF(H370<=Нормативы!$H$373,\"I\",IF(H370<=Нормативы!$H$374,\"II\",IF(H370<=Нормативы!$H$375,\"III\",\"б/р\"))))))))","v":"МСМК"},null,null,{"$f":"IF(ISBLANK(L370),\" \",IF(ISTEXT(L370),\" \",IF(L370<=Нормативы!$H$370,\"КМС\",IF(L370<=Нормативы!$H$371,\"КМС\",IF(L370<=Нормативы!$L$372,\"КМС\",IF(L370<=Нормативы!$L$373,\"I\",IF(L370<=Нормативы!$L$374,\"II\",IF(L370<=Нормативы!$L$375,\"III\",\"б/р\"))))))))","v":" "},{"$f":"IF(ISBLANK(L370),\" \",IF(ISTEXT(L370),\" \",IF(L370<=1211,\"МСМК\",IF(L370<=1356,\"МС\",IF(L370<=1559.8,\"КМС\",IF(L370<=1739.8,\"I\",IF(L370<=1844.8,\"II\",IF(L370<=1944.8,\"III\",\"б/р\"))))))))","v":" "},null,null,{"$f":"IF(ISBLANK(P370),\" \",IF(ISTEXT(P370),\" \",IF(P370<=$H$370,\"МСМК\",IF(P370<=$H$371,\"МС\",IF(P370<=$H$372,\"КМС\",IF(P370<=$H$373,\"I\",IF(P370<=$H$374,\"II\",IF(P370<=$H$375,\"III\",\"б/р\"))))))))","v":" "}]
[{"$nulls":7},1310,{"$f":"IF(ISBLANK(H371),\" \",IF(ISTEXT(H371),\" \",IF(H371<=Нормативы!$H$370,\"МСМК\",IF(H371<=Нормативы!$H$371,\"МС\",IF(H371<=Нормативы!$H$372,\"КМС\",IF(H371<=Нормативы!$H$373,\"I\",IF(H371<=Нормативы!$H$374,\"II\",IF(H371<=Нормативы!$H$375,\"III\",\"б/р\"))))))))","v":"МС"},{"$f":"IF(ISBLANK(H371),\" \",IF(ISTEXT(H371),\" \",IF(H371<=Нормативы!$H$370,\"МСМК\",IF(H371<=Нормативы!$H$371,\"МС\",IF(H371<=Нормативы!$H$372,\"КМС\",IF(H371<=Нормативы!$H$373,\"I\",IF(H371<=Нормативы!$H$374,\"II\",IF(H371<=Нормативы!$H$375,\"III\",\"б/р\"))))))))","v":"МС"},null,null,{"$f":"IF(ISBLANK(L371),\" \",IF(ISTEXT(L371),\" \",IF(L371<=Нормативы!$H$370,\"КМС\",IF(L371<=Нормативы!$H$371,\"КМС\",IF(L371<=Нормативы!$L$372,\"КМС\",IF(L371<=Нормативы!$L$373,\"I\",IF(L371<=Нормативы!$L$374,\"II\",IF(L371<=Нормативы!$L$375,\"III\",\"б/р\"))))))))","v":" "},{"$f":"IF(ISBLANK(L371),\" \",IF(ISTEXT(L371),\" \",IF(L371<=1211,\"МСМК\",IF(L371<=1356,\"МС\",IF(L371<=1559.8,\"КМС\",IF(L371<=1739.8,\"I\",IF(L371<=1844.8,\"II\",IF(L371<=1944.8,\"III\",\"б/р\"))))))))","v":" "},null,null,{"$f":"IF(ISBLANK(P371),\" \",IF(ISTEXT(P371),\" \",IF(P371<=$H$370,\"МСМК\",IF(P371<=$H$371,\"МС\",IF(P371<=$H$372,\"КМС\",IF(P371<=$H$373,\"I\",IF(P371<=$H$374,\"II\",IF(P371<=$H$375,\"III\",\"б/р\"))))))))","v":" "}]
[{"$nulls":7},1530.2,{"$f":"IF(ISBLANK(H372),\" \",IF(ISTEXT(H372),\" \",IF(H372<=Нормативы!$H$370,\"МСМК\",IF(H372<=Нормативы!$H$371,\"МС\",IF(H372<=Нормативы!$H$372,\"КМС\",IF(H372<=Нормативы!$H$373,\"I\",IF(H372<=Нормативы!$H$374,\"II\",IF(H372<=Нормативы!$H$375,\"III\",\"б/р\"))))))))","v":"КМС"},{"$f":"IF(ISBLANK(H372),\" \",IF(ISTEXT(H372),\" \",IF(H372<=Нормативы!$H$370,\"МСМК\",IF(H372<=Нормативы!$H$371,\"МС\",IF(H372<=Нормативы!$H$372,\"КМС\",IF(H372<=Нормативы!$H$373,\"I\",IF(H372<=Нормативы!$H$374,\"II\",IF(H372<=Нормативы!$H$375,\"III\",\"б/р\"))))))))","v":"КМС"},null,{"$f":"H372-0.2","v":1530},{"$f":"IF(ISBLANK(L372),\" \",IF(ISTEXT(L372),\" \",IF(L372<=Нормативы!$H$370,\"КМС\",IF(L372<=Нормативы!$H$371,\"КМС\",IF(L372<=Нормативы!$L$372,\"КМС\",IF(L372<=Нормативы!$L$373,\"I\",IF(L372<=Нормативы!$L$374,\"II\",IF(L372<=Нормативы!$L$375,\"III\",\"б/р\"))))))))","v":"КМС"},{"$f":"IF(ISBLANK(L372),\" \",IF(ISTEXT(L372),\" \",IF(L372<=Нормативы!$H$370,\"КМС\",IF(L372<=Нормативы!$H$371,\"КМС\",IF(L372<=Нормативы!$L$372,\"КМС\",IF(L372<=Нормативы!$L$373,\"I\",IF(L372<=Нормативы!$L$374,\"II\",IF(L372<=Нормативы!$L$375,\"III\",\"б/р\"))))))))","v":"КМС"},null,null,{"$f":"IF(ISBLANK(P372),\" \",IF(ISTEXT(P372),\" \",IF(P372<=$H$370,\"МСМК\",IF(P372<=$H$371,\"МС\",IF(P372<=$H$372,\"КМС\",IF(P372<=$H$373,\"I\",IF(P372<=$H$374,\"II\",IF(P372<=$H$375,\"III\",\"б/р\"))))))))","v":" "}]
[{"$nulls":7},1645.2,{"$f":"IF(ISBLANK(H373),\" \",IF(ISTEXT(H373),\" \",IF(H373<=Нормативы!$H$370,\"МСМК\",IF(H373<=Нормативы!$H$371,\"МС\",IF(H373<=Нормативы!$H$372,\"КМС\",IF(H373<=Нормативы!$H$373,\"I\",IF(H373<=Нормативы!$H$374,\"II\",IF(H373<=Нормативы!$H$375,\"III\",\"б/р\"))))))))","v":"I"},{"$f":"IF(ISBLANK(H373),\" \",IF(ISTEXT(H373),\" \",IF(H373<=Нормативы!$H$370,\"МСМК\",IF(H373<=Нормативы!$H$371,\"МС\",IF(H373<=Нормативы!$H$372,\"КМС\",IF(H373<=Нормативы!$H$373,\"I\",IF(H373<=Нормативы!$H$374,\"II\",IF(H373<=Нормативы!$H$375,\"III\",\"б/р\"))))))))","v":"I"},null,1645,{"$f":"IF(ISBLANK(L373),\" \",IF(ISTEXT(L373),\" \",IF(L373<=Нормативы!$H$370,\"КМС\",IF(L373<=Нормативы!$H$371,\"КМС\",IF(L373<=Нормативы!$L$372,\"КМС\",IF(L373<=Нормативы!$L$373,\"I\",IF(L373<=Нормативы!$L$374,\"II\",IF(L373<=Нормативы!$L$375,\"III\",\"б/р\"))))))))","v":"I"},{"$f":"IF(ISBLANK(L373),\" \",IF(ISTEXT(L373),\" \",IF(L373<=Нормативы!$H$370,\"КМС\",IF(L373<=Нормативы!$H$371,\"КМС\",IF(L373<=Нормативы!$L$372,\"КМС\",IF(L373<=Нормативы!$L$373,\"I\",IF(L373<=Нормативы!$L$374,\"II\",IF(L373<=Нормативы!$L$375,\"III\",\"б/р\"))))))))","v":"I"},null,null,{"$f":"IF(ISBLANK(P373),\" \",IF(ISTEXT(P373),\" \",IF(P373<=$H$370,\"МСМК\",IF(P373<=$H$371,\"МС\",IF(P373<=$H$372,\"КМС\",IF(P373<=$H$373,\"I\",IF(P373<=$H$374,\"II\",IF(P373<=$H$375,\"III\",\"б/р\"))))))))","v":" "}]
[{"$nulls":7},1730,{"$f":"IF(ISBLANK(H374),\" \",IF(ISTEXT(H374),\" \",IF(H374<=Нормативы!$H$370,\"МСМК\",IF(H374<=Нормативы!$H$371,\"МС\",IF(H374<=Нормативы!$H$372,\"КМС\",IF(H374<=Нормативы!$H$373,\"I\",IF(H374<=Нормативы!$H$374,\"II\",IF(H374<=Нормативы!$H$375,\"III\",\"б/р\"))))))))","v":"II"},{"$f":"IF(ISBLANK(H374),\" \",IF(ISTEXT(H374),\" \",IF(H374<=Нормативы!$H$370,\"МСМК\",IF(H374<=Нормативы!$H$371,\"МС\",IF(H374<=Нормативы!$H$372,\"КМС\",IF(H374<=Нормативы!$H$373,\"I\",IF(H374<=Нормативы!$H$374,\"II\",IF(H374<=Нормативы!$H$375,\"III\",\"б/р\"))))))))","v":"II"},null,1729.8,{"$f":"IF(ISBLANK(L374),\" \",IF(ISTEXT(L374),\" \",IF(L374<=Нормативы!$H$370,\"КМС\",IF(L374<=Нормативы!$H$371,\"КМС\",IF(L374<=Нормативы!$L$372,\"КМС\",IF(L374<=Нормативы!$L$373,\"I\",IF(L374<=Нормативы!$L$374,\"II\",IF(L374<=Нормативы!$L$375,\"III\",\"б/р\"))))))))","v":"II"},{"$f":"IF(ISBLANK(L374),\" \",IF(ISTEXT(L374),\" \",IF(L374<=Нормативы!$H$370,\"КМС\",IF(L374<=Нормативы!$H$371,\"КМС\",IF(L374<=Нормативы!$L$372,\"КМС\",IF(L374<=Нормативы!$L$373,\"I\",IF(L374<=Нормативы!$L$374,\"II\",IF(L374<=Нормативы!$L$375,\"III\",\"б/р\"))))))))","v":"II"},null,null,{"$f":"IF(ISBLANK(P374),\" \",IF(ISTEXT(P374),\" \",IF(P374<=$H$370,\"МСМК\",IF(P374<=$H$371,\"МС\",IF(P374<=$H$372,\"КМС\",IF(P374<=$H$373,\"I\",IF(P374<=$H$374,\"II\",IF(P374<=$H$375,\"III\",\"б/р\"))))))))","v":" "}]
[{"$nulls":7},1840,{"$f":"IF(ISBLANK(H375),\" \",IF(ISTEXT(H375),\" \",IF(H375<=Нормативы!$H$370,\"МСМК\",IF(H375<=Нормативы!$H$371,\"МС\",IF(H375<=Нормативы!$H$372,\"КМС\",IF(H375<=Нормативы!$H$373,\"I\",IF(H375<=Нормативы!$H$374,\"II\",IF(H375<=Нормативы!$H$375,\"III\",\"б/р\"))))))))","v":"III"},{"$f":"IF(ISBLANK(H375),\" \",IF(ISTEXT(H375),\" \",IF(H375<=Нормативы!$H$370,\"МСМК\",IF(H375<=Нормативы!$H$371,\"МС\",IF(H375<=Нормативы!$H$372,\"КМС\",IF(H375<=Нормативы!$H$373,\"I\",IF(H375<=Нормативы!$H$374,\"II\",IF(H375<=Нормативы!$H$375,\"III\",\"б/р\"))))))))","v":"III"},null,1839.8,{"$f":"IF(ISBLANK(L375),\" \",IF(ISTEXT(L375),\" \",IF(L375<=Нормативы!$H$370,\"КМС\",IF(L375<=Нормативы!$H$371,\"КМС\",IF(L375<=Нормативы!$L$372,\"КМС\",IF(L375<=Нормативы!$L$373,\"I\",IF(L375<=Нормативы!$L$374,\"II\",IF(L375<=Нормативы!$L$375,\"III\",\"б/р\"))))))))","v":"III"},{"$f":"IF(ISBLANK(L375),\" \",IF(ISTEXT(L375),\" \",IF(L375<=Нормативы!$H$370,\"КМС\",IF(L375<=Нормативы!$H$371,\"КМС\",IF(L375<=Нормативы!$L$372,\"КМС\",IF(L375<=Нормативы!$L$373,\"I\",IF(L375<=Нормативы!$L$374,\"II\",IF(L375<=Нормативы!$L$375,\"III\",\"б/р\"))))))))","v":"III"},null,null,{"$f":"IF(ISBLANK(P375),\" \",IF(ISTEXT(P375),\" \",IF(P375<=$H$370,\"МСМК\",IF(P375<=$H$371,\"МС\",IF(P375<=$H$372,\"КМС\",IF(P375<=$H$373,\"I\",IF(P375<=$H$374,\"II\",IF(P375<=$H$375,\"III\",\"б/р\"))))))))","v":" "}]
[]
[null,null,"Апноэ - 16 раз х 50м (1460371811Л), мужчины"]
[{"$nulls":7},936,{"$f":"IF(ISBLANK(H378),\" \",IF(ISTEXT(H378),\" \",IF(H378<=Нормативы!$H$378,\"МСМК\",IF(H378<=Нормативы!$H$379,\"МС\",IF(H378<=Нормативы!$H$380,\"КМС\",IF(H378<=Нормативы!$H$381,\"I\",IF(H378<=Нормативы!$H$382,\"II\",IF(H378<=Нормативы!$H$383,\"III\",\"б/р\"))))))))","v":"МСМК"},{"$f":"IF(ISBLANK(H378),\" \",IF(ISTEXT(H378),\" \",IF(H378<=Нормативы!$H$378,\"МСМК\",IF(H378<=Нормативы!$H$379,\"МС\",IF(H378<=Нормативы!$H$380,\"КМС\",IF(H378<=Нормативы!$H$381,\"I\",IF(H378<=Нормативы!$H$382,\"II\",IF(H378<=Нормативы!$H$383,\"III\",\"б/р\"))))))))","v":"МСМК"},null,null,{"$f":"IF(ISBLANK(L378),\" \",IF(ISTEXT(L378),\" \",IF(L378<=Нормативы!$H$378,\"КМС\",IF(L378<=Нормативы!$H$379,\"КМС\",IF(L378<=Нормативы!$L$380,\"КМС\",IF(L378<=Нормативы!$L$381,\"I\",IF(L378<=Нормативы!$L$382,\"II\",IF(L378<=Нормативы!$L$383,\"III\",\"б/р\"))))))))","v":" "},{"$f":"IF(ISBLANK(L378),\" \",IF(ISTEXT(L378),\" \",IF(L378<=938,\"МСМК\",IF(L378<=1009,\"МС\",IF(L378<=1129.8,\"КМС\",IF(L378<=1459.8,\"I\",IF(L378<=1614.8,\"II\",IF(L378<=1719.8,\"III\",\"б/р\"))))))))","v":" "},null,null,{"$f":"IF(ISBLANK(P378),\" \",IF(ISTEXT(P378),\" \",IF(P378<=$H$378,\"МСМК\",IF(P378<=$H$379,\"МС\",IF(P378<=$H$380,\"КМС\",IF(P378<=$H$381,\"I\",IF(P378<=$H$382,\"II\",IF(P378<=$H$383,\"III\",\"б/р\"))))))))","v":" "}]
[{"$nulls":7},1008,{"$f":"IF(ISBLANK(H379),\" \",IF(ISTEXT(H379),\" \",IF(H379<=Нормативы!$H$378,\"МСМК\",IF(H379<=Нормативы!$H$379,\"МС\",IF(H379<=Нормативы!$H$380,\"КМС\",IF(H379<=Нормативы!$H$381,\"I\",IF(H379<=Нормативы!$H$382,\"II\",IF(H379<=Нормативы!$H$383,\"III\",\"б/р\"))))))))","v":"МС"},{"$f":"IF(ISBLANK(H379),\" \",IF(ISTEXT(H379),\" \",IF(H379<=Нормативы!$H$378,\"МСМК\",IF(H379<=Нормативы!$H$379,\"МС\",IF(H379<=Нормативы!$H$380,\"КМС\",IF(H379<=Нормативы!$H$381,\"I\",IF(H379<=Нормативы!$H$382,\"II\",IF(H379<=Нормативы!$H$383,\"III\",\"б/р\"))))))))","v":"МС"},null,null,{"$f":"IF(ISBLANK(L379),\" \",IF(ISTEXT(L379),\" \",IF(L379<=Нормативы!$H$378,\"КМС\",IF(L379<=Нормативы!$H$379,\"КМС\",IF(L379<=Нормативы!$L$380,\"КМС\",IF(L379<=Нормативы!$L$381,\"I\",IF(L379<=Нормативы!$L$382,\"II\",IF(L379<=Нормативы!$L$383,\"III\",\"б/р\"))))))))","v":" "},{"$f":"IF(ISBLANK(L379),\" \",IF(ISTEXT(L379),\" \",IF(L379<=938,\"МСМК\",IF(L379<=1009,\"МС\",IF(L379<=1129.8,\"КМС\",IF(L379<=1459.8,\"I\",IF(L379<=1614.8,\"II\",IF(L379<=1719.8,\"III\",\"б/р\"))))))))","v":" "},null,null,{"$f":"IF(ISBLANK(P379),\" \",IF(ISTEXT(P379),\" \",IF(P379<=$H$378,\"МСМК\",IF(P379<=$H$379,\"МС\",IF(P379<=$H$380,\"КМС\",IF(P379<=$H$381,\"I\",IF(P379<=$H$382,\"II\",IF(P379<=$H$383,\"III\",\"б/р\"))))))))","v":" "}]
[{"$nulls":7},1120,{"$f":"IF(ISBLANK(H380),\" \",IF(ISTEXT(H380),\" \",IF(H380<=Нормативы!$H$378,\"МСМК\",IF(H380<=Нормативы!$H$379,\"МС\",IF(H380<=Нормативы!$H$380,\"КМС\",IF(H380<=Нормативы!$H$381,\"I\",IF(H380<=Нормативы!$H$382,\"II\",IF(H380<=Нормативы!$H$383,\"III\",\"б/р\"))))))))","v":"КМС"},{"$f":"IF(ISBLANK(H380),\" \",IF(ISTEXT(H380),\" \",IF(H380<=Нормативы!$H$378,\"МСМК\",IF(H380<=Нормативы!$H$379,\"МС\",IF(H380<=Нормативы!$H$380,\"КМС\",IF(H380<=Нормативы!$H$381,\"I\",IF(H380<=Нормативы!$H$382,\"II\",IF(H380<=Нормативы!$H$383,\"III\",\"б/р\"))))))))","v":"КМС"},null,{"$f":"H380-0.2","v":1119.8},{"$f":"IF(ISBLANK(L380),\" \",IF(ISTEXT(L380),\" \",IF(L380<=Нормативы!$H$378,\"КМС\",IF(L380<=Нормативы!$H$379,\"КМС\",IF(L380<=Нормативы!$L$380,\"КМС\",IF(L380<=Нормативы!$L$381,\"I\",IF(L380<=Нормативы!$L$382,\"II\",IF(L380<=Нормативы!$L$383,\"III\",\"б/р\"))))))))","v":"КМС"},{"$f":"IF(ISBLANK(L380),\" \",IF(ISTEXT(L380),\" \",IF(L380<=Нормативы!$H$378,\"КМС\",IF(L380<=Нормативы!$H$379,\"КМС\",IF(L380<=Нормативы!$L$380,\"КМС\",IF(L380<=Нормативы!$L$381,\"I\",IF(L380<=Нормативы!$L$382,\"II\",IF(L380<=Нормативы!$L$383,\"III\",\"б/р\"))))))))","v":"КМС"},null,null,{"$f":"IF(ISBLANK(P380),\" \",IF(ISTEXT(P380),\" \",IF(P380<=$H$378,\"МСМК\",IF(P380<=$H$379,\"МС\",IF(P380<=$H$380,\"КМС\",IF(P380<=$H$381,\"I\",IF(P380<=$H$382,\"II\",IF(P380<=$H$383,\"III\",\"б/р\"))))))))","v":" "}]
[{"$nulls":7},1415.7,{"$f":"IF(ISBLANK(H381),\" \",IF(ISTEXT(H381),\" \",IF(H381<=Нормативы!$H$378,\"МСМК\",IF(H381<=Нормативы!$H$379,\"МС\",IF(H381<=Нормативы!$H$380,\"КМС\",IF(H381<=Нормативы!$H$381,\"I\",IF(H381<=Нормативы!$H$382,\"II\",IF(H381<=Нормативы!$H$383,\"III\",\"б/р\"))))))))","v":"I"},{"$f":"IF(ISBLANK(H381),\" \",IF(ISTEXT(H381),\" \",IF(H381<=Нормативы!$H$378,\"МСМК\",IF(H381<=Нормативы!$H$379,\"МС\",IF(H381<=Нормативы!$H$380,\"КМС\",IF(H381<=Нормативы!$H$381,\"I\",IF(H381<=Нормативы!$H$382,\"II\",IF(H381<=Нормативы!$H$383,\"III\",\"б/р\"))))))))","v":"I"},null,1415.5,{"$f":"IF(ISBLANK(L381),\" \",IF(ISTEXT(L381),\" \",IF(L381<=Нормативы!$H$378,\"КМС\",IF(L381<=Нормативы!$H$379,\"КМС\",IF(L381<=Нормативы!$L$380,\"КМС\",IF(L381<=Нормативы!$L$381,\"I\",IF(L381<=Нормативы!$L$382,\"II\",IF(L381<=Нормативы!$L$383,\"III\",\"б/р\"))))))))","v":"I"},{"$f":"IF(ISBLANK(L381),\" \",IF(ISTEXT(L381),\" \",IF(L381<=Нормативы!$H$378,\"КМС\",IF(L381<=Нормативы!$H$379,\"КМС\",IF(L381<=Нормативы!$L$380,\"КМС\",IF(L381<=Нормативы!$L$381,\"I\",IF(L381<=Нормативы!$L$382,\"II\",IF(L381<=Нормативы!$L$383,\"III\",\"б/р\"))))))))","v":"I"},null,null,{"$f":"IF(ISBLANK(P381),\" \",IF(ISTEXT(P381),\" \",IF(P381<=$H$378,\"МСМК\",IF(P381<=$H$379,\"МС\",IF(P381<=$H$380,\"КМС\",IF(P381<=$H$381,\"I\",IF(P381<=$H$382,\"II\",IF(P381<=$H$383,\"III\",\"б/р\"))))))))","v":" "}]
[{"$nulls":7},1525,{"$f":"IF(ISBLANK(H382),\" \",IF(ISTEXT(H382),\" \",IF(H382<=Нормативы!$H$378,\"МСМК\",IF(H382<=Нормативы!$H$379,\"МС\",IF(H382<=Нормативы!$H$380,\"КМС\",IF(H382<=Нормативы!$H$381,\"I\",IF(H382<=Нормативы!$H$382,\"II\",IF(H382<=Нормативы!$H$383,\"III\",\"б/р\"))))))))","v":"II"},{"$f":"IF(ISBLANK(H382),\" \",IF(ISTEXT(H382),\" \",IF(H382<=Нормативы!$H$378,\"МСМК\",IF(H382<=Нормативы!$H$379,\"МС\",IF(H382<=Нормативы!$H$380,\"КМС\",IF(H382<=Нормативы!$H$381,\"I\",IF(H382<=Нормативы!$H$382,\"II\",IF(H382<=Нормативы!$H$383,\"III\",\"б/р\"))))))))","v":"II"},null,1524.8,{"$f":"IF(ISBLANK(L382),\" \",IF(ISTEXT(L382),\" \",IF(L382<=Нормативы!$H$378,\"КМС\",IF(L382<=Нормативы!$H$379,\"КМС\",IF(L382<=Нормативы!$L$380,\"КМС\",IF(L382<=Нормативы!$L$381,\"I\",IF(L382<=Нормативы!$L$382,\"II\",IF(L382<=Нормативы!$L$383,\"III\",\"б/р\"))))))))","v":"II"},{"$f":"IF(ISBLANK(L382),\" \",IF(ISTEXT(L382),\" \",IF(L382<=Нормативы!$H$378,\"КМС\",IF(L382<=Нормативы!$H$379,\"КМС\",IF(L382<=Нормативы!$L$380,\"КМС\",IF(L382<=Нормативы!$L$381,\"I\",IF(L382<=Нормативы!$L$382,\"II\",IF(L382<=Нормативы!$L$383,\"III\",\"б/р\"))))))))","v":"II"},null,null,{"$f":"IF(ISBLANK(P382),\" \",IF(ISTEXT(P382),\" \",IF(P382<=$H$378,\"МСМК\",IF(P382<=$H$379,\"МС\",IF(P382<=$H$380,\"КМС\",IF(P382<=$H$381,\"I\",IF(P382<=$H$382,\"II\",IF(P382<=$H$383,\"III\",\"б/р\"))))))))","v":" "}]
[{"$nulls":7},1625,{"$f":"IF(ISBLANK(H383),\" \",IF(ISTEXT(H383),\" \",IF(H383<=Нормативы!$H$378,\"МСМК\",IF(H383<=Нормативы!$H$379,\"МС\",IF(H383<=Нормативы!$H$380,\"КМС\",IF(H383<=Нормативы!$H$381,\"I\",IF(H383<=Нормативы!$H$382,\"II\",IF(H383<=Нормативы!$H$383,\"III\",\"б/р\"))))))))","v":"III"},{"$f":"IF(ISBLANK(H383),\" \",IF(ISTEXT(H383),\" \",IF(H383<=Нормативы!$H$378,\"МСМК\",IF(H383<=Нормативы!$H$379,\"МС\",IF(H383<=Нормативы!$H$380,\"КМС\",IF(H383<=Нормативы!$H$381,\"I\",IF(H383<=Нормативы!$H$382,\"II\",IF(H383<=Нормативы!$H$383,\"III\",\"б/р\"))))))))","v":"III"},null,1624.8,{"$f":"IF(ISBLANK(L383),\" \",IF(ISTEXT(L383),\" \",IF(L383<=Нормативы!$H$378,\"КМС\",IF(L383<=Нормативы!$H$379,\"КМС\",IF(L383<=Нормативы!$L$380,\"КМС\",IF(L383<=Нормативы!$L$381,\"I\",IF(L383<=Нормативы!$L$382,\"II\",IF(L383<=Нормативы!$L$383,\"III\",\"б/р\"))))))))","v":"III"},{"$f":"IF(ISBLANK(L383),\" \",IF(ISTEXT(L383),\" \",IF(L383<=Нормативы!$H$378,\"КМС\",IF(L383<=Нормативы!$H$379,\"КМС\",IF(L383<=Нормативы!$L$380,\"КМС\",IF(L383<=Нормативы!$L$381,\"I\",IF(L383<=Нормативы!$L$382,\"II\",IF(L383<=Нормативы!$L$383,\"III\",\"б/р\"))))))))","v":"III"},null,null,{"$f":"IF(ISBLANK(P383),\" \",IF(ISTEXT(P383),\" \",IF(P383<=$H$378,\"МСМК\",IF(P383<=$H$379,\"МС\",IF(P383<=$H$380,\"КМС\",IF(P383<=$H$381,\"I\",IF(P383<=$H$382,\"II\",IF(P383<=$H$383,\"III\",\"б/р\"))))))))","v":" "}]
[]
[null,null,"Апноэ - 8 раз х 50м (1460371811Л), женщины"]
[{"$nulls":7},455,{"$f":"IF(ISBLANK(H386),\" \",IF(ISTEXT(H386),\" \",IF(H386<=Нормативы!$H$386,\"МСМК\",IF(H386<=Нормативы!$H$387,\"МС\",IF(H386<=Нормативы!$H$388,\"КМС\",IF(H386<=Нормативы!$H$389,\"I\",IF(H386<=Нормативы!$H$390,\"II\",IF(H386<=Нормативы!$H$391,\"III\",\"б/р\"))))))))","v":"МСМК"},{"$f":"IF(ISBLANK(H386),\" \",IF(ISTEXT(H386),\" \",IF(H386<=Нормативы!$H$386,\"МСМК\",IF(H386<=Нормативы!$H$387,\"МС\",IF(H386<=Нормативы!$H$388,\"КМС\",IF(H386<=Нормативы!$H$389,\"I\",IF(H386<=Нормативы!$H$390,\"II\",IF(H386<=Нормативы!$H$391,\"III\",\"б/р\"))))))))","v":"МСМК"},null,null,{"$f":"IF(ISBLANK(L386),\" \",IF(ISTEXT(L386),\" \",IF(L386<=Нормативы!$H$386,\"КМС\",IF(L386<=Нормативы!$H$387,\"КМС\",IF(L386<=Нормативы!$L$388,\"КМС\",IF(L386<=Нормативы!$L$389,\"I\",IF(L386<=Нормативы!$L$390,\"II\",IF(L386<=Нормативы!$L$391,\"III\",\"б/р\"))))))))","v":" "},{"$f":"IF(ISBLANK(L386),\" \",IF(ISTEXT(L386),\" \",IF(L386<=1211,\"МСМК\",IF(L386<=1356,\"МС\",IF(L386<=1559.8,\"КМС\",IF(L386<=1739.8,\"I\",IF(L386<=1844.8,\"II\",IF(L386<=1944.8,\"III\",\"б/р\"))))))))","v":" "},null,null,{"$f":"IF(ISBLANK(P386),\" \",IF(ISTEXT(P386),\" \",IF(P386<=$H$386,\"МСМК\",IF(P386<=$H$387,\"МС\",IF(P386<=$H$388,\"КМС\",IF(P386<=$H$389,\"I\",IF(P386<=$H$390,\"II\",IF(P386<=$H$391,\"III\",\"б/р\"))))))))","v":" "}]
[{"$nulls":7},620,{"$f":"IF(ISBLANK(H387),\" \",IF(ISTEXT(H387),\" \",IF(H387<=Нормативы!$H$386,\"МСМК\",IF(H387<=Нормативы!$H$387,\"МС\",IF(H387<=Нормативы!$H$388,\"КМС\",IF(H387<=Нормативы!$H$389,\"I\",IF(H387<=Нормативы!$H$390,\"II\",IF(H387<=Нормативы!$H$391,\"III\",\"б/р\"))))))))","v":"МС"},{"$f":"IF(ISBLANK(H387),\" \",IF(ISTEXT(H387),\" \",IF(H387<=Нормативы!$H$386,\"МСМК\",IF(H387<=Нормативы!$H$387,\"МС\",IF(H387<=Нормативы!$H$388,\"КМС\",IF(H387<=Нормативы!$H$389,\"I\",IF(H387<=Нормативы!$H$390,\"II\",IF(H387<=Нормативы!$H$391,\"III\",\"б/р\"))))))))","v":"МС"},null,null,{"$f":"IF(ISBLANK(L387),\" \",IF(ISTEXT(L387),\" \",IF(L387<=Нормативы!$H$386,\"КМС\",IF(L387<=Нормативы!$H$387,\"КМС\",IF(L387<=Нормативы!$L$388,\"КМС\",IF(L387<=Нормативы!$L$389,\"I\",IF(L387<=Нормативы!$L$390,\"II\",IF(L387<=Нормативы!$L$391,\"III\",\"б/р\"))))))))","v":" "},{"$f":"IF(ISBLANK(L387),\" \",IF(ISTEXT(L387),\" \",IF(L387<=Нормативы!$H$386,\"КМС\",IF(L387<=Нормативы!$H$387,\"КМС\",IF(L387<=Нормативы!$L$388,\"КМС\",IF(L387<=Нормативы!$L$389,\"I\",IF(L387<=Нормативы!$L$390,\"II\",IF(L387<=Нормативы!$L$391,\"III\",\"б/р\"))))))))","v":" "},null,null,{"$f":"IF(ISBLANK(P387),\" \",IF(ISTEXT(P387),\" \",IF(P387<=$H$386,\"МСМК\",IF(P387<=$H$387,\"МС\",IF(P387<=$H$388,\"КМС\",IF(P387<=$H$389,\"I\",IF(P387<=$H$390,\"II\",IF(P387<=$H$391,\"III\",\"б/р\"))))))))","v":" "}]
[{"$nulls":7},730,{"$f":"IF(ISBLANK(H388),\" \",IF(ISTEXT(H388),\" \",IF(H388<=Нормативы!$H$386,\"МСМК\",IF(H388<=Нормативы!$H$387,\"МС\",IF(H388<=Нормативы!$H$388,\"КМС\",IF(H388<=Нормативы!$H$389,\"I\",IF(H388<=Нормативы!$H$390,\"II\",IF(H388<=Нормативы!$H$391,\"III\",\"б/р\"))))))))","v":"КМС"},{"$f":"IF(ISBLANK(H388),\" \",IF(ISTEXT(H388),\" \",IF(H388<=Нормативы!$H$386,\"МСМК\",IF(H388<=Нормативы!$H$387,\"МС\",IF(H388<=Нормативы!$H$388,\"КМС\",IF(H388<=Нормативы!$H$389,\"I\",IF(H388<=Нормативы!$H$390,\"II\",IF(H388<=Нормативы!$H$391,\"III\",\"б/р\"))))))))","v":"КМС"},null,{"$f":"H388-0.2","v":729.8},{"$f":"IF(ISBLANK(L388),\" \",IF(ISTEXT(L388),\" \",IF(L388<=Нормативы!$H$386,\"КМС\",IF(L388<=Нормативы!$H$387,\"КМС\",IF(L388<=Нормативы!$L$388,\"КМС\",IF(L388<=Нормативы!$L$389,\"I\",IF(L388<=Нормативы!$L$390,\"II\",IF(L388<=Нормативы!$L$391,\"III\",\"б/р\"))))))))","v":"КМС"},{"$f":"IF(ISBLANK(L388),\" \",IF(ISTEXT(L388),\" \",IF(L388<=Нормативы!$H$386,\"КМС\",IF(L388<=Нормативы!$H$387,\"КМС\",IF(L388<=Нормативы!$L$388,\"КМС\",IF(L388<=Нормативы!$L$389,\"I\",IF(L388<=Нормативы!$L$390,\"II\",IF(L388<=Нормативы!$L$391,\"III\",\"б/р\"))))))))","v":"КМС"},null,null,{"$f":"IF(ISBLANK(P388),\" \",IF(ISTEXT(P388),\" \",IF(P388<=$H$386,\"МСМК\",IF(P388<=$H$387,\"МС\",IF(P388<=$H$388,\"КМС\",IF(P388<=$H$389,\"I\",IF(P388<=$H$390,\"II\",IF(P388<=$H$391,\"III\",\"б/р\"))))))))","v":" "}]
[{"$nulls":7},822,{"$f":"IF(ISBLANK(H389),\" \",IF(ISTEXT(H389),\" \",IF(H389<=Нормативы!$H$386,\"МСМК\",IF(H389<=Нормативы!$H$387,\"МС\",IF(H389<=Нормативы!$H$388,\"КМС\",IF(H389<=Нормативы!$H$389,\"I\",IF(H389<=Нормативы!$H$390,\"II\",IF(H389<=Нормативы!$H$391,\"III\",\"б/р\"))))))))","v":"I"},{"$f":"IF(ISBLANK(H389),\" \",IF(ISTEXT(H389),\" \",IF(H389<=Нормативы!$H$386,\"МСМК\",IF(H389<=Нормативы!$H$387,\"МС\",IF(H389<=Нормативы!$H$388,\"КМС\",IF(H389<=Нормативы!$H$389,\"I\",IF(H389<=Нормативы!$H$390,\"II\",IF(H389<=Нормативы!$H$391,\"III\",\"б/р\"))))))))","v":"I"},null,821.8,{"$f":"IF(ISBLANK(L389),\" \",IF(ISTEXT(L389),\" \",IF(L389<=Нормативы!$H$386,\"КМС\",IF(L389<=Нормативы!$H$387,\"КМС\",IF(L389<=Нормативы!$L$388,\"КМС\",IF(L389<=Нормативы!$L$389,\"I\",IF(L389<=Нормативы!$L$390,\"II\",IF(L389<=Нормативы!$L$391,\"III\",\"б/р\"))))))))","v":"I"},{"$f":"IF(ISBLANK(L389),\" \",IF(ISTEXT(L389),\" \",IF(L389<=Нормативы!$H$386,\"КМС\",IF(L389<=Нормативы!$H$387,\"КМС\",IF(L389<=Нормативы!$L$388,\"КМС\",IF(L389<=Нормативы!$L$389,\"I\",IF(L389<=Нормативы!$L$390,\"II\",IF(L389<=Нормативы!$L$391,\"III\",\"б/р\"))))))))","v":"I"},null,null,{"$f":"IF(ISBLANK(P389),\" \",IF(ISTEXT(P389),\" \",IF(P389<=$H$386,\"МСМК\",IF(P389<=$H$387,\"МС\",IF(P389<=$H$388,\"КМС\",IF(P389<=$H$389,\"I\",IF(P389<=$H$390,\"II\",IF(P389<=$H$391,\"III\",\"б/р\"))))))))","v":" "}]
[{"$nulls":7},910.5,{"$f":"IF(ISBLANK(H390),\" \",IF(ISTEXT(H390),\" \",IF(H390<=Нормативы!$H$386,\"МСМК\",IF(H390<=Нормативы!$H$387,\"МС\",IF(H390<=Нормативы!$H$388,\"КМС\",IF(H390<=Нормативы!$H$389,\"I\",IF(H390<=Нормативы!$H$390,\"II\",IF(H390<=Нормативы!$H$391,\"III\",\"б/р\"))))))))","v":"II"},{"$f":"IF(ISBLANK(H390),\" \",IF(ISTEXT(H390),\" \",IF(H390<=Нормативы!$H$386,\"МСМК\",IF(H390<=Нормативы!$H$387,\"МС\",IF(H390<=Нормативы!$H$388,\"КМС\",IF(H390<=Нормативы!$H$389,\"I\",IF(H390<=Нормативы!$H$390,\"II\",IF(H390<=Нормативы!$H$391,\"III\",\"б/р\"))))))))","v":"II"},null,910.3,{"$f":"IF(ISBLANK(L390),\" \",IF(ISTEXT(L390),\" \",IF(L390<=Нормативы!$H$386,\"КМС\",IF(L390<=Нормативы!$H$387,\"КМС\",IF(L390<=Нормативы!$L$388,\"КМС\",IF(L390<=Нормативы!$L$389,\"I\",IF(L390<=Нормативы!$L$390,\"II\",IF(L390<=Нормативы!$L$391,\"III\",\"б/р\"))))))))","v":"II"},{"$f":"IF(ISBLANK(L390),\" \",IF(ISTEXT(L390),\" \",IF(L390<=Нормативы!$H$386,\"КМС\",IF(L390<=Нормативы!$H$387,\"КМС\",IF(L390<=Нормативы!$L$388,\"КМС\",IF(L390<=Нормативы!$L$389,\"I\",IF(L390<=Нормативы!$L$390,\"II\",IF(L390<=Нормативы!$L$391,\"III\",\"б/р\"))))))))","v":"II"},null,null,{"$f":"IF(ISBLANK(P390),\" \",IF(ISTEXT(P390),\" \",IF(P390<=$H$386,\"МСМК\",IF(P390<=$H$387,\"МС\",IF(P390<=$H$388,\"КМС\",IF(P390<=$H$389,\"I\",IF(P390<=$H$390,\"II\",IF(P390<=$H$391,\"III\",\"б/р\"))))))))","v":" "}]
[{"$nulls":7},1002,{"$f":"IF(ISBLANK(H391),\" \",IF(ISTEXT(H391),\" \",IF(H391<=Нормативы!$H$386,\"МСМК\",IF(H391<=Нормативы!$H$387,\"МС\",IF(H391<=Нормативы!$H$388,\"КМС\",IF(H391<=Нормативы!$H$389,\"I\",IF(H391<=Нормативы!$H$390,\"II\",IF(H391<=Нормативы!$H$391,\"III\",\"б/р\"))))))))","v":"III"},{"$f":"IF(ISBLANK(H391),\" \",IF(ISTEXT(H391),\" \",IF(H391<=Нормативы!$H$386,\"МСМК\",IF(H391<=Нормативы!$H$387,\"МС\",IF(H391<=Нормативы!$H$388,\"КМС\",IF(H391<=Нормативы!$H$389,\"I\",IF(H391<=Нормативы!$H$390,\"II\",IF(H391<=Нормативы!$H$391,\"III\",\"б/р\"))))))))","v":"III"},null,1001.8,{"$f":"IF(ISBLANK(L391),\" \",IF(ISTEXT(L391),\" \",IF(L391<=Нормативы!$H$386,\"КМС\",IF(L391<=Нормативы!$H$387,\"КМС\",IF(L391<=Нормативы!$L$388,\"КМС\",IF(L391<=Нормативы!$L$389,\"I\",IF(L391<=Нормативы!$L$390,\"II\",IF(L391<=Нормативы!$L$391,\"III\",\"б/р\"))))))))","v":"III"},{"$f":"IF(ISBLANK(L391),\" \",IF(ISTEXT(L391),\" \",IF(L391<=Нормативы!$H$386,\"КМС\",IF(L391<=Нормативы!$H$387,\"КМС\",IF(L391<=Нормативы!$L$388,\"КМС\",IF(L391<=Нормативы!$L$389,\"I\",IF(L391<=Нормативы!$L$390,\"II\",IF(L391<=Нормативы!$L$391,\"III\",\"б/р\"))))))))","v":"III"},null,null,{"$f":"IF(ISBLANK(P391),\" \",IF(ISTEXT(P391),\" \",IF(P391<=$H$386,\"МСМК\",IF(P391<=$H$387,\"МС\",IF(P391<=$H$388,\"КМС\",IF(P391<=$H$389,\"I\",IF(P391<=$H$390,\"II\",IF(P391<=$H$391,\"III\",\"б/р\"))))))))","v":" "}]
[]
[null,null,"Апноэ - 8 раз х 50м (1460371811Л), мужчины"]
[{"$nulls":7},346,{"$f":"IF(ISBLANK(H394),\" \",IF(ISTEXT(H394),\" \",IF(H394<=Нормативы!$H$394,\"МСМК\",IF(H394<=Нормативы!$H$395,\"МС\",IF(H394<=Нормативы!$H$396,\"КМС\",IF(H394<=Нормативы!$H$397,\"I\",IF(H394<=Нормативы!$H$398,\"II\",IF(H394<=Нормативы!$H$399,\"III\",\"б/р\"))))))))","v":"МСМК"},{"$f":"IF(ISBLANK(H394),\" \",IF(ISTEXT(H394),\" \",IF(H394<=Нормативы!$H$394,\"МСМК\",IF(H394<=Нормативы!$H$395,\"МС\",IF(H394<=Нормативы!$H$396,\"КМС\",IF(H394<=Нормативы!$H$397,\"I\",IF(H394<=Нормативы!$H$398,\"II\",IF(H394<=Нормативы!$H$399,\"III\",\"б/р\"))))))))","v":"МСМК"},null,null,{"$f":"IF(ISBLANK(L394),\" \",IF(ISTEXT(L394),\" \",IF(L394<=Нормативы!$H$394,\"КМС\",IF(L394<=Нормативы!$H$395,\"КМС\",IF(L394<=Нормативы!$L$396,\"КМС\",IF(L394<=Нормативы!$L$397,\"I\",IF(L394<=Нормативы!$L$398,\"II\",IF(L394<=Нормативы!$L$399,\"III\",\"б/р\"))))))))","v":" "},{"$f":"IF(ISBLANK(L394),\" \",IF(ISTEXT(L394),\" \",IF(L394<=Нормативы!$H$394,\"КМС\",IF(L394<=Нормативы!$H$395,\"КМС\",IF(L394<=Нормативы!$L$396,\"КМС\",IF(L394<=Нормативы!$L$397,\"I\",IF(L394<=Нормативы!$L$398,\"II\",IF(L394<=Нормативы!$L$399,\"III\",\"б/р\"))))))))","v":" "},null,null,{"$f":"IF(ISBLANK(P394),\" \",IF(ISTEXT(P394),\" \",IF(P394<=$H$394,\"МСМК\",IF(P394<=$H$395,\"МС\",IF(P394<=$H$396,\"КМС\",IF(P394<=$H$397,\"I\",IF(P394<=$H$398,\"II\",IF(P394<=$H$399,\"III\",\"б/р\"))))))))","v":" "}]
[{"$nulls":7},440,{"$f":"IF(ISBLANK(H395),\" \",IF(ISTEXT(H395),\" \",IF(H395<=Нормативы!$H$394,\"МСМК\",IF(H395<=Нормативы!$H$395,\"МС\",IF(H395<=Нормативы!$H$396,\"КМС\",IF(H395<=Нормативы!$H$397,\"I\",IF(H395<=Нормативы!$H$398,\"II\",IF(H395<=Нормативы!$H$399,\"III\",\"б/р\"))))))))","v":"МС"},{"$f":"IF(ISBLANK(H395),\" \",IF(ISTEXT(H395),\" \",IF(H395<=Нормативы!$H$394,\"МСМК\",IF(H395<=Нормативы!$H$395,\"МС\",IF(H395<=Нормативы!$H$396,\"КМС\",IF(H395<=Нормативы!$H$397,\"I\",IF(H395<=Нормативы!$H$398,\"II\",IF(H395<=Нормативы!$H$399,\"III\",\"б/р\"))))))))","v":"МС"},null,null,{"$f":"IF(ISBLANK(L395),\" \",IF(ISTEXT(L395),\" \",IF(L395<=Нормативы!$H$394,\"КМС\",IF(L395<=Нормативы!$H$395,\"КМС\",IF(L395<=Нормативы!$L$396,\"КМС\",IF(L395<=Нормативы!$L$397,\"I\",IF(L395<=Нормативы!$L$398,\"II\",IF(L395<=Нормативы!$L$399,\"III\",\"б/р\"))))))))","v":" "},{"$f":"IF(ISBLANK(L395),\" \",IF(ISTEXT(L395),\" \",IF(L395<=Нормативы!$H$394,\"КМС\",IF(L395<=Нормативы!$H$395,\"КМС\",IF(L395<=Нормативы!$L$396,\"КМС\",IF(L395<=Нормативы!$L$397,\"I\",IF(L395<=Нормативы!$L$398,\"II\",IF(L395<=Нормативы!$L$399,\"III\",\"б/р\"))))))))","v":" "},null,null,{"$f":"IF(ISBLANK(P395),\" \",IF(ISTEXT(P395),\" \",IF(P395<=$H$394,\"МСМК\",IF(P395<=$H$395,\"МС\",IF(P395<=$H$396,\"КМС\",IF(P395<=$H$397,\"I\",IF(P395<=$H$398,\"II\",IF(P395<=$H$399,\"III\",\"б/р\"))))))))","v":" "}]
[{"$nulls":7},550,{"$f":"IF(ISBLANK(H396),\" \",IF(ISTEXT(H396),\" \",IF(H396<=Нормативы!$H$394,\"МСМК\",IF(H396<=Нормативы!$H$395,\"МС\",IF(H396<=Нормативы!$H$396,\"КМС\",IF(H396<=Нормативы!$H$397,\"I\",IF(H396<=Нормативы!$H$398,\"II\",IF(H396<=Нормативы!$H$399,\"III\",\"б/р\"))))))))","v":"КМС"},{"$f":"IF(ISBLANK(H396),\" \",IF(ISTEXT(H396),\" \",IF(H396<=Нормативы!$H$394,\"МСМК\",IF(H396<=Нормативы!$H$395,\"МС\",IF(H396<=Нормативы!$H$396,\"КМС\",IF(H396<=Нормативы!$H$397,\"I\",IF(H396<=Нормативы!$H$398,\"II\",IF(H396<=Нормативы!$H$399,\"III\",\"б/р\"))))))))","v":"КМС"},null,{"$f":"H396-0.2","v":549.8},{"$f":"IF(ISBLANK(L396),\" \",IF(ISTEXT(L396),\" \",IF(L396<=Нормативы!$H$394,\"КМС\",IF(L396<=Нормативы!$H$395,\"КМС\",IF(L396<=Нормативы!$L$396,\"КМС\",IF(L396<=Нормативы!$L$397,\"I\",IF(L396<=Нормативы!$L$398,\"II\",IF(L396<=Нормативы!$L$399,\"III\",\"б/р\"))))))))","v":"КМС"},{"$f":"IF(ISBLANK(L396),\" \",IF(ISTEXT(L396),\" \",IF(L396<=Нормативы!$H$394,\"КМС\",IF(L396<=Нормативы!$H$395,\"КМС\",IF(L396<=Нормативы!$L$396,\"КМС\",IF(L396<=Нормативы!$L$397,\"I\",IF(L396<=Нормативы!$L$398,\"II\",IF(L396<=Нормативы!$L$399,\"III\",\"б/р\"))))))))","v":"КМС"},null,null,{"$f":"IF(ISBLANK(P396),\" \",IF(ISTEXT(P396),\" \",IF(P396<=$H$394,\"МСМК\",IF(P396<=$H$395,\"МС\",IF(P396<=$H$396,\"КМС\",IF(P396<=$H$397,\"I\",IF(P396<=$H$398,\"II\",IF(P396<=$H$399,\"III\",\"б/р\"))))))))","v":" "}]
[{"$nulls":7},652.7,{"$f":"IF(ISBLANK(H397),\" \",IF(ISTEXT(H397),\" \",IF(H397<=Нормативы!$H$394,\"МСМК\",IF(H397<=Нормативы!$H$395,\"МС\",IF(H397<=Нормативы!$H$396,\"КМС\",IF(H397<=Нормативы!$H$397,\"I\",IF(H397<=Нормативы!$H$398,\"II\",IF(H397<=Нормативы!$H$399,\"III\",\"б/р\"))))))))","v":"I"},{"$f":"IF(ISBLANK(H397),\" \",IF(ISTEXT(H397),\" \",IF(H397<=Нормативы!$H$394,\"МСМК\",IF(H397<=Нормативы!$H$395,\"МС\",IF(H397<=Нормативы!$H$396,\"КМС\",IF(H397<=Нормативы!$H$397,\"I\",IF(H397<=Нормативы!$H$398,\"II\",IF(H397<=Нормативы!$H$399,\"III\",\"б/р\"))))))))","v":"I"},null,652.5,{"$f":"IF(ISBLANK(L397),\" \",IF(ISTEXT(L397),\" \",IF(L397<=Нормативы!$H$394,\"КМС\",IF(L397<=Нормативы!$H$395,\"КМС\",IF(L397<=Нормативы!$L$396,\"КМС\",IF(L397<=Нормативы!$L$397,\"I\",IF(L397<=Нормативы!$L$398,\"II\",IF(L397<=Нормативы!$L$399,\"III\",\"б/р\"))))))))","v":"I"},{"$f":"IF(ISBLANK(L397),\" \",IF(ISTEXT(L397),\" \",IF(L397<=Нормативы!$H$394,\"МСМК\",IF(L397<=Нормативы!$H$395,\"МС\",IF(L397<=Нормативы!$L$396,\"КМС\",IF(L397<=Нормативы!$L$397,\"I\",IF(L397<=Нормативы!$L$398,\"II\",IF(L397<=Нормативы!$L$399,\"III\",\"б/р\"))))))))","v":"I"},null,null,{"$f":"IF(ISBLANK(P397),\" \",IF(ISTEXT(P397),\" \",IF(P397<=$H$394,\"МСМК\",IF(P397<=$H$395,\"МС\",IF(P397<=$H$396,\"КМС\",IF(P397<=$H$397,\"I\",IF(P397<=$H$398,\"II\",IF(P397<=$H$399,\"III\",\"б/р\"))))))))","v":" "}]
[{"$nulls":7},745,{"$f":"IF(ISBLANK(H398),\" \",IF(ISTEXT(H398),\" \",IF(H398<=Нормативы!$H$394,\"МСМК\",IF(H398<=Нормативы!$H$395,\"МС\",IF(H398<=Нормативы!$H$396,\"КМС\",IF(H398<=Нормативы!$H$397,\"I\",IF(H398<=Нормативы!$H$398,\"II\",IF(H398<=Нормативы!$H$399,\"III\",\"б/р\"))))))))","v":"II"},{"$f":"IF(ISBLANK(H398),\" \",IF(ISTEXT(H398),\" \",IF(H398<=Нормативы!$H$394,\"МСМК\",IF(H398<=Нормативы!$H$395,\"МС\",IF(H398<=Нормативы!$H$396,\"КМС\",IF(H398<=Нормативы!$H$397,\"I\",IF(H398<=Нормативы!$H$398,\"II\",IF(H398<=Нормативы!$H$399,\"III\",\"б/р\"))))))))","v":"II"},null,744.8,{"$f":"IF(ISBLANK(L398),\" \",IF(ISTEXT(L398),\" \",IF(L398<=Нормативы!$H$394,\"КМС\",IF(L398<=Нормативы!$H$395,\"КМС\",IF(L398<=Нормативы!$L$396,\"КМС\",IF(L398<=Нормативы!$L$397,\"I\",IF(L398<=Нормативы!$L$398,\"II\",IF(L398<=Нормативы!$L$399,\"III\",\"б/р\"))))))))","v":"II"},{"$f":"IF(ISBLANK(L398),\" \",IF(ISTEXT(L398),\" \",IF(L398<=Нормативы!$H$394,\"МСМК\",IF(L398<=Нормативы!$H$395,\"МС\",IF(L398<=Нормативы!$L$396,\"КМС\",IF(L398<=Нормативы!$L$397,\"I\",IF(L398<=Нормативы!$L$398,\"II\",IF(L398<=Нормативы!$L$399,\"III\",\"б/р\"))))))))","v":"II"},null,null,{"$f":"IF(ISBLANK(P398),\" \",IF(ISTEXT(P398),\" \",IF(P398<=$H$394,\"МСМК\",IF(P398<=$H$395,\"МС\",IF(P398<=$H$396,\"КМС\",IF(P398<=$H$397,\"I\",IF(P398<=$H$398,\"II\",IF(P398<=$H$399,\"III\",\"б/р\"))))))))","v":" "}]
[{"$nulls":7},840.2,{"$f":"IF(ISBLANK(H399),\" \",IF(ISTEXT(H399),\" \",IF(H399<=Нормативы!$H$394,\"МСМК\",IF(H399<=Нормативы!$H$395,\"МС\",IF(H399<=Нормативы!$H$396,\"КМС\",IF(H399<=Нормативы!$H$397,\"I\",IF(H399<=Нормативы!$H$398,\"II\",IF(H399<=Нормативы!$H$399,\"III\",\"б/р\"))))))))","v":"III"},{"$f":"IF(ISBLANK(H399),\" \",IF(ISTEXT(H399),\" \",IF(H399<=Нормативы!$H$394,\"МСМК\",IF(H399<=Нормативы!$H$395,\"МС\",IF(H399<=Нормативы!$H$396,\"КМС\",IF(H399<=Нормативы!$H$397,\"I\",IF(H399<=Нормативы!$H$398,\"II\",IF(H399<=Нормативы!$H$399,\"III\",\"б/р\"))))))))","v":"III"},null,840,{"$f":"IF(ISBLANK(L399),\" \",IF(ISTEXT(L399),\" \",IF(L399<=Нормативы!$H$394,\"КМС\",IF(L399<=Нормативы!$H$395,\"КМС\",IF(L399<=Нормативы!$L$396,\"КМС\",IF(L399<=Нормативы!$L$397,\"I\",IF(L399<=Нормативы!$L$398,\"II\",IF(L399<=Нормативы!$L$399,\"III\",\"б/р\"))))))))","v":"III"},{"$f":"IF(ISBLANK(L399),\" \",IF(ISTEXT(L399),\" \",IF(L399<=Нормативы!$H$394,\"МСМК\",IF(L399<=Нормативы!$H$395,\"МС\",IF(L399<=Нормативы!$L$396,\"КМС\",IF(L399<=Нормативы!$L$397,\"I\",IF(L399<=Нормативы!$L$398,\"II\",IF(L399<=Нормативы!$L$399,\"III\",\"б/р\"))))))))","v":"III"},null,null,{"$f":"IF(ISBLANK(P399),\" \",IF(ISTEXT(P399),\" \",IF(P399<=$H$394,\"МСМК\",IF(P399<=$H$395,\"МС\",IF(P399<=$H$396,\"КМС\",IF(P399<=$H$397,\"I\",IF(P399<=$H$398,\"II\",IF(P399<=$H$399,\"III\",\"б/р\"))))))))","v":" "}]
{"$rows_empty":16}
[null,null,"Апноэ - ныряние в глубину"]
[]
[null,null,"Апноэ - ныряние в глубину в классических ластах"]
[]
[null,null,"Апноэ - ныряние в глубину в ластах"]
[]
[]
[]
[]
[null,null,"Марафонский заплыв в ластах-эстафета 4х2 км - смешанная (1460221811Я)"]
[{"$nulls":7},"В зависимости от ранга соревнований и занятого места"]
[null,"Чемпионат, Кубок мира","Чемпионат, Кубок Европы","Первентво мира марафон","Первентво Европы марафон"]
[1,{"$f":"IF(ISBLANK($A428),\" \",IF(ISTEXT($A428),\" \",IF($A428<=2,\"МСМК\",\" \")))","v":"МСМК"},{"$f":"IF(ISBLANK($A428),\" \",IF(ISTEXT($A428),\" \",IF($A428<=1,\"МСМК\",\" \")))","v":"МСМК"},{"$f":"IF(ISBLANK($A428),\" \",IF(ISTEXT($A428),\" \",IF($A428<=3,\"МС\",\" \")))","v":"МС"},{"$f":"IF(ISBLANK($A428),\" \",IF(ISTEXT($A428),\" \",IF($A428<=2,\"МС\",\" \")))","v":"МС"}]
[2,{"$f":"IF(ISBLANK($A429),\" \",IF(ISTEXT($A429),\" \",IF($A429<=2,\"МСМК\",\" \")))","v":"МСМК"},{"$f":"IF(ISBLANK($A429),\" \",IF(ISTEXT($A429),\" \",IF($A429<=1,\"МСМК\",\" \")))","v":" "},{"$f":"IF(ISBLANK($A429),\" \",IF(ISTEXT($A429),\" \",IF($A429<=3,\"МС\",\" \")))","v":"МС"},{"$f":"IF(ISBLANK($A429),\" \",IF(ISTEXT($A429),\" \",IF($A429<=2,\"МС\",\" \")))","v":"МС"}]
[3," "," ","МС"," "]
[4," "," "," "," "]
[5," "," "," "," "]
[6," "," "," "," "]
[7," "," "," "," "]
[8," "," "," "," "]
[9," "," "," "," "]
[null,null,"Марафонский заплыв в ластах 6 км (1460201811Я), женщины, мужчины"]
[null,null,"Акватлон (1460281811Л), женщины, мужчины"]
[null,null,"Апноэ - квадрат (1460331811Л), женщины, мужчины"]
[null,null,"Апноэ - статическое (1460341811Л), женщины, мужчины"]
[null,null,"Апноэ - 16 раз х 50м (1460371811Л), женщины, мужчины"]
[null,null,"Апноэ - динамическое в классических ластах (1460161811Л), женщины, мужчины"]
[null,null,"Дайвинг ночной (1460351811Л), женщины, мужчины"]
[null,null,"Ориентирование"]
[null,null,"Подводная охота"]
[null,"Чемпионат, Кубок мира","Чемпионат, Кубок Европы","Др. межд-ные","Первентво мира марафон","Первенство Европы марафон","Др. юниорские межд-ные марафон","Чемпионат России","Финал Кубка России","Первенство России","Сор-ния ЕКП","Чемпионат фед-го округа,гг. Москва, С-Петербург","Первенство фед-го округа,гг. Москва, С-Петербург","Чемпионат Субъекта","Кубок Субъекта","Официальные сор-ния субъекта 18 и ст.","Официальные сор-ния субъекта (14-17 лет)","Первенство Муниципального образования","Официальные сор-ния Муниципального образования"]
[1,{"$f":"IF($A447<7,\"МСМК\",\" \")","v":"МСМК"},{"$f":"IF($A447<5,\"МСМК\",\" \")","v":"МСМК"},{"$f":"IF(ISBLANK($A447),\" \",IF(ISTEXT($A447),\" \",IF($A447<=1,\"МСМК\",\" \")))","v":"МСМК"},{"$f":"IF(ISBLANK($A447),\" \",IF(ISTEXT($A447),\" \",IF($A447<=6,\"МС\",\" \")))","v":"МС"},{"$f":"IF(ISBLANK($A447),\" \",IF(ISTEXT($A447),\" \",IF($A447<=4,\"МС\",\" \")))","v":"МС"},{"$f":"IF(ISBLANK($A447),\" \",IF(ISTEXT($A447),\" \",IF($A447<=2,\"МС\",IF($A447<=6,\"КМС\",\" \"))))","v":"МС"},"МС",{"$f":"IF(ISBLANK($A447),\" \",IF(ISTEXT($A447),\" \",IF($A447<=3,\"МС\",IF($A447<=6,\"КМС\",\" \"))))","v":"МС"},{"$f":"IF(ISBLANK($A447),\" \",IF(ISTEXT($A447),\" \",IF($A447<=4,\"КМС\",\" \")))","v":"КМС"},{"$f":"IF(ISBLANK($A447),\" \",IF(ISTEXT($A447),\" \",IF($A447<=2,\"МС\",IF($A447<=4,\"КМС\",\" \"))))","v":"МС"},{"$f":"IF(ISBLANK($A447),\" \",IF(ISTEXT($A447),\" \",IF($A447<=1,\"КМС\",IF($A447<=4,\"I\",\" \"))))","v":"КМС"},{"$f":"IF(ISBLANK($A447),\" \",IF(ISTEXT($A447),\" \",IF($A447<=2,\"I\",IF($A447<=4,\"II\",IF($A447<=6,\"III\",\" \")))))","v":"I"},{"$f":"IF(ISBLANK($A447),\" \",IF(ISTEXT($A447),\" \",IF($A447<=1,\"КМС\",IF($A447<=4,\"I\",\" \"))))","v":"КМС"},{"$f":"IF(ISBLANK($A447),\" \",IF(ISTEXT($A447),\" \",IF($A447<=2,\"I\",IF($A447<=4,\"II\",IF($A447<=6,\"III\",\" \")))))","v":"I"},{"$f":"IF(ISBLANK($A447),\" \",IF(ISTEXT($A447),\" \",IF($A447<=1,\"I\",IF($A447<=3,\"II\",IF($A447<=6,\"III\",\" \")))))","v":"I"},{"$f":"IF(ISBLANK($A447),\" \",IF(ISTEXT($A447),\" \",IF($A447<=3,\"II\",IF($A447<=5,\"III\",IF($A447<=7,\"I юн\",\" \")))))","v":"II"},{"$f":"IF(ISBLANK($A447),\" \",IF(ISTEXT($A447),\" \",IF($A447<=3,\"III\",IF($A447<=6,\"I юн\",IF($A447<=8,\"II юн\",\" \")))))","v":"III"},{"$f":"IF(ISBLANK($A447),\" \",IF(ISTEXT($A447),\" \",IF($A447<=3,\"I юн\",IF($A447<=6,\"II юн\",IF($A447<=9,\"III юн\",\" \")))))","v":"I юн"}]
[2,{"$f":"IF($A448<7,\"МСМК\",\" \")","v":"МСМК"},{"$f":"IF($A448<5,\"МСМК\",\" \")","v":"МСМК"}," ",{"$f":"IF(ISBLANK($A448),\" \",IF(ISTEXT($A448),\" \",IF($A448<=6,\"МС\",\" \")))","v":"МС"},{"$f":"IF(ISBLANK($A448),\" \",IF(ISTEXT($A448),\" \",IF($A448<=4,\"МС\",\" \")))","v":"МС"},{"$f":"IF(ISBLANK($A448),\" \",IF(ISTEXT($A448),\" \",IF($A448<=2,\"МС\",IF($A448<=6,\"КМС\",\" \"))))","v":"МС"},"МС",{"$f":"IF(ISBLANK($A448),\" \",IF(ISTEXT($A448),\" \",IF($A448<=3,\"МС\",IF($A448<=6,\"КМС\",\" \"))))","v":"МС"},{"$f":"IF(ISBLANK($A448),\" \",IF(ISTEXT($A448),\" \",IF($A448<=4,\"КМС\",\" \")))","v":"КМС"},{"$f":"IF(ISBLANK($A448),\" \",IF(ISTEXT($A448),\" \",IF($A448<=2,\"МС\",IF($A448<=4,\"КМС\",\" \"))))","v":"МС"},{"$f":"IF(ISBLANK($A448),\" \",IF(ISTEXT($A448),\" \",IF($A448<=1,\"КМС\",IF($A448<=4,\"I\",\" \"))))","v":"I"},{"$f":"IF(ISBLANK($A448),\" \",IF(ISTEXT($A448),\" \",IF($A448<=2,\"I\",IF($A448<=4,\"II\",IF($A448<=6,\"III\",\" \")))))","v":"I"},"I",{"$f":"IF(ISBLANK($A448),\" \",IF(ISTEXT($A448),\" \",IF($A448<=2,\"I\",IF($A448<=4,\"II\",IF($A448<=6,\"III\",\" \")))))","v":"I"},{"$f":"IF(ISBLANK($A448),\" \",IF(ISTEXT($A448),\" \",IF($A448<=1,\"I\",IF($A448<=3,\"II\",IF($A448<=6,\"III\",\" \")))))","v":"II"},"II",{"$f":"IF(ISBLANK($A448),\" \",IF(ISTEXT($A448),\" \",IF($A448<=3,\"III\",IF($A448<=6,\"I юн\",IF($A448<=8,\"II юн\",\" \")))))","v":"III"},{"$f":"IF(ISBLANK($A448),\" \",IF(ISTEXT($A448),\" \",IF($A448<=3,\"I юн\",IF($A448<=6,\"II юн\",IF($A448<=9,\"III юн\",\" \")))))","v":"I юн"}]
[3,"МСМК","МСМК"," ","МС","МС","КМС","МС","МС","КМС","КМС","I","II","I","II","II","II",{"$f":"IF(ISBLANK($A449),\" \",IF(ISTEXT($A449),\" \",IF($A449<=3,\"III\",IF($A449<=6,\"I юн\",IF($A449<=8,\"II юн\",\" \")))))","v":"III"},"I юн"]
[4,"МСМК","МСМК"," ","МС","МС","КМС","МС","КМС","КМС","КМС","I","II","I","II","III","III","I юн","II юн"]
[5,"МСМК"," "," ","МС"," ","КМС","КМС","КМС"," "," "," ","III"," ","III","III","III","I юн","II юн"]
[6,"МСМК"," "," ","МС"," ","КМС","КМС","КМС"," "," "," ","III"," ","III","III","I юн","I юн","II юн"]
[7," "," ",null," "," "," ","КМС"," "," "," "," "," ",null," "," ","I юн","II юн","III юн"]
[8," "," ",null," "," "," ","КМС"," "," "," "," "," ",null," "," "," ","II юн","III юн"]
[9," "," ",null," "," "," "," "," "," "," "," "," ",null," "," "," "," ","III юн"]
[{"$nulls":4}," "," "," "," "," "," "," "," "," ",null,{"$f":"IF(ISBLANK($A456),\" \",IF(ISTEXT($A456),\" \",IF($A456<=2,\"I\",IF($A456<=4,\"II\",IF($A456<=6,\"III\",\" \")))))","v":" "},null,null," "]
[null,null,"Марафонский заплыв в ластах 12-20 км, женщины",{"$nulls":11}," "]
[null,null,"Марафонский заплыв в ластах 12-20 км, мужчины"]
[]
[null,null,"Ориентирование- упражнение  \"звезда\" (1460021811Я), женщины"]
[null,null,"Ориентирование- упражнение  \"звезда\" (1460021811Я), мужчины"]
[]
[null,null,"Ориентирование- упражнение  \"зоны\" (1460011811Я), женщины"]
[null,null,"Ориентирование- упражнение  \"зоны\" (1460011811Я), мужчины"]
[]
[null,null,"Ориентирование- упражнение \"карта\" (1460031811Л), женщины"]
[null,null,"Ориентирование- упражнение \"карта\" (1460031811Л), мужчины"]
[]
[null,null,"Ориентирование- упражнение \"ориентиры\" (1460041811Я), женщины"]
[null,null,"Ориентирование- упражнение \"ориентиры\" (1460041811Я), мужчины"]
[]
[null,null,"Ориентирование-групповое упражнение \"карта\" (1460061811Л), женщины"]
[null,null,"Ориентирование-групповое упражнение \"карта\" (1460061811Л), мужчины"]
[]
[null,null,"Ориентирование-групповое упражнение (1460051811Я), женщины"]
[null,null,"Ориентирование-групповое упражнение (1460051811Я), мужчины"]
[]
[null,null,"Ориентирование-параллель (1460071811Я), женщины"]
[null,null,"Ориентирование-параллель (1460071811Я), мужчины"]
[]
[null,null,"Акватлон (борьба в ластах)  (1460281811Я), женщины"]
[null,null,"Акватлон (борьба в ластах)  (1460281811Я), мужчины"]
[]
[]
[]
[null,null,"Апноэ – квадрат (1460331811Л), женщины"]
[null,null,"Апноэ – квадрат (1460331811Л), мужчины"]
[]
[]
[null,null,"Апноэ – статическое (1460341811Л), женщины"]
[null,null,"Апноэ – статическое (1460341811Л), мужчины"]
[]
[null,null,"Дайвинг - комбинированное плавание (1460271811Я), женщины"]
[null,null,"Дайвинг - комбинированное плавание (1460271811Я), мужчины"]
[]
[null,null,"Дайвинг – ночной (1460351811Я), женщины"]
[null,null,"Дайвинг – ночной (1460351811Я), мужчины"]
[]
[null,null,"Дайвинг - подъем груза (1460361811Я), женщины"]
[null,null,"Дайвинг - подъем груза (1460361811Я), мужчины"]
[]
[null,null,"Дайвинг - полоса препятствий (1460301811Я), женщины"]
[null,null,"Дайвинг - полоса препятствий (1460301811Я), мужчины"]
[]
[null,null,"Подводная охота (1460231811Л), женщины"]
[null,null,"Подводная охота (1460231811Л), мужчины"]
[]
[null,null,"Подводное регби (1460292811Я), женщины"]
[null,null,"Подводное регби (1460292811Я), мужчины"]

{"sheet":"Очки","index":5,"n_rows":24,"n_cols":2,"rows_kept":24}
[null,50]
[null,46]
[null,42]
[null,39]
[null,36]
[null,33]
[null,30]
[null,27]
[null,24]
[null,22]
[null,20]
[null,18]
[null,16]
[null,14]
[null,12]
[null,10]
[null,8]
[null,7]
[null,6]
[null,5]
[null,4]
[null,3]
[null,2]
[null,1]

{"sheet":"Ст. секундометрист","index":6,"n_rows":724,"n_cols":11,"rows_kept":724}
[null,null,"Плавание в  ластах - 50 м,  девушки 2015-2017 г.р. "]
[{"$nulls":4},"Заплыв 1"]
[1,{"$nulls":6},1]
[2,"б/р","Понкратова Полина",null,"2017-11-10","Дианема",null,2]
[3,"3юн","Гончаренко Мирослава",null,"2016-09-01","Дианема",null,3]
[4,"б/р","Швалова Софья",null,"2016-05-22","Дианема",null,4]
[5,{"$nulls":6},5]
[6,"б/р","Колегова Маргарита",null,"2015-08-21","К;атран","50 кл",6]
[{"$nulls":4},"Заплыв 2"]
[1,"II юн","Захарова Мария",null,"2015-10-26","Дианема",null,1]
[2,"Iюн","Членова Анастасия",null,"2015-04-18","Дианема",null,2]
[3,"II юн","Гаджиева Сабина",null,"2015-09-29","Дианема",null,3]
[4,"III юн","Котнекова Ксения ",null,"2015-12-19","\"Спутник-Авангард\"",null,4]
[5,"II юн","Кругликова Аглая",null,"2017-03-17","ДВС",null,5]
[6,"III юн","Малакеева Мирослава",null,"01.01.2016\n","Дианема",null,6]
[{"$nulls":4},"Заплыв 3"]
[1,"III юн","Плащенко Дарина",null,"2015-06-24","\"Спутник-Авангард\"",null,1]
[2,"I юн","Бавтрушко Елизавета",null,"2015-01-08","ДВС",null,2]
[3,"I юн","Водясова Ксения",null,"2016-05-22","Дианема",null,3]
[4,"I юн","Липкина Полина",null,"2015-02-01","ДВС",null,4]
[5,"I юн","Валеева Лейсан",null,"2015-08-28","Дианема",null,5]
[6,"III юн","Фомина Виктория",null,"2017-05-09","\"Спутник-Авангард\"",null,6]
[]
[null,null,"Плавание в  ластах - 50 м,  юноши 2015-2017 г.р. "]
[{"$nulls":4},"Заплыв 4"]
[1,"б/р","Ганенко Артем",null,"2017-10-17","Дианема ",null,1]
[2,"III юн","Мокров Ярослав",null,"2015-05-15","\"Спутник-Авангард\"",null,2]
[3,"б/р","Дворников Аким",null,"2017-05-31","Дианема ",null,3]
[4,"б/р","Ребушев Данил",null,"2015-06-29","К;атран",null,4]
[5,"б/р","Данилов Константин",null,"2017-04-19","Дианема ",null,5]
[6,"III юн","Горобец Иван",null,"2015-03-02","ПК Авангард","50 кл",6]
[{"$nulls":4},"Заплыв 5"]
[1,"б/р","Мчедлидзе Давид",null,"2016-05-18","Дианема ",null,1]
[2,"б/р","Кремез Роман",null,"2015-04-02","Дианема ",null,2]
[3,"II юн","Малоканов Илья",null,"2015-08-03","ДВС",null,3]
[4,"II юн","Бутылин Макар",null,"2016-05-18","Дианема ",null,4]
[5,"б/р","Николаев Дмитрий ",null,"2016-03-18","\"Спутник-Авангард\"",null,5]
[6,"б/р","Бутылин Фёдор",null,"2017-10-30","Дианема ",null,6]
[]
[{"$nulls":4},"Заплыв 6"]
[1,"III юн","Абдулхаков Дмитрий ",null,"2015-12-15","Дианема ",null,1]
[2,"III юн","Кондратьев Михаил ",null,"2016-02-12","\"Спутник-Авангард\"",null,2]
[3,"I юн","Сисько Илья",null,"2015-04-15","Дианема ",null,3]
[4,"II юн","Кондратьев Вячеслав",null,"2016-08-28","Дианема ",null,4]
[5,"III юн","Провалинский Артём ",null,"2015-12-26","\"Спутник-Авангард\"",null,5]
[6,"II юн","Пичкуров Савелий",null,"2015-06-22","ДВС",null,6]
[]
[null,null,"Плавание в  классических ластах - 50 м,  девушки 2015-2017 г.р. "]
[{"$nulls":4},"Заплыв 7"]
[1,"б/р","Швалова Софья",null,"2016-05-22","Дианема ",null,1]
[2,"б/р","Сакова Софья ",null,"2017-05-17","ПК \"Авангард\"",null,2]
[3,"б/р","Дворникова Дарья ",null,"2016-05-12","ПК \"Авангард\"",null,3]
[4,"III юн","Голованова Ольга ",null,"2017-03-21","ПК \"Авангард\"",null,4]
[5,"3юн","Гончаренко Мирослава",null,"2016-09-01","Дианема ",null,5]
[6,"б/р","Понкратова Полина",null,"2017-11-10","Дианема ",null,6]
[{"$nulls":4},"Заплыв 8"]
[1,{"$nulls":6},1]
[2,"III юн","Малакеева Мирослава",null,"01.01.2016\n","Дианема ",null,2]
[3,"3 юн","Похабова Виктория",null,"2015-03-28","К;атран",null,3]
[4,"б/р","Некрасова Варвара",null,"2017-08-20","Дианема ",null,4]
[5,"3 юн","Плякина Елизавета",null,"2015-11-06","К;атран",null,5]
[6,"III юн","Кокорина Василиса ",null,"2017-07-27","ПК \"Авангард\"",null,6]
[]
[{"$nulls":4},"Заплыв 9"]
[1,"II юн","Верховина Екатерина ",null,"2015-06-22","ПК \"Авангард\"",null,1]
[2,"II юн","Семина Евгения",null,"2016-03-21","ДВС",null,2]
[3,"III юн","Виноградова Арина",null,"2016-04-26","ДВС",null,3]
[4,"II юн","Пономарева Виктория",null,"2015-03-06","\"Спутник-Авангард\"",null,4]
[5,"II юн","Коновалова Ксения",null,"2015-04-20","ДВС",null,5]
[6,"III юн","Сугак Алиса",null,"2017-03-24","ДВС",null,6]
[{"$nulls":4},"Заплыв 10"]
[1,"I юн","Анкудинова Полина ",null,"2015-06-20","ПК \"Авангард\"",null,1]
[2,"I юн","Росс Елизавета",null,"2015-07-13","ДВС",null,2]
[3,"III","Харсекина Злата ",null,"2016-08-04","ПК \"Авангард\"",null,3]
[4,"I юн","Миронова Валерия",null,"2016-09-01","ДВС",null,4]
[5,"I юн","Барановская Виктория",null,"2017-09-30","ПК \"Авангард\"",null,5]
[6,"I юн","Млынарь Милана ",null,"2015-08-08","ПК \"Авангард\"",null,6]
[]
[null,null,"Плавание в  классических ластах - 50 м,  юноши 2015-2017 г.р. "]
[{"$nulls":4},"Заплыв 11"]
[1,"б/р","Чичаев Вадим",null,"2016-09-23","Дианема ",null,1]
[2,"б/р","Литовченко Артем ",null,"2015-02-16","ПК \"Авангард\"",null,2]
[3,"б/р","Пичугин Семён",null,"2015-10-08","Дианема ",null,3]
[4,"б/р","Антипин Михаил",null,"2017-12-19","Дианема ",null,4]
[5,"б/р","Науменко Семен ",null,"2016-03-24","ПК \"Авангард\"",null,5]
[6,"б/р","Ганенко Артем",null,"2017-10-17","Дианема ",null,6]
[{"$nulls":4},"Заплыв 12"]
[1,"б/р","Назаркин Дмитрий ",null,"2016-03-17","ПК \"Авангард\"",null,1]
[2,"б/р","Сухов Александр ",null,"2015-12-17","ПК \"Авангард\"",null,2]
[3,"б/р","Стрельч Елисей ",null,"2016-11-23","К;атран",null,3]
[4,"3юн","Мануил Евгений",null,"2017-07-02","Дианема ",null,4]
[5,"III юн","Мокров Ярослав",null,"2015-05-15","\"Спутник-Авангард\"",null,5]
[6,"б/р","Степанов Кирилл",null,"2017-07-03","ДВС",null,6]
[]
[{"$nulls":4},"Заплыв 13"]
[1,"б/р","Николаев Дмитрий ",null,"2016-03-18","\"Спутник-Авангард\"",null,1]
[2,"б/р","Мчедлидзе Давид",null,"2016-05-18","Дианема ",null,2]
[3,"б/р","Яковлев Платон",null,"2017-02-08","ПК \"Авангард\"",null,3]
[4,"III юн","Котнеков Константин ",null,"2015-12-19","\"Спутник-Авангард\"",null,4]
[5,"б/р","Кончаков Дмитрий ",null,"2016-06-17","ПК \"Авангард\"",null,5]
[6,"б/р","Широбоков Михаил ",null,"2015-11-04","ПК \"Авангард\"",null,6]
[]
[{"$nulls":4},"Заплыв 14"]
[1,"б/р","Дворников Аким",null,"2017-05-31","Дианема ",null,1]
[2,"б/р","Кремез Роман",null,"2015-04-02","Дианема ",null,2]
[3,"3 юн","Ивашко Федор",null,"09.02ю2015","К;атран",null,3]
[4,"б/р","Галиахметов Данила",null,"2016-10-03","Дианема ",null,4]
[5,"б/р","Бутылин Фёдор",null,"2017-10-30","Дианема ",null,5]
[6,"б/р","Ребушев Данил",null,"2015-06-29","К;атран",null,6]
[]
[{"$nulls":4},"Заплыв 15"]
[1,"б,р ","Пашенных Прохор",null,"2015-09-10","К;атран",null,1]
[2,"III юн","Блудов Руслан ",null,"2015-08-02","ПК \"Авангард\"",null,2]
[3,"III юн","Илиенц Денис",null,"2015-10-13","Дианема ",null,3]
[4,"III юн","Абдулхаков Дмитрий ",null,"2015-12-15","Дианема ",null,4]
[5,"б/р","Кандеев Федор ",null,"2014-11-10","К;атран",null,5]
[6,"III юн","Зверев Артем ",null,"2015-01-17","ПК \"Авангард\"",null,6]
[{"$nulls":4},"Заплыв 16"]
[1,"II юн","Пичкуров Савелий",null,"2015-06-22","ДВС",null,1]
[2,"I юн","Марусенко Артём",null,"2015-04-09","Дианема ",null,2]
[3,"I юн","Сисько Илья",null,"2015-04-15","Дианема ",null,3]
[4,"1юн","Савельев Тимофей",null,"2015-12-18","Дианема ",null,4]
[5,"I юн","Мясников Матвей",null,"2015-08-06","Дианема ",null,5]
[6,"б/р","Старостин Михаил",null,"2015-12-03","ПК Авангард",null,6]
[null,null,"Плавание в  ластах - 100 м,  девушки 2015-2017 г.р. "]
[{"$nulls":4},"Заплыв 17"]
[1,{"$nulls":6},1]
[2,{"$nulls":6},2]
[3,"I юн","Водясова Ксения",null,"2016-05-22","Дианема ",null,3]
[4,"III юн","Фомина Виктория",null,"2017-05-09","\"Спутник-Авангард\"",null,4]
[5,"Iюн","Членова Анастасия",null,"2015-04-18","Дианема ",null,5]
[6,{"$nulls":6},6]
[{"$nulls":4},"Заплыв 18"]
[1,"II юн","Гаджиева Сабина",null,"2015-09-29","Дианема ",null,1]
[2,"II юн","Захарова Мария",null,"2015-10-26","Дианема ",null,2]
[3,"I юн","Валеева Лейсан",null,"2015-08-28","Дианема ",null,3]
[4,"III юн","Плащенко Дарина",null,"2015-06-24","\"Спутник-Авангард\"",null,4]
[5,"III юн","Котнекова Ксения ",null,"2015-12-19","\"Спутник-Авангард\"",null,5]
[6,"II юн","Кругликова Аглая",null,"2017-03-17","ДВС",null,6]
[null,null,"Плавание в  ластах - 100 м,  юноши 2015-2017 г.р. "]
[{"$nulls":4},"Заплыв 19"]
[1,{"$nulls":6},1]
[2,"II юн","Кондратьев Вячеслав",null,"2016-08-28","Дианема ",null,2]
[3,"III юн","Токарев Илья",null,"2016-08-19","Дианема ",null,3]
[4,"II юн","Бутылин Макар",null,"2016-05-18","Дианема ",null,4]
[5,"III юн","Калякин Тимофей",null,"2016-12-16","Дианема ",null,5]
[6,{"$nulls":6},6]
[{"$nulls":4},"Заплыв 20"]
[1,"III юн","Провалинский Артём ",null,"2015-12-26","\"Спутник-Авангард\"",null,1]
[2,"III юн","Илиенц Денис",null,"2015-10-13","Дианема ",null,2]
[3,"III юн","Кондратьев Михаил ",null,"2016-02-12","\"Спутник-Авангард\"",null,3]
[4,"II юн","Фёдоров Константин",null,"2016-05-12","Дианема ",null,4]
[5,"3юн","Мануил Евгений",null,"2017-07-02","Дианема ",null,5]
[6,"II юн","Малоканов Илья",null,"2015-08-03","ДВС",null,6]
[]
[null,null,"Плавание в  классических ластах - 100 м,  девушки 2015-2017 г.р. "]
[{"$nulls":4},"Заплыв 21"]
[1,"III юн","Голованова Ольга ",null,"2017-03-21","ПК \"Авангард\"",null,1]
[2,"б/р","Колегова Маргарита",null,"2015-08-21","К;атран",null,2]
[3,"III юн","Кокорина Василиса ",null,"2017-07-27","ПК \"Авангард\"",null,3]
[4,"б/р","Сакова Софья ",null,"2017-05-17","ПК \"Авангард\"",null,4]
[5,"б/р","Дворникова Дарья ",null,"2016-05-12","ПК \"Авангард\"",null,5]
[6,{"$nulls":6},6]
[]
[{"$nulls":4},"Заплыв 22"]
[1,{"$nulls":6},1]
[2,"3 юн","Похабова Виктория",null,"2015-03-28","К;атран",null,2]
[3,"I юн","Барановская Виктория",null,"2017-09-30","ПК \"Авангард\"",null,3]
[4,"I юн","Млынарь Милана ",null,"2015-08-08","ПК \"Авангард\"",null,4]
[5,"3 юн","Плякина Елизавета",null,"2015-11-06","К;атран",null,5]
[6,"II юн","Верховина Екатерина ",null,"2015-06-22","ПК \"Авангард\"",null,6]
[{"$nulls":4},"Заплыв 23"]
[1,"б/р","Некрасова Варвара",null,"2017-08-20","Дианема ",null,1]
[2,"II юн","Коновалова Ксения",null,"2015-04-20","ДВС",null,2]
[3,"I юн","Анкудинова Полина ",null,"2015-06-20","ПК \"Авангард\"",null,3]
[4,"II юн","Пономарева Виктория",null,"2015-03-06","\"Спутник-Авангард\"",null,4]
[5,"III юн","Сугак Алиса",null,"2017-03-24","ДВС",null,5]
[6,"III юн","Виноградова Арина",null,"2016-04-26","ДВС",null,6]
[{"$nulls":4},"Заплыв 24"]
[1,"I юн","Росс Елизавета",null,"2015-07-13","ДВС",null,1]
[2,"I юн","Миронова Валерия",null,"2016-09-01","ДВС",null,2]
[3,"I юн","Липкина Полина",null,"2015-02-01","ДВС",null,3]
[4,"I юн","Бавтрушко Елизавета",null,"2015-01-08","ДВС",null,4]
[5,"III","Харсекина Злата ",null,"2016-08-04","ПК \"Авангард\"",null,5]
[6,"II юн","Семина Евгения",null,"2016-03-21","ДВС",null,6]
[]
[null,null,"Плавание в  классических ластах - 100 м,  юноши2015-2017 г.р. "]
[{"$nulls":4},"Заплыв 25"]
[1,{"$nulls":6},1]
[2,{"$nulls":6},2]
[3,"б/р","Литовченко Артем ",null,"2015-02-16","ПК \"Авангард\"",null,3]
[4,"б/р","Широбоков Михаил ",null,"2015-11-04","ПК \"Авангард\"",null,4]
[5,"б/р","Науменко Семен ",null,"2016-03-24","ПК \"Авангард\"",null,5]
[6,{"$nulls":6},6]
[{"$nulls":4},"Заплыв 26"]
[1,"б/р","Назаркин Дмитрий ",null,"2016-03-17","ПК \"Авангард\"",null,1]
[2,"б/р","Кончаков Дмитрий ",null,"2016-06-17","ПК \"Авангард\"",null,2]
[3,"б/р","Яковлев Платон",null,"2017-02-08","ПК \"Авангард\"",null,3]
[4,"б/р","Данилов Константин",null,"2017-04-19","Дианема",null,4]
[5,"III юн","Блудов Руслан ",null,"2015-08-02","ПК \"Авангард\"",null,5]
[6,"б/р","Степанов Кирилл",null,"2017-07-03","ДВС",null,6]
[]
[{"$nulls":4},"Заплыв 27"]
[1,"б/р","Пичугин Семён",null,"2015-10-08","Дианема",null,1]
[2,"III юн","Калякин Тимофей",null,"2016-12-16","Дианема",null,2]
[3,"III юн","Зверев Артем ",null,"2015-01-17","ПК \"Авангард\"",null,3]
[4,"б/р","Чичаев Вадим",null,"2016-09-23","Дианема",null,4]
[5,"б/р","Сухов Александр ",null,"2015-12-17","ПК \"Авангард\"",null,5]
[6,"б/р","Антипин Михаил",null,"2017-12-19","Дианема",null,6]
[{"$nulls":4},"Заплыв 28"]
[1,"б/р","Галиахметов Данила",null,"2016-10-03","Дианема",null,1]
[2,"III юн","Котнеков Константин ",null,"2015-12-19","\"Спутник-Авангард\"",null,2]
[3,"б/р","Кандеев Федор Михапйлович",null,"2014-11-10","К;атран",null,3]
[4,"б/р","Стрельч Елисей ",null,"2016-11-23","К;атран",null,4]
[5,"3 юн","Ивашко Федор",null,"09.02ю2015","К;атран",null,5]
[6,"III юн","Горобец Иван",null,"2015-03-02","ПК Авангард",null,6]
[{"$nulls":4},"Заплыв 29"]
[1,"II юн","Фёдоров Константин",null,"2016-05-12","Дианема",null,1]
[2,"I юн","Марусенко Артём",null,"2015-04-09","Дианема",null,2]
[3,"1юн","Савельев Тимофей",null,"2015-12-18","Дианема",null,3]
[4,"I юн","Мясников Матвей",null,"2015-08-06","Дианема",null,4]
[5,"III юн","Токарев Илья",null,"2016-08-19","Дианема",null,5]
[6,"б,р ","Пашенных Прохор",null,"2015-09-10","К;атран",null,6]
{"$rows_empty":433}
[{"$nulls":10},{"$f":"IF($D657=\"Заплыв №\",\"ПРИМ.\",\" \")","v":" "}]
[{"$nulls":10}," "]
[{"$nulls":10}," "]
[{"$nulls":10}," "]
[{"$nulls":10}," "]
[{"$nulls":10}," "]
[{"$nulls":10}," "]
[{"$nulls":10}," "]
[{"$nulls":10}," "]
[{"$nulls":10}," "]
[{"$nulls":10}," "]
[{"$nulls":10}," "]
[{"$nulls":10}," "]
[{"$nulls":10}," "]
[{"$nulls":10}," "]
[{"$nulls":10}," "]
[{"$nulls":10}," "]
[{"$nulls":10}," "]
[{"$nulls":10}," "]
[{"$nulls":10}," "]
[{"$nulls":10}," "]
[{"$nulls":10}," "]
[{"$nulls":10}," "]
[{"$nulls":10}," "]
[{"$nulls":10}," "]
[{"$nulls":10}," "]
[{"$nulls":10}," "]
[{"$nulls":10}," "]
[{"$nulls":10}," "]
[{"$nulls":10}," "]
[{"$nulls":10}," "]
[{"$nulls":10}," "]
[{"$nulls":10}," "]
[{"$nulls":10}," "]
[{"$nulls":10}," "]
[{"$nulls":10}," "]
[{"$nulls":10}," "]
[{"$nulls":10},{"$f":"IF($D694=\"Заплыв №\",\"ПРИМ.\",\" \")","v":" "}]
[{"$nulls":10}," "]
[{"$nulls":10}," "]
[{"$nulls":10}," "]
[{"$nulls":10}," "]
[{"$nulls":10}," "]
[{"$nulls":10}," "]
[{"$nulls":10}," "]
[{"$nulls":10}," "]
[{"$nulls":10}," "]
[{"$nulls":10}," "]
[{"$nulls":10}," "]
[{"$nulls":10}," "]
[{"$nulls":10}," "]
[{"$nulls":10}," "]
[{"$nulls":10}," "]
[{"$nulls":10}," "]
[{"$nulls":10}," "]
[{"$nulls":10}," "]
[{"$nulls":10}," "]
[{"$nulls":10}," "]
[{"$nulls":10}," "]
[{"$nulls":10}," "]
[{"$nulls":10}," "]
[{"$nulls":10}," "]
[{"$nulls":10}," "]
[{"$nulls":10}," "]
[{"$nulls":10}," "]
[{"$nulls":10}," "]
[{"$nulls":8},{"$f":"IF($D723=\"Заплыв №\",\"РЕЗУЛЬТАТ\",\" \")","v":" "},{"$f":"IF($D723=\"Заплыв №\",\"ФИНИШ\",\" \")","v":" "}," "]
[{"$nulls":8}," "," "," "]

{"sheet":"Ведомость 6","index":7,"n_rows":45,"n_cols":8,"rows_kept":45,"merged":[[0,5,0,7],[1,5,1,7],[3,0,3,7],[4,0,5,0],[4,1,5,1],[4,2,5,2],[4,3,4,4],[4,5,5,5],[4,6,5,6],[4,7,5,7],[6,0,7,0],[6,1,7,1],[6,2,7,2],[6,3,7,3],[6,4,7,4],[6,7,7,7],[8,0,9,0],[8,1,9,1],[8,2,9,2],[8,3,9,3],[8,4,9,4],[8,7,9,7],[10,0,11,0],[10,1,11,1],[10,2,11,2],[10,3,11,3],[10,4,11,4],[10,7,11,7],[12,0,13,0],[12,1,13,1],[12,2,13,2],[12,3,13,3],[12,4,13,4],[12,7,13,7],[14,0,15,0],[14,1,15,1],[14,2,15,2],[14,3,15,3],[14,4,15,4],[14,7,15,7],[16,0,17,0],[16,1,17,1],[16,2,17,2],[16,3,17,3],[16,4,17,4],[16,7,17,7],[19,0,20,0],[19,1,20,1],[19,2,20,2],[19,3,20,3],[19,4,20,4],[19,7,20,7],[21,0,22,0],[21,1,22,1],[21,2,22,2],[21,3,22,3],[21,4,22,4],[21,7,22,7],[23,0,24,0],[23,1,24,1],[23,2,24,2],[23,3,24,3],[23,4,24,4],[23,7,24,7],[25,0,26,0],[25,1,26,1],[25,2,26,2],[25,3,26,3],[25,4,26,4],[25,7,26,7],[27,0,28,0],[27,1,28,1],[27,2,28,2],[27,3,28,3],[27,4,28,4],[27,7,28,7],[29,0,30,0],[29,1,30,1],[29,2,30,2],[29,3,30,3],[29,4,30,4],[29,7,30,7],[31,0,32,0],[31,1,32,1],[31,2,32,2],[31,3,32,3],[31,4,32,4],[31,7,32,7],[33,0,34,0],[33,1,34,1],[33,2,34,2],[33,3,34,3],[33,4,34,4],[33,7,34,7],[35,0,36,0],[35,1,36,1],[35,2,36,2],[35,3,36,3],[35,4,36,4],[35,7,36,7],[37,0,38,0],[37,1,38,1],[37,2,38,2],[37,3,38,3],[37,4,38,4],[37,7,38,7],[39,0,40,0],[39,1,40,1],[39,2,40,2],[39,3,40,3],[39,4,40,4],[39,7,40,7],[41,0,42,0],[41,1,42,1],[41,2,42,2],[41,3,42,3],[41,4,42,4],[41,7,42,7]]}
[{"$nulls":5},"Приложение №___ к Договору №____"]
[{"$nulls":5},"от \"___\"_________20___г."]
[]
["  ВЕДОМОСТЬ № 5 НА ВЫДАЧУ ПРИЗОВ ПОБЕДИТЕЛЯМ ПЕРВЕНСТВА РОССИИ ПО ПОДВОДНОМУ СПОРТУ (МАРАФОНСКИЙ ЗАПЛЫВ В ЛАСТАХ) СРЕДИ ЮНОШЕЙ И ДЕВУШЕК ДО 18 ЛЕТ, ПРОХОДИВШЕГО С «16» ПО «19» МАЯ 2016 Г. В ГОРОДЕ КРОПОТКИН (КРАСНОДАРСКИЙ КРАЙ), СМ ПО ЕКП № 7502"]
["№ П/П","ФАМИЛИЯ, ИМЯ, ОТЧЕСТВО НАГРАЖДАЕМОГО","Из какого города и членом какой организации является награжденный","За что награжден",null,"ОПИСАНИЕ ПРИЗА","Стоимость","Подпись получателя"]
[{"$nulls":3},"Дистанция","Место"]
[1,null,null,"6 км",1,"медаль золото",200]
[{"$nulls":5},"диплом 1 степени",50]
[2,null,null,"6 км",2,"медаль серебро",200]
[{"$nulls":5},"диплом 2 степени",50]
[3,null,null,"6 км",3,"медаль бронза",200]
[{"$nulls":5},"диплом 3 степени",50]
[4,null,null,"6 км",1,"медаль золото",200]
[{"$nulls":5},"диплом 1 степени",50]
[5,null,null,"6 км",2,"медаль серебро",200]
[{"$nulls":5},"диплом 2 степени",50]
[6,null,null,"6 км",3,"медаль бронза",200]
[{"$nulls":5},"диплом 3 степени",50]
[]
[7,null,{"$f":"'[1]Итоговый протокол'!$F$294","v":"Ярославская область"},"4х2км",1,"медаль золото",200]
[{"$nulls":5},"диплом 1 степени",50]
[8,null,{"$f":"'[1]Итоговый протокол'!$F$294","v":"Ярославская область"},"4х2км",1,"медаль золото",200]
[{"$nulls":5},"диплом 1 степени",50]
[{"$f":"A22+1","v":9},null,{"$f":"'[1]Итоговый протокол'!$F$294","v":"Ярославская область"},"4х2км",1,"медаль золото",200]
[{"$nulls":5},"диплом 1 степени",50]
[{"$f":"A24+1","v":10},null,{"$f":"'[1]Итоговый протокол'!$F$294","v":"Ярославская область"},"4х2км",1,"медаль золото",200]
[{"$nulls":5},"диплом 1 степени",50]
[11,null,{"$f":"'[1]Итоговый протокол'!$F$300","v":"Тульская область"},"4х2км",2,"медаль серебро",200]
[{"$nulls":5},"диплом 2 степени",50]
[12,null,{"$f":"'[1]Итоговый протокол'!$F$300","v":"Тульская область"},"4х2км",2,"медаль серебро",200]
[{"$nulls":5},"диплом 2 степени",50]
[{"$f":"A30+1","v":13},null,{"$f":"'[1]Итоговый протокол'!$F$300","v":"Тульская область"},"4х2км",2,"медаль серебро",200]
[{"$nulls":5},"диплом 2 степени",50]
[{"$f":"A32+1","v":14},null,{"$f":"'[1]Итоговый протокол'!$F$300","v":"Тульская область"},"4х2км",2,"медаль серебро",200]
[{"$nulls":5},"диплом 2 степени",50]
[15,null,{"$f":"'[1]Итоговый протокол'!$F$304","v":"Челябинская область"},"4х2км",3,"медаль бронза",200]
[{"$nulls":5},"диплом 3 степени",50]
[16,null,{"$f":"'[1]Итоговый протокол'!$F$304","v":"Челябинская область"},"4х2км",3,"медаль бронза",200]
[{"$nulls":5},"диплом 3 степени",50]
[{"$f":"A38+1","v":17},null,{"$f":"'[1]Итоговый протокол'!$F$304","v":"Челябинская область"},"4х2км",3,"медаль бронза",200]
[{"$nulls":5},"диплом 3 степени",50]
[{"$f":"A40+1","v":18},null,{"$f":"'[1]Итоговый протокол'!$F$304","v":"Челябинская область"},"4х2км",3,"медаль бронза",200]
[{"$nulls":5},"диплом 3 степени",50]
[]
[{"$nulls":5},"Всего на сумму:",{"$f":"SUM(G7:G43)","v":4500}]

{"sheet":"Техническая один зачет","index":8,"n_rows":100,"n_cols":51,"rows_kept":100,"merged":[[3,1,4,28],[6,1,7,28],[9,7,9,14],[9,15,10,19],[9,20,10,28],[9,29,12,41],[10,8,10,10],[10,11,10,12],[10,13,10,14],[11,8,11,10],[11,11,11,12],[11,13,11,14],[11,15,12,19],[11,20,12,28],[12,8,12,10],[12,11,12,12],[12,13,12,14],[13,0,13,41],[18,0,19,0],[18,1,19,1],[18,2,19,3],[18,4,19,4],[18,5,19,5],[18,6,19,6],[18,7,19,7],[18,8,19,8],[18,9,19,9],[18,10,18,13],[18,14,18,25],[18,26,18,29],[18,30,18,37],[18,38,18,45],[86,1,86,39],[87,1,87,20],[89,1,89,40],[90,1,90,39],[91,1,91,39],[92,1,92,39],[99,1,99,31]]}
[null,"Настройки:"]
[null,"Следует иметь ввиду, что расчет возраста ведется от текущей даты, установленной на компьютере. Это необходимо учитывать, если соревнования будут проходить в следующем году."]
[null,"1. Ввести название соревнований и дату проведения."]
[null,"2. Ввести возраст  от и до количества лет (не годов рождения!!!)  участников соревнований. У участников, возраст которых не попадает в этот диапазон, года рождения будут высвечиваться на красном фоне. "]
[]
[null,"3. Ограничения по разрядам (недопускаемые разряды просто удаляются)"]
[null,"4. Выделяются строки (именно строки!!!) с 1 по 13 (окрашены синим цветом), нажимается правая кнопка мыши и выбирается \"Скрыть\". Сохранить файл  под нужным Вам названием. Для отображения настроек соревнований выделить строки (именно строки!!!) с 14 и вверх , нажать правую кнопку мыши  и выбрать \" Отобразить\" (или \"Показать\")"]
[]
[]
[null,"Сведения о соревнованиях:",{"$nulls":5},"Ограничения по разрядам ",{"$nulls":7},"Место проведения:",{"$nulls":4},"г. Город, бассейн \"ААА\", 50 м",{"$nulls":8},"НЕ ИЗМЕНЯТЬ!!! Служебные поля, заполняются организаторами соревнований"]
[null,"Состав команды:",null,"женщин",7,"в  зачет",3,"ЗМС","КМС",null,null,"III",null,"III юн"]
[{"$nulls":3},"мужчин",7,"лично",2,"МСМК","I",null,null,"I юн",null,"б/р",null,"Сроки проведения:",{"$nulls":4},"02-06 февраля 2015 г."]
[null,null,"Возраст, лет","от",18,"до",null,"МС","II",null,null,"II юн"]
["ТЕХНИЧЕСКАЯ ЗАЯВКА"]
[{"$nulls":3},"Сборной команды","Полное Название команды, город (край, область и пр.)"]
[{"$nulls":3},"Краткое название","Сокращенное название"]
[{"$nulls":4},"на участие в соревнованиях",null,"Название Соревнований по подводному спорту (1460008511Я) (плавание в ластах)"]
[]
["№ п/п","Разряд, звание","Фамилия Имя",null,"Год рожд.","Команда","Пол","Тренер","Зачетов","Лично","Ныряние",{"$nulls":3},"Плавание в ластах",{"$nulls":11},"Подводное плавание",{"$nulls":3},"Классические ласты",{"$nulls":7},"Эстафета"]
[{"$nulls":10},"25м","зачет","50м","зачет","50м","зачет","100м","зачет","200м","зачет","400м","зачет","800м","зачет","1500м","зачет","100м","зачет","400м","зачет","50м","зачет","100м","зачет","200м","зачет","400м","зачет","4х50м смеш","Этап","4х100м","Этап","4х100м к/л смеш","Этап","4х200м","Этап",null,"Очки","Зачеты","Лично"]
[1,"I","Девушки"," ","2003-01-01",{"$f":"$E$16","v":"Сокращенное название"},"Ж",{"$f":"E76","v":"Фамилия_1 Имя Отчество"},{"$f":"COUNTIF(K21:AL21,\">=0\")-COUNTIF(K21:AL21,\"в\")-COUNTIF(K21:AL21,\"л\")","v":0},{"$f":"COUNTIF(K21:AL21,\"л\")","v":0},{"$nulls":37},{"$f":"SUMIFS(#REF!,#REF!,$C21,#REF!,$E21,#REF!,$F21)","v":{"$error":"#REF!"}},{"$f":"COUNTIFS(#REF!,$C21,#REF!,$E21,#REF!,$F21,#REF!,\">=0\")","v":{"$error":"#REF!"}},{"$f":"COUNTIFS(#REF!,$C21,#REF!,$E21,#REF!,$F21,#REF!,\"лично\")","v":{"$error":"#REF!"}},"ЗМС"]
[2,"I","Девушки"," ",null,"Сокращенное название","Ж",{"$f":"H21","v":"Фамилия_1 Имя Отчество"},{"$f":"COUNTIF(K22:AL22,\">=0\")-COUNTIF(K22:AL22,\"в\")-COUNTIF(K22:AL22,\"л\")","v":0},{"$f":"COUNTIF(K22:AL22,\"л\")","v":0},{"$nulls":37},{"$f":"SUMIFS(#REF!,#REF!,$C22,#REF!,$E22,#REF!,$F22)","v":{"$error":"#REF!"}},{"$f":"COUNTIFS(#REF!,$C22,#REF!,$E22,#REF!,$F22,#REF!,\">=0\")","v":{"$error":"#REF!"}},{"$f":"COUNTIFS(#REF!,$C22,#REF!,$E22,#REF!,$F22,#REF!,\"лично\")","v":{"$error":"#REF!"}},"ЗМС"]
[3,"ЗМС","Девушки"," ",null,"Сокращенное название","Ж",{"$f":"H22","v":"Фамилия_1 Имя Отчество"},0,0,{"$nulls":37},{"$f":"SUMIFS(#REF!,#REF!,$C23,#REF!,$E23,#REF!,$F23)","v":{"$error":"#REF!"}},{"$f":"COUNTIFS(#REF!,$C23,#REF!,$E23,#REF!,$F23,#REF!,\">=0\")","v":{"$error":"#REF!"}},{"$f":"COUNTIFS(#REF!,$C23,#REF!,$E23,#REF!,$F23,#REF!,\"лично\")","v":{"$error":"#REF!"}},"МСМК"]
[4,"МСМК","Девушки"," ",null,"Сокращенное название","Ж","Фамилия_1 Имя Отчество",0,0,{"$nulls":37},{"$f":"SUMIFS(#REF!,#REF!,$C24,#REF!,$E24,#REF!,$F24)","v":{"$error":"#REF!"}},{"$f":"COUNTIFS(#REF!,$C24,#REF!,$E24,#REF!,$F24,#REF!,\">=0\")","v":{"$error":"#REF!"}},{"$f":"COUNTIFS(#REF!,$C24,#REF!,$E24,#REF!,$F24,#REF!,\"лично\")","v":{"$error":"#REF!"}},"МС"]
[5,"МС","Девушки"," ",null,"Сокращенное название","Ж","Фамилия_1 Имя Отчество",0,0,{"$nulls":37},{"$f":"SUMIFS(#REF!,#REF!,$C25,#REF!,$E25,#REF!,$F25)","v":{"$error":"#REF!"}},{"$f":"COUNTIFS(#REF!,$C25,#REF!,$E25,#REF!,$F25,#REF!,\">=0\")","v":{"$error":"#REF!"}},{"$f":"COUNTIFS(#REF!,$C25,#REF!,$E25,#REF!,$F25,#REF!,\"лично\")","v":{"$error":"#REF!"}},"КМС"]
[6,"КМС","Девушки"," ",null,"Сокращенное название","Ж","Фамилия_1 Имя Отчество",0,0,{"$nulls":37},{"$f":"SUMIFS(#REF!,#REF!,$C26,#REF!,$E26,#REF!,$F26)","v":{"$error":"#REF!"}},{"$f":"COUNTIFS(#REF!,$C26,#REF!,$E26,#REF!,$F26,#REF!,\">=0\")","v":{"$error":"#REF!"}},{"$f":"COUNTIFS(#REF!,$C26,#REF!,$E26,#REF!,$F26,#REF!,\"лично\")","v":{"$error":"#REF!"}},"I"]
[7,"I","Девушки"," ",null,"Сокращенное название","Ж","Фамилия_1 Имя Отчество",0,0,{"$nulls":37},{"$f":"SUMIFS(#REF!,#REF!,$C27,#REF!,$E27,#REF!,$F27)","v":{"$error":"#REF!"}},{"$f":"COUNTIFS(#REF!,$C27,#REF!,$E27,#REF!,$F27,#REF!,\">=0\")","v":{"$error":"#REF!"}},{"$f":"COUNTIFS(#REF!,$C27,#REF!,$E27,#REF!,$F27,#REF!,\"лично\")","v":{"$error":"#REF!"}},"II"]
[8,"I","Девушки"," ",null,"Сокращенное название","Ж","Фамилия_1 Имя Отчество",0,0,{"$nulls":37},{"$f":"SUMIFS(#REF!,#REF!,$C28,#REF!,$E28,#REF!,$F28)","v":{"$error":"#REF!"}},{"$f":"COUNTIFS(#REF!,$C28,#REF!,$E28,#REF!,$F28,#REF!,\">=0\")","v":{"$error":"#REF!"}},{"$f":"COUNTIFS(#REF!,$C28,#REF!,$E28,#REF!,$F28,#REF!,\"лично\")","v":{"$error":"#REF!"}},"III"]
[9,"III","Девушки"," ",null,"Сокращенное название","Ж","Фамилия_1 Имя Отчество",0,0,{"$nulls":37},{"$f":"SUMIFS(#REF!,#REF!,$C29,#REF!,$E29,#REF!,$F29)","v":{"$error":"#REF!"}},{"$f":"COUNTIFS(#REF!,$C29,#REF!,$E29,#REF!,$F29,#REF!,\">=0\")","v":{"$error":"#REF!"}},{"$f":"COUNTIFS(#REF!,$C29,#REF!,$E29,#REF!,$F29,#REF!,\"лично\")","v":{"$error":"#REF!"}},"I юн"]
[10,"I","Девушки"," ",null,"Сокращенное название","Ж","Фамилия_1 Имя Отчество",0,0,{"$nulls":37},{"$f":"SUMIFS(#REF!,#REF!,$C30,#REF!,$E30,#REF!,$F30)","v":{"$error":"#REF!"}},{"$f":"COUNTIFS(#REF!,$C30,#REF!,$E30,#REF!,$F30,#REF!,\">=0\")","v":{"$error":"#REF!"}},{"$f":"COUNTIFS(#REF!,$C30,#REF!,$E30,#REF!,$F30,#REF!,\"лично\")","v":{"$error":"#REF!"}},"II юн"]
[11,"I юн","Девушки"," ",null,"Сокращенное название","Ж","Фамилия_1 Имя Отчество",0,0,{"$nulls":37},{"$f":"SUMIFS(#REF!,#REF!,$C31,#REF!,$E31,#REF!,$F31)","v":{"$error":"#REF!"}},{"$f":"COUNTIFS(#REF!,$C31,#REF!,$E31,#REF!,$F31,#REF!,\">=0\")","v":{"$error":"#REF!"}},{"$f":"COUNTIFS(#REF!,$C31,#REF!,$E31,#REF!,$F31,#REF!,\"лично\")","v":{"$error":"#REF!"}},"III юн"]
[12,"КМС","Девушки"," ",null,"Сокращенное название","Ж","Фамилия_1 Имя Отчество",0,0,{"$nulls":37},{"$f":"SUMIFS(#REF!,#REF!,$C32,#REF!,$E32,#REF!,$F32)","v":{"$error":"#REF!"}},{"$f":"COUNTIFS(#REF!,$C32,#REF!,$E32,#REF!,$F32,#REF!,\">=0\")","v":{"$error":"#REF!"}},{"$f":"COUNTIFS(#REF!,$C32,#REF!,$E32,#REF!,$F32,#REF!,\"лично\")","v":{"$error":"#REF!"}},"б/р"]
[13,"I","Девушки"," ",null,"Сокращенное название","Ж","Фамилия_1 Имя Отчество",0,0,{"$nulls":37},{"$f":"SUMIFS(#REF!,#REF!,$C33,#REF!,$E33,#REF!,$F33)","v":{"$error":"#REF!"}},{"$f":"COUNTIFS(#REF!,$C33,#REF!,$E33,#REF!,$F33,#REF!,\">=0\")","v":{"$error":"#REF!"}},{"$f":"COUNTIFS(#REF!,$C33,#REF!,$E33,#REF!,$F33,#REF!,\"лично\")","v":{"$error":"#REF!"}}]
[14,"I","Девушки"," ",null,"Сокращенное название","Ж","Фамилия_1 Имя Отчество",0,0,{"$nulls":37},{"$f":"SUMIFS(#REF!,#REF!,$C34,#REF!,$E34,#REF!,$F34)","v":{"$error":"#REF!"}},{"$f":"COUNTIFS(#REF!,$C34,#REF!,$E34,#REF!,$F34,#REF!,\">=0\")","v":{"$error":"#REF!"}},{"$f":"COUNTIFS(#REF!,$C34,#REF!,$E34,#REF!,$F34,#REF!,\"лично\")","v":{"$error":"#REF!"}}]
[15,"I","Девушки"," ",null,"Сокращенное название","Ж","Фамилия_1 Имя Отчество",0,0,{"$nulls":37},{"$f":"SUMIFS(#REF!,#REF!,$C35,#REF!,$E35,#REF!,$F35)","v":{"$error":"#REF!"}},{"$f":"COUNTIFS(#REF!,$C35,#REF!,$E35,#REF!,$F35,#REF!,\">=0\")","v":{"$error":"#REF!"}},{"$f":"COUNTIFS(#REF!,$C35,#REF!,$E35,#REF!,$F35,#REF!,\"лично\")","v":{"$error":"#REF!"}}]
[16,"I","Девушки"," ",null,"Сокращенное название","Ж","Фамилия_1 Имя Отчество",0,0,{"$nulls":37},{"$f":"SUMIFS(#REF!,#REF!,$C36,#REF!,$E36,#REF!,$F36)","v":{"$error":"#REF!"}},{"$f":"COUNTIFS(#REF!,$C36,#REF!,$E36,#REF!,$F36,#REF!,\">=0\")","v":{"$error":"#REF!"}},{"$f":"COUNTIFS(#REF!,$C36,#REF!,$E36,#REF!,$F36,#REF!,\"лично\")","v":{"$error":"#REF!"}}]
[17,"I юн","Девушки"," ",null,"Сокращенное название","Ж","Фамилия_1 Имя Отчество",0,0,{"$nulls":37},{"$f":"SUMIFS(#REF!,#REF!,$C37,#REF!,$E37,#REF!,$F37)","v":{"$error":"#REF!"}},{"$f":"COUNTIFS(#REF!,$C37,#REF!,$E37,#REF!,$F37,#REF!,\">=0\")","v":{"$error":"#REF!"}},{"$f":"COUNTIFS(#REF!,$C37,#REF!,$E37,#REF!,$F37,#REF!,\"лично\")","v":{"$error":"#REF!"}}]
[18,"II юн","Девушки"," ",null,"Сокращенное название","Ж","Фамилия_1 Имя Отчество",0,0,{"$nulls":37},{"$f":"SUMIFS(#REF!,#REF!,$C38,#REF!,$E38,#REF!,$F38)","v":{"$error":"#REF!"}},{"$f":"COUNTIFS(#REF!,$C38,#REF!,$E38,#REF!,$F38,#REF!,\">=0\")","v":{"$error":"#REF!"}},{"$f":"COUNTIFS(#REF!,$C38,#REF!,$E38,#REF!,$F38,#REF!,\"лично\")","v":{"$error":"#REF!"}}]
[19,"III юн","Девушки"," ",null,"Сокращенное название","Ж","Фамилия_1 Имя Отчество",0,0,{"$nulls":37},{"$f":"SUMIFS(#REF!,#REF!,$C39,#REF!,$E39,#REF!,$F39)","v":{"$error":"#REF!"}},{"$f":"COUNTIFS(#REF!,$C39,#REF!,$E39,#REF!,$F39,#REF!,\">=0\")","v":{"$error":"#REF!"}},{"$f":"COUNTIFS(#REF!,$C39,#REF!,$E39,#REF!,$F39,#REF!,\"лично\")","v":{"$error":"#REF!"}}]
[20,"МСМК","Девушки"," ",null,"Сокращенное название","Ж","Фамилия_1 Имя Отчество",0,0,{"$nulls":37},{"$f":"SUMIFS(#REF!,#REF!,$C40,#REF!,$E40,#REF!,$F40)","v":{"$error":"#REF!"}},{"$f":"COUNTIFS(#REF!,$C40,#REF!,$E40,#REF!,$F40,#REF!,\">=0\")","v":{"$error":"#REF!"}},{"$f":"COUNTIFS(#REF!,$C40,#REF!,$E40,#REF!,$F40,#REF!,\"лично\")","v":{"$error":"#REF!"}}]
[21,"МС","Девушки"," ",null,"Сокращенное название","Ж","Фамилия_1 Имя Отчество",0,0,{"$nulls":37},{"$f":"SUMIFS(#REF!,#REF!,$C41,#REF!,$E41,#REF!,$F41)","v":{"$error":"#REF!"}},{"$f":"COUNTIFS(#REF!,$C41,#REF!,$E41,#REF!,$F41,#REF!,\">=0\")","v":{"$error":"#REF!"}},{"$f":"COUNTIFS(#REF!,$C41,#REF!,$E41,#REF!,$F41,#REF!,\"лично\")","v":{"$error":"#REF!"}}]
[22,"I","Девушки"," ",null,"Сокращенное название","Ж","Фамилия_1 Имя Отчество",0,0,{"$nulls":37},{"$f":"SUMIFS(#REF!,#REF!,$C42,#REF!,$E42,#REF!,$F42)","v":{"$error":"#REF!"}},{"$f":"COUNTIFS(#REF!,$C42,#REF!,$E42,#REF!,$F42,#REF!,\">=0\")","v":{"$error":"#REF!"}},{"$f":"COUNTIFS(#REF!,$C42,#REF!,$E42,#REF!,$F42,#REF!,\"лично\")","v":{"$error":"#REF!"}}]
[23,"МС","Девушки"," ",null,"Сокращенное название","Ж","Фамилия_1 Имя Отчество",0,0,{"$nulls":37},{"$f":"SUMIFS(#REF!,#REF!,$C43,#REF!,$E43,#REF!,$F43)","v":{"$error":"#REF!"}},{"$f":"COUNTIFS(#REF!,$C43,#REF!,$E43,#REF!,$F43,#REF!,\">=0\")","v":{"$error":"#REF!"}},{"$f":"COUNTIFS(#REF!,$C43,#REF!,$E43,#REF!,$F43,#REF!,\"лично\")","v":{"$error":"#REF!"}}]
[24,"I","Девушки"," ",null,"Сокращенное название","Ж","Фамилия_1 Имя Отчество",0,0,{"$nulls":37},{"$f":"SUMIFS(#REF!,#REF!,$C44,#REF!,$E44,#REF!,$F44)","v":{"$error":"#REF!"}},{"$f":"COUNTIFS(#REF!,$C44,#REF!,$E44,#REF!,$F44,#REF!,\">=0\")","v":{"$error":"#REF!"}},{"$f":"COUNTIFS(#REF!,$C44,#REF!,$E44,#REF!,$F44,#REF!,\"лично\")","v":{"$error":"#REF!"}}]
[25,"II","Девушки"," ",null,"Сокращенное название","Ж","Фамилия_1 Имя Отчество",0,0,{"$nulls":37},{"$f":"SUMIFS(#REF!,#REF!,$C45,#REF!,$E45,#REF!,$F45)","v":{"$error":"#REF!"}},{"$f":"COUNTIFS(#REF!,$C45,#REF!,$E45,#REF!,$F45,#REF!,\">=0\")","v":{"$error":"#REF!"}},{"$f":"COUNTIFS(#REF!,$C45,#REF!,$E45,#REF!,$F45,#REF!,\"лично\")","v":{"$error":"#REF!"}}]
[{"$f":"A45+1","v":26},"III юн","Юноши"," ",null,"Сокращенное название","М","Фамилия_1 Имя Отчество",0,0,{"$nulls":37},{"$f":"SUMIFS(#REF!,#REF!,$C46,#REF!,$E46,#REF!,$F46)","v":{"$error":"#REF!"}},{"$f":"COUNTIFS(#REF!,$C46,#REF!,$E46,#REF!,$F46,#REF!,\">=0\")","v":{"$error":"#REF!"}},{"$f":"COUNTIFS(#REF!,$C46,#REF!,$E46,#REF!,$F46,#REF!,\"лично\")","v":{"$error":"#REF!"}}]
[27,"II","Юноши"," ",null,"Сокращенное название","М","Фамилия_1 Имя Отчество",0,0,{"$nulls":37},{"$f":"SUMIFS(#REF!,#REF!,$C47,#REF!,$E47,#REF!,$F47)","v":{"$error":"#REF!"}},{"$f":"COUNTIFS(#REF!,$C47,#REF!,$E47,#REF!,$F47,#REF!,\">=0\")","v":{"$error":"#REF!"}},{"$f":"COUNTIFS(#REF!,$C47,#REF!,$E47,#REF!,$F47,#REF!,\"лично\")","v":{"$error":"#REF!"}}]
[28,"ЗМС","Юноши"," ",null,"Сокращенное название","М","Фамилия_1 Имя Отчество",0,0,{"$nulls":37},{"$f":"SUMIFS(#REF!,#REF!,$C48,#REF!,$E48,#REF!,$F48)","v":{"$error":"#REF!"}},{"$f":"COUNTIFS(#REF!,$C48,#REF!,$E48,#REF!,$F48,#REF!,\">=0\")","v":{"$error":"#REF!"}},{"$f":"COUNTIFS(#REF!,$C48,#REF!,$E48,#REF!,$F48,#REF!,\"лично\")","v":{"$error":"#REF!"}}]
[29,"МСМК","Юноши"," ",null,"Сокращенное название","М","Фамилия_1 Имя Отчество",0,0,{"$nulls":37},{"$f":"SUMIFS(#REF!,#REF!,$C49,#REF!,$E49,#REF!,$F49)","v":{"$error":"#REF!"}},{"$f":"COUNTIFS(#REF!,$C49,#REF!,$E49,#REF!,$F49,#REF!,\">=0\")","v":{"$error":"#REF!"}},{"$f":"COUNTIFS(#REF!,$C49,#REF!,$E49,#REF!,$F49,#REF!,\"лично\")","v":{"$error":"#REF!"}}]
[30,"МС","Юноши"," ",null,"Сокращенное название","М","Фамилия_1 Имя Отчество",0,0,{"$nulls":37},{"$f":"SUMIFS(#REF!,#REF!,$C50,#REF!,$E50,#REF!,$F50)","v":{"$error":"#REF!"}},{"$f":"COUNTIFS(#REF!,$C50,#REF!,$E50,#REF!,$F50,#REF!,\">=0\")","v":{"$error":"#REF!"}},{"$f":"COUNTIFS(#REF!,$C50,#REF!,$E50,#REF!,$F50,#REF!,\"лично\")","v":{"$error":"#REF!"}}]
[31,"КМС","Юноши"," ",null,"Сокращенное название","М","Фамилия_1 Имя Отчество",0,0,{"$nulls":37},{"$f":"SUMIFS(#REF!,#REF!,$C51,#REF!,$E51,#REF!,$F51)","v":{"$error":"#REF!"}},{"$f":"COUNTIFS(#REF!,$C51,#REF!,$E51,#REF!,$F51,#REF!,\">=0\")","v":{"$error":"#REF!"}},{"$f":"COUNTIFS(#REF!,$C51,#REF!,$E51,#REF!,$F51,#REF!,\"лично\")","v":{"$error":"#REF!"}}]
[32,"КМС","Юноши"," ",null,"Сокращенное название","М","Фамилия_1 Имя Отчество",0,0,{"$nulls":37},{"$f":"SUMIFS(#REF!,#REF!,$C52,#REF!,$E52,#REF!,$F52)","v":{"$error":"#REF!"}},{"$f":"COUNTIFS(#REF!,$C52,#REF!,$E52,#REF!,$F52,#REF!,\">=0\")","v":{"$error":"#REF!"}},{"$f":"COUNTIFS(#REF!,$C52,#REF!,$E52,#REF!,$F52,#REF!,\"лично\")","v":{"$error":"#REF!"}}]
[33,"КМС","Юноши"," ",null,"Сокращенное название","М","Фамилия_1 Имя Отчество",{"$f":"COUNTIF(K53:AL53,\">=0\")-COUNTIF(K53:AL53,\"в\")-COUNTIF(K53:AL53,\"л\")","v":0},0,{"$nulls":37},{"$f":"SUMIFS(#REF!,#REF!,$C53,#REF!,$E53,#REF!,$F53)","v":{"$error":"#REF!"}},{"$f":"COUNTIFS(#REF!,$C53,#REF!,$E53,#REF!,$F53,#REF!,\">=0\")","v":{"$error":"#REF!"}},{"$f":"COUNTIFS(#REF!,$C53,#REF!,$E53,#REF!,$F53,#REF!,\"лично\")","v":{"$error":"#REF!"}}]
[34,"ЗМС","Юноши"," ",null,"Сокращенное название","М","Фамилия_1 Имя Отчество",0,0,{"$nulls":37},{"$f":"SUMIFS(#REF!,#REF!,$C54,#REF!,$E54,#REF!,$F54)","v":{"$error":"#REF!"}},{"$f":"COUNTIFS(#REF!,$C54,#REF!,$E54,#REF!,$F54,#REF!,\">=0\")","v":{"$error":"#REF!"}},{"$f":"COUNTIFS(#REF!,$C54,#REF!,$E54,#REF!,$F54,#REF!,\"лично\")","v":{"$error":"#REF!"}}]
[35,"МСМК","Юноши"," ",null,"Сокращенное название","М","Фамилия_1 Имя Отчество",0,0,{"$nulls":37},{"$f":"SUMIFS(#REF!,#REF!,$C55,#REF!,$E55,#REF!,$F55)","v":{"$error":"#REF!"}},{"$f":"COUNTIFS(#REF!,$C55,#REF!,$E55,#REF!,$F55,#REF!,\">=0\")","v":{"$error":"#REF!"}},{"$f":"COUNTIFS(#REF!,$C55,#REF!,$E55,#REF!,$F55,#REF!,\"лично\")","v":{"$error":"#REF!"}}]
[36,"МС","Юноши"," ",null,"Сокращенное название","М","Фамилия_1 Имя Отчество",0,0,{"$nulls":37},{"$f":"SUMIFS(#REF!,#REF!,$C56,#REF!,$E56,#REF!,$F56)","v":{"$error":"#REF!"}},{"$f":"COUNTIFS(#REF!,$C56,#REF!,$E56,#REF!,$F56,#REF!,\">=0\")","v":{"$error":"#REF!"}},{"$f":"COUNTIFS(#REF!,$C56,#REF!,$E56,#REF!,$F56,#REF!,\"лично\")","v":{"$error":"#REF!"}}]
[37,"КМС","Юноши"," ",null,"Сокращенное название","М","Фамилия_1 Имя Отчество",0,0,{"$nulls":37},{"$f":"SUMIFS(#REF!,#REF!,$C57,#REF!,$E57,#REF!,$F57)","v":{"$error":"#REF!"}},{"$f":"COUNTIFS(#REF!,$C57,#REF!,$E57,#REF!,$F57,#REF!,\">=0\")","v":{"$error":"#REF!"}},{"$f":"COUNTIFS(#REF!,$C57,#REF!,$E57,#REF!,$F57,#REF!,\"лично\")","v":{"$error":"#REF!"}}]
[38,"КМС","Юноши"," ",null,"Сокращенное название","М","Фамилия_1 Имя Отчество",0,0,{"$nulls":37},{"$f":"SUMIFS(#REF!,#REF!,$C58,#REF!,$E58,#REF!,$F58)","v":{"$error":"#REF!"}},{"$f":"COUNTIFS(#REF!,$C58,#REF!,$E58,#REF!,$F58,#REF!,\">=0\")","v":{"$error":"#REF!"}},{"$f":"COUNTIFS(#REF!,$C58,#REF!,$E58,#REF!,$F58,#REF!,\"лично\")","v":{"$error":"#REF!"}}]
[39,"КМС","Юноши"," ",null,"Сокращенное название","М","Фамилия_1 Имя Отчество",0,0,{"$nulls":37},{"$f":"SUMIFS(#REF!,#REF!,$C59,#REF!,$E59,#REF!,$F59)","v":{"$error":"#REF!"}},{"$f":"COUNTIFS(#REF!,$C59,#REF!,$E59,#REF!,$F59,#REF!,\">=0\")","v":{"$error":"#REF!"}},{"$f":"COUNTIFS(#REF!,$C59,#REF!,$E59,#REF!,$F59,#REF!,\"лично\")","v":{"$error":"#REF!"}}]
[40,"КМС","Юноши"," ",null,"Сокращенное название","М","Фамилия_1 Имя Отчество",0,0,{"$nulls":37},{"$f":"SUMIFS(#REF!,#REF!,$C60,#REF!,$E60,#REF!,$F60)","v":{"$error":"#REF!"}},{"$f":"COUNTIFS(#REF!,$C60,#REF!,$E60,#REF!,$F60,#REF!,\">=0\")","v":{"$error":"#REF!"}},{"$f":"COUNTIFS(#REF!,$C60,#REF!,$E60,#REF!,$F60,#REF!,\"лично\")","v":{"$error":"#REF!"}}]
[41,"КМС","Юноши"," ",null,"Сокращенное название","М","Фамилия_1 Имя Отчество",0,0,{"$nulls":37},{"$f":"SUMIFS(#REF!,#REF!,$C61,#REF!,$E61,#REF!,$F61)","v":{"$error":"#REF!"}},{"$f":"COUNTIFS(#REF!,$C61,#REF!,$E61,#REF!,$F61,#REF!,\">=0\")","v":{"$error":"#REF!"}},{"$f":"COUNTIFS(#REF!,$C61,#REF!,$E61,#REF!,$F61,#REF!,\"лично\")","v":{"$error":"#REF!"}}]
[42,"КМС","Юноши"," ",null,"Сокращенное название","М","Фамилия_1 Имя Отчество",0,0,{"$nulls":37},{"$f":"SUMIFS(#REF!,#REF!,$C62,#REF!,$E62,#REF!,$F62)","v":{"$error":"#REF!"}},{"$f":"COUNTIFS(#REF!,$C62,#REF!,$E62,#REF!,$F62,#REF!,\">=0\")","v":{"$error":"#REF!"}},{"$f":"COUNTIFS(#REF!,$C62,#REF!,$E62,#REF!,$F62,#REF!,\"лично\")","v":{"$error":"#REF!"}}]
[43,"КМС","Юноши"," ",null,"Сокращенное название","М","Фамилия_1 Имя Отчество",0,0,{"$nulls":37},{"$f":"SUMIFS(#REF!,#REF!,$C63,#REF!,$E63,#REF!,$F63)","v":{"$error":"#REF!"}},{"$f":"COUNTIFS(#REF!,$C63,#REF!,$E63,#REF!,$F63,#REF!,\">=0\")","v":{"$error":"#REF!"}},{"$f":"COUNTIFS(#REF!,$C63,#REF!,$E63,#REF!,$F63,#REF!,\"лично\")","v":{"$error":"#REF!"}}]
[44,"КМС","Юноши"," ",null,"Сокращенное название","М","Фамилия_1 Имя Отчество",0,0,{"$nulls":37},{"$f":"SUMIFS(#REF!,#REF!,$C64,#REF!,$E64,#REF!,$F64)","v":{"$error":"#REF!"}},{"$f":"COUNTIFS(#REF!,$C64,#REF!,$E64,#REF!,$F64,#REF!,\">=0\")","v":{"$error":"#REF!"}},{"$f":"COUNTIFS(#REF!,$C64,#REF!,$E64,#REF!,$F64,#REF!,\"лично\")","v":{"$error":"#REF!"}}]
[45,"II юн","Юноши"," ",null,"Сокращенное название","М","Фамилия_1 Имя Отчество",0,0,{"$nulls":37},{"$f":"SUMIFS(#REF!,#REF!,$C65,#REF!,$E65,#REF!,$F65)","v":{"$error":"#REF!"}},{"$f":"COUNTIFS(#REF!,$C65,#REF!,$E65,#REF!,$F65,#REF!,\">=0\")","v":{"$error":"#REF!"}},{"$f":"COUNTIFS(#REF!,$C65,#REF!,$E65,#REF!,$F65,#REF!,\"лично\")","v":{"$error":"#REF!"}}]
[46,"III юн","Юноши"," ",null,"Сокращенное название","М","Фамилия_1 Имя Отчество",0,0,{"$nulls":37},{"$f":"SUMIFS(#REF!,#REF!,$C66,#REF!,$E66,#REF!,$F66)","v":{"$error":"#REF!"}},{"$f":"COUNTIFS(#REF!,$C66,#REF!,$E66,#REF!,$F66,#REF!,\">=0\")","v":{"$error":"#REF!"}},{"$f":"COUNTIFS(#REF!,$C66,#REF!,$E66,#REF!,$F66,#REF!,\"лично\")","v":{"$error":"#REF!"}}]
[47,"I юн","Юноши"," ",null,"Сокращенное название","М","Фамилия_1 Имя Отчество",0,0,{"$nulls":37},{"$f":"SUMIFS(#REF!,#REF!,$C67,#REF!,$E67,#REF!,$F67)","v":{"$error":"#REF!"}},{"$f":"COUNTIFS(#REF!,$C67,#REF!,$E67,#REF!,$F67,#REF!,\">=0\")","v":{"$error":"#REF!"}},{"$f":"COUNTIFS(#REF!,$C67,#REF!,$E67,#REF!,$F67,#REF!,\"лично\")","v":{"$error":"#REF!"}}]
[48,"III","Юноши"," ",null,"Сокращенное название","М","Фамилия_1 Имя Отчество",0,0,{"$nulls":37},{"$f":"SUMIFS(#REF!,#REF!,$C68,#REF!,$E68,#REF!,$F68)","v":{"$error":"#REF!"}},{"$f":"COUNTIFS(#REF!,$C68,#REF!,$E68,#REF!,$F68,#REF!,\">=0\")","v":{"$error":"#REF!"}},{"$f":"COUNTIFS(#REF!,$C68,#REF!,$E68,#REF!,$F68,#REF!,\"лично\")","v":{"$error":"#REF!"}}]
[49,"I юн","Юноши"," ",null,"Сокращенное название","М","Фамилия_1 Имя Отчество",0,0,{"$nulls":37},{"$f":"SUMIFS(#REF!,#REF!,$C69,#REF!,$E69,#REF!,$F69)","v":{"$error":"#REF!"}},{"$f":"COUNTIFS(#REF!,$C69,#REF!,$E69,#REF!,$F69,#REF!,\">=0\")","v":{"$error":"#REF!"}},{"$f":"COUNTIFS(#REF!,$C69,#REF!,$E69,#REF!,$F69,#REF!,\"лично\")","v":{"$error":"#REF!"}}]
[50,"II юн","Юноши"," ",null,"Сокращенное название","М","Фамилия_1 Имя Отчество",0,0,{"$nulls":37},{"$f":"SUMIFS(#REF!,#REF!,$C70,#REF!,$E70,#REF!,$F70)","v":{"$error":"#REF!"}},{"$f":"COUNTIFS(#REF!,$C70,#REF!,$E70,#REF!,$F70,#REF!,\">=0\")","v":{"$error":"#REF!"}},{"$f":"COUNTIFS(#REF!,$C70,#REF!,$E70,#REF!,$F70,#REF!,\"лично\")","v":{"$error":"#REF!"}}]
[{"$nulls":6},"Итого дистанций:","женщины",{"$f":"SUMIF(G21:G70,\"Ж\",I21:I70)","v":0},{"$f":"SUMIF(G21:G70,\"Ж\",J21:J70)","v":0},{"$nulls":37},{"$f":"SUM(AV21:AV70)","v":{"$error":"#REF!"}},{"$f":"SUM(AW21:AW70)","v":{"$error":"#REF!"}},{"$f":"SUM(AX21:AX70)","v":{"$error":"#REF!"}}]
[{"$nulls":7},"мужчины",{"$f":"SUMIF(G21:G70,\"М\",I21:I70)","v":0},{"$f":"SUMIF(G21:G70,\"М\",J21:J70)","v":0}]
[{"$nulls":7},"выступают за команду женщины",{"$f":"COUNTIFS(I21:I70,\">0\",G21:G70,\"Ж\")","v":0}]
[{"$nulls":7},"выступают за команду мужчины",{"$f":"COUNTIFS(I21:I70,\">0\",G21:G70,\"М\")","v":0}]
[]
["Тренер-представитель",{"$nulls":3},"Фамилия_1 Имя Отчество"]
["Тренер-представитель",{"$nulls":3},"Фамилия_2 Имя Отчество"]
["Тренер-представитель",{"$nulls":3},"Фамилия_3 Имя Отчество"]
[]
[]
[null,"ПОРЯДОК ЗАПОЛНЕНИЯ"]
[null,"Заполни полное и краткое название клуба. Краткое название автоматически проставляется у каждого участника"]
[null,"При сохранении заявки в названии файла указать Название команды и(или) Фамилию тренера"]
[null,"При заполнении технической заявки автоматически будет заполняться Именная заявка. Будьте внимательны!"]
[null,"Перед началом работы очистите шаблон от ненужных результатов. Не очищать столбцы Команда, Пол, Тренер, Зачетов, Лично"]
[null,"1. Верхние строки до жирной разделительной линии предназначены для женского пола, нижние для мужского"]
[null,"2. Если не хватает строк у девушек или у юношей - выделить одну или несколько строк, в середине списка девушек или юношей, полностью, правая кнопка мыши- Вставить. После этого выделить ячейку со значением № п/п больше 1, установить курсор мыши на маленький черный квадратик в правом нижнем углу, выделенной ячейки, нажать левую кнопку мыши и потянуть вниз через пустые строки - нумерация должна продолжиться"]
[null,"3. Аналогичные действия произвести для стобцов Команда и Пол"]
[null,"4. Лишнее (например данный текст) удаляется тоже  путем выделения строк, правая кнопка мыши - Удалить"]
[null,"5. Если  участник плывет дистанцию лично - столбце Зачет для этой дистанции  - ставится буква Л, если вне конкурса - буква В. Ячейки окрасятся в желтый и синий цвет соответственно."]
[null,"6. В случае если участник моложе или старше годов рождения, указанных в Положении о соревнованиях, имеет подготовку ниже разряда указанного в Положении о соревнованиях - соответствующая ячейка выделяется красным цветом"]
[null,"7. В случае превышения суммарного количества дистанций на одного участника, количества дистанций  в командном зачете - ячейки с количеством зачетов (или дистанций лично) выделяется красным цветом."]
[null,"8. В случае превышения суммарного количества участников, выступающих за команду  - ячейки с количеством выступающих за команду участников выделяются красным цветом."]
[null,"ВНИМАНИЕ!! Предварительное время проставляется в формате ччммсс,дс. Т.е. вводится только запятая перед десятыми. "]
[null,"Незначащие нули вначале игнорируются. В случае неправильного ввода (ввод точек, лишних запятых, некорректных значений) ячейка выделяется красным цветом."]
[null,"Например, для ввода 16,56 - нужно набрать 16,56, для ввода 1.34,60 - нужно набрать 134,6, для ввода 15.28,00 - достаточно 1528, для ввода 1:23.15,56 - 12315,56"]
[4,"Спортсменам, выступающим в эстафете, проставляется предварительное время команды и номер этапа"]
[null,"Разряды  и звания   проставляются в соответствии с  ЕВСК"]
[]
[null,"Для распечатки, можно скрыть столбцы Звание, Название клуба, Пол, Тренер, выделить необходимые ячейки. В диалоге Печать  выбрать Вывод  на печать  - Выделенный диапазон"]

{"sheet":"Именная заявка один зачет","index":9,"n_rows":74,"n_cols":11,"rows_kept":74,"merged":[[0,7,1,10],[2,0,2,10],[3,3,3,10],[4,3,4,10],[5,3,5,8],[7,1,7,3],[7,8,7,9],[8,8,8,9],[9,8,9,9],[10,8,10,9],[11,8,11,9],[12,8,12,9],[13,8,13,9],[14,8,14,9],[15,8,15,9],[16,8,16,9],[17,8,17,9],[18,8,18,9],[19,8,19,9],[20,8,20,9],[21,8,21,9],[22,8,22,9],[23,8,23,9],[24,8,24,9],[25,8,25,9],[26,8,26,9],[27,8,27,9],[28,8,28,9],[29,8,29,9],[30,8,30,9],[31,8,31,9],[32,8,32,9],[33,8,33,9],[34,8,34,9],[35,8,35,9],[36,8,36,9],[37,8,37,9],[38,8,38,9],[39,8,39,9],[40,8,40,9],[41,8,41,9],[42,8,42,9],[43,8,43,9],[44,8,44,9],[45,8,45,9],[46,8,46,9],[47,8,47,9],[48,8,48,9],[49,8,49,9],[50,8,50,9],[51,8,51,9],[52,8,52,9],[53,8,53,9],[54,8,54,9],[55,8,55,9],[56,8,56,9],[57,8,57,9],[59,7,59,10],[60,7,60,10],[61,7,61,10],[63,7,63,10],[66,9,66,10],[69,0,69,3],[69,8,69,10],[72,0,72,3],[72,8,72,10]]}
[{"$nulls":7},"Приложение № 2 \nк Положению о межрегиональных и всероссийских официальных спортивных соревнованиях по подводному спорту"]
[]
["ЗАЯВКА"]
[null,null,"От команды",{"$f":"'Техническая один зачет'!E15","v":"Полное Название команды, город (край, область и пр.)"}]
[null,null,"на участие в соревнованиях",{"$f":"'Техническая один зачет'!G17","v":"Название Соревнований по подводному спорту (1460008511Я) (плавание в ластах)"}]
[null,null,"проводимых в",{"$f":"'Техническая один зачет'!U10","v":"г. Город, бассейн \"ААА\", 50 м"},{"$nulls":5},"в период",{"$f":"'Техническая один зачет'!U12","v":"02-06 февраля 2015 г."}]
[]
["№ п/п","Фамилия, имя, отчество участника",null,null,"Дата рождения","Статус","Возраст-ная группа","Спортивный разряд, звание","Тренер",null,"Допуск врача"]
[1,{"$f":"'Техническая один зачет'!C21","v":"Девушки"},null,{"$f":"'Техническая один зачет'!D21","v":" "},{"$f":"'Техническая один зачет'!E21","v":"2003-01-01"},{"$f":"IF('Техническая один зачет'!G21=\"Ж\",\"спортсменка\",IF('Техническая один зачет'!G21=\"М\",\"спортсмен\",\"не понятно кто\"))","v":"спортсменка"},null,{"$f":"'Техническая один зачет'!B21","v":"I"},{"$f":"'Техническая один зачет'!H21","v":"Фамилия_1 Имя Отчество"}]
[2,{"$f":"'Техническая один зачет'!C22","v":"Девушки"},null,{"$f":"'Техническая один зачет'!D22","v":" "},{"$f":"'Техническая один зачет'!E22","v":"00:00:00"},{"$f":"IF('Техническая один зачет'!G22=\"Ж\",\"спортсменка\",IF('Техническая один зачет'!G22=\"М\",\"спортсмен\",\"не понятно кто\"))","v":"спортсменка"},null,{"$f":"'Техническая один зачет'!B22","v":"I"},{"$f":"'Техническая один зачет'!H22","v":"Фамилия_1 Имя Отчество"}]
[3,{"$f":"'Техническая один зачет'!C23","v":"Девушки"},null,{"$f":"'Техническая один зачет'!D23","v":" "},{"$f":"'Техническая один зачет'!E23","v":"00:00:00"},{"$f":"IF('Техническая один зачет'!G23=\"Ж\",\"спортсменка\",IF('Техническая один зачет'!G23=\"М\",\"спортсмен\",\"не понятно кто\"))","v":"спортсменка"},null,{"$f":"'Техническая один зачет'!B23","v":"ЗМС"},{"$f":"'Техническая один зачет'!H23","v":"Фамилия_1 Имя Отчество"}]
[4,{"$f":"'Техническая один зачет'!C24","v":"Девушки"},null,{"$f":"'Техническая один зачет'!D24","v":" "},{"$f":"'Техническая один зачет'!E24","v":"00:00:00"},{"$f":"IF('Техническая один зачет'!G24=\"Ж\",\"спортсменка\",IF('Техническая один зачет'!G24=\"М\",\"спортсмен\",\"не понятно кто\"))","v":"спортсменка"},null,{"$f":"'Техническая один зачет'!B24","v":"МСМК"},{"$f":"'Техническая один зачет'!H24","v":"Фамилия_1 Имя Отчество"}]
[5,{"$f":"'Техническая один зачет'!C25","v":"Девушки"},null,{"$f":"'Техническая один зачет'!D25","v":" "},{"$f":"'Техническая один зачет'!E25","v":"00:00:00"},{"$f":"IF('Техническая один зачет'!G25=\"Ж\",\"спортсменка\",IF('Техническая один зачет'!G25=\"М\",\"спортсмен\",\"не понятно кто\"))","v":"спортсменка"},null,{"$f":"'Техническая один зачет'!B25","v":"МС"},{"$f":"'Техническая один зачет'!H25","v":"Фамилия_1 Имя Отчество"}]
[6,{"$f":"'Техническая один зачет'!C26","v":"Девушки"},null,{"$f":"'Техническая один зачет'!D26","v":" "},{"$f":"'Техническая один зачет'!E26","v":"00:00:00"},{"$f":"IF('Техническая один зачет'!G26=\"Ж\",\"спортсменка\",IF('Техническая один зачет'!G26=\"М\",\"спортсмен\",\"не понятно кто\"))","v":"спортсменка"},null,{"$f":"'Техническая один зачет'!B26","v":"КМС"},{"$f":"'Техническая один зачет'!H26","v":"Фамилия_1 Имя Отчество"}]
[7,{"$f":"'Техническая один зачет'!C27","v":"Девушки"},null,{"$f":"'Техническая один зачет'!D27","v":" "},{"$f":"'Техническая один зачет'!E27","v":"00:00:00"},{"$f":"IF('Техническая один зачет'!G27=\"Ж\",\"спортсменка\",IF('Техническая один зачет'!G27=\"М\",\"спортсмен\",\"не понятно кто\"))","v":"спортсменка"},null,{"$f":"'Техническая один зачет'!B27","v":"I"},{"$f":"'Техническая один зачет'!H27","v":"Фамилия_1 Имя Отчество"}]
[8,{"$f":"'Техническая один зачет'!C28","v":"Девушки"},null,{"$f":"'Техническая один зачет'!D28","v":" "},{"$f":"'Техническая один зачет'!E28","v":"00:00:00"},{"$f":"IF('Техническая один зачет'!G28=\"Ж\",\"спортсменка\",IF('Техническая один зачет'!G28=\"М\",\"спортсмен\",\"не понятно кто\"))","v":"спортсменка"},null,{"$f":"'Техническая один зачет'!B28","v":"I"},{"$f":"'Техническая один зачет'!H28","v":"Фамилия_1 Имя Отчество"}]
[9,{"$f":"'Техническая один зачет'!C29","v":"Девушки"},null,{"$f":"'Техническая один зачет'!D29","v":" "},{"$f":"'Техническая один зачет'!E29","v":"00:00:00"},{"$f":"IF('Техническая один зачет'!G29=\"Ж\",\"спортсменка\",IF('Техническая один зачет'!G29=\"М\",\"спортсмен\",\"не понятно кто\"))","v":"спортсменка"},null,{"$f":"'Техническая один зачет'!B29","v":"III"},{"$f":"'Техническая один зачет'!H29","v":"Фамилия_1 Имя Отчество"}]
[10,{"$f":"'Техническая один зачет'!C30","v":"Девушки"},null,{"$f":"'Техническая один зачет'!D30","v":" "},{"$f":"'Техническая один зачет'!E30","v":"00:00:00"},{"$f":"IF('Техническая один зачет'!G30=\"Ж\",\"спортсменка\",IF('Техническая один зачет'!G30=\"М\",\"спортсмен\",\"не понятно кто\"))","v":"спортсменка"},null,{"$f":"'Техническая один зачет'!B30","v":"I"},{"$f":"'Техническая один зачет'!H30","v":"Фамилия_1 Имя Отчество"}]
[11,{"$f":"'Техническая один зачет'!C31","v":"Девушки"},null,{"$f":"'Техническая один зачет'!D31","v":" "},{"$f":"'Техническая один зачет'!E31","v":"00:00:00"},{"$f":"IF('Техническая один зачет'!G31=\"Ж\",\"спортсменка\",IF('Техническая один зачет'!G31=\"М\",\"спортсмен\",\"не понятно кто\"))","v":"спортсменка"},null,{"$f":"'Техническая один зачет'!B31","v":"I юн"},{"$f":"'Техническая один зачет'!H31","v":"Фамилия_1 Имя Отчество"}]
[12,{"$f":"'Техническая один зачет'!C32","v":"Девушки"},null,{"$f":"'Техническая один зачет'!D32","v":" "},{"$f":"'Техническая один зачет'!E32","v":"00:00:00"},{"$f":"IF('Техническая один зачет'!G32=\"Ж\",\"спортсменка\",IF('Техническая один зачет'!G32=\"М\",\"спортсмен\",\"не понятно кто\"))","v":"спортсменка"},null,{"$f":"'Техническая один зачет'!B32","v":"КМС"},{"$f":"'Техническая один зачет'!H32","v":"Фамилия_1 Имя Отчество"}]
[13,{"$f":"'Техническая один зачет'!C33","v":"Девушки"},null,{"$f":"'Техническая один зачет'!D33","v":" "},{"$f":"'Техническая один зачет'!E33","v":"00:00:00"},{"$f":"IF('Техническая один зачет'!G33=\"Ж\",\"спортсменка\",IF('Техническая один зачет'!G33=\"М\",\"спортсмен\",\"не понятно кто\"))","v":"спортсменка"},null,{"$f":"'Техническая один зачет'!B33","v":"I"},{"$f":"'Техническая один зачет'!H33","v":"Фамилия_1 Имя Отчество"}]
[14,{"$f":"'Техническая один зачет'!C34","v":"Девушки"},null,{"$f":"'Техническая один зачет'!D34","v":" "},{"$f":"'Техническая один зачет'!E34","v":"00:00:00"},{"$f":"IF('Техническая один зачет'!G34=\"Ж\",\"спортсменка\",IF('Техническая один зачет'!G34=\"М\",\"спортсмен\",\"не понятно кто\"))","v":"спортсменка"},null,{"$f":"'Техническая один зачет'!B34","v":"I"},{"$f":"'Техническая один зачет'!H34","v":"Фамилия_1 Имя Отчество"}]
[15,{"$f":"'Техническая один зачет'!C35","v":"Девушки"},null,{"$f":"'Техническая один зачет'!D35","v":" "},{"$f":"'Техническая один зачет'!E35","v":"00:00:00"},{"$f":"IF('Техническая один зачет'!G35=\"Ж\",\"спортсменка\",IF('Техническая один зачет'!G35=\"М\",\"спортсмен\",\"не понятно кто\"))","v":"спортсменка"},null,{"$f":"'Техническая один зачет'!B35","v":"I"},{"$f":"'Техническая один зачет'!H35","v":"Фамилия_1 Имя Отчество"}]
[16,{"$f":"'Техническая один зачет'!C36","v":"Девушки"},null,{"$f":"'Техническая один зачет'!D36","v":" "},{"$f":"'Техническая один зачет'!E36","v":"00:00:00"},{"$f":"IF('Техническая один зачет'!G36=\"Ж\",\"спортсменка\",IF('Техническая один зачет'!G36=\"М\",\"спортсмен\",\"не понятно кто\"))","v":"спортсменка"},null,{"$f":"'Техническая один зачет'!B36","v":"I"},{"$f":"'Техническая один зачет'!H36","v":"Фамилия_1 Имя Отчество"}]
[17,{"$f":"'Техническая один зачет'!C37","v":"Девушки"},null,{"$f":"'Техническая один зачет'!D37","v":" "},{"$f":"'Техническая один зачет'!E37","v":"00:00:00"},{"$f":"IF('Техническая один зачет'!G37=\"Ж\",\"спортсменка\",IF('Техническая один зачет'!G37=\"М\",\"спортсмен\",\"не понятно кто\"))","v":"спортсменка"},null,{"$f":"'Техническая один зачет'!B37","v":"I юн"},{"$f":"'Техническая один зачет'!H37","v":"Фамилия_1 Имя Отчество"}]
[18,{"$f":"'Техническая один зачет'!C38","v":"Девушки"},null,{"$f":"'Техническая один зачет'!D38","v":" "},{"$f":"'Техническая один зачет'!E38","v":"00:00:00"},{"$f":"IF('Техническая один зачет'!G38=\"Ж\",\"спортсменка\",IF('Техническая один зачет'!G38=\"М\",\"спортсмен\",\"не понятно кто\"))","v":"спортсменка"},null,{"$f":"'Техническая один зачет'!B38","v":"II юн"},{"$f":"'Техническая один зачет'!H38","v":"Фамилия_1 Имя Отчество"}]
[19,{"$f":"'Техническая один зачет'!C39","v":"Девушки"},null,{"$f":"'Техническая один зачет'!D39","v":" "},{"$f":"'Техническая один зачет'!E39","v":"00:00:00"},{"$f":"IF('Техническая один зачет'!G39=\"Ж\",\"спортсменка\",IF('Техническая один зачет'!G39=\"М\",\"спортсмен\",\"не понятно кто\"))","v":"спортсменка"},null,{"$f":"'Техническая один зачет'!B39","v":"III юн"},{"$f":"'Техническая один зачет'!H39","v":"Фамилия_1 Имя Отчество"}]
[20,{"$f":"'Техническая один зачет'!C40","v":"Девушки"},null,{"$f":"'Техническая один зачет'!D40","v":" "},{"$f":"'Техническая один зачет'!E40","v":"00:00:00"},{"$f":"IF('Техническая один зачет'!G40=\"Ж\",\"спортсменка\",IF('Техническая один зачет'!G40=\"М\",\"спортсмен\",\"не понятно кто\"))","v":"спортсменка"},null,{"$f":"'Техническая один зачет'!B40","v":"МСМК"},{"$f":"'Техническая один зачет'!H40","v":"Фамилия_1 Имя Отчество"}]
[21,{"$f":"'Техническая один зачет'!C41","v":"Девушки"},null,{"$f":"'Техническая один зачет'!D41","v":" "},{"$f":"'Техническая один зачет'!E41","v":"00:00:00"},{"$f":"IF('Техническая один зачет'!G41=\"Ж\",\"спортсменка\",IF('Техническая один зачет'!G41=\"М\",\"спортсмен\",\"не понятно кто\"))","v":"спортсменка"},null,{"$f":"'Техническая один зачет'!B41","v":"МС"},{"$f":"'Техническая один зачет'!H41","v":"Фамилия_1 Имя Отчество"}]
[22,{"$f":"'Техническая один зачет'!C42","v":"Девушки"},null,{"$f":"'Техническая один зачет'!D42","v":" "},{"$f":"'Техническая один зачет'!E42","v":"00:00:00"},{"$f":"IF('Техническая один зачет'!G42=\"Ж\",\"спортсменка\",IF('Техническая один зачет'!G42=\"М\",\"спортсмен\",\"не понятно кто\"))","v":"спортсменка"},null,{"$f":"'Техническая один зачет'!B42","v":"I"},{"$f":"'Техническая один зачет'!H42","v":"Фамилия_1 Имя Отчество"}]
[23,{"$f":"'Техническая один зачет'!C43","v":"Девушки"},null,{"$f":"'Техническая один зачет'!D43","v":" "},{"$f":"'Техническая один зачет'!E43","v":"00:00:00"},{"$f":"IF('Техническая один зачет'!G43=\"Ж\",\"спортсменка\",IF('Техническая один зачет'!G43=\"М\",\"спортсмен\",\"не понятно кто\"))","v":"спортсменка"},null,{"$f":"'Техническая один зачет'!B43","v":"МС"},{"$f":"'Техническая один зачет'!H43","v":"Фамилия_1 Имя Отчество"}]
[24,{"$f":"'Техническая один зачет'!C44","v":"Девушки"},null,{"$f":"'Техническая один зачет'!D44","v":" "},{"$f":"'Техническая один зачет'!E44","v":"00:00:00"},{"$f":"IF('Техническая один зачет'!G44=\"Ж\",\"спортсменка\",IF('Техническая один зачет'!G44=\"М\",\"спортсмен\",\"не понятно кто\"))","v":"спортсменка"},null,{"$f":"'Техническая один зачет'!B44","v":"I"},{"$f":"'Техническая один зачет'!H44","v":"Фамилия_1 Имя Отчество"}]
[25,{"$f":"'Техническая один зачет'!C45","v":"Девушки"},null,{"$f":"'Техническая один зачет'!D45","v":" "},{"$f":"'Техническая один зачет'!E45","v":"00:00:00"},{"$f":"IF('Техническая один зачет'!G45=\"Ж\",\"спортсменка\",IF('Техническая один зачет'!G45=\"М\",\"спортсмен\",\"не понятно кто\"))","v":"спортсменка"},null,{"$f":"'Техническая один зачет'!B45","v":"II"},{"$f":"'Техническая один зачет'!H45","v":"Фамилия_1 Имя Отчество"}]
[26,{"$f":"'Техническая один зачет'!C46","v":"Юноши"},null,{"$f":"'Техническая один зачет'!D46","v":" "},{"$f":"'Техническая один зачет'!E46","v":"00:00:00"},{"$f":"IF('Техническая один зачет'!G46=\"Ж\",\"спортсменка\",IF('Техническая один зачет'!G46=\"М\",\"спортсмен\",\"не понятно кто\"))","v":"спортсмен"},null,{"$f":"'Техническая один зачет'!B46","v":"III юн"},{"$f":"'Техническая один зачет'!H46","v":"Фамилия_1 Имя Отчество"}]
[27,{"$f":"'Техническая один зачет'!C47","v":"Юноши"},null,{"$f":"'Техническая один зачет'!D47","v":" "},{"$f":"'Техническая один зачет'!E47","v":"00:00:00"},{"$f":"IF('Техническая один зачет'!G47=\"Ж\",\"спортсменка\",IF('Техническая один зачет'!G47=\"М\",\"спортсмен\",\"не понятно кто\"))","v":"спортсмен"},null,{"$f":"'Техническая один зачет'!B47","v":"II"},{"$f":"'Техническая один зачет'!H47","v":"Фамилия_1 Имя Отчество"}]
[28,{"$f":"'Техническая один зачет'!C48","v":"Юноши"},null,{"$f":"'Техническая один зачет'!D48","v":" "},{"$f":"'Техническая один зачет'!E48","v":"00:00:00"},{"$f":"IF('Техническая один зачет'!G48=\"Ж\",\"спортсменка\",IF('Техническая один зачет'!G48=\"М\",\"спортсмен\",\"не понятно кто\"))","v":"спортсмен"},null,{"$f":"'Техническая один зачет'!B48","v":"ЗМС"},{"$f":"'Техническая один зачет'!H48","v":"Фамилия_1 Имя Отчество"}]
[29,{"$f":"'Техническая один зачет'!C49","v":"Юноши"},null,{"$f":"'Техническая один зачет'!D49","v":" "},{"$f":"'Техническая один зачет'!E49","v":"00:00:00"},{"$f":"IF('Техническая один зачет'!G49=\"Ж\",\"спортсменка\",IF('Техническая один зачет'!G49=\"М\",\"спортсмен\",\"не понятно кто\"))","v":"спортсмен"},null,{"$f":"'Техническая один зачет'!B49","v":"МСМК"},{"$f":"'Техническая один зачет'!H49","v":"Фамилия_1 Имя Отчество"}]
[30,{"$f":"'Техническая один зачет'!C50","v":"Юноши"},null,{"$f":"'Техническая один зачет'!D50","v":" "},{"$f":"'Техническая один зачет'!E50","v":"00:00:00"},{"$f":"IF('Техническая один зачет'!G50=\"Ж\",\"спортсменка\",IF('Техническая один зачет'!G50=\"М\",\"спортсмен\",\"не понятно кто\"))","v":"спортсмен"},null,{"$f":"'Техническая один зачет'!B50","v":"МС"},{"$f":"'Техническая один зачет'!H50","v":"Фамилия_1 Имя Отчество"}]
[31,{"$f":"'Техническая один зачет'!C51","v":"Юноши"},null,{"$f":"'Техническая один зачет'!D51","v":" "},{"$f":"'Техническая один зачет'!E51","v":"00:00:00"},{"$f":"IF('Техническая один зачет'!G51=\"Ж\",\"спортсменка\",IF('Техническая один зачет'!G51=\"М\",\"спортсмен\",\"не понятно кто\"))","v":"спортсмен"},null,{"$f":"'Техническая один зачет'!B51","v":"КМС"},{"$f":"'Техническая один зачет'!H51","v":"Фамилия_1 Имя Отчество"}]
[32,{"$f":"'Техническая один зачет'!C52","v":"Юноши"},null,{"$f":"'Техническая один зачет'!D52","v":" "},{"$f":"'Техническая один зачет'!E52","v":"00:00:00"},{"$f":"IF('Техническая один зачет'!G52=\"Ж\",\"спортсменка\",IF('Техническая один зачет'!G52=\"М\",\"спортсмен\",\"не понятно кто\"))","v":"спортсмен"},null,{"$f":"'Техническая один зачет'!B52","v":"КМС"},{"$f":"'Техническая один зачет'!H52","v":"Фамилия_1 Имя Отчество"}]
[33,{"$f":"'Техническая один зачет'!C53","v":"Юноши"},null,{"$f":"'Техническая один зачет'!D53","v":" "},{"$f":"'Техническая один зачет'!E53","v":"00:00:00"},{"$f":"IF('Техническая один зачет'!G53=\"Ж\",\"спортсменка\",IF('Техническая один зачет'!G53=\"М\",\"спортсмен\",\"не понятно кто\"))","v":"спортсмен"},null,{"$f":"'Техническая один зачет'!B53","v":"КМС"},{"$f":"'Техническая один зачет'!H53","v":"Фамилия_1 Имя Отчество"}]
[34,{"$f":"'Техническая один зачет'!C54","v":"Юноши"},null,{"$f":"'Техническая один зачет'!D54","v":" "},{"$f":"'Техническая один зачет'!E54","v":"00:00:00"},{"$f":"IF('Техническая один зачет'!G54=\"Ж\",\"спортсменка\",IF('Техническая один зачет'!G54=\"М\",\"спортсмен\",\"не понятно кто\"))","v":"спортсмен"},null,{"$f":"'Техническая один зачет'!B54","v":"ЗМС"},{"$f":"'Техническая один зачет'!H54","v":"Фамилия_1 Имя Отчество"}]
[35,{"$f":"'Техническая один зачет'!C55","v":"Юноши"},null,{"$f":"'Техническая один зачет'!D55","v":" "},{"$f":"'Техническая один зачет'!E55","v":"00:00:00"},{"$f":"IF('Техническая один зачет'!G55=\"Ж\",\"спортсменка\",IF('Техническая один зачет'!G55=\"М\",\"спортсмен\",\"не понятно кто\"))","v":"спортсмен"},null,{"$f":"'Техническая один зачет'!B55","v":"МСМК"},{"$f":"'Техническая один зачет'!H55","v":"Фамилия_1 Имя Отчество"}]
[36,{"$f":"'Техническая один зачет'!C56","v":"Юноши"},null,{"$f":"'Техническая один зачет'!D56","v":" "},{"$f":"'Техническая один зачет'!E56","v":"00:00:00"},{"$f":"IF('Техническая один зачет'!G56=\"Ж\",\"спортсменка\",IF('Техническая один зачет'!G56=\"М\",\"спортсмен\",\"не понятно кто\"))","v":"спортсмен"},null,{"$f":"'Техническая один зачет'!B56","v":"МС"},{"$f":"'Техническая один зачет'!H56","v":"Фамилия_1 Имя Отчество"}]
[37,{"$f":"'Техническая один зачет'!C57","v":"Юноши"},null,{"$f":"'Техническая один зачет'!D57","v":" "},{"$f":"'Техническая один зачет'!E57","v":"00:00:00"},{"$f":"IF('Техническая один зачет'!G57=\"Ж\",\"спортсменка\",IF('Техническая один зачет'!G57=\"М\",\"спортсмен\",\"не понятно кто\"))","v":"спортсмен"},null,{"$f":"'Техническая один зачет'!B57","v":"КМС"},{"$f":"'Техническая один зачет'!H57","v":"Фамилия_1 Имя Отчество"}]
[38,{"$f":"'Техническая один зачет'!C58","v":"Юноши"},null,{"$f":"'Техническая один зачет'!D58","v":" "},{"$f":"'Техническая один зачет'!E58","v":"00:00:00"},{"$f":"IF('Техническая один зачет'!G58=\"Ж\",\"спортсменка\",IF('Техническая один зачет'!G58=\"М\",\"спортсмен\",\"не понятно кто\"))","v":"спортсмен"},null,{"$f":"'Техническая один зачет'!B58","v":"КМС"},{"$f":"'Техническая один зачет'!H58","v":"Фамилия_1 Имя Отчество"}]
[39,{"$f":"'Техническая один зачет'!C59","v":"Юноши"},null,{"$f":"'Техническая один зачет'!D59","v":" "},{"$f":"'Техническая один зачет'!E59","v":"00:00:00"},{"$f":"IF('Техническая один зачет'!G59=\"Ж\",\"спортсменка\",IF('Техническая один зачет'!G59=\"М\",\"спортсмен\",\"не понятно кто\"))","v":"спортсмен"},null,{"$f":"'Техническая один зачет'!B59","v":"КМС"},{"$f":"'Техническая один зачет'!H59","v":"Фамилия_1 Имя Отчество"}]
[40,{"$f":"'Техническая один зачет'!C60","v":"Юноши"},null,{"$f":"'Техническая один зачет'!D60","v":" "},{"$f":"'Техническая один зачет'!E60","v":"00:00:00"},{"$f":"IF('Техническая один зачет'!G60=\"Ж\",\"спортсменка\",IF('Техническая один зачет'!G60=\"М\",\"спортсмен\",\"не понятно кто\"))","v":"спортсмен"},null,{"$f":"'Техническая один зачет'!B60","v":"КМС"},{"$f":"'Техническая один зачет'!H60","v":"Фамилия_1 Имя Отчество"}]
[41,{"$f":"'Техническая один зачет'!C61","v":"Юноши"},null,{"$f":"'Техническая один зачет'!D61","v":" "},{"$f":"'Техническая один зачет'!E61","v":"00:00:00"},{"$f":"IF('Техническая один зачет'!G61=\"Ж\",\"спортсменка\",IF('Техническая один зачет'!G61=\"М\",\"спортсмен\",\"не понятно кто\"))","v":"спортсмен"},null,{"$f":"'Техническая один зачет'!B61","v":"КМС"},{"$f":"'Техническая один зачет'!H61","v":"Фамилия_1 Имя Отчество"}]
[42,{"$f":"'Техническая один зачет'!C62","v":"Юноши"},null,{"$f":"'Техническая один зачет'!D62","v":" "},{"$f":"'Техническая один зачет'!E62","v":"00:00:00"},{"$f":"IF('Техническая один зачет'!G62=\"Ж\",\"спортсменка\",IF('Техническая один зачет'!G62=\"М\",\"спортсмен\",\"не понятно кто\"))","v":"спортсмен"},null,{"$f":"'Техническая один зачет'!B62","v":"КМС"},{"$f":"'Техническая один зачет'!H62","v":"Фамилия_1 Имя Отчество"}]
[43,{"$f":"'Техническая один зачет'!C63","v":"Юноши"},null,{"$f":"'Техническая один зачет'!D63","v":" "},{"$f":"'Техническая один зачет'!E63","v":"00:00:00"},{"$f":"IF('Техническая один зачет'!G63=\"Ж\",\"спортсменка\",IF('Техническая один зачет'!G63=\"М\",\"спортсмен\",\"не понятно кто\"))","v":"спортсмен"},null,{"$f":"'Техническая один зачет'!B63","v":"КМС"},{"$f":"'Техническая один зачет'!H63","v":"Фамилия_1 Имя Отчество"}]
[44,{"$f":"'Техническая один зачет'!C64","v":"Юноши"},null,{"$f":"'Техническая один зачет'!D64","v":" "},{"$f":"'Техническая один зачет'!E64","v":"00:00:00"},{"$f":"IF('Техническая один зачет'!G64=\"Ж\",\"спортсменка\",IF('Техническая один зачет'!G64=\"М\",\"спортсмен\",\"не понятно кто\"))","v":"спортсмен"},null,{"$f":"'Техническая один зачет'!B64","v":"КМС"},{"$f":"'Техническая один зачет'!H64","v":"Фамилия_1 Имя Отчество"}]
[45,{"$f":"'Техническая один зачет'!C65","v":"Юноши"},null,{"$f":"'Техническая один зачет'!D65","v":" "},{"$f":"'Техническая один зачет'!E65","v":"00:00:00"},{"$f":"IF('Техническая один зачет'!G65=\"Ж\",\"спортсменка\",IF('Техническая один зачет'!G65=\"М\",\"спортсмен\",\"не понятно кто\"))","v":"спортсмен"},null,{"$f":"'Техническая один зачет'!B65","v":"II юн"},{"$f":"'Техническая один зачет'!H65","v":"Фамилия_1 Имя Отчество"}]
[46,{"$f":"'Техническая один зачет'!C66","v":"Юноши"},null,{"$f":"'Техническая один зачет'!D66","v":" "},{"$f":"'Техническая один зачет'!E66","v":"00:00:00"},{"$f":"IF('Техническая один зачет'!G66=\"Ж\",\"спортсменка\",IF('Техническая один зачет'!G66=\"М\",\"спортсмен\",\"не понятно кто\"))","v":"спортсмен"},null,{"$f":"'Техническая один зачет'!B66","v":"III юн"},{"$f":"'Техническая один зачет'!H66","v":"Фамилия_1 Имя Отчество"}]
[47,{"$f":"'Техническая один зачет'!C67","v":"Юноши"},null,{"$f":"'Техническая один зачет'!D67","v":" "},{"$f":"'Техническая один зачет'!E67","v":"00:00:00"},{"$f":"IF('Техническая один зачет'!G67=\"Ж\",\"спортсменка\",IF('Техническая один зачет'!G67=\"М\",\"спортсмен\",\"не понятно кто\"))","v":"спортсмен"},null,{"$f":"'Техническая один зачет'!B67","v":"I юн"},{"$f":"'Техническая один зачет'!H67","v":"Фамилия_1 Имя Отчество"}]
[48,{"$f":"'Техническая один зачет'!C68","v":"Юноши"},null,{"$f":"'Техническая один зачет'!D68","v":" "},{"$f":"'Техническая один зачет'!E68","v":"00:00:00"},{"$f":"IF('Техническая один зачет'!G68=\"Ж\",\"спортсменка\",IF('Техническая один зачет'!G68=\"М\",\"спортсмен\",\"не понятно кто\"))","v":"спортсмен"},null,{"$f":"'Техническая один зачет'!B68","v":"III"},{"$f":"'Техническая один зачет'!H68","v":"Фамилия_1 Имя Отчество"}]
[49,{"$f":"'Техническая один зачет'!C69","v":"Юноши"},null,{"$f":"'Техническая один зачет'!D69","v":" "},{"$f":"'Техническая один зачет'!E69","v":"00:00:00"},{"$f":"IF('Техническая один зачет'!G69=\"Ж\",\"спортсменка\",IF('Техническая один зачет'!G69=\"М\",\"спортсмен\",\"не понятно кто\"))","v":"спортсмен"},null,{"$f":"'Техническая один зачет'!B69","v":"I юн"},{"$f":"'Техническая один зачет'!H69","v":"Фамилия_1 Имя Отчество"}]
[50,{"$f":"'Техническая один зачет'!C70","v":"Юноши"},null,{"$f":"'Техническая один зачет'!D70","v":" "},{"$f":"'Техническая один зачет'!E70","v":"00:00:00"},{"$f":"IF('Техническая один зачет'!G70=\"Ж\",\"спортсменка\",IF('Техническая один зачет'!G70=\"М\",\"спортсмен\",\"не понятно кто\"))","v":"спортсмен"},null,{"$f":"'Техническая один зачет'!B70","v":"II юн"},{"$f":"'Техническая один зачет'!H70","v":"Фамилия_1 Имя Отчество"}]
[]
[null,null,"Тренеры:",{"$f":"'Техническая один зачет'!E76","v":"Фамилия_1 Имя Отчество"},null,null,"Судьи:"]
[{"$nulls":3},{"$f":"'Техническая один зачет'!E77","v":"Фамилия_2 Имя Отчество"}]
[{"$nulls":3},{"$f":"'Техническая один зачет'!E78","v":"Фамилия_3 Имя Отчество"}]
[]
[{"$nulls":3},"Представитель команды",{"$nulls":3},{"$f":"'Техническая один зачет'!E76","v":"Фамилия_1 Имя Отчество"}]
[{"$nulls":5},"подпись",{"$nulls":3},"расшифровка подписи"]
[]
["К соревнованиям допущено",{"$nulls":4},"спортсменов. ","Врач"]
[{"$nulls":8},"подпись",null,"расшифровка подписи"]
[]
["Министр спорта Региона (председатель спорткомитета, директор ДЮСТШ)"]
[{"$nulls":5},"подпись",{"$nulls":3},"расшифровка подписи"]
[]
["Председатель Федерации Подводного Спорта Региона"]
[{"$nulls":5},"подпись",{"$nulls":3},"расшифровка подписи"]

{"sheet":"Техническая по возраст группам","index":10,"n_rows":97,"n_cols":49,"rows_kept":97,"merged":[[0,0,0,13],[0,15,0,32],[1,15,1,18],[1,19,2,21],[1,22,2,32],[3,19,4,21],[3,22,4,32],[8,1,9,30],[11,1,12,30],[13,0,13,31],[18,0,19,0],[18,1,19,1],[18,2,19,3],[18,4,19,4],[18,5,19,5],[18,6,19,6],[18,7,19,7],[18,8,19,8],[18,9,19,9],[18,10,18,11],[18,12,18,17],[18,18,18,19],[18,20,18,22],[18,24,18,31],[91,1,91,40],[92,1,92,19],[94,1,94,40],[96,1,96,32]]}
["НЕ ИЗМЕНЯТЬ!!! Служебные поля, заполняются организаторами соревнований",{"$nulls":13},"Кол. дист.","НЕ ИЗМЕНЯТЬ!!! Служебные поля, заполняются организаторами соревнований"]
["Сведения о соревнованиях:",{"$nulls":7},"Группа 1, лет",null,"от",14,"до",null,3,"Ограничения по разрядам ",{"$nulls":3},"Место проведения:",null,null,"г. Город, бассейн \"ААА\", 50 м"]
[{"$nulls":5},"ЛИЧНЫЕ",null,null,"Группа 2, лет",null,"от",null,"до",null,2,"ЗМС","КМС","III","III юн"]
[{"$nulls":8},"Группа 3, лет",null,"от",null,"до",null,2,"МСМК","I","I юн","б/р","Сроки проведения:",null,null,"02-06 декабря 2018 г."]
[null,null,"Возраст, лет","от",{"$f":"IF(ISBLANK(L5),IF(ISBLANK(N5),IF(ISBLANK(L4),IF(ISBLANK(N4),IF(ISBLANK(L3),IF(ISBLANK(N3),IF(ISBLANK(L2),IF(ISBLANK(N2),0,0),L2),0),L3),0),L4),0),L5)","v":14},"до",{"$f":"IF(ISBLANK(N2),999,N2)","v":999},"лет","Группа 4, лет",null,"от",null,"до",null,2,"МС","II","II юн"]
[null,"Настройки:"]
[null,"Следует иметь ввиду, что расчет возраста ведется от текущей даты, установленной на компьютере. Это необходимо учитывать, если соревнования будут проходить в следующем году."]
[null,"1. Ввести название соревнований и сроки и место проведения."]
[null,"2. Ввести возраст  от и до количества лет (не годов рождения!!!) для каждой возрастной  группы (от 1 до 4-х групп) .  Если старшая возрастная группа содержит  ограничение типа ГОД РОЖДЕНИЯ И СТАРШЕ - ячейка N3 должна быть пустой, если содержит -  ГОД РОЖДЕНИЯ И МЛАДШЕ - пустой должна быть  ячейка столбца L  младшей возрастной группы. Диапазоны не должны перекрываться или иметь пропущенные года. В ячейках E6 и G6 будет отображаться рассчитаный возраст участников. Ячейки содержат формулы - ничего не изменять. У участников, возраст которых не попадает в этот диапазон, года рождения будут высвечиваться на красном фоне. "]
[]
[null,"3. Ограничения по разрядам (недопускаемые разряды просто удаляются)"]
[null,"4. Перед отправкой представителям. Выделяются строки (именно строки!!!) с 1 по 13 (окрашены синим цветом), нажимается правая кнопка мыши и выбирается \"Скрыть\". Сохранить файл  под нужным Вам названием. Для отображения настроек соревнований выделить строки (именно строки!!!) с 14 и вверх , нажать правую кнопку мыши  и выбрать \" Отобразить\" (или \"Показать\")"]
[]
["ТЕХНИЧЕСКАЯ ЗАЯВКА"]
[{"$nulls":3},"Сборной команды","Полное Название команды, город(край, область и пр.)"]
[{"$nulls":3},"Краткое название","Сокращенное Название"]
[{"$nulls":5},"на участие в соревнованиях","Название Соревнований по подводному спорту (1460008511Я) (плавание в ластах)"]
[]
["№ п/п","Разряд, звание","Фамилия Имя",null,"Год рожд.","Команда","Пол","Группа","Тренер","Дистанций","Ныряние",null,"Плавание в ластах",{"$nulls":5},"Подводное плавание",null,"Классические ласты",{"$nulls":3},"Эстафета"]
[{"$nulls":10},"25м","50м","50м","100м","200м","400м","800м","1500м","100м","400м","50м","100м","200м","400м","4х50м смеш","Этап","4х100м","Этап","4х100м к/с","Этап","4х200м","Этап"]
[{"$f":"A20+1","v":1},"МС","Девушки",null,"2004-02-02",{"$f":"$E$16","v":"Сокращенное Название"},"Ж",{"$f":"IF(ISNUMBER(E21),IF(ISBLANK($L$5),IF(ISBLANK($N$5),IF(ISBLANK($L$4),IF(ISBLANK($N$4),IF(ISBLANK($L$3),IF(ISBLANK($N$3),IF(ISBLANK($L$2),IF(ISBLANK($N$2),1,IF(YEAR(TODAY())-$N$2<=E21,1,\"нед-н\")),IF(ISBLANK($N$2),IF(YEAR(TODAY())-$L$2>=E21,1,\"нед-н\"),IF(YEAR(TODAY())-$N$2<=E21,IF(YEAR(TODAY())-$L$2>=E21,1,\"нед-н\"),\"нед-н\"))),IF(YEAR(TODAY())-$N$3<=E21,2,IF(ISBLANK($N$2),IF(YEAR(TODAY())-$L$2>=E21,1,\"нед-н\"),IF(YEAR(TODAY())-$N$2<=E21,IF(YEAR(TODAY())-$L$2>=E21,1,\"нед-н\"),\"нед-н\")))),IF(YEAR(TODAY())-$N$3<=E21,IF(YEAR(TODAY())-$L$3>=E21,2,\"нед-н\"),IF(ISBLANK($N$2),IF(YEAR(TODAY())-$L$2>=E21,1,\"нед-н\"),IF(YEAR(TODAY())-$N$2<=E21,IF(YEAR(TODAY())-$L$2>=E21,1,\"нед-н\"),\"нед-н\")))),IF(YEAR(TODAY())-$N$4<=E21,3,IF(YEAR(TODAY())-$N$3<=E21,IF(YEAR(TODAY())-$L$3>=E21,2,\"нед-н\"),IF(ISBLANK($N$2),IF(YEAR(TODAY())-$L$2>=E21,1,\"нед-н\"),IF(YEAR(TODAY())-$N$2<=E21,IF(YEAR(TODAY())-$L$2>=E21,1,\"нед-н\"),\"нед-н\"))))),IF(YEAR(TODAY())-$N$4<=E21,IF(YEAR(TODAY())-$L$4>=E21,3,\"нед-н\"),IF(YEAR(TODAY())-$N$3<=E21,IF(YEAR(TODAY())-$L$3>=E21,2,\"нед-н\"),IF(ISBLANK($N$2),IF(YEAR(TODAY())-$L$2>=E21,1,\"нед-н\"),IF(YEAR(TODAY())-$N$2<=E21,IF(YEAR(TODAY())-$L$2>=E21,1,\"нед-н\"),\"нед-н\"))))),IF(YEAR(TODAY())-$N$5<=E21,4,IF(YEAR(TODAY())-$N$4<=E21,IF(YEAR(TODAY())-$L$4>=E21,3,\"нед-н\"),IF(YEAR(TODAY())-$N$3<=E21,IF(YEAR(TODAY())-$L$3>=E21,2,\"нед-н\"),IF(ISBLANK($N$2),IF(YEAR(TODAY())-$L$2>=E21,1,\"нед-н\"),IF(YEAR(TODAY())-$N$2<=E21,IF(YEAR(TODAY())-$L$2>=E21,1,\"нед-н\"),\"нед-н\")))))),IF(YEAR(TODAY())-$N$5<=E21,IF(YEAR(TODAY())-$L$5>=E21,4,\"нед-н\"),IF(YEAR(TODAY())-$N$4<=E21,IF(YEAR(TODAY())-$L$4>=E21,3,\"нед-н\"),IF(YEAR(TODAY())-$N$3<=E21,IF(YEAR(TODAY())-$L$3>=E21,2,\"нед-н\"),IF(ISBLANK($N$2),IF(YEAR(TODAY())-$L$2>=E21,1,\"нед-н\"),IF(YEAR(TODAY())-$N$2<=E21,IF(YEAR(TODAY())-$L$2>=E21,1,\"нед-н\"),\"нед-н\")))))),\"г.р.???\")","v":"нед-н"},{"$f":"E75","v":"Фамилия_1 Имя Отчество"},{"$f":"COUNTA(K21:W21)","v":0},{"$nulls":24},"ЗМС"]
[2,"КМС","Девушки"," ",null,"Сокращенное Название","Ж","г.р.???",{"$f":"I21","v":"Фамилия_1 Имя Отчество"},0,{"$nulls":24},"МСМК"]
[3,"I","Девушки"," ",null,"Сокращенное Название","Ж","г.р.???",{"$f":"I22","v":"Фамилия_1 Имя Отчество"},0,{"$nulls":24},"МС"]
[4,"II","Девушки"," ",null,"Сокращенное Название","Ж","г.р.???","Фамилия_1 Имя Отчество",0,{"$nulls":24},"КМС"]
[5,"III","Девушки"," ",null,"Сокращенное Название","Ж","г.р.???","Фамилия_1 Имя Отчество",0,{"$nulls":24},"I"]
[6,"I юн","Девушки"," ",null,"Сокращенное Название","Ж","г.р.???","Фамилия_1 Имя Отчество",0,{"$nulls":24},"II"]
[7,"II юн","Девушки"," ",null,"Сокращенное Название","Ж","г.р.???","Фамилия_1 Имя Отчество",0,{"$nulls":24},"III"]
[8,"III юн","Девушки"," ",null,"Сокращенное Название","Ж","г.р.???","Фамилия_1 Имя Отчество",0,{"$nulls":24},"I юн"]
[9,"III","Девушки"," ",null,"Сокращенное Название","Ж","г.р.???","Фамилия_1 Имя Отчество",0,{"$nulls":24},"II юн"]
[10,"I","Девушки"," ",null,"Сокращенное Название","Ж","г.р.???","Фамилия_1 Имя Отчество",0,{"$nulls":24},"III юн"]
[11,"I юн","Девушки"," ",null,"Сокращенное Название","Ж","г.р.???","Фамилия_1 Имя Отчество",0,{"$nulls":24},"б/р"]
[12,"МС","Девушки"," ",null,"Сокращенное Название","Ж","г.р.???","Фамилия_1 Имя Отчество",0]
[13,"КМС","Девушки"," ",null,"Сокращенное Название","Ж","г.р.???","Фамилия_1 Имя Отчество",0]
[14,"I","Девушки"," ",null,"Сокращенное Название","Ж","г.р.???","Фамилия_1 Имя Отчество",0]
[15,"II","Девушки"," ",null,"Сокращенное Название","Ж","г.р.???","Фамилия_1 Имя Отчество",0]
[16,"II","Девушки"," ",null,"Сокращенное Название","Ж","г.р.???","Фамилия_1 Имя Отчество",0]
[17,"II","Девушки"," ",null,"Сокращенное Название","Ж","г.р.???","Фамилия_1 Имя Отчество",0]
[18,"II","Девушки"," ",null,"Сокращенное Название","Ж","г.р.???","Фамилия_1 Имя Отчество",0]
[19,"II","Девушки"," ",null,"Сокращенное Название","Ж","г.р.???","Фамилия_1 Имя Отчество",0]
[20,"II","Девушки"," ",null,"Сокращенное Название","Ж","г.р.???","Фамилия_1 Имя Отчество",0]
[21,"II","Девушки"," ",null,"Сокращенное Название","Ж","г.р.???","Фамилия_1 Имя Отчество",0]
[22,"I юн","Девушки"," ",null,"Сокращенное Название","Ж","г.р.???","Фамилия_1 Имя Отчество",0]
[23,"МС","Девушки"," ",null,"Сокращенное Название","Ж","г.р.???","Фамилия_1 Имя Отчество",0]
[24,"I","Девушки"," ",null,"Сокращенное Название","Ж","г.р.???","Фамилия_1 Имя Отчество",0]
[{"$f":"A44+1","v":25},"II","Девушки"," ",null,"Сокращенное Название","Ж","г.р.???",{"$f":"I44","v":"Фамилия_1 Имя Отчество"},0]
[26,"III юн","Юноши"," ",null,"Сокращенное Название","М","г.р.???","Фамилия_1 Имя Отчество",0]
[27,"II","Юноши"," ",null,"Сокращенное Название","М","г.р.???","Фамилия_1 Имя Отчество",0]
[28,"II","Юноши"," ",null,"Сокращенное Название","М","г.р.???","Фамилия_1 Имя Отчество",0]
[29,"II","Юноши"," ",null,"Сокращенное Название","М","г.р.???","Фамилия_1 Имя Отчество",0]
[30,"II","Юноши"," ",null,"Сокращенное Название","М","г.р.???","Фамилия_1 Имя Отчество",0]
[31,"II","Юноши"," ",null,"Сокращенное Название","М","г.р.???","Фамилия_1 Имя Отчество",0]
[32,"II","Юноши"," ",null,"Сокращенное Название","М","г.р.???","Фамилия_1 Имя Отчество",0]
[33,"II","Юноши"," ",null,"Сокращенное Название","М",{"$f":"IF(ISNUMBER(E53),IF(ISBLANK($L$5),IF(ISBLANK($N$5),IF(ISBLANK($L$4),IF(ISBLANK($N$4),IF(ISBLANK($L$3),IF(ISBLANK($N$3),IF(ISBLANK($L$2),IF(ISBLANK($N$2),1,IF(YEAR(TODAY())-$N$2<=E53,1,\"нед-н\")),IF(ISBLANK($N$2),IF(YEAR(TODAY())-$L$2>=E53,1,\"нед-н\"),IF(YEAR(TODAY())-$N$2<=E53,IF(YEAR(TODAY())-$L$2>=E53,1,\"нед-н\"),\"нед-н\"))),IF(YEAR(TODAY())-$N$3<=E53,2,IF(ISBLANK($N$2),IF(YEAR(TODAY())-$L$2>=E53,1,\"нед-н\"),IF(YEAR(TODAY())-$N$2<=E53,IF(YEAR(TODAY())-$L$2>=E53,1,\"нед-н\"),\"нед-н\")))),IF(YEAR(TODAY())-$N$3<=E53,IF(YEAR(TODAY())-$L$3>=E53,2,\"нед-н\"),IF(ISBLANK($N$2),IF(YEAR(TODAY())-$L$2>=E53,1,\"нед-н\"),IF(YEAR(TODAY())-$N$2<=E53,IF(YEAR(TODAY())-$L$2>=E53,1,\"нед-н\"),\"нед-н\")))),IF(YEAR(TODAY())-$N$4<=E53,3,IF(YEAR(TODAY())-$N$3<=E53,IF(YEAR(TODAY())-$L$3>=E53,2,\"нед-н\"),IF(ISBLANK($N$2),IF(YEAR(TODAY())-$L$2>=E53,1,\"нед-н\"),IF(YEAR(TODAY())-$N$2<=E53,IF(YEAR(TODAY())-$L$2>=E53,1,\"нед-н\"),\"нед-н\"))))),IF(YEAR(TODAY())-$N$4<=E53,IF(YEAR(TODAY())-$L$4>=E53,3,\"нед-н\"),IF(YEAR(TODAY())-$N$3<=E53,IF(YEAR(TODAY())-$L$3>=E53,2,\"нед-н\"),IF(ISBLANK($N$2),IF(YEAR(TODAY())-$L$2>=E53,1,\"нед-н\"),IF(YEAR(TODAY())-$N$2<=E53,IF(YEAR(TODAY())-$L$2>=E53,1,\"нед-н\"),\"нед-н\"))))),IF(YEAR(TODAY())-$N$5<=E53,4,IF(YEAR(TODAY())-$N$4<=E53,IF(YEAR(TODAY())-$L$4>=E53,3,\"нед-н\"),IF(YEAR(TODAY())-$N$3<=E53,IF(YEAR(TODAY())-$L$3>=E53,2,\"нед-н\"),IF(ISBLANK($N$2),IF(YEAR(TODAY())-$L$2>=E53,1,\"нед-н\"),IF(YEAR(TODAY())-$N$2<=E53,IF(YEAR(TODAY())-$L$2>=E53,1,\"нед-н\"),\"нед-н\")))))),IF(YEAR(TODAY())-$N$5<=E53,IF(YEAR(TODAY())-$L$5>=E53,4,\"нед-н\"),IF(YEAR(TODAY())-$N$4<=E53,IF(YEAR(TODAY())-$L$4>=E53,3,\"нед-н\"),IF(YEAR(TODAY())-$N$3<=E53,IF(YEAR(TODAY())-$L$3>=E53,2,\"нед-н\"),IF(ISBLANK($N$2),IF(YEAR(TODAY())-$L$2>=E53,1,\"нед-н\"),IF(YEAR(TODAY())-$N$2<=E53,IF(YEAR(TODAY())-$L$2>=E53,1,\"нед-н\"),\"нед-н\")))))),\"г.р.???\")","v":"г.р.???"},"Фамилия_1 Имя Отчество",{"$f":"COUNTA(K53:W53)","v":0}]
[34,"ЗМС","Юноши"," ",null,"Сокращенное Название","М","г.р.???","Фамилия_1 Имя Отчество",0]
[35,"МСМК","Юноши"," ",null,"Сокращенное Название","М","г.р.???","Фамилия_1 Имя Отчество",0]
[36,"МС","Юноши"," ",null,"Сокращенное Название","М","г.р.???","Фамилия_1 Имя Отчество",0]
[37,"КМС","Юноши"," ",null,"Сокращенное Название","М","г.р.???","Фамилия_1 Имя Отчество",0]
[38,"КМС","Юноши"," ",null,"Сокращенное Название","М","г.р.???","Фамилия_1 Имя Отчество",0]
[39,"КМС","Юноши"," ",null,"Сокращенное Название","М","г.р.???","Фамилия_1 Имя Отчество",0]
[40,"КМС","Юноши"," ",null,"Сокращенное Название","М","г.р.???","Фамилия_1 Имя Отчество",0]
[41,"II юн","Юноши"," ",null,"Сокращенное Название","М","г.р.???","Фамилия_1 Имя Отчество",0]
[42,"II юн","Юноши"," ",null,"Сокращенное Название","М","г.р.???","Фамилия_1 Имя Отчество",0]
[43,"II юн","Юноши"," ",null,"Сокращенное Название","М","г.р.???","Фамилия_1 Имя Отчество",0]
[44,"II юн","Юноши"," ",null,"Сокращенное Название","М","г.р.???","Фамилия_1 Имя Отчество",0]
[45,"II юн","Юноши"," ",null,"Сокращенное Название","М","г.р.???","Фамилия_1 Имя Отчество",0]
[46,"III юн","Юноши"," ",null,"Сокращенное Название","М","г.р.???","Фамилия_1 Имя Отчество",0]
[47,"I юн","Юноши"," ",null,"Сокращенное Название","М","г.р.???","Фамилия_1 Имя Отчество",0]
[48,"III","Юноши"," ",null,"Сокращенное Название","М","г.р.???","Фамилия_1 Имя Отчество",0]
[49,"I юн","Юноши"," ",null,"Сокращенное Название","М","г.р.???","Фамилия_1 Имя Отчество",0]
[50,"II юн","Юноши"," ",null,"Сокращенное Название","М","г.р.???","Фамилия_1 Имя Отчество",0]
[{"$nulls":6},"Итого дистанций:",null,"женщины",{"$f":"SUMIF(G21:G70,\"Ж\",J21:J70)","v":0},{"$nulls":36},{"$f":"SUM(AU21:AU70)","v":0},{"$f":"SUM(AV21:AV70)","v":0},{"$f":"SUM(AW21:AW70)","v":0}]
[{"$nulls":8},"мужчины",{"$f":"SUMIF(G21:G70,\"М\",J21:J70)","v":0}]
[{"$nulls":8},"Итого дистанций:",{"$f":"SUM(J21:J70)","v":0}]
[]
["Тренер-представитель",{"$nulls":3},"Фамилия_1 Имя Отчество"]
["Тренер-представитель",{"$nulls":3},"Фамилия_2 Имя Отчество"]
["Тренер-представитель",{"$nulls":3},"Фамилия_3 Имя Отчество"]
[]
[]
[null,"ПОРЯДОК ЗАПОЛНЕНИЯ (ВНИМАНИЕ!!! При заполнении технической заявки автоматически будет заполняться Именная заявка. Будьте внимательны!)"]
[null,"Перед началом работы очистите шаблон от ненужных результатов. Не очищать столбцы Команда, Пол, Тренер, Зачетов, Лично"]
[null,"При сохранении заявки в названии файла указать Название команды и(или) Фамилию тренера"]
[]
[null,"1. Заполни полное и краткое название клуба. Краткое название автоматически проставится у каждого участника"]
[null,"2. Введи фамилию, имя участника.  Верхние строки до жирной разделительной линии предназначены для женского пола, нижние для мужского"]
[null,"3. Ввведи год рождения - при вводе года рождения автоматически проставится пол участника и возрастная группа."]
[null,"4. ВНИМАНИЕ!! Предварительное время проставляется в формате ччммсс,дс. Т.е. вводится только запятая перед десятыми. "]
[null,"Незначащие нули вначале игнорируются. В случае неправильного ввода (ввод точек, лишних запятых, некорректных значений) ячейка выделяется красным цветом."]
[null,"Например, для ввода 16,56 - нужно набрать 16,56, для ввода 1.34,60 - нужно набрать 134,6, для ввода 15.28,00 - достаточно 1528, для ввода 1:23.15,56 - 12315,56"]
[null,"5. Спортсменам, выступающим в эстафете, проставляется предварительное время команды и номер этапа"]
[null,"6. Разряды и звания проставляются в соответствии с ЕВСК-",{"$nulls":8},"ЗМС","МСМК",null,"МС","КМС","I","II","III","I юн","II юн","б/р"]
[null,"7. Если не хватает строк у девушек или у юношей - выделить одну или несколько строк, в середине списка девушек или юношей, полностью, правая кнопка мыши- Вставить. После этого выделить ячейку со значением № п/п больше 1, установить курсор мыши на маленький черный квадратик в правом нижнем углу, выделенной ячейки, нажать левую кнопку мыши и потянуть вниз через пустые строки - нумерация должна продолжиться"]
[null,"8. Аналогичные действия произвести для стобцов Команда и Пол"]
[null,"9. Лишнее (например данный текст) удаляется тоже  путем выделения строк, правая кнопка мыши - Удалить"]
[null,"10. В случае превышения суммарного количества дистанций на одного участника (ячейка G7), количества дистанций  в командном зачете - ячейки с количеством зачетов (или дистанций лично) выделяется красным цветом."]
[]
[null,"11. Для распечатки, можно скрыть столбцы Звание, Название клуба, Пол, Тренер, выделить необходимые ячейки. В диалоге Печать  выбрать Вывод  на печать  - Выделенный диапазон"]

{"sheet":"Именная по возраст группам","index":11,"n_rows":74,"n_cols":11,"rows_kept":74,"merged":[[0,7,1,10],[2,0,2,10],[3,3,3,10],[4,0,4,1],[4,3,4,10],[5,0,5,1],[5,3,5,8],[7,1,7,3],[7,8,7,9],[8,1,8,2],[8,8,8,9],[9,1,9,2],[9,8,9,9],[10,1,10,2],[10,8,10,9],[11,1,11,2],[11,8,11,9],[12,1,12,2],[12,8,12,9],[13,1,13,2],[13,8,13,9],[14,1,14,2],[14,8,14,9],[15,1,15,2],[15,8,15,9],[16,1,16,2],[16,8,16,9],[17,1,17,2],[17,8,17,9],[18,1,18,2],[18,8,18,9],[19,1,19,2],[19,8,19,9],[20,1,20,2],[20,8,20,9],[21,1,21,2],[21,8,21,9],[22,1,22,2],[22,8,22,9],[23,1,23,2],[23,8,23,9],[24,1,24,2],[24,8,24,9],[25,1,25,2],[25,8,25,9],[26,1,26,2],[26,8,26,9],[27,1,27,2],[27,8,27,9],[28,1,28,2],[28,8,28,9],[29,1,29,2],[29,8,29,9],[30,1,30,2],[30,8,30,9],[31,1,31,2],[31,8,31,9],[32,1,32,2],[32,8,32,9],[33,1,33,2],[33,8,33,9],[34,1,34,2],[34,8,34,9],[35,1,35,2],[35,8,35,9],[36,1,36,2],[36,8,36,9],[37,1,37,2],[37,8,37,9],[38,1,38,2],[38,8,38,9],[39,1,39,2],[39,8,39,9],[40,1,40,2],[40,8,40,9],[41,1,41,2],[41,8,41,9],[42,1,42,2],[42,8,42,9],[43,1,43,2],[43,8,43,9],[44,1,44,2],[44,8,44,9],[45,1,45,2],[45,8,45,9],[46,1,46,2],[46,8,46,9],[47,1,47,2],[47,8,47,9],[48,1,48,2],[48,8,48,9],[49,1,49,2],[49,8,49,9],[50,1,50,2],[50,8,50,9],[51,1,51,2],[51,8,51,9],[52,1,52,2],[52,8,52,9],[53,1,53,2],[53,8,53,9],[54,1,54,2],[54,8,54,9],[55,1,55,2],[55,8,55,9],[56,1,56,2],[56,8,56,9],[57,1,57,2],[57,8,57,9],[59,7,59,10],[60,7,60,10],[61,7,61,10],[63,7,63,10],[66,5,66,6],[66,9,66,10],[69,0,69,3],[69,8,69,10],[72,0,72,3],[72,8,72,10]]}
[{"$nulls":7},"Приложение № 2 \nк Положению о межрегиональных и всероссийских официальных спортивных соревнованиях по подводному спорту"]
[]
["ЗАЯВКА"]
[null,"От команды",null,{"$f":"'Техническая по возраст группам'!E15","v":"Полное Название команды, город(край, область и пр.)"}]
["На участие в соревнованиях",null,null,{"$f":"'Техническая по возраст группам'!G17","v":"Название Соревнований по подводному спорту (1460008511Я) (плавание в ластах)"}]
["Проводимых в",null,null,{"$f":"'Техническая по возраст группам'!W2","v":"г. Город, бассейн \"ААА\", 50 м"},{"$nulls":5},"в период",{"$f":"'Техническая по возраст группам'!W4","v":"02-06 декабря 2018 г."}]
[]
["№ п/п","Фамилия, имя, отчество участника",null,null,"Дата рождения","Статус","Возраст-ная группа","Спортивный разряд, звание","Тренер",null,"Допуск врача"]
[1,{"$f":"'Техническая по возраст группам'!C21","v":"Девушки"},null,{"$f":"'Техническая по возраст группам'!D21","v":0},{"$f":"'Техническая по возраст группам'!E21","v":"2004-02-02"},{"$f":"IF('Техническая по возраст группам'!G21=\"Ж\",\"спортсменка\",IF('Техническая по возраст группам'!G21=\"М\",\"спортсмен\",\"не понятно кто\"))","v":"спортсменка"},{"$f":"'Техническая по возраст группам'!H21","v":"нед-н"},{"$f":"'Техническая по возраст группам'!B21","v":"МС"},{"$f":"'Техническая по возраст группам'!I21","v":"Фамилия_1 Имя Отчество"}]
[2,{"$f":"'Техническая по возраст группам'!C22","v":"Девушки"},null,{"$f":"'Техническая по возраст группам'!D22","v":" "},{"$f":"'Техническая по возраст группам'!E22","v":"00:00:00"},{"$f":"IF('Техническая по возраст группам'!G22=\"Ж\",\"спортсменка\",IF('Техническая по возраст группам'!G22=\"М\",\"спортсмен\",\"не понятно кто\"))","v":"спортсменка"},{"$f":"'Техническая по возраст группам'!H22","v":"г.р.???"},{"$f":"'Техническая по возраст группам'!B22","v":"КМС"},{"$f":"'Техническая по возраст группам'!I22","v":"Фамилия_1 Имя Отчество"}]
[3,{"$f":"'Техническая по возраст группам'!C23","v":"Девушки"},null,{"$f":"'Техническая по возраст группам'!D23","v":" "},{"$f":"'Техническая по возраст группам'!E23","v":"00:00:00"},{"$f":"IF('Техническая по возраст группам'!G23=\"Ж\",\"спортсменка\",IF('Техническая по возраст группам'!G23=\"М\",\"спортсмен\",\"не понятно кто\"))","v":"спортсменка"},{"$f":"'Техническая по возраст группам'!H23","v":"г.р.???"},{"$f":"'Техническая по возраст группам'!B23","v":"I"},{"$f":"'Техническая по возраст группам'!I23","v":"Фамилия_1 Имя Отчество"}]
[4,{"$f":"'Техническая по возраст группам'!C24","v":"Девушки"},null,{"$f":"'Техническая по возраст группам'!D24","v":" "},{"$f":"'Техническая по возраст группам'!E24","v":"00:00:00"},{"$f":"IF('Техническая по возраст группам'!G24=\"Ж\",\"спортсменка\",IF('Техническая по возраст группам'!G24=\"М\",\"спортсмен\",\"не понятно кто\"))","v":"спортсменка"},{"$f":"'Техническая по возраст группам'!H24","v":"г.р.???"},{"$f":"'Техническая по возраст группам'!B24","v":"II"},{"$f":"'Техническая по возраст группам'!I24","v":"Фамилия_1 Имя Отчество"}]
[5,{"$f":"'Техническая по возраст группам'!C25","v":"Девушки"},null,{"$f":"'Техническая по возраст группам'!D25","v":" "},{"$f":"'Техническая по возраст группам'!E25","v":"00:00:00"},{"$f":"IF('Техническая по возраст группам'!G25=\"Ж\",\"спортсменка\",IF('Техническая по возраст группам'!G25=\"М\",\"спортсмен\",\"не понятно кто\"))","v":"спортсменка"},{"$f":"'Техническая по возраст группам'!H25","v":"г.р.???"},{"$f":"'Техническая по возраст группам'!B25","v":"III"},{"$f":"'Техническая по возраст группам'!I25","v":"Фамилия_1 Имя Отчество"}]
[6,{"$f":"'Техническая по возраст группам'!C26","v":"Девушки"},null,{"$f":"'Техническая по возраст группам'!D26","v":" "},{"$f":"'Техническая по возраст группам'!E26","v":"00:00:00"},{"$f":"IF('Техническая по возраст группам'!G26=\"Ж\",\"спортсменка\",IF('Техническая по возраст группам'!G26=\"М\",\"спортсмен\",\"не понятно кто\"))","v":"спортсменка"},{"$f":"'Техническая по возраст группам'!H26","v":"г.р.???"},{"$f":"'Техническая по возраст группам'!B26","v":"I юн"},{"$f":"'Техническая по возраст группам'!I26","v":"Фамилия_1 Имя Отчество"}]
[7,{"$f":"'Техническая по возраст группам'!C27","v":"Девушки"},null,{"$f":"'Техническая по возраст группам'!D27","v":" "},{"$f":"'Техническая по возраст группам'!E27","v":"00:00:00"},{"$f":"IF('Техническая по возраст группам'!G27=\"Ж\",\"спортсменка\",IF('Техническая по возраст группам'!G27=\"М\",\"спортсмен\",\"не понятно кто\"))","v":"спортсменка"},{"$f":"'Техническая по возраст группам'!H27","v":"г.р.???"},{"$f":"'Техническая по возраст группам'!B27","v":"II юн"},{"$f":"'Техническая по возраст группам'!I27","v":"Фамилия_1 Имя Отчество"}]
[8,{"$f":"'Техническая по возраст группам'!C28","v":"Девушки"},null,{"$f":"'Техническая по возраст группам'!D28","v":" "},{"$f":"'Техническая по возраст группам'!E28","v":"00:00:00"},{"$f":"IF('Техническая по возраст группам'!G28=\"Ж\",\"спортсменка\",IF('Техническая по возраст группам'!G28=\"М\",\"спортсмен\",\"не понятно кто\"))","v":"спортсменка"},{"$f":"'Техническая по возраст группам'!H28","v":"г.р.???"},{"$f":"'Техническая по возраст группам'!B28","v":"III юн"},{"$f":"'Техническая по возраст группам'!I28","v":"Фамилия_1 Имя Отчество"}]
[9,{"$f":"'Техническая по возраст группам'!C29","v":"Девушки"},null,{"$f":"'Техническая по возраст группам'!D29","v":" "},{"$f":"'Техническая по возраст группам'!E29","v":"00:00:00"},{"$f":"IF('Техническая по возраст группам'!G29=\"Ж\",\"спортсменка\",IF('Техническая по возраст группам'!G29=\"М\",\"спортсмен\",\"не понятно кто\"))","v":"спортсменка"},{"$f":"'Техническая по возраст группам'!H29","v":"г.р.???"},{"$f":"'Техническая по возраст группам'!B29","v":"III"},{"$f":"'Техническая по возраст группам'!I29","v":"Фамилия_1 Имя Отчество"}]
[10,{"$f":"'Техническая по возраст группам'!C30","v":"Девушки"},null,{"$f":"'Техническая по возраст группам'!D30","v":" "},{"$f":"'Техническая по возраст группам'!E30","v":"00:00:00"},{"$f":"IF('Техническая по возраст группам'!G30=\"Ж\",\"спортсменка\",IF('Техническая по возраст группам'!G30=\"М\",\"спортсмен\",\"не понятно кто\"))","v":"спортсменка"},{"$f":"'Техническая по возраст группам'!H30","v":"г.р.???"},{"$f":"'Техническая по возраст группам'!B30","v":"I"},{"$f":"'Техническая по возраст группам'!I30","v":"Фамилия_1 Имя Отчество"}]
[11,{"$f":"'Техническая по возраст группам'!C31","v":"Девушки"},null,{"$f":"'Техническая по возраст группам'!D31","v":" "},{"$f":"'Техническая по возраст группам'!E31","v":"00:00:00"},{"$f":"IF('Техническая по возраст группам'!G31=\"Ж\",\"спортсменка\",IF('Техническая по возраст группам'!G31=\"М\",\"спортсмен\",\"не понятно кто\"))","v":"спортсменка"},{"$f":"'Техническая по возраст группам'!H31","v":"г.р.???"},{"$f":"'Техническая по возраст группам'!B31","v":"I юн"},{"$f":"'Техническая по возраст группам'!I31","v":"Фамилия_1 Имя Отчество"}]
[12,{"$f":"'Техническая по возраст группам'!C32","v":"Девушки"},null,{"$f":"'Техническая по возраст группам'!D32","v":" "},{"$f":"'Техническая по возраст группам'!E32","v":"00:00:00"},{"$f":"IF('Техническая по возраст группам'!G32=\"Ж\",\"спортсменка\",IF('Техническая по возраст группам'!G32=\"М\",\"спортсмен\",\"не понятно кто\"))","v":"спортсменка"},{"$f":"'Техническая по возраст группам'!H32","v":"г.р.???"},{"$f":"'Техническая по возраст группам'!B32","v":"МС"},{"$f":"'Техническая по возраст группам'!I32","v":"Фамилия_1 Имя Отчество"}]
[13,{"$f":"'Техническая по возраст группам'!C33","v":"Девушки"},null,{"$f":"'Техническая по возраст группам'!D33","v":" "},{"$f":"'Техническая по возраст группам'!E33","v":"00:00:00"},{"$f":"IF('Техническая по возраст группам'!G33=\"Ж\",\"спортсменка\",IF('Техническая по возраст группам'!G33=\"М\",\"спортсмен\",\"не понятно кто\"))","v":"спортсменка"},{"$f":"'Техническая по возраст группам'!H33","v":"г.р.???"},{"$f":"'Техническая по возраст группам'!B33","v":"КМС"},{"$f":"'Техническая по возраст группам'!I33","v":"Фамилия_1 Имя Отчество"}]
[14,{"$f":"'Техническая по возраст группам'!C34","v":"Девушки"},null,{"$f":"'Техническая по возраст группам'!D34","v":" "},{"$f":"'Техническая по возраст группам'!E34","v":"00:00:00"},{"$f":"IF('Техническая по возраст группам'!G34=\"Ж\",\"спортсменка\",IF('Техническая по возраст группам'!G34=\"М\",\"спортсмен\",\"не понятно кто\"))","v":"спортсменка"},{"$f":"'Техническая по возраст группам'!H34","v":"г.р.???"},{"$f":"'Техническая по возраст группам'!B34","v":"I"},{"$f":"'Техническая по возраст группам'!I34","v":"Фамилия_1 Имя Отчество"}]
[15,{"$f":"'Техническая по возраст группам'!C35","v":"Девушки"},null,{"$f":"'Техническая по возраст группам'!D35","v":" "},{"$f":"'Техническая по возраст группам'!E35","v":"00:00:00"},{"$f":"IF('Техническая по возраст группам'!G35=\"Ж\",\"спортсменка\",IF('Техническая по возраст группам'!G35=\"М\",\"спортсмен\",\"не понятно кто\"))","v":"спортсменка"},{"$f":"'Техническая по возраст группам'!H35","v":"г.р.???"},{"$f":"'Техническая по возраст группам'!B35","v":"II"},{"$f":"'Техническая по возраст группам'!I35","v":"Фамилия_1 Имя Отчество"}]
[16,{"$f":"'Техническая по возраст группам'!C36","v":"Девушки"},null,{"$f":"'Техническая по возраст группам'!D36","v":" "},{"$f":"'Техническая по возраст группам'!E36","v":"00:00:00"},{"$f":"IF('Техническая по возраст группам'!G36=\"Ж\",\"спортсменка\",IF('Техническая по возраст группам'!G36=\"М\",\"спортсмен\",\"не понятно кто\"))","v":"спортсменка"},{"$f":"'Техническая по возраст группам'!H36","v":"г.р.???"},{"$f":"'Техническая по возраст группам'!B36","v":"II"},{"$f":"'Техническая по возраст группам'!I36","v":"Фамилия_1 Имя Отчество"}]
[17,{"$f":"'Техническая по возраст группам'!C37","v":"Девушки"},null,{"$f":"'Техническая по возраст группам'!D37","v":" "},{"$f":"'Техническая по возраст группам'!E37","v":"00:00:00"},{"$f":"IF('Техническая по возраст группам'!G37=\"Ж\",\"спортсменка\",IF('Техническая по возраст группам'!G37=\"М\",\"спортсмен\",\"не понятно кто\"))","v":"спортсменка"},{"$f":"'Техническая по возраст группам'!H37","v":"г.р.???"},{"$f":"'Техническая по возраст группам'!B37","v":"II"},{"$f":"'Техническая по возраст группам'!I37","v":"Фамилия_1 Имя Отчество"}]
[18,{"$f":"'Техническая по возраст группам'!C38","v":"Девушки"},null,{"$f":"'Техническая по возраст группам'!D38","v":" "},{"$f":"'Техническая по возраст группам'!E38","v":"00:00:00"},{"$f":"IF('Техническая по возраст группам'!G38=\"Ж\",\"спортсменка\",IF('Техническая по возраст группам'!G38=\"М\",\"спортсмен\",\"не понятно кто\"))","v":"спортсменка"},{"$f":"'Техническая по возраст группам'!H38","v":"г.р.???"},{"$f":"'Техническая по возраст группам'!B38","v":"II"},{"$f":"'Техническая по возраст группам'!I38","v":"Фамилия_1 Имя Отчество"}]
[19,{"$f":"'Техническая по возраст группам'!C39","v":"Девушки"},null,{"$f":"'Техническая по возраст группам'!D39","v":" "},{"$f":"'Техническая по возраст группам'!E39","v":"00:00:00"},{"$f":"IF('Техническая по возраст группам'!G39=\"Ж\",\"спортсменка\",IF('Техническая по возраст группам'!G39=\"М\",\"спортсмен\",\"не понятно кто\"))","v":"спортсменка"},{"$f":"'Техническая по возраст группам'!H39","v":"г.р.???"},{"$f":"'Техническая по возраст группам'!B39","v":"II"},{"$f":"'Техническая по возраст группам'!I39","v":"Фамилия_1 Имя Отчество"}]
[20,{"$f":"'Техническая по возраст группам'!C40","v":"Девушки"},null,{"$f":"'Техническая по возраст группам'!D40","v":" "},{"$f":"'Техническая по возраст группам'!E40","v":"00:00:00"},{"$f":"IF('Техническая по возраст группам'!G40=\"Ж\",\"спортсменка\",IF('Техническая по возраст группам'!G40=\"М\",\"спортсмен\",\"не понятно кто\"))","v":"спортсменка"},{"$f":"'Техническая по возраст группам'!H40","v":"г.р.???"},{"$f":"'Техническая по возраст группам'!B40","v":"II"},{"$f":"'Техническая по возраст группам'!I40","v":"Фамилия_1 Имя Отчество"}]
[21,{"$f":"'Техническая по возраст группам'!C41","v":"Девушки"},null,{"$f":"'Техническая по возраст группам'!D41","v":" "},{"$f":"'Техническая по возраст группам'!E41","v":"00:00:00"},{"$f":"IF('Техническая по возраст группам'!G41=\"Ж\",\"спортсменка\",IF('Техническая по возраст группам'!G41=\"М\",\"спортсмен\",\"не понятно кто\"))","v":"спортсменка"},{"$f":"'Техническая по возраст группам'!H41","v":"г.р.???"},{"$f":"'Техническая по возраст группам'!B41","v":"II"},{"$f":"'Техническая по возраст группам'!I41","v":"Фамилия_1 Имя Отчество"}]
[22,{"$f":"'Техническая по возраст группам'!C42","v":"Девушки"},null,{"$f":"'Техническая по возраст группам'!D42","v":" "},{"$f":"'Техническая по возраст группам'!E42","v":"00:00:00"},{"$f":"IF('Техническая по возраст группам'!G42=\"Ж\",\"спортсменка\",IF('Техническая по возраст группам'!G42=\"М\",\"спортсмен\",\"не понятно кто\"))","v":"спортсменка"},{"$f":"'Техническая по возраст группам'!H42","v":"г.р.???"},{"$f":"'Техническая по возраст группам'!B42","v":"I юн"},{"$f":"'Техническая по возраст группам'!I42","v":"Фамилия_1 Имя Отчество"}]
[23,{"$f":"'Техническая по возраст группам'!C43","v":"Девушки"},null,{"$f":"'Техническая по возраст группам'!D43","v":" "},{"$f":"'Техническая по возраст группам'!E43","v":"00:00:00"},{"$f":"IF('Техническая по возраст группам'!G43=\"Ж\",\"спортсменка\",IF('Техническая по возраст группам'!G43=\"М\",\"спортсмен\",\"не понятно кто\"))","v":"спортсменка"},{"$f":"'Техническая по возраст группам'!H43","v":"г.р.???"},{"$f":"'Техническая по возраст группам'!B43","v":"МС"},{"$f":"'Техническая по возраст группам'!I43","v":"Фамилия_1 Имя Отчество"}]
[24,{"$f":"'Техническая по возраст группам'!C44","v":"Девушки"},null,{"$f":"'Техническая по возраст группам'!D44","v":" "},{"$f":"'Техническая по возраст группам'!E44","v":"00:00:00"},{"$f":"IF('Техническая по возраст группам'!G44=\"Ж\",\"спортсменка\",IF('Техническая по возраст группам'!G44=\"М\",\"спортсмен\",\"не понятно кто\"))","v":"спортсменка"},{"$f":"'Техническая по возраст группам'!H44","v":"г.р.???"},{"$f":"'Техническая по возраст группам'!B44","v":"I"},{"$f":"'Техническая по возраст группам'!I44","v":"Фамилия_1 Имя Отчество"}]
[25,{"$f":"'Техническая по возраст группам'!C45","v":"Девушки"},null,{"$f":"'Техническая по возраст группам'!D45","v":" "},{"$f":"'Техническая по возраст группам'!E45","v":"00:00:00"},{"$f":"IF('Техническая по возраст группам'!G45=\"Ж\",\"спортсменка\",IF('Техническая по возраст группам'!G45=\"М\",\"спортсмен\",\"не понятно кто\"))","v":"спортсменка"},{"$f":"'Техническая по возраст группам'!H45","v":"г.р.???"},{"$f":"'Техническая по возраст группам'!B45","v":"II"},{"$f":"'Техническая по возраст группам'!I45","v":"Фамилия_1 Имя Отчество"}]
[26,{"$f":"'Техническая по возраст группам'!C46","v":"Юноши"},null,{"$f":"'Техническая по возраст группам'!D46","v":" "},{"$f":"'Техническая по возраст группам'!E46","v":"00:00:00"},{"$f":"IF('Техническая по возраст группам'!G46=\"Ж\",\"спортсменка\",IF('Техническая по возраст группам'!G46=\"М\",\"спортсмен\",\"не понятно кто\"))","v":"спортсмен"},{"$f":"'Техническая по возраст группам'!H46","v":"г.р.???"},{"$f":"'Техническая по возраст группам'!B46","v":"III юн"},{"$f":"'Техническая по возраст группам'!I46","v":"Фамилия_1 Имя Отчество"}]
[27,{"$f":"'Техническая по возраст группам'!C47","v":"Юноши"},null,{"$f":"'Техническая по возраст группам'!D47","v":" "},{"$f":"'Техническая по возраст группам'!E47","v":"00:00:00"},{"$f":"IF('Техническая по возраст группам'!G47=\"Ж\",\"спортсменка\",IF('Техническая по возраст группам'!G47=\"М\",\"спортсмен\",\"не понятно кто\"))","v":"спортсмен"},{"$f":"'Техническая по возраст группам'!H47","v":"г.р.???"},{"$f":"'Техническая по возраст группам'!B47","v":"II"},{"$f":"'Техническая по возраст группам'!I47","v":"Фамилия_1 Имя Отчество"}]
[28,{"$f":"'Техническая по возраст группам'!C48","v":"Юноши"},null,{"$f":"'Техническая по возраст группам'!D48","v":" "},{"$f":"'Техническая по возраст группам'!E48","v":"00:00:00"},{"$f":"IF('Техническая по возраст группам'!G48=\"Ж\",\"спортсменка\",IF('Техническая по возраст группам'!G48=\"М\",\"спортсмен\",\"не понятно кто\"))","v":"спортсмен"},{"$f":"'Техническая по возраст группам'!H48","v":"г.р.???"},{"$f":"'Техническая по возраст группам'!B48","v":"II"},{"$f":"'Техническая по возраст группам'!I48","v":"Фамилия_1 Имя Отчество"}]
[29,{"$f":"'Техническая по возраст группам'!C49","v":"Юноши"},null,{"$f":"'Техническая по возраст группам'!D49","v":" "},{"$f":"'Техническая по возраст группам'!E49","v":"00:00:00"},{"$f":"IF('Техническая по возраст группам'!G49=\"Ж\",\"спортсменка\",IF('Техническая по возраст группам'!G49=\"М\",\"спортсмен\",\"не понятно кто\"))","v":"спортсмен"},{"$f":"'Техническая по возраст группам'!H49","v":"г.р.???"},{"$f":"'Техническая по возраст группам'!B49","v":"II"},{"$f":"'Техническая по возраст группам'!I49","v":"Фамилия_1 Имя Отчество"}]
[30,{"$f":"'Техническая по возраст группам'!C50","v":"Юноши"},null,{"$f":"'Техническая по возраст группам'!D50","v":" "},{"$f":"'Техническая по возраст группам'!E50","v":"00:00:00"},{"$f":"IF('Техническая по возраст группам'!G50=\"Ж\",\"спортсменка\",IF('Техническая по возраст группам'!G50=\"М\",\"спортсмен\",\"не понятно кто\"))","v":"спортсмен"},{"$f":"'Техническая по возраст группам'!H50","v":"г.р.???"},{"$f":"'Техническая по возраст группам'!B50","v":"II"},{"$f":"'Техническая по возраст группам'!I50","v":"Фамилия_1 Имя Отчество"}]
[31,{"$f":"'Техническая по возраст группам'!C51","v":"Юноши"},null,{"$f":"'Техническая по возраст группам'!D51","v":" "},{"$f":"'Техническая по возраст группам'!E51","v":"00:00:00"},{"$f":"IF('Техническая по возраст группам'!G51=\"Ж\",\"спортсменка\",IF('Техническая по возраст группам'!G51=\"М\",\"спортсмен\",\"не понятно кто\"))","v":"спортсмен"},{"$f":"'Техническая по возраст группам'!H51","v":"г.р.???"},{"$f":"'Техническая по возраст группам'!B51","v":"II"},{"$f":"'Техническая по возраст группам'!I51","v":"Фамилия_1 Имя Отчество"}]
[32,{"$f":"'Техническая по возраст группам'!C52","v":"Юноши"},null,{"$f":"'Техническая по возраст группам'!D52","v":" "},{"$f":"'Техническая по возраст группам'!E52","v":"00:00:00"},{"$f":"IF('Техническая по возраст группам'!G52=\"Ж\",\"спортсменка\",IF('Техническая по возраст группам'!G52=\"М\",\"спортсмен\",\"не понятно кто\"))","v":"спортсмен"},{"$f":"'Техническая по возраст группам'!H52","v":"г.р.???"},{"$f":"'Техническая по возраст группам'!B52","v":"II"},{"$f":"'Техническая по возраст группам'!I52","v":"Фамилия_1 Имя Отчество"}]
[33,{"$f":"'Техническая по возраст группам'!C53","v":"Юноши"},null,{"$f":"'Техническая по возраст группам'!D53","v":" "},{"$f":"'Техническая по возраст группам'!E53","v":"00:00:00"},{"$f":"IF('Техническая по возраст группам'!G53=\"Ж\",\"спортсменка\",IF('Техническая по возраст группам'!G53=\"М\",\"спортсмен\",\"не понятно кто\"))","v":"спортсмен"},{"$f":"'Техническая по возраст группам'!H53","v":"г.р.???"},{"$f":"'Техническая по возраст группам'!B53","v":"II"},{"$f":"'Техническая по возраст группам'!I53","v":"Фамилия_1 Имя Отчество"}]
[34,{"$f":"'Техническая по возраст группам'!C54","v":"Юноши"},null,{"$f":"'Техническая по возраст группам'!D54","v":" "},{"$f":"'Техническая по возраст группам'!E54","v":"00:00:00"},{"$f":"IF('Техническая по возраст группам'!G54=\"Ж\",\"спортсменка\",IF('Техническая по возраст группам'!G54=\"М\",\"спортсмен\",\"не понятно кто\"))","v":"спортсмен"},{"$f":"'Техническая по возраст группам'!H54","v":"г.р.???"},{"$f":"'Техническая по возраст группам'!B54","v":"ЗМС"},{"$f":"'Техническая по возраст группам'!I54","v":"Фамилия_1 Имя Отчество"}]
[35,{"$f":"'Техническая по возраст группам'!C55","v":"Юноши"},null,{"$f":"'Техническая по возраст группам'!D55","v":" "},{"$f":"'Техническая по возраст группам'!E55","v":"00:00:00"},{"$f":"IF('Техническая по возраст группам'!G55=\"Ж\",\"спортсменка\",IF('Техническая по возраст группам'!G55=\"М\",\"спортсмен\",\"не понятно кто\"))","v":"спортсмен"},{"$f":"'Техническая по возраст группам'!H55","v":"г.р.???"},{"$f":"'Техническая по возраст группам'!B55","v":"МСМК"},{"$f":"'Техническая по возраст группам'!I55","v":"Фамилия_1 Имя Отчество"}]
[36,{"$f":"'Техническая по возраст группам'!C56","v":"Юноши"},null,{"$f":"'Техническая по возраст группам'!D56","v":" "},{"$f":"'Техническая по возраст группам'!E56","v":"00:00:00"},{"$f":"IF('Техническая по возраст группам'!G56=\"Ж\",\"спортсменка\",IF('Техническая по возраст группам'!G56=\"М\",\"спортсмен\",\"не понятно кто\"))","v":"спортсмен"},{"$f":"'Техническая по возраст группам'!H56","v":"г.р.???"},{"$f":"'Техническая по возраст группам'!B56","v":"МС"},{"$f":"'Техническая по возраст группам'!I56","v":"Фамилия_1 Имя Отчество"}]
[37,{"$f":"'Техническая по возраст группам'!C57","v":"Юноши"},null,{"$f":"'Техническая по возраст группам'!D57","v":" "},{"$f":"'Техническая по возраст группам'!E57","v":"00:00:00"},{"$f":"IF('Техническая по возраст группам'!G57=\"Ж\",\"спортсменка\",IF('Техническая по возраст группам'!G57=\"М\",\"спортсмен\",\"не понятно кто\"))","v":"спортсмен"},{"$f":"'Техническая по возраст группам'!H57","v":"г.р.???"},{"$f":"'Техническая по возраст группам'!B57","v":"КМС"},{"$f":"'Техническая по возраст группам'!I57","v":"Фамилия_1 Имя Отчество"}]
[38,{"$f":"'Техническая по возраст группам'!C58","v":"Юноши"},null,{"$f":"'Техническая по возраст группам'!D58","v":" "},{"$f":"'Техническая по возраст группам'!E58","v":"00:00:00"},{"$f":"IF('Техническая по возраст группам'!G58=\"Ж\",\"спортсменка\",IF('Техническая по возраст группам'!G58=\"М\",\"спортсмен\",\"не понятно кто\"))","v":"спортсмен"},{"$f":"'Техническая по возраст группам'!H58","v":"г.р.???"},{"$f":"'Техническая по возраст группам'!B58","v":"КМС"},{"$f":"'Техническая по возраст группам'!I58","v":"Фамилия_1 Имя Отчество"}]
[39,{"$f":"'Техническая по возраст группам'!C59","v":"Юноши"},null,{"$f":"'Техническая по возраст группам'!D59","v":" "},{"$f":"'Техническая по возраст группам'!E59","v":"00:00:00"},{"$f":"IF('Техническая по возраст группам'!G59=\"Ж\",\"спортсменка\",IF('Техническая по возраст группам'!G59=\"М\",\"спортсмен\",\"не понятно кто\"))","v":"спортсмен"},{"$f":"'Техническая по возраст группам'!H59","v":"г.р.???"},{"$f":"'Техническая по возраст группам'!B59","v":"КМС"},{"$f":"'Техническая по возраст группам'!I59","v":"Фамилия_1 Имя Отчество"}]
[40,{"$f":"'Техническая по возраст группам'!C60","v":"Юноши"},null,{"$f":"'Техническая по возраст группам'!D60","v":" "},{"$f":"'Техническая по возраст группам'!E60","v":"00:00:00"},{"$f":"IF('Техническая по возраст группам'!G60=\"Ж\",\"спортсменка\",IF('Техническая по возраст группам'!G60=\"М\",\"спортсмен\",\"не понятно кто\"))","v":"спортсмен"},{"$f":"'Техническая по возраст группам'!H60","v":"г.р.???"},{"$f":"'Техническая по возраст группам'!B60","v":"КМС"},{"$f":"'Техническая по возраст группам'!I60","v":"Фамилия_1 Имя Отчество"}]
[41,{"$f":"'Техническая по возраст группам'!C61","v":"Юноши"},null,{"$f":"'Техническая по возраст группам'!D61","v":" "},{"$f":"'Техническая по возраст группам'!E61","v":"00:00:00"},{"$f":"IF('Техническая по возраст группам'!G61=\"Ж\",\"спортсменка\",IF('Техническая по возраст группам'!G61=\"М\",\"спортсмен\",\"не понятно кто\"))","v":"спортсмен"},{"$f":"'Техническая по возраст группам'!H61","v":"г.р.???"},{"$f":"'Техническая по возраст группам'!B61","v":"II юн"},{"$f":"'Техническая по возраст группам'!I61","v":"Фамилия_1 Имя Отчество"}]
[42,{"$f":"'Техническая по возраст группам'!C62","v":"Юноши"},null,{"$f":"'Техническая по возраст группам'!D62","v":" "},{"$f":"'Техническая по возраст группам'!E62","v":"00:00:00"},{"$f":"IF('Техническая по возраст группам'!G62=\"Ж\",\"спортсменка\",IF('Техническая по возраст группам'!G62=\"М\",\"спортсмен\",\"не понятно кто\"))","v":"спортсмен"},{"$f":"'Техническая по возраст группам'!H62","v":"г.р.???"},{"$f":"'Техническая по возраст группам'!B62","v":"II юн"},{"$f":"'Техническая по возраст группам'!I62","v":"Фамилия_1 Имя Отчество"}]
[43,{"$f":"'Техническая по возраст группам'!C63","v":"Юноши"},null,{"$f":"'Техническая по возраст группам'!D63","v":" "},{"$f":"'Техническая по возраст группам'!E63","v":"00:00:00"},{"$f":"IF('Техническая по возраст группам'!G63=\"Ж\",\"спортсменка\",IF('Техническая по возраст группам'!G63=\"М\",\"спортсмен\",\"не понятно кто\"))","v":"спортсмен"},{"$f":"'Техническая по возраст группам'!H63","v":"г.р.???"},{"$f":"'Техническая по возраст группам'!B63","v":"II юн"},{"$f":"'Техническая по возраст группам'!I63","v":"Фамилия_1 Имя Отчество"}]
[44,{"$f":"'Техническая по возраст группам'!C64","v":"Юноши"},null,{"$f":"'Техническая по возраст группам'!D64","v":" "},{"$f":"'Техническая по возраст группам'!E64","v":"00:00:00"},{"$f":"IF('Техническая по возраст группам'!G64=\"Ж\",\"спортсменка\",IF('Техническая по возраст группам'!G64=\"М\",\"спортсмен\",\"не понятно кто\"))","v":"спортсмен"},{"$f":"'Техническая по возраст группам'!H64","v":"г.р.???"},{"$f":"'Техническая по возраст группам'!B64","v":"II юн"},{"$f":"'Техническая по возраст группам'!I64","v":"Фамилия_1 Имя Отчество"}]
[45,{"$f":"'Техническая по возраст группам'!C65","v":"Юноши"},null,{"$f":"'Техническая по возраст группам'!D65","v":" "},{"$f":"'Техническая по возраст группам'!E65","v":"00:00:00"},{"$f":"IF('Техническая по возраст группам'!G65=\"Ж\",\"спортсменка\",IF('Техническая по возраст группам'!G65=\"М\",\"спортсмен\",\"не понятно кто\"))","v":"спортсмен"},{"$f":"'Техническая по возраст группам'!H65","v":"г.р.???"},{"$f":"'Техническая по возраст группам'!B65","v":"II юн"},{"$f":"'Техническая по возраст группам'!I65","v":"Фамилия_1 Имя Отчество"}]
[46,{"$f":"'Техническая по возраст группам'!C66","v":"Юноши"},null,{"$f":"'Техническая по возраст группам'!D66","v":" "},{"$f":"'Техническая по возраст группам'!E66","v":"00:00:00"},{"$f":"IF('Техническая по возраст группам'!G66=\"Ж\",\"спортсменка\",IF('Техническая по возраст группам'!G66=\"М\",\"спортсмен\",\"не понятно кто\"))","v":"спортсмен"},{"$f":"'Техническая по возраст группам'!H66","v":"г.р.???"},{"$f":"'Техническая по возраст группам'!B66","v":"III юн"},{"$f":"'Техническая по возраст группам'!I66","v":"Фамилия_1 Имя Отчество"}]
[47,{"$f":"'Техническая по возраст группам'!C67","v":"Юноши"},null,{"$f":"'Техническая по возраст группам'!D67","v":" "},{"$f":"'Техническая по возраст группам'!E67","v":"00:00:00"},{"$f":"IF('Техническая по возраст группам'!G67=\"Ж\",\"спортсменка\",IF('Техническая по возраст группам'!G67=\"М\",\"спортсмен\",\"не понятно кто\"))","v":"спортсмен"},{"$f":"'Техническая по возраст группам'!H67","v":"г.р.???"},{"$f":"'Техническая по возраст группам'!B67","v":"I юн"},{"$f":"'Техническая по возраст группам'!I67","v":"Фамилия_1 Имя Отчество"}]
[48,{"$f":"'Техническая по возраст группам'!C68","v":"Юноши"},null,{"$f":"'Техническая по возраст группам'!D68","v":" "},{"$f":"'Техническая по возраст группам'!E68","v":"00:00:00"},{"$f":"IF('Техническая по возраст группам'!G68=\"Ж\",\"спортсменка\",IF('Техническая по возраст группам'!G68=\"М\",\"спортсмен\",\"не понятно кто\"))","v":"спортсмен"},{"$f":"'Техническая по возраст группам'!H68","v":"г.р.???"},{"$f":"'Техническая по возраст группам'!B68","v":"III"},{"$f":"'Техническая по возраст группам'!I68","v":"Фамилия_1 Имя Отчество"}]
[49,{"$f":"'Техническая по возраст группам'!C69","v":"Юноши"},null,{"$f":"'Техническая по возраст группам'!D69","v":" "},{"$f":"'Техническая по возраст группам'!E69","v":"00:00:00"},{"$f":"IF('Техническая по возраст группам'!G69=\"Ж\",\"спортсменка\",IF('Техническая по возраст группам'!G69=\"М\",\"спортсмен\",\"не понятно кто\"))","v":"спортсмен"},{"$f":"'Техническая по возраст группам'!H69","v":"г.р.???"},{"$f":"'Техническая по возраст группам'!B69","v":"I юн"},{"$f":"'Техническая по возраст группам'!I69","v":"Фамилия_1 Имя Отчество"}]
[50,{"$f":"'Техническая по возраст группам'!C70","v":"Юноши"},null,{"$f":"'Техническая по возраст группам'!D70","v":" "},{"$f":"'Техническая по возраст группам'!E70","v":"00:00:00"},{"$f":"IF('Техническая по возраст группам'!G70=\"Ж\",\"спортсменка\",IF('Техническая по возраст группам'!G70=\"М\",\"спортсмен\",\"не понятно кто\"))","v":"спортсмен"},{"$f":"'Техническая по возраст группам'!H70","v":"г.р.???"},{"$f":"'Техническая по возраст группам'!B70","v":"II юн"},{"$f":"'Техническая по возраст группам'!I70","v":"Фамилия_1 Имя Отчество"}]
[]
[null,"Тренеры:",null,{"$f":"'Техническая по возраст группам'!E75","v":"Фамилия_1 Имя Отчество"},null,null,"Судьи:"]
[{"$nulls":3},{"$f":"'Техническая по возраст группам'!E76","v":"Фамилия_2 Имя Отчество"}]
[{"$nulls":3},{"$f":"'Техническая по возраст группам'!E77","v":"Фамилия_3 Имя Отчество"}]
[]
[{"$nulls":3},"Представитель команды",{"$nulls":3},{"$f":"'Техническая по возраст группам'!E75","v":"Фамилия_1 Имя Отчество"}]
[{"$nulls":5},"подпись",{"$nulls":3},"расшифровка подписи"]
[]
["К соревнованиям допущено",{"$nulls":4},"спортсменов Врач"]
[{"$nulls":8},"подпись",null,"расшифровка подписи"]
[]
["Министр спорта Региона (председатель спорткомитета, директор ДЮСТШ)"]
[{"$nulls":5},"подпись",{"$nulls":3},"расшифровка подписи"]
[]
["Председатель Федерации Подводного Спорта Региона"]
[{"$nulls":5},"подпись",{"$nulls":3},"расшифровка подписи"]

{"sheet":"Техническая по возраст груп пар","index":12,"n_rows":95,"n_cols":63,"rows_kept":95,"merged":[[0,0,0,16],[0,20,0,46],[1,20,1,26],[1,28,2,32],[1,34,2,46],[3,28,4,32],[3,34,4,46],[6,0,6,48],[7,0,7,48],[8,0,8,48],[9,0,9,48],[10,0,10,48],[11,0,11,45],[16,0,17,0],[16,1,17,1],[16,2,17,3],[16,4,17,4],[16,5,17,5],[16,6,17,6],[16,7,17,7],[16,8,17,8],[16,9,17,9],[16,10,16,12],[16,14,16,24],[16,26,16,29],[16,30,16,34],[16,38,16,45],[89,1,89,54],[90,1,90,29],[92,1,92,54],[94,1,94,46]]}
["НЕ ИЗМЕНЯТЬ!!! Служебные поля, заполняются организаторами соревнований",{"$nulls":17},"Кол. дист.",null,"НЕ ИЗМЕНЯТЬ!!! Служебные поля, заполняются организаторами соревнований"]
["Сведения о соревнованиях:",{"$nulls":7},"Группа 1, лет",null,"от",null,14,null,"до",{"$nulls":3},3,null,"Ограничения по разрядам ",{"$nulls":7},"Место проведения:",{"$nulls":5},"г. Город, бассейн \"ААА\", 50 м"]
[{"$nulls":5},"ЛИЧНЫЕ",null,null,"Группа 2, лет",null,"от",{"$nulls":3},"до",{"$nulls":3},2,null,"ЗМС",null,"КМС",null,"III",null,"III юн"]
[{"$nulls":8},"Группа 3, лет",null,"от",{"$nulls":3},"до",{"$nulls":3},2,null,"МСМК",null,"I",null,"I юн",null,"б/р",null,"Сроки проведения:",{"$nulls":5},"02-06 декабря 2018 г."]
[null,null,"Возраст, лет","от",{"$f":"IF(ISBLANK(M5),IF(ISBLANK(Q5),IF(ISBLANK(M4),IF(ISBLANK(Q4),IF(ISBLANK(M3),IF(ISBLANK(Q3),IF(ISBLANK(M2),IF(ISBLANK(Q2),0,0),M2),0),M3),0),M4),0),M5)","v":14},"до",{"$f":"IF(ISBLANK(Q2),999,Q2)","v":999},"лет","Группа 4, лет",null,"от",{"$nulls":3},"до",{"$nulls":3},2,null,"МС",null,"II",null,"II юн"]
[null,"Настройки:"]
["Следует иметь ввиду, что расчет возраста ведется от текущей даты, установленной на компьютере. Это необходимо учитывать, если соревнования будут проходить в следующем году."]
["1. Ввести название соревнований и сроки и место проведения."]
["2. Ввести возраст  от и до количества лет (не годов рождения!!!) для каждой возрастной  группы (от 1 до 4-х групп) .  Если старшая возрастная группа содержит  ограничение типа ГОД РОЖДЕНИЯ И СТАРШЕ - ячейка N3 должна быть пустой, если содержит -  ГОД РОЖДЕНИЯ И МЛАДШЕ - пустой должна быть  ячейка столбца L  младшей возрастной группы. Диапазоны не должны перекрываться или иметь пропущенные года. В ячейках E6 и G6 будет отображаться рассчитаный возраст участников. Ячейки содержат формулы - ничего не изменять. У участников, возраст которых не попадает в этот диапазон, года рождения будут высвечиваться на красном фоне. "]
["3. Ограничения по разрядам (недопускаемые разряды просто удаляются)"]
["4. Перед отправкой представителям. Выделяются строки (именно строки!!!) с 1 по 11 (окрашены синим цветом), нажимается правая кнопка мыши и выбирается \"Скрыть\". Сохранить файл  под нужным Вам названием. Для отображения настроек соревнований выделить строки (именно строки!!!) с 14 и вверх , нажать правую кнопку мыши  и выбрать \" Отобразить\" (или \"Показать\")"]
["ТЕХНИЧЕСКАЯ ЗАЯВКА"]
[{"$nulls":3},"Сборной команды","Полное Название команды, город(край, область и пр.)"]
[{"$nulls":3},"Краткое название","Сокращенное Название"]
[{"$nulls":5},"на участие в соревнованиях","Название Соревнований по подводному спорту (1460008511Я) (плавание в ластах)"]
[]
["№ п/п","Разряд, звание","Фамилия Имя",null,"Год рожд.","Команда","Пол","Тренер","Группа","Дистанций","Ныряние",{"$nulls":3},"Плавание в ластах",{"$nulls":11},"Подводное плавание",{"$nulls":3},"Классические ласты",{"$nulls":7},"Эстафета"]
[{"$nulls":10},"25м",null,"50м",null,"50м",null,"100м",null,"200м",null,"400м",null,"800м",null,"1500м",null,"100м",null,"400м",null,"50м",null,"100м",null,"200м",null,"400м",null,"4х50м смеш","Этап","4х100м","Этап","4х100м к/с","Этап","4х200м","Этап"]
[{"$f":"A18+1","v":1},"МС","Девушки",null,"2004-02-02",{"$f":"$E$14","v":"Сокращенное Название"},"Ж",{"$f":"E73","v":"Фамилия_1 Имя Отчество"},{"$f":"IF(ISNUMBER(E19),IF(ISBLANK($M$5),IF(ISBLANK($Q$5),IF(ISBLANK($M$4),IF(ISBLANK($Q$4),IF(ISBLANK($M$3),IF(ISBLANK($Q$3),IF(ISBLANK($M$2),IF(ISBLANK($Q$2),1,IF(YEAR(TODAY())-$Q$2<=E19,1,\"нед-н\")),IF(ISBLANK($Q$2),IF(YEAR(TODAY())-$M$2>=E19,1,\"нед-н\"),IF(YEAR(TODAY())-$Q$2<=E19,IF(YEAR(TODAY())-$M$2>=E19,1,\"нед-н\"),\"нед-н\"))),IF(YEAR(TODAY())-$Q$3<=E19,2,IF(ISBLANK($Q$2),IF(YEAR(TODAY())-$M$2>=E19,1,\"нед-н\"),IF(YEAR(TODAY())-$Q$2<=E19,IF(YEAR(TODAY())-$M$2>=E19,1,\"нед-н\"),\"нед-н\")))),IF(YEAR(TODAY())-$Q$3<=E19,IF(YEAR(TODAY())-$M$3>=E19,2,\"нед-н\"),IF(ISBLANK($Q$2),IF(YEAR(TODAY())-$M$2>=E19,1,\"нед-н\"),IF(YEAR(TODAY())-$Q$2<=E19,IF(YEAR(TODAY())-$M$2>=E19,1,\"нед-н\"),\"нед-н\")))),IF(YEAR(TODAY())-$Q$4<=E19,3,IF(YEAR(TODAY())-$Q$3<=E19,IF(YEAR(TODAY())-$M$3>=E19,2,\"нед-н\"),IF(ISBLANK($Q$2),IF(YEAR(TODAY())-$M$2>=E19,1,\"нед-н\"),IF(YEAR(TODAY())-$Q$2<=E19,IF(YEAR(TODAY())-$M$2>=E19,1,\"нед-н\"),\"нед-н\"))))),IF(YEAR(TODAY())-$Q$4<=E19,IF(YEAR(TODAY())-$M$4>=E19,3,\"нед-н\"),IF(YEAR(TODAY())-$Q$3<=E19,IF(YEAR(TODAY())-$M$3>=E19,2,\"нед-н\"),IF(ISBLANK($Q$2),IF(YEAR(TODAY())-$M$2>=E19,1,\"нед-н\"),IF(YEAR(TODAY())-$Q$2<=E19,IF(YEAR(TODAY())-$M$2>=E19,1,\"нед-н\"),\"нед-н\"))))),IF(YEAR(TODAY())-$Q$5<=E19,4,IF(YEAR(TODAY())-$Q$4<=E19,IF(YEAR(TODAY())-$M$4>=E19,3,\"нед-н\"),IF(YEAR(TODAY())-$Q$3<=E19,IF(YEAR(TODAY())-$M$3>=E19,2,\"нед-н\"),IF(ISBLANK($Q$2),IF(YEAR(TODAY())-$M$2>=E19,1,\"нед-н\"),IF(YEAR(TODAY())-$Q$2<=E19,IF(YEAR(TODAY())-$M$2>=E19,1,\"нед-н\"),\"нед-н\")))))),IF(YEAR(TODAY())-$Q$5<=E19,IF(YEAR(TODAY())-$M$5>=E19,4,\"нед-н\"),IF(YEAR(TODAY())-$Q$4<=E19,IF(YEAR(TODAY())-$M$4>=E19,3,\"нед-н\"),IF(YEAR(TODAY())-$Q$3<=E19,IF(YEAR(TODAY())-$M$3>=E19,2,\"нед-н\"),IF(ISBLANK($Q$2),IF(YEAR(TODAY())-$M$2>=E19,1,\"нед-н\"),IF(YEAR(TODAY())-$Q$2<=E19,IF(YEAR(TODAY())-$M$2>=E19,1,\"нед-н\"),\"нед-н\")))))),\"г.р.???\")","v":"нед-н"},{"$f":"COUNTA(K19:AI19)","v":0},{"$nulls":38},"ЗМС"]
[2,"КМС","Девушки"," ",null,"Сокращенное Название","Ж",{"$f":"H19","v":"Фамилия_1 Имя Отчество"},"г.р.???",0,{"$nulls":38},"МСМК"]
[3,"I","Девушки"," ",null,"Сокращенное Название","Ж",{"$f":"H20","v":"Фамилия_1 Имя Отчество"},"г.р.???",0,{"$nulls":38},"МС"]
[4,"II","Девушки"," ",null,"Сокращенное Название","Ж","Фамилия_1 Имя Отчество","г.р.???",0,{"$nulls":38},"КМС"]
[5,"III","Девушки"," ",null,"Сокращенное Название","Ж","Фамилия_1 Имя Отчество","г.р.???",0,{"$nulls":38},"I"]
[6,"I юн","Девушки"," ",null,"Сокращенное Название","Ж","Фамилия_1 Имя Отчество","г.р.???",0,{"$nulls":38},"II"]
[7,"II юн","Девушки"," ",null,"Сокращенное Название","Ж","Фамилия_1 Имя Отчество","г.р.???",0,{"$nulls":38},"III"]
[8,"III юн","Девушки"," ",null,"Сокращенное Название","Ж","Фамилия_1 Имя Отчество","г.р.???",0,{"$nulls":38},"I юн"]
[9,"III","Девушки"," ",null,"Сокращенное Название","Ж","Фамилия_1 Имя Отчество","г.р.???",0,{"$nulls":38},"II юн"]
[10,"I","Девушки"," ",null,"Сокращенное Название","Ж","Фамилия_1 Имя Отчество","г.р.???",0,{"$nulls":38},"III юн"]
[11,"I юн","Девушки"," ",null,"Сокращенное Название","Ж","Фамилия_1 Имя Отчество","г.р.???",0,{"$nulls":38},"б/р"]
[12,"МС","Девушки"," ",null,"Сокращенное Название","Ж","Фамилия_1 Имя Отчество","г.р.???",0]
[13,"КМС","Девушки"," ",null,"Сокращенное Название","Ж","Фамилия_1 Имя Отчество","г.р.???",0]
[14,"I","Девушки"," ",null,"Сокращенное Название","Ж","Фамилия_1 Имя Отчество","г.р.???",0]
[15,"II","Девушки"," ",null,"Сокращенное Название","Ж","Фамилия_1 Имя Отчество","г.р.???",0]
[16,"II","Девушки"," ",null,"Сокращенное Название","Ж","Фамилия_1 Имя Отчество","г.р.???",0]
[17,"II","Девушки"," ",null,"Сокращенное Название","Ж","Фамилия_1 Имя Отчество","г.р.???",0]
[18,"II","Девушки"," ",null,"Сокращенное Название","Ж","Фамилия_1 Имя Отчество","г.р.???",0]
[19,"II","Девушки"," ",null,"Сокращенное Название","Ж","Фамилия_1 Имя Отчество","г.р.???",0]
[20,"II","Девушки"," ",null,"Сокращенное Название","Ж","Фамилия_1 Имя Отчество","г.р.???",0]
[21,"II","Девушки"," ",null,"Сокращенное Название","Ж","Фамилия_1 Имя Отчество","г.р.???",0]
[22,"I юн","Девушки"," ",null,"Сокращенное Название","Ж","Фамилия_1 Имя Отчество","г.р.???",0]
[23,"МС","Девушки"," ",null,"Сокращенное Название","Ж","Фамилия_1 Имя Отчество","г.р.???",0]
[24,"I","Девушки"," ",null,"Сокращенное Название","Ж","Фамилия_1 Имя Отчество","г.р.???",0]
[{"$f":"A42+1","v":25},"II","Девушки"," ",null,"Сокращенное Название","Ж",{"$f":"H42","v":"Фамилия_1 Имя Отчество"},"г.р.???",0]
[26,"III юн","Юноши"," ",null,"Сокращенное Название","М","Фамилия_1 Имя Отчество","г.р.???",0]
[27,"II","Юноши"," ",null,"Сокращенное Название","М","Фамилия_1 Имя Отчество","г.р.???",0]
[28,"II","Юноши"," ",null,"Сокращенное Название","М","Фамилия_1 Имя Отчество","г.р.???",0]
[29,"II","Юноши"," ",null,"Сокращенное Название","М","Фамилия_1 Имя Отчество","г.р.???",0]
[30,"II","Юноши"," ",null,"Сокращенное Название","М","Фамилия_1 Имя Отчество","г.р.???",0]
[31,"II","Юноши"," ",null,"Сокращенное Название","М","Фамилия_1 Имя Отчество","г.р.???",0]
[32,"II","Юноши"," ",null,"Сокращенное Название","М","Фамилия_1 Имя Отчество","г.р.???",0]
[33,"II","Юноши"," ",null,"Сокращенное Название","М","Фамилия_1 Имя Отчество",{"$f":"IF(ISNUMBER(E51),IF(ISBLANK($M$5),IF(ISBLANK($Q$5),IF(ISBLANK($M$4),IF(ISBLANK($Q$4),IF(ISBLANK($M$3),IF(ISBLANK($Q$3),IF(ISBLANK($M$2),IF(ISBLANK($Q$2),1,IF(YEAR(TODAY())-$Q$2<=E51,1,\"нед-н\")),IF(ISBLANK($Q$2),IF(YEAR(TODAY())-$M$2>=E51,1,\"нед-н\"),IF(YEAR(TODAY())-$Q$2<=E51,IF(YEAR(TODAY())-$M$2>=E51,1,\"нед-н\"),\"нед-н\"))),IF(YEAR(TODAY())-$Q$3<=E51,2,IF(ISBLANK($Q$2),IF(YEAR(TODAY())-$M$2>=E51,1,\"нед-н\"),IF(YEAR(TODAY())-$Q$2<=E51,IF(YEAR(TODAY())-$M$2>=E51,1,\"нед-н\"),\"нед-н\")))),IF(YEAR(TODAY())-$Q$3<=E51,IF(YEAR(TODAY())-$M$3>=E51,2,\"нед-н\"),IF(ISBLANK($Q$2),IF(YEAR(TODAY())-$M$2>=E51,1,\"нед-н\"),IF(YEAR(TODAY())-$Q$2<=E51,IF(YEAR(TODAY())-$M$2>=E51,1,\"нед-н\"),\"нед-н\")))),IF(YEAR(TODAY())-$Q$4<=E51,3,IF(YEAR(TODAY())-$Q$3<=E51,IF(YEAR(TODAY())-$M$3>=E51,2,\"нед-н\"),IF(ISBLANK($Q$2),IF(YEAR(TODAY())-$M$2>=E51,1,\"нед-н\"),IF(YEAR(TODAY())-$Q$2<=E51,IF(YEAR(TODAY())-$M$2>=E51,1,\"нед-н\"),\"нед-н\"))))),IF(YEAR(TODAY())-$Q$4<=E51,IF(YEAR(TODAY())-$M$4>=E51,3,\"нед-н\"),IF(YEAR(TODAY())-$Q$3<=E51,IF(YEAR(TODAY())-$M$3>=E51,2,\"нед-н\"),IF(ISBLANK($Q$2),IF(YEAR(TODAY())-$M$2>=E51,1,\"нед-н\"),IF(YEAR(TODAY())-$Q$2<=E51,IF(YEAR(TODAY())-$M$2>=E51,1,\"нед-н\"),\"нед-н\"))))),IF(YEAR(TODAY())-$Q$5<=E51,4,IF(YEAR(TODAY())-$Q$4<=E51,IF(YEAR(TODAY())-$M$4>=E51,3,\"нед-н\"),IF(YEAR(TODAY())-$Q$3<=E51,IF(YEAR(TODAY())-$M$3>=E51,2,\"нед-н\"),IF(ISBLANK($Q$2),IF(YEAR(TODAY())-$M$2>=E51,1,\"нед-н\"),IF(YEAR(TODAY())-$Q$2<=E51,IF(YEAR(TODAY())-$M$2>=E51,1,\"нед-н\"),\"нед-н\")))))),IF(YEAR(TODAY())-$Q$5<=E51,IF(YEAR(TODAY())-$M$5>=E51,4,\"нед-н\"),IF(YEAR(TODAY())-$Q$4<=E51,IF(YEAR(TODAY())-$M$4>=E51,3,\"нед-н\"),IF(YEAR(TODAY())-$Q$3<=E51,IF(YEAR(TODAY())-$M$3>=E51,2,\"нед-н\"),IF(ISBLANK($Q$2),IF(YEAR(TODAY())-$M$2>=E51,1,\"нед-н\"),IF(YEAR(TODAY())-$Q$2<=E51,IF(YEAR(TODAY())-$M$2>=E51,1,\"нед-н\"),\"нед-н\")))))),\"г.р.???\")","v":"г.р.???"},{"$f":"COUNTA(K51:AI51)","v":0}]
[34,"ЗМС","Юноши"," ",null,"Сокращенное Название","М","Фамилия_1 Имя Отчество","г.р.???",0]
[35,"МСМК","Юноши"," ",null,"Сокращенное Название","М","Фамилия_1 Имя Отчество","г.р.???",0]
[36,"МС","Юноши"," ",null,"Сокращенное Название","М","Фамилия_1 Имя Отчество","г.р.???",0]
[37,"КМС","Юноши"," ",null,"Сокращенное Название","М","Фамилия_1 Имя Отчество","г.р.???",0]
[38,"КМС","Юноши"," ",null,"Сокращенное Название","М","Фамилия_1 Имя Отчество","г.р.???",0]
[39,"КМС","Юноши"," ",null,"Сокращенное Название","М","Фамилия_1 Имя Отчество","г.р.???",0]
[40,"КМС","Юноши"," ",null,"Сокращенное Название","М","Фамилия_1 Имя Отчество","г.р.???",0]
[41,"II юн","Юноши"," ",null,"Сокращенное Название","М","Фамилия_1 Имя Отчество","г.р.???",0]
[42,"II юн","Юноши"," ",null,"Сокращенное Название","М","Фамилия_1 Имя Отчество","г.р.???",0]
[43,"II юн","Юноши"," ",null,"Сокращенное Название","М","Фамилия_1 Имя Отчество","г.р.???",0]
[44,"II юн","Юноши"," ",null,"Сокращенное Название","М","Фамилия_1 Имя Отчество","г.р.???",0]
[45,"II юн","Юноши"," ",null,"Сокращенное Название","М","Фамилия_1 Имя Отчество","г.р.???",0]
[46,"III юн","Юноши"," ",null,"Сокращенное Название","М","Фамилия_1 Имя Отчество","г.р.???",0]
[47,"I юн","Юноши"," ",null,"Сокращенное Название","М","Фамилия_1 Имя Отчество","г.р.???",0]
[48,"III","Юноши"," ",null,"Сокращенное Название","М","Фамилия_1 Имя Отчество","г.р.???",0]
[49,"I юн","Юноши"," ",null,"Сокращенное Название","М","Фамилия_1 Имя Отчество","г.р.???",0]
[50,"II юн","Юноши"," ",null,"Сокращенное Название","М","Фамилия_1 Имя Отчество","г.р.???",0]
[{"$nulls":6},"Итого дистанций:","женщины",null,{"$f":"SUMIF(G19:G68,\"Ж\",J19:J68)","v":0},{"$nulls":50},{"$f":"SUM(BI19:BI68)","v":0},{"$f":"SUM(BJ19:BJ68)","v":0},{"$f":"SUM(BK19:BK68)","v":0}]
[{"$nulls":7},"мужчины",null,{"$f":"SUMIF(G19:G68,\"М\",J19:J68)","v":0}]
[{"$nulls":7},"Итого дистанций:",null,{"$f":"SUM(J19:J68)","v":0}]
[]
["Тренер-представитель",{"$nulls":3},"Фамилия_1 Имя Отчество"]
["Тренер-представитель",{"$nulls":3},"Фамилия_2 Имя Отчество"]
["Тренер-представитель",{"$nulls":3},"Фамилия_3 Имя Отчество"]
[]
[]
[null,"ПОРЯДОК ЗАПОЛНЕНИЯ (ВНИМАНИЕ!!! При заполнении технической заявки автоматически будет заполняться Именная заявка. Будьте внимательны!)"]
[null,"Перед началом работы очистите шаблон от ненужных результатов. Не очищать столбцы Команда, Пол, Тренер, Зачетов, Лично"]
[null,"При сохранении заявки в названии файла указать Название команды и(или) Фамилию тренера"]
[]
[null,"1. Заполни полное и краткое название клуба. Краткое название автоматически проставится у каждого участника"]
[null,"2. Введи фамилию, имя участника.  Верхние строки до жирной разделительной линии предназначены для женского пола, нижние для мужского"]
[null,"3. Ввведи год рождения - при вводе года рождения автоматически проставится пол участника и возрастная группа."]
[null,"4. ВНИМАНИЕ!! Предварительное время проставляется в формате ччммсс,дс. Т.е. вводится только запятая перед десятыми. "]
[null,"Незначащие нули вначале игнорируются. В случае неправильного ввода (ввод точек, лишних запятых, некорректных значений) ячейка выделяется красным цветом."]
[null,"Например, для ввода 16,56 - нужно набрать 16,56, для ввода 1.34,60 - нужно набрать 134,6, для ввода 15.28,00 - достаточно 1528, для ввода 1:23.15,56 - 12315,56"]
[null,"5. Спортсменам, выступающим в эстафете, проставляется предварительное время команды и номер этапа"]
[null,"6. Разряды и звания проставляются в соответствии с ЕВСК-",{"$nulls":8},"ЗМС",null,"МСМК",{"$nulls":3},"МС",null,"КМС",null,"I",null,"II",null,"III",null,"I юн",null,"II юн",null,"б/р"]
[null,"7. Если не хватает строк у девушек или у юношей - выделить одну или несколько строк, в середине списка девушек или юношей, полностью, правая кнопка мыши- Вставить. После этого выделить ячейку со значением № п/п больше 1, установить курсор мыши на маленький черный квадратик в правом нижнем углу, выделенной ячейки, нажать левую кнопку мыши и потянуть вниз через пустые строки - нумерация должна продолжиться"]
[null,"8. Аналогичные действия произвести для стобцов Команда и Пол"]
[null,"9. Лишнее (например данный текст) удаляется тоже  путем выделения строк, правая кнопка мыши - Удалить"]
[null,"10. В случае превышения суммарного количества дистанций на одного участника (ячейка G7), количества дистанций  в командном зачете - ячейки с количеством зачетов (или дистанций лично) выделяется красным цветом."]
[]
[null,"11. Для распечатки, можно скрыть столбцы Звание, Название клуба, Пол, Тренер, выделить необходимые ячейки. В диалоге Печать  выбрать Вывод  на печать  - Выделенный диапазон"]

{"sheet":"Именная по возраст группам пар","index":13,"n_rows":74,"n_cols":11,"rows_kept":74,"merged":[[0,7,1,10],[2,0,2,10],[3,3,3,10],[4,0,4,1],[4,3,4,10],[5,0,5,1],[5,3,5,8],[7,1,7,3],[7,8,7,9],[8,1,8,2],[8,8,8,9],[9,1,9,2],[9,8,9,9],[10,1,10,2],[10,8,10,9],[11,1,11,2],[11,8,11,9],[12,1,12,2],[12,8,12,9],[13,1,13,2],[13,8,13,9],[14,1,14,2],[14,8,14,9],[15,1,15,2],[15,8,15,9],[16,1,16,2],[16,8,16,9],[17,1,17,2],[17,8,17,9],[18,1,18,2],[18,8,18,9],[19,1,19,2],[19,8,19,9],[20,1,20,2],[20,8,20,9],[21,1,21,2],[21,8,21,9],[22,1,22,2],[22,8,22,9],[23,1,23,2],[23,8,23,9],[24,1,24,2],[24,8,24,9],[25,1,25,2],[25,8,25,9],[26,1,26,2],[26,8,26,9],[27,1,27,2],[27,8,27,9],[28,1,28,2],[28,8,28,9],[29,1,29,2],[29,8,29,9],[30,1,30,2],[30,8,30,9],[31,1,31,2],[31,8,31,9],[32,1,32,2],[32,8,32,9],[33,1,33,2],[33,8,33,9],[34,1,34,2],[34,8,34,9],[35,1,35,2],[35,8,35,9],[36,1,36,2],[36,8,36,9],[37,1,37,2],[37,8,37,9],[38,1,38,2],[38,8,38,9],[39,1,39,2],[39,8,39,9],[40,1,40,2],[40,8,40,9],[41,1,41,2],[41,8,41,9],[42,1,42,2],[42,8,42,9],[43,1,43,2],[43,8,43,9],[44,1,44,2],[44,8,44,9],[45,1,45,2],[45,8,45,9],[46,1,46,2],[46,8,46,9],[47,1,47,2],[47,8,47,9],[48,1,48,2],[48,8,48,9],[49,1,49,2],[49,8,49,9],[50,1,50,2],[50,8,50,9],[51,1,51,2],[51,8,51,9],[52,1,52,2],[52,8,52,9],[53,1,53,2],[53,8,53,9],[54,1,54,2],[54,8,54,9],[55,1,55,2],[55,8,55,9],[56,1,56,2],[56,8,56,9],[57,1,57,2],[57,8,57,9],[59,7,59,10],[60,7,60,10],[61,7,61,10],[63,7,63,10],[66,5,66,6],[66,9,66,10],[69,0,69,3],[69,8,69,10],[72,0,72,3],[72,8,72,10]]}
[{"$nulls":7},"Приложение № 2 \nк Положению о межрегиональных и всероссийских официальных спортивных соревнованиях по подводному спорту"]
[]
["ЗАЯВКА"]
[null,"От команды",null,{"$f":"'Техническая по возраст группам'!E15","v":"Полное Название команды, город(край, область и пр.)"}]
["На участие в соревнованиях",null,null,{"$f":"'Техническая по возраст группам'!G17","v":"Название Соревнований по подводному спорту (1460008511Я) (плавание в ластах)"}]
["Проводимых в",null,null,{"$f":"'Техническая по возраст группам'!W2","v":"г. Город, бассейн \"ААА\", 50 м"},{"$nulls":5},"в период",{"$f":"'Техническая по возраст группам'!W4","v":"02-06 декабря 2018 г."}]
[]
["№ п/п","Фамилия, имя, отчество участника",null,null,"Дата рождения","Статус","Возраст-ная группа","Спортивный разряд, звание","Тренер",null,"Допуск врача"]
[1,{"$f":"'Техническая по возраст группам'!C21","v":"Девушки"},null,{"$f":"'Техническая по возраст группам'!D21","v":0},{"$f":"'Техническая по возраст группам'!E21","v":"2004-02-02"},{"$f":"IF('Техническая по возраст группам'!G21=\"Ж\",\"спортсменка\",IF('Техническая по возраст группам'!G21=\"М\",\"спортсмен\",\"не понятно кто\"))","v":"спортсменка"},{"$f":"'Техническая по возраст группам'!H21","v":"нед-н"},{"$f":"'Техническая по возраст группам'!B21","v":"МС"},{"$f":"'Техническая по возраст группам'!I21","v":"Фамилия_1 Имя Отчество"}]
[2,{"$f":"'Техническая по возраст группам'!C22","v":"Девушки"},null,{"$f":"'Техническая по возраст группам'!D22","v":" "},{"$f":"'Техническая по возраст группам'!E22","v":"00:00:00"},{"$f":"IF('Техническая по возраст группам'!G22=\"Ж\",\"спортсменка\",IF('Техническая по возраст группам'!G22=\"М\",\"спортсмен\",\"не понятно кто\"))","v":"спортсменка"},{"$f":"'Техническая по возраст группам'!H22","v":"г.р.???"},{"$f":"'Техническая по возраст группам'!B22","v":"КМС"},{"$f":"'Техническая по возраст группам'!I22","v":"Фамилия_1 Имя Отчество"}]
[3,{"$f":"'Техническая по возраст группам'!C23","v":"Девушки"},null,{"$f":"'Техническая по возраст группам'!D23","v":" "},{"$f":"'Техническая по возраст группам'!E23","v":"00:00:00"},{"$f":"IF('Техническая по возраст группам'!G23=\"Ж\",\"спортсменка\",IF('Техническая по возраст группам'!G23=\"М\",\"спортсмен\",\"не понятно кто\"))","v":"спортсменка"},{"$f":"'Техническая по возраст группам'!H23","v":"г.р.???"},{"$f":"'Техническая по возраст группам'!B23","v":"I"},{"$f":"'Техническая по возраст группам'!I23","v":"Фамилия_1 Имя Отчество"}]
[4,{"$f":"'Техническая по возраст группам'!C24","v":"Девушки"},null,{"$f":"'Техническая по возраст группам'!D24","v":" "},{"$f":"'Техническая по возраст группам'!E24","v":"00:00:00"},{"$f":"IF('Техническая по возраст группам'!G24=\"Ж\",\"спортсменка\",IF('Техническая по возраст группам'!G24=\"М\",\"спортсмен\",\"не понятно кто\"))","v":"спортсменка"},{"$f":"'Техническая по возраст группам'!H24","v":"г.р.???"},{"$f":"'Техническая по возраст группам'!B24","v":"II"},{"$f":"'Техническая по возраст группам'!I24","v":"Фамилия_1 Имя Отчество"}]
[5,{"$f":"'Техническая по возраст группам'!C25","v":"Девушки"},null,{"$f":"'Техническая по возраст группам'!D25","v":" "},{"$f":"'Техническая по возраст группам'!E25","v":"00:00:00"},{"$f":"IF('Техническая по возраст группам'!G25=\"Ж\",\"спортсменка\",IF('Техническая по возраст группам'!G25=\"М\",\"спортсмен\",\"не понятно кто\"))","v":"спортсменка"},{"$f":"'Техническая по возраст группам'!H25","v":"г.р.???"},{"$f":"'Техническая по возраст группам'!B25","v":"III"},{"$f":"'Техническая по возраст группам'!I25","v":"Фамилия_1 Имя Отчество"}]
[6,{"$f":"'Техническая по возраст группам'!C26","v":"Девушки"},null,{"$f":"'Техническая по возраст группам'!D26","v":" "},{"$f":"'Техническая по возраст группам'!E26","v":"00:00:00"},{"$f":"IF('Техническая по возраст группам'!G26=\"Ж\",\"спортсменка\",IF('Техническая по возраст группам'!G26=\"М\",\"спортсмен\",\"не понятно кто\"))","v":"спортсменка"},{"$f":"'Техническая по возраст группам'!H26","v":"г.р.???"},{"$f":"'Техническая по возраст группам'!B26","v":"I юн"},{"$f":"'Техническая по возраст группам'!I26","v":"Фамилия_1 Имя Отчество"}]
[7,{"$f":"'Техническая по возраст группам'!C27","v":"Девушки"},null,{"$f":"'Техническая по возраст группам'!D27","v":" "},{"$f":"'Техническая по возраст группам'!E27","v":"00:00:00"},{"$f":"IF('Техническая по возраст группам'!G27=\"Ж\",\"спортсменка\",IF('Техническая по возраст группам'!G27=\"М\",\"спортсмен\",\"не понятно кто\"))","v":"спортсменка"},{"$f":"'Техническая по возраст группам'!H27","v":"г.р.???"},{"$f":"'Техническая по возраст группам'!B27","v":"II юн"},{"$f":"'Техническая по возраст группам'!I27","v":"Фамилия_1 Имя Отчество"}]
[8,{"$f":"'Техническая по возраст группам'!C28","v":"Девушки"},null,{"$f":"'Техническая по возраст группам'!D28","v":" "},{"$f":"'Техническая по возраст группам'!E28","v":"00:00:00"},{"$f":"IF('Техническая по возраст группам'!G28=\"Ж\",\"спортсменка\",IF('Техническая по возраст группам'!G28=\"М\",\"спортсмен\",\"не понятно кто\"))","v":"спортсменка"},{"$f":"'Техническая по возраст группам'!H28","v":"г.р.???"},{"$f":"'Техническая по возраст группам'!B28","v":"III юн"},{"$f":"'Техническая по возраст группам'!I28","v":"Фамилия_1 Имя Отчество"}]
[9,{"$f":"'Техническая по возраст группам'!C29","v":"Девушки"},null,{"$f":"'Техническая по возраст группам'!D29","v":" "},{"$f":"'Техническая по возраст группам'!E29","v":"00:00:00"},{"$f":"IF('Техническая по возраст группам'!G29=\"Ж\",\"спортсменка\",IF('Техническая по возраст группам'!G29=\"М\",\"спортсмен\",\"не понятно кто\"))","v":"спортсменка"},{"$f":"'Техническая по возраст группам'!H29","v":"г.р.???"},{"$f":"'Техническая по возраст группам'!B29","v":"III"},{"$f":"'Техническая по возраст группам'!I29","v":"Фамилия_1 Имя Отчество"}]
[10,{"$f":"'Техническая по возраст группам'!C30","v":"Девушки"},null,{"$f":"'Техническая по возраст группам'!D30","v":" "},{"$f":"'Техническая по возраст группам'!E30","v":"00:00:00"},{"$f":"IF('Техническая по возраст группам'!G30=\"Ж\",\"спортсменка\",IF('Техническая по возраст группам'!G30=\"М\",\"спортсмен\",\"не понятно кто\"))","v":"спортсменка"},{"$f":"'Техническая по возраст группам'!H30","v":"г.р.???"},{"$f":"'Техническая по возраст группам'!B30","v":"I"},{"$f":"'Техническая по возраст группам'!I30","v":"Фамилия_1 Имя Отчество"}]
[11,{"$f":"'Техническая по возраст группам'!C31","v":"Девушки"},null,{"$f":"'Техническая по возраст группам'!D31","v":" "},{"$f":"'Техническая по возраст группам'!E31","v":"00:00:00"},{"$f":"IF('Техническая по возраст группам'!G31=\"Ж\",\"спортсменка\",IF('Техническая по возраст группам'!G31=\"М\",\"спортсмен\",\"не понятно кто\"))","v":"спортсменка"},{"$f":"'Техническая по возраст группам'!H31","v":"г.р.???"},{"$f":"'Техническая по возраст группам'!B31","v":"I юн"},{"$f":"'Техническая по возраст группам'!I31","v":"Фамилия_1 Имя Отчество"}]
[12,{"$f":"'Техническая по возраст группам'!C32","v":"Девушки"},null,{"$f":"'Техническая по возраст группам'!D32","v":" "},{"$f":"'Техническая по возраст группам'!E32","v":"00:00:00"},{"$f":"IF('Техническая по возраст группам'!G32=\"Ж\",\"спортсменка\",IF('Техническая по возраст группам'!G32=\"М\",\"спортсмен\",\"не понятно кто\"))","v":"спортсменка"},{"$f":"'Техническая по возраст группам'!H32","v":"г.р.???"},{"$f":"'Техническая по возраст группам'!B32","v":"МС"},{"$f":"'Техническая по возраст группам'!I32","v":"Фамилия_1 Имя Отчество"}]
[13,{"$f":"'Техническая по возраст группам'!C33","v":"Девушки"},null,{"$f":"'Техническая по возраст группам'!D33","v":" "},{"$f":"'Техническая по возраст группам'!E33","v":"00:00:00"},{"$f":"IF('Техническая по возраст группам'!G33=\"Ж\",\"спортсменка\",IF('Техническая по возраст группам'!G33=\"М\",\"спортсмен\",\"не понятно кто\"))","v":"спортсменка"},{"$f":"'Техническая по возраст группам'!H33","v":"г.р.???"},{"$f":"'Техническая по возраст группам'!B33","v":"КМС"},{"$f":"'Техническая по возраст группам'!I33","v":"Фамилия_1 Имя Отчество"}]
[14,{"$f":"'Техническая по возраст группам'!C34","v":"Девушки"},null,{"$f":"'Техническая по возраст группам'!D34","v":" "},{"$f":"'Техническая по возраст группам'!E34","v":"00:00:00"},{"$f":"IF('Техническая по возраст группам'!G34=\"Ж\",\"спортсменка\",IF('Техническая по возраст группам'!G34=\"М\",\"спортсмен\",\"не понятно кто\"))","v":"спортсменка"},{"$f":"'Техническая по возраст группам'!H34","v":"г.р.???"},{"$f":"'Техническая по возраст группам'!B34","v":"I"},{"$f":"'Техническая по возраст группам'!I34","v":"Фамилия_1 Имя Отчество"}]
[15,{"$f":"'Техническая по возраст группам'!C35","v":"Девушки"},null,{"$f":"'Техническая по возраст группам'!D35","v":" "},{"$f":"'Техническая по возраст группам'!E35","v":"00:00:00"},{"$f":"IF('Техническая по возраст группам'!G35=\"Ж\",\"спортсменка\",IF('Техническая по возраст группам'!G35=\"М\",\"спортсмен\",\"не понятно кто\"))","v":"спортсменка"},{"$f":"'Техническая по возраст группам'!H35","v":"г.р.???"},{"$f":"'Техническая по возраст группам'!B35","v":"II"},{"$f":"'Техническая по возраст группам'!I35","v":"Фамилия_1 Имя Отчество"}]
[16,{"$f":"'Техническая по возраст группам'!C36","v":"Девушки"},null,{"$f":"'Техническая по возраст группам'!D36","v":" "},{"$f":"'Техническая по возраст группам'!E36","v":"00:00:00"},{"$f":"IF('Техническая по возраст группам'!G36=\"Ж\",\"спортсменка\",IF('Техническая по возраст группам'!G36=\"М\",\"спортсмен\",\"не понятно кто\"))","v":"спортсменка"},{"$f":"'Техническая по возраст группам'!H36","v":"г.р.???"},{"$f":"'Техническая по возраст группам'!B36","v":"II"},{"$f":"'Техническая по возраст группам'!I36","v":"Фамилия_1 Имя Отчество"}]
[17,{"$f":"'Техническая по возраст группам'!C37","v":"Девушки"},null,{"$f":"'Техническая по возраст группам'!D37","v":" "},{"$f":"'Техническая по возраст группам'!E37","v":"00:00:00"},{"$f":"IF('Техническая по возраст группам'!G37=\"Ж\",\"спортсменка\",IF('Техническая по возраст группам'!G37=\"М\",\"спортсмен\",\"не понятно кто\"))","v":"спортсменка"},{"$f":"'Техническая по возраст группам'!H37","v":"г.р.???"},{"$f":"'Техническая по возраст группам'!B37","v":"II"},{"$f":"'Техническая по возраст группам'!I37","v":"Фамилия_1 Имя Отчество"}]
[18,{"$f":"'Техническая по возраст группам'!C38","v":"Девушки"},null,{"$f":"'Техническая по возраст группам'!D38","v":" "},{"$f":"'Техническая по возраст группам'!E38","v":"00:00:00"},{"$f":"IF('Техническая по возраст группам'!G38=\"Ж\",\"спортсменка\",IF('Техническая по возраст группам'!G38=\"М\",\"спортсмен\",\"не понятно кто\"))","v":"спортсменка"},{"$f":"'Техническая по возраст группам'!H38","v":"г.р.???"},{"$f":"'Техническая по возраст группам'!B38","v":"II"},{"$f":"'Техническая по возраст группам'!I38","v":"Фамилия_1 Имя Отчество"}]
[19,{"$f":"'Техническая по возраст группам'!C39","v":"Девушки"},null,{"$f":"'Техническая по возраст группам'!D39","v":" "},{"$f":"'Техническая по возраст группам'!E39","v":"00:00:00"},{"$f":"IF('Техническая по возраст группам'!G39=\"Ж\",\"спортсменка\",IF('Техническая по возраст группам'!G39=\"М\",\"спортсмен\",\"не понятно кто\"))","v":"спортсменка"},{"$f":"'Техническая по возраст группам'!H39","v":"г.р.???"},{"$f":"'Техническая по возраст группам'!B39","v":"II"},{"$f":"'Техническая по возраст группам'!I39","v":"Фамилия_1 Имя Отчество"}]
[20,{"$f":"'Техническая по возраст группам'!C40","v":"Девушки"},null,{"$f":"'Техническая по возраст группам'!D40","v":" "},{"$f":"'Техническая по возраст группам'!E40","v":"00:00:00"},{"$f":"IF('Техническая по возраст группам'!G40=\"Ж\",\"спортсменка\",IF('Техническая по возраст группам'!G40=\"М\",\"спортсмен\",\"не понятно кто\"))","v":"спортсменка"},{"$f":"'Техническая по возраст группам'!H40","v":"г.р.???"},{"$f":"'Техническая по возраст группам'!B40","v":"II"},{"$f":"'Техническая по возраст группам'!I40","v":"Фамилия_1 Имя Отчество"}]
[21,{"$f":"'Техническая по возраст группам'!C41","v":"Девушки"},null,{"$f":"'Техническая по возраст группам'!D41","v":" "},{"$f":"'Техническая по возраст группам'!E41","v":"00:00:00"},{"$f":"IF('Техническая по возраст группам'!G41=\"Ж\",\"спортсменка\",IF('Техническая по возраст группам'!G41=\"М\",\"спортсмен\",\"не понятно кто\"))","v":"спортсменка"},{"$f":"'Техническая по возраст группам'!H41","v":"г.р.???"},{"$f":"'Техническая по возраст группам'!B41","v":"II"},{"$f":"'Техническая по возраст группам'!I41","v":"Фамилия_1 Имя Отчество"}]
[22,{"$f":"'Техническая по возраст группам'!C42","v":"Девушки"},null,{"$f":"'Техническая по возраст группам'!D42","v":" "},{"$f":"'Техническая по возраст группам'!E42","v":"00:00:00"},{"$f":"IF('Техническая по возраст группам'!G42=\"Ж\",\"спортсменка\",IF('Техническая по возраст группам'!G42=\"М\",\"спортсмен\",\"не понятно кто\"))","v":"спортсменка"},{"$f":"'Техническая по возраст группам'!H42","v":"г.р.???"},{"$f":"'Техническая по возраст группам'!B42","v":"I юн"},{"$f":"'Техническая по возраст группам'!I42","v":"Фамилия_1 Имя Отчество"}]
[23,{"$f":"'Техническая по возраст группам'!C43","v":"Девушки"},null,{"$f":"'Техническая по возраст группам'!D43","v":" "},{"$f":"'Техническая по возраст группам'!E43","v":"00:00:00"},{"$f":"IF('Техническая по возраст группам'!G43=\"Ж\",\"спортсменка\",IF('Техническая по возраст группам'!G43=\"М\",\"спортсмен\",\"не понятно кто\"))","v":"спортсменка"},{"$f":"'Техническая по возраст группам'!H43","v":"г.р.???"},{"$f":"'Техническая по возраст группам'!B43","v":"МС"},{"$f":"'Техническая по возраст группам'!I43","v":"Фамилия_1 Имя Отчество"}]
[24,{"$f":"'Техническая по возраст группам'!C44","v":"Девушки"},null,{"$f":"'Техническая по возраст группам'!D44","v":" "},{"$f":"'Техническая по возраст группам'!E44","v":"00:00:00"},{"$f":"IF('Техническая по возраст группам'!G44=\"Ж\",\"спортсменка\",IF('Техническая по возраст группам'!G44=\"М\",\"спортсмен\",\"не понятно кто\"))","v":"спортсменка"},{"$f":"'Техническая по возраст группам'!H44","v":"г.р.???"},{"$f":"'Техническая по возраст группам'!B44","v":"I"},{"$f":"'Техническая по возраст группам'!I44","v":"Фамилия_1 Имя Отчество"}]
[25,{"$f":"'Техническая по возраст группам'!C45","v":"Девушки"},null,{"$f":"'Техническая по возраст группам'!D45","v":" "},{"$f":"'Техническая по возраст группам'!E45","v":"00:00:00"},{"$f":"IF('Техническая по возраст группам'!G45=\"Ж\",\"спортсменка\",IF('Техническая по возраст группам'!G45=\"М\",\"спортсмен\",\"не понятно кто\"))","v":"спортсменка"},{"$f":"'Техническая по возраст группам'!H45","v":"г.р.???"},{"$f":"'Техническая по возраст группам'!B45","v":"II"},{"$f":"'Техническая по возраст группам'!I45","v":"Фамилия_1 Имя Отчество"}]
[26,{"$f":"'Техническая по возраст группам'!C46","v":"Юноши"},null,{"$f":"'Техническая по возраст группам'!D46","v":" "},{"$f":"'Техническая по возраст группам'!E46","v":"00:00:00"},{"$f":"IF('Техническая по возраст группам'!G46=\"Ж\",\"спортсменка\",IF('Техническая по возраст группам'!G46=\"М\",\"спортсмен\",\"не понятно кто\"))","v":"спортсмен"},{"$f":"'Техническая по возраст группам'!H46","v":"г.р.???"},{"$f":"'Техническая по возраст группам'!B46","v":"III юн"},{"$f":"'Техническая по возраст группам'!I46","v":"Фамилия_1 Имя Отчество"}]
[27,{"$f":"'Техническая по возраст группам'!C47","v":"Юноши"},null,{"$f":"'Техническая по возраст группам'!D47","v":" "},{"$f":"'Техническая по возраст группам'!E47","v":"00:00:00"},{"$f":"IF('Техническая по возраст группам'!G47=\"Ж\",\"спортсменка\",IF('Техническая по возраст группам'!G47=\"М\",\"спортсмен\",\"не понятно кто\"))","v":"спортсмен"},{"$f":"'Техническая по возраст группам'!H47","v":"г.р.???"},{"$f":"'Техническая по возраст группам'!B47","v":"II"},{"$f":"'Техническая по возраст группам'!I47","v":"Фамилия_1 Имя Отчество"}]
[28,{"$f":"'Техническая по возраст группам'!C48","v":"Юноши"},null,{"$f":"'Техническая по возраст группам'!D48","v":" "},{"$f":"'Техническая по возраст группам'!E48","v":"00:00:00"},{"$f":"IF('Техническая по возраст группам'!G48=\"Ж\",\"спортсменка\",IF('Техническая по возраст группам'!G48=\"М\",\"спортсмен\",\"не понятно кто\"))","v":"спортсмен"},{"$f":"'Техническая по возраст группам'!H48","v":"г.р.???"},{"$f":"'Техническая по возраст группам'!B48","v":"II"},{"$f":"'Техническая по возраст группам'!I48","v":"Фамилия_1 Имя Отчество"}]
[29,{"$f":"'Техническая по возраст группам'!C49","v":"Юноши"},null,{"$f":"'Техническая по возраст группам'!D49","v":" "},{"$f":"'Техническая по возраст группам'!E49","v":"00:00:00"},{"$f":"IF('Техническая по возраст группам'!G49=\"Ж\",\"спортсменка\",IF('Техническая по возраст группам'!G49=\"М\",\"спортсмен\",\"не понятно кто\"))","v":"спортсмен"},{"$f":"'Техническая по возраст группам'!H49","v":"г.р.???"},{"$f":"'Техническая по возраст группам'!B49","v":"II"},{"$f":"'Техническая по возраст группам'!I49","v":"Фамилия_1 Имя Отчество"}]
[30,{"$f":"'Техническая по возраст группам'!C50","v":"Юноши"},null,{"$f":"'Техническая по возраст группам'!D50","v":" "},{"$f":"'Техническая по возраст группам'!E50","v":"00:00:00"},{"$f":"IF('Техническая по возраст группам'!G50=\"Ж\",\"спортсменка\",IF('Техническая по возраст группам'!G50=\"М\",\"спортсмен\",\"не понятно кто\"))","v":"спортсмен"},{"$f":"'Техническая по возраст группам'!H50","v":"г.р.???"},{"$f":"'Техническая по возраст группам'!B50","v":"II"},{"$f":"'Техническая по возраст группам'!I50","v":"Фамилия_1 Имя Отчество"}]
[31,{"$f":"'Техническая по возраст группам'!C51","v":"Юноши"},null,{"$f":"'Техническая по возраст группам'!D51","v":" "},{"$f":"'Техническая по возраст группам'!E51","v":"00:00:00"},{"$f":"IF('Техническая по возраст группам'!G51=\"Ж\",\"спортсменка\",IF('Техническая по возраст группам'!G51=\"М\",\"спортсмен\",\"не понятно кто\"))","v":"спортсмен"},{"$f":"'Техническая по возраст группам'!H51","v":"г.р.???"},{"$f":"'Техническая по возраст группам'!B51","v":"II"},{"$f":"'Техническая по возраст группам'!I51","v":"Фамилия_1 Имя Отчество"}]
[32,{"$f":"'Техническая по возраст группам'!C52","v":"Юноши"},null,{"$f":"'Техническая по возраст группам'!D52","v":" "},{"$f":"'Техническая по возраст группам'!E52","v":"00:00:00"},{"$f":"IF('Техническая по возраст группам'!G52=\"Ж\",\"спортсменка\",IF('Техническая по возраст группам'!G52=\"М\",\"спортсмен\",\"не понятно кто\"))","v":"спортсмен"},{"$f":"'Техническая по возраст группам'!H52","v":"г.р.???"},{"$f":"'Техническая по возраст группам'!B52","v":"II"},{"$f":"'Техническая по возраст группам'!I52","v":"Фамилия_1 Имя Отчество"}]
[33,{"$f":"'Техническая по возраст группам'!C53","v":"Юноши"},null,{"$f":"'Техническая по возраст группам'!D53","v":" "},{"$f":"'Техническая по возраст группам'!E53","v":"00:00:00"},{"$f":"IF('Техническая по возраст группам'!G53=\"Ж\",\"спортсменка\",IF('Техническая по возраст группам'!G53=\"М\",\"спортсмен\",\"не понятно кто\"))","v":"спортсмен"},{"$f":"'Техническая по возраст группам'!H53","v":"г.р.???"},{"$f":"'Техническая по возраст группам'!B53","v":"II"},{"$f":"'Техническая по возраст группам'!I53","v":"Фамилия_1 Имя Отчество"}]
[34,{"$f":"'Техническая по возраст группам'!C54","v":"Юноши"},null,{"$f":"'Техническая по возраст группам'!D54","v":" "},{"$f":"'Техническая по возраст группам'!E54","v":"00:00:00"},{"$f":"IF('Техническая по возраст группам'!G54=\"Ж\",\"спортсменка\",IF('Техническая по возраст группам'!G54=\"М\",\"спортсмен\",\"не понятно кто\"))","v":"спортсмен"},{"$f":"'Техническая по возраст группам'!H54","v":"г.р.???"},{"$f":"'Техническая по возраст группам'!B54","v":"ЗМС"},{"$f":"'Техническая по возраст группам'!I54","v":"Фамилия_1 Имя Отчество"}]
[35,{"$f":"'Техническая по возраст группам'!C55","v":"Юноши"},null,{"$f":"'Техническая по возраст группам'!D55","v":" "},{"$f":"'Техническая по возраст группам'!E55","v":"00:00:00"},{"$f":"IF('Техническая по возраст группам'!G55=\"Ж\",\"спортсменка\",IF('Техническая по возраст группам'!G55=\"М\",\"спортсмен\",\"не понятно кто\"))","v":"спортсмен"},{"$f":"'Техническая по возраст группам'!H55","v":"г.р.???"},{"$f":"'Техническая по возраст группам'!B55","v":"МСМК"},{"$f":"'Техническая по возраст группам'!I55","v":"Фамилия_1 Имя Отчество"}]
[36,{"$f":"'Техническая по возраст группам'!C56","v":"Юноши"},null,{"$f":"'Техническая по возраст группам'!D56","v":" "},{"$f":"'Техническая по возраст группам'!E56","v":"00:00:00"},{"$f":"IF('Техническая по возраст группам'!G56=\"Ж\",\"спортсменка\",IF('Техническая по возраст группам'!G56=\"М\",\"спортсмен\",\"не понятно кто\"))","v":"спортсмен"},{"$f":"'Техническая по возраст группам'!H56","v":"г.р.???"},{"$f":"'Техническая по возраст группам'!B56","v":"МС"},{"$f":"'Техническая по возраст группам'!I56","v":"Фамилия_1 Имя Отчество"}]
[37,{"$f":"'Техническая по возраст группам'!C57","v":"Юноши"},null,{"$f":"'Техническая по возраст группам'!D57","v":" "},{"$f":"'Техническая по возраст группам'!E57","v":"00:00:00"},{"$f":"IF('Техническая по возраст группам'!G57=\"Ж\",\"спортсменка\",IF('Техническая по возраст группам'!G57=\"М\",\"спортсмен\",\"не понятно кто\"))","v":"спортсмен"},{"$f":"'Техническая по возраст группам'!H57","v":"г.р.???"},{"$f":"'Техническая по возраст группам'!B57","v":"КМС"},{"$f":"'Техническая по возраст группам'!I57","v":"Фамилия_1 Имя Отчество"}]
[38,{"$f":"'Техническая по возраст группам'!C58","v":"Юноши"},null,{"$f":"'Техническая по возраст группам'!D58","v":" "},{"$f":"'Техническая по возраст группам'!E58","v":"00:00:00"},{"$f":"IF('Техническая по возраст группам'!G58=\"Ж\",\"спортсменка\",IF('Техническая по возраст группам'!G58=\"М\",\"спортсмен\",\"не понятно кто\"))","v":"спортсмен"},{"$f":"'Техническая по возраст группам'!H58","v":"г.р.???"},{"$f":"'Техническая по возраст группам'!B58","v":"КМС"},{"$f":"'Техническая по возраст группам'!I58","v":"Фамилия_1 Имя Отчество"}]
[39,{"$f":"'Техническая по возраст группам'!C59","v":"Юноши"},null,{"$f":"'Техническая по возраст группам'!D59","v":" "},{"$f":"'Техническая по возраст группам'!E59","v":"00:00:00"},{"$f":"IF('Техническая по возраст группам'!G59=\"Ж\",\"спортсменка\",IF('Техническая по возраст группам'!G59=\"М\",\"спортсмен\",\"не понятно кто\"))","v":"спортсмен"},{"$f":"'Техническая по возраст группам'!H59","v":"г.р.???"},{"$f":"'Техническая по возраст группам'!B59","v":"КМС"},{"$f":"'Техническая по возраст группам'!I59","v":"Фамилия_1 Имя Отчество"}]
[40,{"$f":"'Техническая по возраст группам'!C60","v":"Юноши"},null,{"$f":"'Техническая по возраст группам'!D60","v":" "},{"$f":"'Техническая по возраст группам'!E60","v":"00:00:00"},{"$f":"IF('Техническая по возраст группам'!G60=\"Ж\",\"спортсменка\",IF('Техническая по возраст группам'!G60=\"М\",\"спортсмен\",\"не понятно кто\"))","v":"спортсмен"},{"$f":"'Техническая по возраст группам'!H60","v":"г.р.???"},{"$f":"'Техническая по возраст группам'!B60","v":"КМС"},{"$f":"'Техническая по возраст группам'!I60","v":"Фамилия_1 Имя Отчество"}]
[41,{"$f":"'Техническая по возраст группам'!C61","v":"Юноши"},null,{"$f":"'Техническая по возраст группам'!D61","v":" "},{"$f":"'Техническая по возраст группам'!E61","v":"00:00:00"},{"$f":"IF('Техническая по возраст группам'!G61=\"Ж\",\"спортсменка\",IF('Техническая по возраст группам'!G61=\"М\",\"спортсмен\",\"не понятно кто\"))","v":"спортсмен"},{"$f":"'Техническая по возраст группам'!H61","v":"г.р.???"},{"$f":"'Техническая по возраст группам'!B61","v":"II юн"},{"$f":"'Техническая по возраст группам'!I61","v":"Фамилия_1 Имя Отчество"}]
[42,{"$f":"'Техническая по возраст группам'!C62","v":"Юноши"},null,{"$f":"'Техническая по возраст группам'!D62","v":" "},{"$f":"'Техническая по возраст группам'!E62","v":"00:00:00"},{"$f":"IF('Техническая по возраст группам'!G62=\"Ж\",\"спортсменка\",IF('Техническая по возраст группам'!G62=\"М\",\"спортсмен\",\"не понятно кто\"))","v":"спортсмен"},{"$f":"'Техническая по возраст группам'!H62","v":"г.р.???"},{"$f":"'Техническая по возраст группам'!B62","v":"II юн"},{"$f":"'Техническая по возраст группам'!I62","v":"Фамилия_1 Имя Отчество"}]
[43,{"$f":"'Техническая по возраст группам'!C63","v":"Юноши"},null,{"$f":"'Техническая по возраст группам'!D63","v":" "},{"$f":"'Техническая по возраст группам'!E63","v":"00:00:00"},{"$f":"IF('Техническая по возраст группам'!G63=\"Ж\",\"спортсменка\",IF('Техническая по возраст группам'!G63=\"М\",\"спортсмен\",\"не понятно кто\"))","v":"спортсмен"},{"$f":"'Техническая по возраст группам'!H63","v":"г.р.???"},{"$f":"'Техническая по возраст группам'!B63","v":"II юн"},{"$f":"'Техническая по возраст группам'!I63","v":"Фамилия_1 Имя Отчество"}]
[44,{"$f":"'Техническая по возраст группам'!C64","v":"Юноши"},null,{"$f":"'Техническая по возраст группам'!D64","v":" "},{"$f":"'Техническая по возраст группам'!E64","v":"00:00:00"},{"$f":"IF('Техническая по возраст группам'!G64=\"Ж\",\"спортсменка\",IF('Техническая по возраст группам'!G64=\"М\",\"спортсмен\",\"не понятно кто\"))","v":"спортсмен"},{"$f":"'Техническая по возраст группам'!H64","v":"г.р.???"},{"$f":"'Техническая по возраст группам'!B64","v":"II юн"},{"$f":"'Техническая по возраст группам'!I64","v":"Фамилия_1 Имя Отчество"}]
[45,{"$f":"'Техническая по возраст группам'!C65","v":"Юноши"},null,{"$f":"'Техническая по возраст группам'!D65","v":" "},{"$f":"'Техническая по возраст группам'!E65","v":"00:00:00"},{"$f":"IF('Техническая по возраст группам'!G65=\"Ж\",\"спортсменка\",IF('Техническая по возраст группам'!G65=\"М\",\"спортсмен\",\"не понятно кто\"))","v":"спортсмен"},{"$f":"'Техническая по возраст группам'!H65","v":"г.р.???"},{"$f":"'Техническая по возраст группам'!B65","v":"II юн"},{"$f":"'Техническая по возраст группам'!I65","v":"Фамилия_1 Имя Отчество"}]
[46,{"$f":"'Техническая по возраст группам'!C66","v":"Юноши"},null,{"$f":"'Техническая по возраст группам'!D66","v":" "},{"$f":"'Техническая по возраст группам'!E66","v":"00:00:00"},{"$f":"IF('Техническая по возраст группам'!G66=\"Ж\",\"спортсменка\",IF('Техническая по возраст группам'!G66=\"М\",\"спортсмен\",\"не понятно кто\"))","v":"спортсмен"},{"$f":"'Техническая по возраст группам'!H66","v":"г.р.???"},{"$f":"'Техническая по возраст группам'!B66","v":"III юн"},{"$f":"'Техническая по возраст группам'!I66","v":"Фамилия_1 Имя Отчество"}]
[47,{"$f":"'Техническая по возраст группам'!C67","v":"Юноши"},null,{"$f":"'Техническая по возраст группам'!D67","v":" "},{"$f":"'Техническая по возраст группам'!E67","v":"00:00:00"},{"$f":"IF('Техническая по возраст группам'!G67=\"Ж\",\"спортсменка\",IF('Техническая по возраст группам'!G67=\"М\",\"спортсмен\",\"не понятно кто\"))","v":"спортсмен"},{"$f":"'Техническая по возраст группам'!H67","v":"г.р.???"},{"$f":"'Техническая по возраст группам'!B67","v":"I юн"},{"$f":"'Техническая по возраст группам'!I67","v":"Фамилия_1 Имя Отчество"}]
[48,{"$f":"'Техническая по возраст группам'!C68","v":"Юноши"},null,{"$f":"'Техническая по возраст группам'!D68","v":" "},{"$f":"'Техническая по возраст группам'!E68","v":"00:00:00"},{"$f":"IF('Техническая по возраст группам'!G68=\"Ж\",\"спортсменка\",IF('Техническая по возраст группам'!G68=\"М\",\"спортсмен\",\"не понятно кто\"))","v":"спортсмен"},{"$f":"'Техническая по возраст группам'!H68","v":"г.р.???"},{"$f":"'Техническая по возраст группам'!B68","v":"III"},{"$f":"'Техническая по возраст группам'!I68","v":"Фамилия_1 Имя Отчество"}]
[49,{"$f":"'Техническая по возраст группам'!C69","v":"Юноши"},null,{"$f":"'Техническая по возраст группам'!D69","v":" "},{"$f":"'Техническая по возраст группам'!E69","v":"00:00:00"},{"$f":"IF('Техническая по возраст группам'!G69=\"Ж\",\"спортсменка\",IF('Техническая по возраст группам'!G69=\"М\",\"спортсмен\",\"не понятно кто\"))","v":"спортсмен"},{"$f":"'Техническая по возраст группам'!H69","v":"г.р.???"},{"$f":"'Техническая по возраст группам'!B69","v":"I юн"},{"$f":"'Техническая по возраст группам'!I69","v":"Фамилия_1 Имя Отчество"}]
[50,{"$f":"'Техническая по возраст группам'!C70","v":"Юноши"},null,{"$f":"'Техническая по возраст группам'!D70","v":" "},{"$f":"'Техническая по возраст группам'!E70","v":"00:00:00"},{"$f":"IF('Техническая по возраст группам'!G70=\"Ж\",\"спортсменка\",IF('Техническая по возраст группам'!G70=\"М\",\"спортсмен\",\"не понятно кто\"))","v":"спортсмен"},{"$f":"'Техническая по возраст группам'!H70","v":"г.р.???"},{"$f":"'Техническая по возраст группам'!B70","v":"II юн"},{"$f":"'Техническая по возраст группам'!I70","v":"Фамилия_1 Имя Отчество"}]
[]
[null,"Тренеры:",null,{"$f":"'Техническая по возраст группам'!E75","v":"Фамилия_1 Имя Отчество"},null,null,"Судьи:"]
[{"$nulls":3},{"$f":"'Техническая по возраст группам'!E76","v":"Фамилия_2 Имя Отчество"}]
[{"$nulls":3},{"$f":"'Техническая по возраст группам'!E77","v":"Фамилия_3 Имя Отчество"}]
[]
[{"$nulls":3},"Представитель команды",{"$nulls":3},{"$f":"'Техническая по возраст группам'!E75","v":"Фамилия_1 Имя Отчество"}]
[{"$nulls":5},"подпись",{"$nulls":3},"расшифровка подписи"]
[]
["К соревнованиям допущено",{"$nulls":4},"спортсменов Врач"]
[{"$nulls":8},"подпись",null,"расшифровка подписи"]
[]
["Министр спорта Региона (председатель спорткомитета, директор ДЮСТШ)"]
[{"$nulls":5},"подпись",{"$nulls":3},"расшифровка подписи"]
[]
["Председатель Федерации Подводного Спорта Региона"]
[{"$nulls":5},"подпись",{"$nulls":3},"расшифровка подписи"]

{"sheet":"Техническая_марафон","index":14,"n_rows":100,"n_cols":30,"rows_kept":100,"merged":[[3,1,4,28],[6,1,7,28],[9,7,9,14],[9,15,10,19],[9,20,10,28],[9,29,12,39],[10,8,10,10],[10,11,10,12],[10,13,10,14],[11,8,11,10],[11,11,11,12],[11,13,11,14],[11,15,12,19],[11,20,12,28],[12,8,12,10],[12,11,12,12],[12,13,12,14],[13,0,13,39],[18,0,19,0],[18,1,19,1],[18,2,19,3],[18,4,19,4],[18,5,19,5],[18,6,19,6],[18,7,19,7],[18,8,19,8],[18,9,19,9],[18,10,18,11],[18,12,18,13],[86,1,86,37],[87,1,87,20],[89,1,89,38],[90,1,90,37],[91,1,91,37],[92,1,92,37],[99,1,99,31]]}
[null,"Настройки:"]
[null,"Следует иметь ввиду, что расчет возраста ведется от текущей даты, установленной на компьютере. Это необходимо учитывать, если соревнования будут проходить в следующем году."]
[null,"1. Ввести название соревнований и дату проведения."]
[null,"2. Ввести возраст  от и до количества лет (не годов рождения!!!)  участников соревнований. У участников, возраст которых не попадает в этот диапазон, года рождения будут высвечиваться на красном фоне. "]
[]
[null,"3. Ограничения по разрядам (недопускаемые разряды просто удаляются)"]
[null,"4. Выделяются строки (именно строки!!!) с 1 по 13 (окрашены синим цветом), нажимается правая кнопка мыши и выбирается \"Скрыть\". Сохранить файл  под нужным Вам названием. Для отображения настроек соревнований выделить строки (именно строки!!!) с 14 и вверх , нажать правую кнопку мыши  и выбрать \" Отобразить\" (или \"Показать\")"]
[]
[]
[null,"Сведения о соревнованиях:",{"$nulls":5},"Ограничения по разрядам ",{"$nulls":7},"Место проведения:",{"$nulls":4},"г. Город, бассейн \"ААА\", 50 м",{"$nulls":8},"НЕ ИЗМЕНЯТЬ!!! Служебные поля, заполняются организаторами соревнований"]
[null,"Состав команды:",null,"женщин",7,"в  зачет",3,"ЗМС","КМС",null,null,"III",null,"III юн"]
[{"$nulls":3},"мужчин",7,"лично",2,"МСМК","I",null,null,"I юн",null,"б/р",null,"Сроки проведения:",{"$nulls":4},"02-06 февраля 2015 г."]
[null,null,"Возраст, лет","от",17,"до",14,"МС","II",null,null,"II юн"]
["ТЕХНИЧЕСКАЯ ЗАЯВКА"]
[{"$nulls":3},"Сборной команды","Полное Название команды, город (край, область и пр.)"]
[{"$nulls":3},"Краткое название","Сокращенное название"]
[{"$nulls":4},"на участие в соревнованиях",null,"Название Соревнований по подводному спорту (1460008511Я) (плавание в ластах)"]
[]
["№ п/п","Разряд, звание","Фамилия Имя",null,"Год рожд.","Команда","Пол","Тренер","Зачетов","Лично","Марафонский заплыв",null,"Эстафета",null,null,"Очки","Зачеты","Лично"]
[{"$nulls":10},"6 км","зачет","4 х 2 км","Этап",null,{"$f":"SUMIFS(#REF!,#REF!,$B20,#REF!,$D20,#REF!,$F20)","v":{"$error":"#REF!"}},{"$f":"COUNTIFS(#REF!,$B20,#REF!,$D20,#REF!,$F20,#REF!,\">=0\")","v":{"$error":"#REF!"}},{"$f":"COUNTIFS(#REF!,$B20,#REF!,$D20,#REF!,$F20,#REF!,\"лично\")","v":{"$error":"#REF!"}}]
[1,"I","Девушки"," ","1999-06-24",{"$f":"$E$16","v":"Сокращенное название"},"Ж",{"$f":"E76","v":"Фамилия_1 Имя Отчество"},{"$f":"COUNTIF(K21:L21,\">=0\")-COUNTIF(K21:L21,\"в\")-COUNTIF(K21:L21,\"л\")","v":0},{"$f":"COUNTIF(K21:L21,\"л\")","v":0},{"$nulls":5},{"$f":"SUMIFS(#REF!,#REF!,$C21,#REF!,$E21,#REF!,$F21)","v":{"$error":"#REF!"}},{"$f":"COUNTIFS(#REF!,$C21,#REF!,$E21,#REF!,$F21,#REF!,\">=0\")","v":{"$error":"#REF!"}},{"$f":"COUNTIFS(#REF!,$C21,#REF!,$E21,#REF!,$F21,#REF!,\"лично\")","v":{"$error":"#REF!"}},null,"ЗМС"]
[{"$f":"A21+1","v":2},"I","Девушки"," ",null,"Сокращенное название","Ж",{"$f":"H21","v":"Фамилия_1 Имя Отчество"},0,0,{"$nulls":5},{"$f":"SUMIFS(#REF!,#REF!,$C22,#REF!,$E22,#REF!,$F22)","v":{"$error":"#REF!"}},{"$f":"COUNTIFS(#REF!,$C22,#REF!,$E22,#REF!,$F22,#REF!,\">=0\")","v":{"$error":"#REF!"}},{"$f":"COUNTIFS(#REF!,$C22,#REF!,$E22,#REF!,$F22,#REF!,\"лично\")","v":{"$error":"#REF!"}},null,"МСМК"]
[3,"ЗМС","Девушки"," ",null,"Сокращенное название","Ж",{"$f":"H22","v":"Фамилия_1 Имя Отчество"},0,0,{"$nulls":5},{"$f":"SUMIFS(#REF!,#REF!,$C23,#REF!,$E23,#REF!,$F23)","v":{"$error":"#REF!"}},{"$f":"COUNTIFS(#REF!,$C23,#REF!,$E23,#REF!,$F23,#REF!,\">=0\")","v":{"$error":"#REF!"}},{"$f":"COUNTIFS(#REF!,$C23,#REF!,$E23,#REF!,$F23,#REF!,\"лично\")","v":{"$error":"#REF!"}},null,"МС"]
[4,"МСМК","Девушки"," ",null,"Сокращенное название","Ж","Фамилия_1 Имя Отчество",0,0,{"$nulls":5},{"$f":"SUMIFS(#REF!,#REF!,$C24,#REF!,$E24,#REF!,$F24)","v":{"$error":"#REF!"}},{"$f":"COUNTIFS(#REF!,$C24,#REF!,$E24,#REF!,$F24,#REF!,\">=0\")","v":{"$error":"#REF!"}},{"$f":"COUNTIFS(#REF!,$C24,#REF!,$E24,#REF!,$F24,#REF!,\"лично\")","v":{"$error":"#REF!"}},null,"КМС"]
[5,"МС","Девушки"," ",null,"Сокращенное название","Ж","Фамилия_1 Имя Отчество",0,0,{"$nulls":5},{"$f":"SUMIFS(#REF!,#REF!,$C25,#REF!,$E25,#REF!,$F25)","v":{"$error":"#REF!"}},{"$f":"COUNTIFS(#REF!,$C25,#REF!,$E25,#REF!,$F25,#REF!,\">=0\")","v":{"$error":"#REF!"}},{"$f":"COUNTIFS(#REF!,$C25,#REF!,$E25,#REF!,$F25,#REF!,\"лично\")","v":{"$error":"#REF!"}},null,"I"]
[6,"КМС","Девушки"," ",null,"Сокращенное название","Ж","Фамилия_1 Имя Отчество",0,0,{"$nulls":5},{"$f":"SUMIFS(#REF!,#REF!,$C26,#REF!,$E26,#REF!,$F26)","v":{"$error":"#REF!"}},{"$f":"COUNTIFS(#REF!,$C26,#REF!,$E26,#REF!,$F26,#REF!,\">=0\")","v":{"$error":"#REF!"}},{"$f":"COUNTIFS(#REF!,$C26,#REF!,$E26,#REF!,$F26,#REF!,\"лично\")","v":{"$error":"#REF!"}},null,"II"]
[7,"I","Девушки"," ",null,"Сокращенное название","Ж","Фамилия_1 Имя Отчество",0,0,{"$nulls":5},{"$f":"SUMIFS(#REF!,#REF!,$C27,#REF!,$E27,#REF!,$F27)","v":{"$error":"#REF!"}},{"$f":"COUNTIFS(#REF!,$C27,#REF!,$E27,#REF!,$F27,#REF!,\">=0\")","v":{"$error":"#REF!"}},{"$f":"COUNTIFS(#REF!,$C27,#REF!,$E27,#REF!,$F27,#REF!,\"лично\")","v":{"$error":"#REF!"}},null,"III"]
[8,"I","Девушки"," ",null,"Сокращенное название","Ж","Фамилия_1 Имя Отчество",0,0,{"$nulls":5},{"$f":"SUMIFS(#REF!,#REF!,$C28,#REF!,$E28,#REF!,$F28)","v":{"$error":"#REF!"}},{"$f":"COUNTIFS(#REF!,$C28,#REF!,$E28,#REF!,$F28,#REF!,\">=0\")","v":{"$error":"#REF!"}},{"$f":"COUNTIFS(#REF!,$C28,#REF!,$E28,#REF!,$F28,#REF!,\"лично\")","v":{"$error":"#REF!"}},null,"I юн"]
[9,"III","Девушки"," ",null,"Сокращенное название","Ж","Фамилия_1 Имя Отчество",0,0,{"$nulls":5},{"$f":"SUMIFS(#REF!,#REF!,$C29,#REF!,$E29,#REF!,$F29)","v":{"$error":"#REF!"}},{"$f":"COUNTIFS(#REF!,$C29,#REF!,$E29,#REF!,$F29,#REF!,\">=0\")","v":{"$error":"#REF!"}},{"$f":"COUNTIFS(#REF!,$C29,#REF!,$E29,#REF!,$F29,#REF!,\"лично\")","v":{"$error":"#REF!"}},null,"II юн"]
[10,"I","Девушки"," ",null,"Сокращенное название","Ж","Фамилия_1 Имя Отчество",0,0,{"$nulls":5},{"$f":"SUMIFS(#REF!,#REF!,$C30,#REF!,$E30,#REF!,$F30)","v":{"$error":"#REF!"}},{"$f":"COUNTIFS(#REF!,$C30,#REF!,$E30,#REF!,$F30,#REF!,\">=0\")","v":{"$error":"#REF!"}},{"$f":"COUNTIFS(#REF!,$C30,#REF!,$E30,#REF!,$F30,#REF!,\"лично\")","v":{"$error":"#REF!"}},null,"III юн"]
[11,"I юн","Девушки"," ",null,"Сокращенное название","Ж","Фамилия_1 Имя Отчество",0,0,{"$nulls":5},{"$f":"SUMIFS(#REF!,#REF!,$C31,#REF!,$E31,#REF!,$F31)","v":{"$error":"#REF!"}},{"$f":"COUNTIFS(#REF!,$C31,#REF!,$E31,#REF!,$F31,#REF!,\">=0\")","v":{"$error":"#REF!"}},{"$f":"COUNTIFS(#REF!,$C31,#REF!,$E31,#REF!,$F31,#REF!,\"лично\")","v":{"$error":"#REF!"}},null,"б/р"]
[12,"КМС","Девушки"," ",null,"Сокращенное название","Ж","Фамилия_1 Имя Отчество",0,0,{"$nulls":5},{"$f":"SUMIFS(#REF!,#REF!,$C32,#REF!,$E32,#REF!,$F32)","v":{"$error":"#REF!"}},{"$f":"COUNTIFS(#REF!,$C32,#REF!,$E32,#REF!,$F32,#REF!,\">=0\")","v":{"$error":"#REF!"}},{"$f":"COUNTIFS(#REF!,$C32,#REF!,$E32,#REF!,$F32,#REF!,\"лично\")","v":{"$error":"#REF!"}}]
[13,"I","Девушки"," ",null,"Сокращенное название","Ж","Фамилия_1 Имя Отчество",0,0,{"$nulls":5},{"$f":"SUMIFS(#REF!,#REF!,$C33,#REF!,$E33,#REF!,$F33)","v":{"$error":"#REF!"}},{"$f":"COUNTIFS(#REF!,$C33,#REF!,$E33,#REF!,$F33,#REF!,\">=0\")","v":{"$error":"#REF!"}},{"$f":"COUNTIFS(#REF!,$C33,#REF!,$E33,#REF!,$F33,#REF!,\"лично\")","v":{"$error":"#REF!"}}]
[14,"I","Девушки"," ",null,"Сокращенное название","Ж","Фамилия_1 Имя Отчество",0,0,{"$nulls":5},{"$f":"SUMIFS(#REF!,#REF!,$C34,#REF!,$E34,#REF!,$F34)","v":{"$error":"#REF!"}},{"$f":"COUNTIFS(#REF!,$C34,#REF!,$E34,#REF!,$F34,#REF!,\">=0\")","v":{"$error":"#REF!"}},{"$f":"COUNTIFS(#REF!,$C34,#REF!,$E34,#REF!,$F34,#REF!,\"лично\")","v":{"$error":"#REF!"}}]
[15,"I","Девушки"," ",null,"Сокращенное название","Ж","Фамилия_1 Имя Отчество",0,0,{"$nulls":5},{"$f":"SUMIFS(#REF!,#REF!,$C35,#REF!,$E35,#REF!,$F35)","v":{"$error":"#REF!"}},{"$f":"COUNTIFS(#REF!,$C35,#REF!,$E35,#REF!,$F35,#REF!,\">=0\")","v":{"$error":"#REF!"}},{"$f":"COUNTIFS(#REF!,$C35,#REF!,$E35,#REF!,$F35,#REF!,\"лично\")","v":{"$error":"#REF!"}}]
[16,"I","Девушки"," ",null,"Сокращенное название","Ж","Фамилия_1 Имя Отчество",0,0,{"$nulls":5},{"$f":"SUMIFS(#REF!,#REF!,$C36,#REF!,$E36,#REF!,$F36)","v":{"$error":"#REF!"}},{"$f":"COUNTIFS(#REF!,$C36,#REF!,$E36,#REF!,$F36,#REF!,\">=0\")","v":{"$error":"#REF!"}},{"$f":"COUNTIFS(#REF!,$C36,#REF!,$E36,#REF!,$F36,#REF!,\"лично\")","v":{"$error":"#REF!"}}]
[17,"I юн","Девушки"," ",null,"Сокращенное название","Ж","Фамилия_1 Имя Отчество",0,0,{"$nulls":5},{"$f":"SUMIFS(#REF!,#REF!,$C37,#REF!,$E37,#REF!,$F37)","v":{"$error":"#REF!"}},{"$f":"COUNTIFS(#REF!,$C37,#REF!,$E37,#REF!,$F37,#REF!,\">=0\")","v":{"$error":"#REF!"}},{"$f":"COUNTIFS(#REF!,$C37,#REF!,$E37,#REF!,$F37,#REF!,\"лично\")","v":{"$error":"#REF!"}}]
[18,"II юн","Девушки"," ",null,"Сокращенное название","Ж","Фамилия_1 Имя Отчество",0,0,{"$nulls":5},{"$f":"SUMIFS(#REF!,#REF!,$C38,#REF!,$E38,#REF!,$F38)","v":{"$error":"#REF!"}},{"$f":"COUNTIFS(#REF!,$C38,#REF!,$E38,#REF!,$F38,#REF!,\">=0\")","v":{"$error":"#REF!"}},{"$f":"COUNTIFS(#REF!,$C38,#REF!,$E38,#REF!,$F38,#REF!,\"лично\")","v":{"$error":"#REF!"}}]
[19,"III юн","Девушки"," ",null,"Сокращенное название","Ж","Фамилия_1 Имя Отчество",0,0,{"$nulls":5},{"$f":"SUMIFS(#REF!,#REF!,$C39,#REF!,$E39,#REF!,$F39)","v":{"$error":"#REF!"}},{"$f":"COUNTIFS(#REF!,$C39,#REF!,$E39,#REF!,$F39,#REF!,\">=0\")","v":{"$error":"#REF!"}},{"$f":"COUNTIFS(#REF!,$C39,#REF!,$E39,#REF!,$F39,#REF!,\"лично\")","v":{"$error":"#REF!"}}]
[20,"МСМК","Девушки"," ",null,"Сокращенное название","Ж","Фамилия_1 Имя Отчество",0,0,{"$nulls":5},{"$f":"SUMIFS(#REF!,#REF!,$C40,#REF!,$E40,#REF!,$F40)","v":{"$error":"#REF!"}},{"$f":"COUNTIFS(#REF!,$C40,#REF!,$E40,#REF!,$F40,#REF!,\">=0\")","v":{"$error":"#REF!"}},{"$f":"COUNTIFS(#REF!,$C40,#REF!,$E40,#REF!,$F40,#REF!,\"лично\")","v":{"$error":"#REF!"}}]
[21,"МС","Девушки"," ",null,"Сокращенное название","Ж","Фамилия_1 Имя Отчество",0,0,{"$nulls":5},{"$f":"SUMIFS(#REF!,#REF!,$C41,#REF!,$E41,#REF!,$F41)","v":{"$error":"#REF!"}},{"$f":"COUNTIFS(#REF!,$C41,#REF!,$E41,#REF!,$F41,#REF!,\">=0\")","v":{"$error":"#REF!"}},{"$f":"COUNTIFS(#REF!,$C41,#REF!,$E41,#REF!,$F41,#REF!,\"лично\")","v":{"$error":"#REF!"}}]
[22,"I","Девушки"," ",null,"Сокращенное название","Ж","Фамилия_1 Имя Отчество",0,0,{"$nulls":5},{"$f":"SUMIFS(#REF!,#REF!,$C42,#REF!,$E42,#REF!,$F42)","v":{"$error":"#REF!"}},{"$f":"COUNTIFS(#REF!,$C42,#REF!,$E42,#REF!,$F42,#REF!,\">=0\")","v":{"$error":"#REF!"}},{"$f":"COUNTIFS(#REF!,$C42,#REF!,$E42,#REF!,$F42,#REF!,\"лично\")","v":{"$error":"#REF!"}}]
[23,"МС","Девушки"," ",null,"Сокращенное название","Ж","Фамилия_1 Имя Отчество",0,0,{"$nulls":5},{"$f":"SUMIFS(#REF!,#REF!,$C43,#REF!,$E43,#REF!,$F43)","v":{"$error":"#REF!"}},{"$f":"COUNTIFS(#REF!,$C43,#REF!,$E43,#REF!,$F43,#REF!,\">=0\")","v":{"$error":"#REF!"}},{"$f":"COUNTIFS(#REF!,$C43,#REF!,$E43,#REF!,$F43,#REF!,\"лично\")","v":{"$error":"#REF!"}}]
[24,"I","Девушки"," ",null,"Сокращенное название","Ж","Фамилия_1 Имя Отчество",0,0,{"$nulls":5},{"$f":"SUMIFS(#REF!,#REF!,$C44,#REF!,$E44,#REF!,$F44)","v":{"$error":"#REF!"}},{"$f":"COUNTIFS(#REF!,$C44,#REF!,$E44,#REF!,$F44,#REF!,\">=0\")","v":{"$error":"#REF!"}},{"$f":"COUNTIFS(#REF!,$C44,#REF!,$E44,#REF!,$F44,#REF!,\"лично\")","v":{"$error":"#REF!"}}]
[25,"II","Девушки"," ",null,"Сокращенное название","Ж","Фамилия_1 Имя Отчество",0,0,{"$nulls":5},{"$f":"SUMIFS(#REF!,#REF!,$C45,#REF!,$E45,#REF!,$F45)","v":{"$error":"#REF!"}},{"$f":"COUNTIFS(#REF!,$C45,#REF!,$E45,#REF!,$F45,#REF!,\">=0\")","v":{"$error":"#REF!"}},{"$f":"COUNTIFS(#REF!,$C45,#REF!,$E45,#REF!,$F45,#REF!,\"лично\")","v":{"$error":"#REF!"}}]
[26,"III юн","Юноши"," ",null,"Сокращенное название","М","Фамилия_1 Имя Отчество",0,0,{"$nulls":5},{"$f":"SUMIFS(#REF!,#REF!,$C46,#REF!,$E46,#REF!,$F46)","v":{"$error":"#REF!"}},{"$f":"COUNTIFS(#REF!,$C46,#REF!,$E46,#REF!,$F46,#REF!,\">=0\")","v":{"$error":"#REF!"}},{"$f":"COUNTIFS(#REF!,$C46,#REF!,$E46,#REF!,$F46,#REF!,\"лично\")","v":{"$error":"#REF!"}}]
[27,"II","Юноши"," ",null,"Сокращенное название","М","Фамилия_1 Имя Отчество",0,0,{"$nulls":5},{"$f":"SUMIFS(#REF!,#REF!,$C47,#REF!,$E47,#REF!,$F47)","v":{"$error":"#REF!"}},{"$f":"COUNTIFS(#REF!,$C47,#REF!,$E47,#REF!,$F47,#REF!,\">=0\")","v":{"$error":"#REF!"}},{"$f":"COUNTIFS(#REF!,$C47,#REF!,$E47,#REF!,$F47,#REF!,\"лично\")","v":{"$error":"#REF!"}}]
[28,"ЗМС","Юноши"," ",null,"Сокращенное название","М","Фамилия_1 Имя Отчество",0,0,{"$nulls":5},{"$f":"SUMIFS(#REF!,#REF!,$C48,#REF!,$E48,#REF!,$F48)","v":{"$error":"#REF!"}},{"$f":"COUNTIFS(#REF!,$C48,#REF!,$E48,#REF!,$F48,#REF!,\">=0\")","v":{"$error":"#REF!"}},{"$f":"COUNTIFS(#REF!,$C48,#REF!,$E48,#REF!,$F48,#REF!,\"лично\")","v":{"$error":"#REF!"}}]
[29,"МСМК","Юноши"," ",null,"Сокращенное название","М","Фамилия_1 Имя Отчество",0,0,{"$nulls":5},{"$f":"SUMIFS(#REF!,#REF!,$C49,#REF!,$E49,#REF!,$F49)","v":{"$error":"#REF!"}},{"$f":"COUNTIFS(#REF!,$C49,#REF!,$E49,#REF!,$F49,#REF!,\">=0\")","v":{"$error":"#REF!"}},{"$f":"COUNTIFS(#REF!,$C49,#REF!,$E49,#REF!,$F49,#REF!,\"лично\")","v":{"$error":"#REF!"}}]
[30,"МС","Юноши"," ",null,"Сокращенное название","М","Фамилия_1 Имя Отчество",0,0,{"$nulls":5},{"$f":"SUMIFS(#REF!,#REF!,$C50,#REF!,$E50,#REF!,$F50)","v":{"$error":"#REF!"}},{"$f":"COUNTIFS(#REF!,$C50,#REF!,$E50,#REF!,$F50,#REF!,\">=0\")","v":{"$error":"#REF!"}},{"$f":"COUNTIFS(#REF!,$C50,#REF!,$E50,#REF!,$F50,#REF!,\"лично\")","v":{"$error":"#REF!"}}]
[31,"КМС","Юноши"," ",null,"Сокращенное название","М","Фамилия_1 Имя Отчество",0,0,{"$nulls":5},{"$f":"SUMIFS(#REF!,#REF!,$C51,#REF!,$E51,#REF!,$F51)","v":{"$error":"#REF!"}},{"$f":"COUNTIFS(#REF!,$C51,#REF!,$E51,#REF!,$F51,#REF!,\">=0\")","v":{"$error":"#REF!"}},{"$f":"COUNTIFS(#REF!,$C51,#REF!,$E51,#REF!,$F51,#REF!,\"лично\")","v":{"$error":"#REF!"}}]
[32,"КМС","Юноши"," ",null,"Сокращенное название","М","Фамилия_1 Имя Отчество",0,0,{"$nulls":5},{"$f":"SUMIFS(#REF!,#REF!,$C52,#REF!,$E52,#REF!,$F52)","v":{"$error":"#REF!"}},{"$f":"COUNTIFS(#REF!,$C52,#REF!,$E52,#REF!,$F52,#REF!,\">=0\")","v":{"$error":"#REF!"}},{"$f":"COUNTIFS(#REF!,$C52,#REF!,$E52,#REF!,$F52,#REF!,\"лично\")","v":{"$error":"#REF!"}}]
[33,"КМС","Юноши"," ",null,"Сокращенное название","М","Фамилия_1 Имя Отчество",{"$f":"COUNTIF(K53:L53,\">=0\")-COUNTIF(K53:L53,\"в\")-COUNTIF(K53:L53,\"л\")","v":0},{"$f":"COUNTIF(K53:L53,\"л\")","v":0},{"$nulls":5},{"$f":"SUMIFS(#REF!,#REF!,$C53,#REF!,$E53,#REF!,$F53)","v":{"$error":"#REF!"}},{"$f":"COUNTIFS(#REF!,$C53,#REF!,$E53,#REF!,$F53,#REF!,\">=0\")","v":{"$error":"#REF!"}},{"$f":"COUNTIFS(#REF!,$C53,#REF!,$E53,#REF!,$F53,#REF!,\"лично\")","v":{"$error":"#REF!"}}]
[34,"ЗМС","Юноши"," ",null,"Сокращенное название","М","Фамилия_1 Имя Отчество",0,0,{"$nulls":5},{"$f":"SUMIFS(#REF!,#REF!,$C54,#REF!,$E54,#REF!,$F54)","v":{"$error":"#REF!"}},{"$f":"COUNTIFS(#REF!,$C54,#REF!,$E54,#REF!,$F54,#REF!,\">=0\")","v":{"$error":"#REF!"}},{"$f":"COUNTIFS(#REF!,$C54,#REF!,$E54,#REF!,$F54,#REF!,\"лично\")","v":{"$error":"#REF!"}}]
[35,"МСМК","Юноши"," ",null,"Сокращенное название","М","Фамилия_1 Имя Отчество",0,0,{"$nulls":5},{"$f":"SUMIFS(#REF!,#REF!,$C55,#REF!,$E55,#REF!,$F55)","v":{"$error":"#REF!"}},{"$f":"COUNTIFS(#REF!,$C55,#REF!,$E55,#REF!,$F55,#REF!,\">=0\")","v":{"$error":"#REF!"}},{"$f":"COUNTIFS(#REF!,$C55,#REF!,$E55,#REF!,$F55,#REF!,\"лично\")","v":{"$error":"#REF!"}}]
[36,"МС","Юноши"," ",null,"Сокращенное название","М","Фамилия_1 Имя Отчество",0,0,{"$nulls":5},{"$f":"SUMIFS(#REF!,#REF!,$C56,#REF!,$E56,#REF!,$F56)","v":{"$error":"#REF!"}},{"$f":"COUNTIFS(#REF!,$C56,#REF!,$E56,#REF!,$F56,#REF!,\">=0\")","v":{"$error":"#REF!"}},{"$f":"COUNTIFS(#REF!,$C56,#REF!,$E56,#REF!,$F56,#REF!,\"лично\")","v":{"$error":"#REF!"}}]
[37,"КМС","Юноши"," ",null,"Сокращенное название","М","Фамилия_1 Имя Отчество",0,0,{"$nulls":5},{"$f":"SUMIFS(#REF!,#REF!,$C57,#REF!,$E57,#REF!,$F57)","v":{"$error":"#REF!"}},{"$f":"COUNTIFS(#REF!,$C57,#REF!,$E57,#REF!,$F57,#REF!,\">=0\")","v":{"$error":"#REF!"}},{"$f":"COUNTIFS(#REF!,$C57,#REF!,$E57,#REF!,$F57,#REF!,\"лично\")","v":{"$error":"#REF!"}}]
[38,"КМС","Юноши"," ",null,"Сокращенное название","М","Фамилия_1 Имя Отчество",0,0,{"$nulls":5},{"$f":"SUMIFS(#REF!,#REF!,$C58,#REF!,$E58,#REF!,$F58)","v":{"$error":"#REF!"}},{"$f":"COUNTIFS(#REF!,$C58,#REF!,$E58,#REF!,$F58,#REF!,\">=0\")","v":{"$error":"#REF!"}},{"$f":"COUNTIFS(#REF!,$C58,#REF!,$E58,#REF!,$F58,#REF!,\"лично\")","v":{"$error":"#REF!"}}]
[39,"КМС","Юноши"," ",null,"Сокращенное название","М","Фамилия_1 Имя Отчество",0,0,{"$nulls":5},{"$f":"SUMIFS(#REF!,#REF!,$C59,#REF!,$E59,#REF!,$F59)","v":{"$error":"#REF!"}},{"$f":"COUNTIFS(#REF!,$C59,#REF!,$E59,#REF!,$F59,#REF!,\">=0\")","v":{"$error":"#REF!"}},{"$f":"COUNTIFS(#REF!,$C59,#REF!,$E59,#REF!,$F59,#REF!,\"лично\")","v":{"$error":"#REF!"}}]
[40,"КМС","Юноши"," ",null,"Сокращенное название","М","Фамилия_1 Имя Отчество",0,0,{"$nulls":5},{"$f":"SUMIFS(#REF!,#REF!,$C60,#REF!,$E60,#REF!,$F60)","v":{"$error":"#REF!"}},{"$f":"COUNTIFS(#REF!,$C60,#REF!,$E60,#REF!,$F60,#REF!,\">=0\")","v":{"$error":"#REF!"}},{"$f":"COUNTIFS(#REF!,$C60,#REF!,$E60,#REF!,$F60,#REF!,\"лично\")","v":{"$error":"#REF!"}}]
[41,"КМС","Юноши"," ",null,"Сокращенное название","М","Фамилия_1 Имя Отчество",0,0,{"$nulls":5},{"$f":"SUMIFS(#REF!,#REF!,$C61,#REF!,$E61,#REF!,$F61)","v":{"$error":"#REF!"}},{"$f":"COUNTIFS(#REF!,$C61,#REF!,$E61,#REF!,$F61,#REF!,\">=0\")","v":{"$error":"#REF!"}},{"$f":"COUNTIFS(#REF!,$C61,#REF!,$E61,#REF!,$F61,#REF!,\"лично\")","v":{"$error":"#REF!"}}]
[42,"КМС","Юноши"," ",null,"Сокращенное название","М","Фамилия_1 Имя Отчество",0,0,{"$nulls":5},{"$f":"SUMIFS(#REF!,#REF!,$C62,#REF!,$E62,#REF!,$F62)","v":{"$error":"#REF!"}},{"$f":"COUNTIFS(#REF!,$C62,#REF!,$E62,#REF!,$F62,#REF!,\">=0\")","v":{"$error":"#REF!"}},{"$f":"COUNTIFS(#REF!,$C62,#REF!,$E62,#REF!,$F62,#REF!,\"лично\")","v":{"$error":"#REF!"}}]
[43,"КМС","Юноши"," ",null,"Сокращенное название","М","Фамилия_1 Имя Отчество",0,0,{"$nulls":5},{"$f":"SUMIFS(#REF!,#REF!,$C63,#REF!,$E63,#REF!,$F63)","v":{"$error":"#REF!"}},{"$f":"COUNTIFS(#REF!,$C63,#REF!,$E63,#REF!,$F63,#REF!,\">=0\")","v":{"$error":"#REF!"}},{"$f":"COUNTIFS(#REF!,$C63,#REF!,$E63,#REF!,$F63,#REF!,\"лично\")","v":{"$error":"#REF!"}}]
[44,"КМС","Юноши"," ",null,"Сокращенное название","М","Фамилия_1 Имя Отчество",0,0,{"$nulls":5},{"$f":"SUMIFS(#REF!,#REF!,$C64,#REF!,$E64,#REF!,$F64)","v":{"$error":"#REF!"}},{"$f":"COUNTIFS(#REF!,$C64,#REF!,$E64,#REF!,$F64,#REF!,\">=0\")","v":{"$error":"#REF!"}},{"$f":"COUNTIFS(#REF!,$C64,#REF!,$E64,#REF!,$F64,#REF!,\"лично\")","v":{"$error":"#REF!"}}]
[45,"II юн","Юноши"," ",null,"Сокращенное название","М","Фамилия_1 Имя Отчество",0,0,{"$nulls":5},{"$f":"SUMIFS(#REF!,#REF!,$C65,#REF!,$E65,#REF!,$F65)","v":{"$error":"#REF!"}},{"$f":"COUNTIFS(#REF!,$C65,#REF!,$E65,#REF!,$F65,#REF!,\">=0\")","v":{"$error":"#REF!"}},{"$f":"COUNTIFS(#REF!,$C65,#REF!,$E65,#REF!,$F65,#REF!,\"лично\")","v":{"$error":"#REF!"}}]
[46,"III юн","Юноши"," ",null,"Сокращенное название","М","Фамилия_1 Имя Отчество",0,0,{"$nulls":5},{"$f":"SUMIFS(#REF!,#REF!,$C66,#REF!,$E66,#REF!,$F66)","v":{"$error":"#REF!"}},{"$f":"COUNTIFS(#REF!,$C66,#REF!,$E66,#REF!,$F66,#REF!,\">=0\")","v":{"$error":"#REF!"}},{"$f":"COUNTIFS(#REF!,$C66,#REF!,$E66,#REF!,$F66,#REF!,\"лично\")","v":{"$error":"#REF!"}}]
[47,"I юн","Юноши"," ",null,"Сокращенное название","М","Фамилия_1 Имя Отчество",0,0,{"$nulls":5},{"$f":"SUMIFS(#REF!,#REF!,$C67,#REF!,$E67,#REF!,$F67)","v":{"$error":"#REF!"}},{"$f":"COUNTIFS(#REF!,$C67,#REF!,$E67,#REF!,$F67,#REF!,\">=0\")","v":{"$error":"#REF!"}},{"$f":"COUNTIFS(#REF!,$C67,#REF!,$E67,#REF!,$F67,#REF!,\"лично\")","v":{"$error":"#REF!"}}]
[48,"III","Юноши"," ",null,"Сокращенное название","М","Фамилия_1 Имя Отчество",0,0,{"$nulls":5},{"$f":"SUMIFS(#REF!,#REF!,$C68,#REF!,$E68,#REF!,$F68)","v":{"$error":"#REF!"}},{"$f":"COUNTIFS(#REF!,$C68,#REF!,$E68,#REF!,$F68,#REF!,\">=0\")","v":{"$error":"#REF!"}},{"$f":"COUNTIFS(#REF!,$C68,#REF!,$E68,#REF!,$F68,#REF!,\"лично\")","v":{"$error":"#REF!"}}]
[49,"I юн","Юноши"," ",null,"Сокращенное название","М","Фамилия_1 Имя Отчество",0,0,{"$nulls":5},{"$f":"SUMIFS(#REF!,#REF!,$C69,#REF!,$E69,#REF!,$F69)","v":{"$error":"#REF!"}},{"$f":"COUNTIFS(#REF!,$C69,#REF!,$E69,#REF!,$F69,#REF!,\">=0\")","v":{"$error":"#REF!"}},{"$f":"COUNTIFS(#REF!,$C69,#REF!,$E69,#REF!,$F69,#REF!,\"лично\")","v":{"$error":"#REF!"}}]
[50,"II юн","Юноши"," ",null,"Сокращенное название","М","Фамилия_1 Имя Отчество",0,{"$f":"COUNTA(K70:L70)","v":0},{"$nulls":5},{"$f":"SUMIFS(#REF!,#REF!,$C70,#REF!,$E70,#REF!,$F70)","v":{"$error":"#REF!"}},{"$f":"COUNTIFS(#REF!,$C70,#REF!,$E70,#REF!,$F70,#REF!,\">=0\")","v":{"$error":"#REF!"}},{"$f":"COUNTIFS(#REF!,$C70,#REF!,$E70,#REF!,$F70,#REF!,\"лично\")","v":{"$error":"#REF!"}}]
[{"$nulls":6},"Итого дистанций:","женщины",{"$f":"SUMIF(G21:G70,\"Ж\",I21:I70)","v":0},{"$f":"SUM(J21:J45)","v":0},{"$nulls":5},{"$f":"SUM(P21:P70)","v":{"$error":"#REF!"}},{"$f":"SUM(Q21:Q70)","v":{"$error":"#REF!"}},{"$error":"#REF!"}]
[{"$nulls":7},"мужчины",{"$f":"SUMIF(G21:G70,\"М\",I21:I70)","v":0},{"$f":"SUM(J46:J70)","v":0}]
[{"$nulls":7},"выступают за команду женщины",{"$f":"COUNTIFS(I21:I70,\">0\",G21:G70,\"Ж\")","v":0}]
[{"$nulls":7},"выступают за команду мужчины",{"$f":"COUNTIFS(I21:I70,\">0\",G21:G70,\"М\")","v":0}]
[]
["Тренер-представитель",{"$nulls":3},"Фамилия_1 Имя Отчество"]
["Тренер-представитель",{"$nulls":3},"Фамилия_2 Имя Отчество"]
["Тренер-представитель",{"$nulls":3},"Фамилия_3 Имя Отчество"]
[]
[]
[null,"ПОРЯДОК ЗАПОЛНЕНИЯ"]
[null,"Заполни полное и краткое название клуба. Краткое название автоматически проставляется у каждого участника"]
[null,"При сохранении заявки в названии файла указать Название команды и(или) Фамилию тренера"]
[null,"При заполнении технической заявки автоматически будет заполняться Именная заявка. Будьте внимательны!"]
[null,"Перед началом работы очистите шаблон от ненужных результатов. Не очищать столбцы Команда, Пол, Тренер, Зачетов, Лично"]
[null,"1. Верхние строки до жирной разделительной линии предназначены для женского пола, нижние для мужского"]
[null,"2. Если не хватает строк у девушек или у юношей - выделить одну или несколько строк, в середине списка девушек или юношей, полностью, правая кнопка мыши- Вставить. После этого выделить ячейку со значением № п/п больше 1, установить курсор мыши на маленький черный квадратик в правом нижнем углу, выделенной ячейки, нажать левую кнопку мыши и потянуть вниз через пустые строки - нумерация должна продолжиться"]
[null,"3. Аналогичные действия произвести для стобцов Команда и Пол"]
[null,"4. Лишнее (например данный текст) удаляется тоже  путем выделения строк, правая кнопка мыши - Удалить"]
[null,"5. Если  участник плывет дистанцию лично - столбце Зачет для этой дистанции  - ставится буква Л, если вне конкурса - буква В. Ячейки окрасятся в желтый и синий цвет соответственно."]
[null,"6. В случае если участник моложе или старше годов рождения, указанных в Положении о соревнованиях, имеет подготовку ниже разряда указанного в Положении о соревнованиях - соответствующая ячейка выделяется красным цветом"]
[null,"7. В случае превышения суммарного количества дистанций на одного участника, количества дистанций  в командном зачете - ячейки с количеством зачетов (или дистанций лично) выделяется красным цветом."]
[null,"8. В случае превышения суммарного количества участников, выступающих за команду  - ячейки с количеством выступающих за команду участников выделяются красным цветом."]
[null,"ВНИМАНИЕ!! Предварительное время проставляется в формате ччммсс,дс. Т.е. вводится только запятая перед десятыми. "]
[null,"Незначащие нули вначале игнорируются. В случае неправильного ввода (ввод точек, лишних запятых, некорректных значений) ячейка выделяется красным цветом."]
[null,"Например, для ввода 16,56 - нужно набрать 16,56, для ввода 1.34,60 - нужно набрать 134,6, для ввода 15.28,00 - достаточно 1528, для ввода 1:23.15,56 - 12315,56"]
[4,"Спортсменам, выступающим в эстафете, проставляется предварительное время команды и номер этапа"]
[null,"Разряды  и звания   проставляются в соответствии с  ЕВСК"]
[]
[null,"Для распечатки, можно скрыть столбцы Звание, Название клуба, Пол, Тренер, выделить необходимые ячейки. В диалоге Печать  выбрать Вывод  на печать  - Выделенный диапазон"]

{"sheet":"Именная заявка марафон","index":15,"n_rows":74,"n_cols":11,"rows_kept":74,"merged":[[0,7,1,10],[2,0,2,10],[3,3,3,10],[4,3,4,10],[5,3,5,8],[7,1,7,3],[7,8,7,9],[8,8,8,9],[9,8,9,9],[10,8,10,9],[11,8,11,9],[12,8,12,9],[13,8,13,9],[14,8,14,9],[15,8,15,9],[16,8,16,9],[17,8,17,9],[18,8,18,9],[19,8,19,9],[20,8,20,9],[21,8,21,9],[22,8,22,9],[23,8,23,9],[24,8,24,9],[25,8,25,9],[26,8,26,9],[27,8,27,9],[28,8,28,9],[29,8,29,9],[30,8,30,9],[31,8,31,9],[32,8,32,9],[33,8,33,9],[34,8,34,9],[35,8,35,9],[36,8,36,9],[37,8,37,9],[38,8,38,9],[39,8,39,9],[40,8,40,9],[41,8,41,9],[42,8,42,9],[43,8,43,9],[44,8,44,9],[45,8,45,9],[46,8,46,9],[47,8,47,9],[48,8,48,9],[49,8,49,9],[50,8,50,9],[51,8,51,9],[52,8,52,9],[53,8,53,9],[54,8,54,9],[55,8,55,9],[56,8,56,9],[57,8,57,9],[59,7,59,10],[60,7,60,10],[61,7,61,10],[63,7,63,10],[66,9,66,10],[69,0,69,3],[69,8,69,10],[72,0,72,3],[72,8,72,10]]}
[{"$nulls":7},"Приложение № 2 \nк Положению о межрегиональных и всероссийских официальных спортивных соревнованиях по подводному спорту"]
[]
["ЗАЯВКА"]
[null,null,"От команды",{"$f":"Техническая_марафон!E15","v":"Полное Название команды, город (край, область и пр.)"}]
[null,null,"на участие в соревнованиях",{"$f":"Техническая_марафон!G17","v":"Название Соревнований по подводному спорту (1460008511Я) (плавание в ластах)"}]
[null,null,"проводимых в",{"$f":"Техническая_марафон!U10","v":"г. Город, бассейн \"ААА\", 50 м"},{"$nulls":5},"в период",{"$f":"Техническая_марафон!U12","v":"02-06 февраля 2015 г."}]
[]
["№ п/п","Фамилия, имя, отчество участника",null,null,"Дата рождения","Статус","Возраст-ная группа","Спортивный разряд, звание","Тренер",null,"Допуск врача"]
[1,{"$f":"Техническая_марафон!C21","v":"Девушки"},null,{"$f":"Техническая_марафон!D21","v":" "},{"$f":"Техническая_марафон!E21","v":"1999-06-24"},{"$f":"IF(Техническая_марафон!G21=\"Ж\",\"спортсменка\",IF(Техническая_марафон!G21=\"М\",\"спортсмен\",\"не понятно кто\"))","v":"спортсменка"},null,{"$f":"Техническая_марафон!B21","v":"I"},{"$f":"Техническая_марафон!H21","v":"Фамилия_1 Имя Отчество"}]
[2,{"$f":"Техническая_марафон!C22","v":"Девушки"},null,{"$f":"Техническая_марафон!D22","v":" "},{"$f":"Техническая_марафон!E22","v":"00:00:00"},{"$f":"IF(Техническая_марафон!G22=\"Ж\",\"спортсменка\",IF(Техническая_марафон!G22=\"М\",\"спортсмен\",\"не понятно кто\"))","v":"спортсменка"},null,{"$f":"Техническая_марафон!B22","v":"I"},{"$f":"Техническая_марафон!H22","v":"Фамилия_1 Имя Отчество"}]
[3,{"$f":"Техническая_марафон!C23","v":"Девушки"},null,{"$f":"Техническая_марафон!D23","v":" "},{"$f":"Техническая_марафон!E23","v":"00:00:00"},{"$f":"IF(Техническая_марафон!G23=\"Ж\",\"спортсменка\",IF(Техническая_марафон!G23=\"М\",\"спортсмен\",\"не понятно кто\"))","v":"спортсменка"},null,{"$f":"Техническая_марафон!B23","v":"ЗМС"},{"$f":"Техническая_марафон!H23","v":"Фамилия_1 Имя Отчество"}]
[4,{"$f":"Техническая_марафон!C24","v":"Девушки"},null,{"$f":"Техническая_марафон!D24","v":" "},{"$f":"Техническая_марафон!E24","v":"00:00:00"},{"$f":"IF(Техническая_марафон!G24=\"Ж\",\"спортсменка\",IF(Техническая_марафон!G24=\"М\",\"спортсмен\",\"не понятно кто\"))","v":"спортсменка"},null,{"$f":"Техническая_марафон!B24","v":"МСМК"},{"$f":"Техническая_марафон!H24","v":"Фамилия_1 Имя Отчество"}]
[5,{"$f":"Техническая_марафон!C25","v":"Девушки"},null,{"$f":"Техническая_марафон!D25","v":" "},{"$f":"Техническая_марафон!E25","v":"00:00:00"},{"$f":"IF(Техническая_марафон!G25=\"Ж\",\"спортсменка\",IF(Техническая_марафон!G25=\"М\",\"спортсмен\",\"не понятно кто\"))","v":"спортсменка"},null,{"$f":"Техническая_марафон!B25","v":"МС"},{"$f":"Техническая_марафон!H25","v":"Фамилия_1 Имя Отчество"}]
[6,{"$f":"Техническая_марафон!C26","v":"Девушки"},null,{"$f":"Техническая_марафон!D26","v":" "},{"$f":"Техническая_марафон!E26","v":"00:00:00"},{"$f":"IF(Техническая_марафон!G26=\"Ж\",\"спортсменка\",IF(Техническая_марафон!G26=\"М\",\"спортсмен\",\"не понятно кто\"))","v":"спортсменка"},null,{"$f":"Техническая_марафон!B26","v":"КМС"},{"$f":"Техническая_марафон!H26","v":"Фамилия_1 Имя Отчество"}]
[7,{"$f":"Техническая_марафон!C27","v":"Девушки"},null,{"$f":"Техническая_марафон!D27","v":" "},{"$f":"Техническая_марафон!E27","v":"00:00:00"},{"$f":"IF(Техническая_марафон!G27=\"Ж\",\"спортсменка\",IF(Техническая_марафон!G27=\"М\",\"спортсмен\",\"не понятно кто\"))","v":"спортсменка"},null,{"$f":"Техническая_марафон!B27","v":"I"},{"$f":"Техническая_марафон!H27","v":"Фамилия_1 Имя Отчество"}]
[8,{"$f":"Техническая_марафон!C28","v":"Девушки"},null,{"$f":"Техническая_марафон!D28","v":" "},{"$f":"Техническая_марафон!E28","v":"00:00:00"},{"$f":"IF(Техническая_марафон!G28=\"Ж\",\"спортсменка\",IF(Техническая_марафон!G28=\"М\",\"спортсмен\",\"не понятно кто\"))","v":"спортсменка"},null,{"$f":"Техническая_марафон!B28","v":"I"},{"$f":"Техническая_марафон!H28","v":"Фамилия_1 Имя Отчество"}]
[9,{"$f":"Техническая_марафон!C29","v":"Девушки"},null,{"$f":"Техническая_марафон!D29","v":" "},{"$f":"Техническая_марафон!E29","v":"00:00:00"},{"$f":"IF(Техническая_марафон!G29=\"Ж\",\"спортсменка\",IF(Техническая_марафон!G29=\"М\",\"спортсмен\",\"не понятно кто\"))","v":"спортсменка"},null,{"$f":"Техническая_марафон!B29","v":"III"},{"$f":"Техническая_марафон!H29","v":"Фамилия_1 Имя Отчество"}]
[10,{"$f":"Техническая_марафон!C30","v":"Девушки"},null,{"$f":"Техническая_марафон!D30","v":" "},{"$f":"Техническая_марафон!E30","v":"00:00:00"},{"$f":"IF(Техническая_марафон!G30=\"Ж\",\"спортсменка\",IF(Техническая_марафон!G30=\"М\",\"спортсмен\",\"не понятно кто\"))","v":"спортсменка"},null,{"$f":"Техническая_марафон!B30","v":"I"},{"$f":"Техническая_марафон!H30","v":"Фамилия_1 Имя Отчество"}]
[11,{"$f":"Техническая_марафон!C31","v":"Девушки"},null,{"$f":"Техническая_марафон!D31","v":" "},{"$f":"Техническая_марафон!E31","v":"00:00:00"},{"$f":"IF(Техническая_марафон!G31=\"Ж\",\"спортсменка\",IF(Техническая_марафон!G31=\"М\",\"спортсмен\",\"не понятно кто\"))","v":"спортсменка"},null,{"$f":"Техническая_марафон!B31","v":"I юн"},{"$f":"Техническая_марафон!H31","v":"Фамилия_1 Имя Отчество"}]
[12,{"$f":"Техническая_марафон!C32","v":"Девушки"},null,{"$f":"Техническая_марафон!D32","v":" "},{"$f":"Техническая_марафон!E32","v":"00:00:00"},{"$f":"IF(Техническая_марафон!G32=\"Ж\",\"спортсменка\",IF(Техническая_марафон!G32=\"М\",\"спортсмен\",\"не понятно кто\"))","v":"спортсменка"},null,{"$f":"Техническая_марафон!B32","v":"КМС"},{"$f":"Техническая_марафон!H32","v":"Фамилия_1 Имя Отчество"}]
[13,{"$f":"Техническая_марафон!C33","v":"Девушки"},null,{"$f":"Техническая_марафон!D33","v":" "},{"$f":"Техническая_марафон!E33","v":"00:00:00"},{"$f":"IF(Техническая_марафон!G33=\"Ж\",\"спортсменка\",IF(Техническая_марафон!G33=\"М\",\"спортсмен\",\"не понятно кто\"))","v":"спортсменка"},null,{"$f":"Техническая_марафон!B33","v":"I"},{"$f":"Техническая_марафон!H33","v":"Фамилия_1 Имя Отчество"}]
[14,{"$f":"Техническая_марафон!C34","v":"Девушки"},null,{"$f":"Техническая_марафон!D34","v":" "},{"$f":"Техническая_марафон!E34","v":"00:00:00"},{"$f":"IF(Техническая_марафон!G34=\"Ж\",\"спортсменка\",IF(Техническая_марафон!G34=\"М\",\"спортсмен\",\"не понятно кто\"))","v":"спортсменка"},null,{"$f":"Техническая_марафон!B34","v":"I"},{"$f":"Техническая_марафон!H34","v":"Фамилия_1 Имя Отчество"}]
[15,{"$f":"Техническая_марафон!C35","v":"Девушки"},null,{"$f":"Техническая_марафон!D35","v":" "},{"$f":"Техническая_марафон!E35","v":"00:00:00"},{"$f":"IF(Техническая_марафон!G35=\"Ж\",\"спортсменка\",IF(Техническая_марафон!G35=\"М\",\"спортсмен\",\"не понятно кто\"))","v":"спортсменка"},null,{"$f":"Техническая_марафон!B35","v":"I"},{"$f":"Техническая_марафон!H35","v":"Фамилия_1 Имя Отчество"}]
[16,{"$f":"Техническая_марафон!C36","v":"Девушки"},null,{"$f":"Техническая_марафон!D36","v":" "},{"$f":"Техническая_марафон!E36","v":"00:00:00"},{"$f":"IF(Техническая_марафон!G36=\"Ж\",\"спортсменка\",IF(Техническая_марафон!G36=\"М\",\"спортсмен\",\"не понятно кто\"))","v":"спортсменка"},null,{"$f":"Техническая_марафон!B36","v":"I"},{"$f":"Техническая_марафон!H36","v":"Фамилия_1 Имя Отчество"}]
[17,{"$f":"Техническая_марафон!C37","v":"Девушки"},null,{"$f":"Техническая_марафон!D37","v":" "},{"$f":"Техническая_марафон!E37","v":"00:00:00"},{"$f":"IF(Техническая_марафон!G37=\"Ж\",\"спортсменка\",IF(Техническая_марафон!G37=\"М\",\"спортсмен\",\"не понятно кто\"))","v":"спортсменка"},null,{"$f":"Техническая_марафон!B37","v":"I юн"},{"$f":"Техническая_марафон!H37","v":"Фамилия_1 Имя Отчество"}]
[18,{"$f":"Техническая_марафон!C38","v":"Девушки"},null,{"$f":"Техническая_марафон!D38","v":" "},{"$f":"Техническая_марафон!E38","v":"00:00:00"},{"$f":"IF(Техническая_марафон!G38=\"Ж\",\"спортсменка\",IF(Техническая_марафон!G38=\"М\",\"спортсмен\",\"не понятно кто\"))","v":"спортсменка"},null,{"$f":"Техническая_марафон!B38","v":"II юн"},{"$f":"Техническая_марафон!H38","v":"Фамилия_1 Имя Отчество"}]
[19,{"$f":"Техническая_марафон!C39","v":"Девушки"},null,{"$f":"Техническая_марафон!D39","v":" "},{"$f":"Техническая_марафон!E39","v":"00:00:00"},{"$f":"IF(Техническая_марафон!G39=\"Ж\",\"спортсменка\",IF(Техническая_марафон!G39=\"М\",\"спортсмен\",\"не понятно кто\"))","v":"спортсменка"},null,{"$f":"Техническая_марафон!B39","v":"III юн"},{"$f":"Техническая_марафон!H39","v":"Фамилия_1 Имя Отчество"}]
[20,{"$f":"Техническая_марафон!C40","v":"Девушки"},null,{"$f":"Техническая_марафон!D40","v":" "},{"$f":"Техническая_марафон!E40","v":"00:00:00"},{"$f":"IF(Техническая_марафон!G40=\"Ж\",\"спортсменка\",IF(Техническая_марафон!G40=\"М\",\"спортсмен\",\"не понятно кто\"))","v":"спортсменка"},null,{"$f":"Техническая_марафон!B40","v":"МСМК"},{"$f":"Техническая_марафон!H40","v":"Фамилия_1 Имя Отчество"}]
[21,{"$f":"Техническая_марафон!C41","v":"Девушки"},null,{"$f":"Техническая_марафон!D41","v":" "},{"$f":"Техническая_марафон!E41","v":"00:00:00"},{"$f":"IF(Техническая_марафон!G41=\"Ж\",\"спортсменка\",IF(Техническая_марафон!G41=\"М\",\"спортсмен\",\"не понятно кто\"))","v":"спортсменка"},null,{"$f":"Техническая_марафон!B41","v":"МС"},{"$f":"Техническая_марафон!H41","v":"Фамилия_1 Имя Отчество"}]
[22,{"$f":"Техническая_марафон!C42","v":"Девушки"},null,{"$f":"Техническая_марафон!D42","v":" "},{"$f":"Техническая_марафон!E42","v":"00:00:00"},{"$f":"IF(Техническая_марафон!G42=\"Ж\",\"спортсменка\",IF(Техническая_марафон!G42=\"М\",\"спортсмен\",\"не понятно кто\"))","v":"спортсменка"},null,{"$f":"Техническая_марафон!B42","v":"I"},{"$f":"Техническая_марафон!H42","v":"Фамилия_1 Имя Отчество"}]
[23,{"$f":"Техническая_марафон!C43","v":"Девушки"},null,{"$f":"Техническая_марафон!D43","v":" "},{"$f":"Техническая_марафон!E43","v":"00:00:00"},{"$f":"IF(Техническая_марафон!G43=\"Ж\",\"спортсменка\",IF(Техническая_марафон!G43=\"М\",\"спортсмен\",\"не понятно кто\"))","v":"спортсменка"},null,{"$f":"Техническая_марафон!B43","v":"МС"},{"$f":"Техническая_марафон!H43","v":"Фамилия_1 Имя Отчество"}]
[24,{"$f":"Техническая_марафон!C44","v":"Девушки"},null,{"$f":"Техническая_марафон!D44","v":" "},{"$f":"Техническая_марафон!E44","v":"00:00:00"},{"$f":"IF(Техническая_марафон!G44=\"Ж\",\"спортсменка\",IF(Техническая_марафон!G44=\"М\",\"спортсмен\",\"не понятно кто\"))","v":"спортсменка"},null,{"$f":"Техническая_марафон!B44","v":"I"},{"$f":"Техническая_марафон!H44","v":"Фамилия_1 Имя Отчество"}]
[25,{"$f":"Техническая_марафон!C45","v":"Девушки"},null,{"$f":"Техническая_марафон!D45","v":" "},{"$f":"Техническая_марафон!E45","v":"00:00:00"},{"$f":"IF(Техническая_марафон!G45=\"Ж\",\"спортсменка\",IF(Техническая_марафон!G45=\"М\",\"спортсмен\",\"не понятно кто\"))","v":"спортсменка"},null,{"$f":"Техническая_марафон!B45","v":"II"},{"$f":"Техническая_марафон!H45","v":"Фамилия_1 Имя Отчество"}]
[26,{"$f":"Техническая_марафон!C46","v":"Юноши"},null,{"$f":"Техническая_марафон!D46","v":" "},{"$f":"Техническая_марафон!E46","v":"00:00:00"},{"$f":"IF(Техническая_марафон!G46=\"Ж\",\"спортсменка\",IF(Техническая_марафон!G46=\"М\",\"спортсмен\",\"не понятно кто\"))","v":"спортсмен"},null,{"$f":"Техническая_марафон!B46","v":"III юн"},{"$f":"Техническая_марафон!H46","v":"Фамилия_1 Имя Отчество"}]
[27,{"$f":"Техническая_марафон!C47","v":"Юноши"},null,{"$f":"Техническая_марафон!D47","v":" "},{"$f":"Техническая_марафон!E47","v":"00:00:00"},{"$f":"IF(Техническая_марафон!G47=\"Ж\",\"спортсменка\",IF(Техническая_марафон!G47=\"М\",\"спортсмен\",\"не понятно кто\"))","v":"спортсмен"},null,{"$f":"Техническая_марафон!B47","v":"II"},{"$f":"Техническая_марафон!H47","v":"Фамилия_1 Имя Отчество"}]
[28,{"$f":"Техническая_марафон!C48","v":"Юноши"},null,{"$f":"Техническая_марафон!D48","v":" "},{"$f":"Техническая_марафон!E48","v":"00:00:00"},{"$f":"IF(Техническая_марафон!G48=\"Ж\",\"спортсменка\",IF(Техническая_марафон!G48=\"М\",\"спортсмен\",\"не понятно кто\"))","v":"спортсмен"},null,{"$f":"Техническая_марафон!B48","v":"ЗМС"},{"$f":"Техническая_марафон!H48","v":"Фамилия_1 Имя Отчество"}]
[29,{"$f":"Техническая_марафон!C49","v":"Юноши"},null,{"$f":"Техническая_марафон!D49","v":" "},{"$f":"Техническая_марафон!E49","v":"00:00:00"},{"$f":"IF(Техническая_марафон!G49=\"Ж\",\"спортсменка\",IF(Техническая_марафон!G49=\"М\",\"спортсмен\",\"не понятно кто\"))","v":"спортсмен"},null,{"$f":"Техническая_марафон!B49","v":"МСМК"},{"$f":"Техническая_марафон!H49","v":"Фамилия_1 Имя Отчество"}]
[30,{"$f":"Техническая_марафон!C50","v":"Юноши"},null,{"$f":"Техническая_марафон!D50","v":" "},{"$f":"Техническая_марафон!E50","v":"00:00:00"},{"$f":"IF(Техническая_марафон!G50=\"Ж\",\"спортсменка\",IF(Техническая_марафон!G50=\"М\",\"спортсмен\",\"не понятно кто\"))","v":"спортсмен"},null,{"$f":"Техническая_марафон!B50","v":"МС"},{"$f":"Техническая_марафон!H50","v":"Фамилия_1 Имя Отчество"}]
[31,{"$f":"Техническая_марафон!C51","v":"Юноши"},null,{"$f":"Техническая_марафон!D51","v":" "},{"$f":"Техническая_марафон!E51","v":"00:00:00"},{"$f":"IF(Техническая_марафон!G51=\"Ж\",\"спортсменка\",IF(Техническая_марафон!G51=\"М\",\"спортсмен\",\"не понятно кто\"))","v":"спортсмен"},null,{"$f":"Техническая_марафон!B51","v":"КМС"},{"$f":"Техническая_марафон!H51","v":"Фамилия_1 Имя Отчество"}]
[32,{"$f":"Техническая_марафон!C52","v":"Юноши"},null,{"$f":"Техническая_марафон!D52","v":" "},{"$f":"Техническая_марафон!E52","v":"00:00:00"},{"$f":"IF(Техническая_марафон!G52=\"Ж\",\"спортсменка\",IF(Техническая_марафон!G52=\"М\",\"спортсмен\",\"не понятно кто\"))","v":"спортсмен"},null,{"$f":"Техническая_марафон!B52","v":"КМС"},{"$f":"Техническая_марафон!H52","v":"Фамилия_1 Имя Отчество"}]
[33,{"$f":"Техническая_марафон!C53","v":"Юноши"},null,{"$f":"Техническая_марафон!D53","v":" "},{"$f":"Техническая_марафон!E53","v":"00:00:00"},{"$f":"IF(Техническая_марафон!G53=\"Ж\",\"спортсменка\",IF(Техническая_марафон!G53=\"М\",\"спортсмен\",\"не понятно кто\"))","v":"спортсмен"},null,{"$f":"Техническая_марафон!B53","v":"КМС"},{"$f":"Техническая_марафон!H53","v":"Фамилия_1 Имя Отчество"}]
[34,{"$f":"Техническая_марафон!C54","v":"Юноши"},null,{"$f":"Техническая_марафон!D54","v":" "},{"$f":"Техническая_марафон!E54","v":"00:00:00"},{"$f":"IF(Техническая_марафон!G54=\"Ж\",\"спортсменка\",IF(Техническая_марафон!G54=\"М\",\"спортсмен\",\"не понятно кто\"))","v":"спортсмен"},null,{"$f":"Техническая_марафон!B54","v":"ЗМС"},{"$f":"Техническая_марафон!H54","v":"Фамилия_1 Имя Отчество"}]
[35,{"$f":"Техническая_марафон!C55","v":"Юноши"},null,{"$f":"Техническая_марафон!D55","v":" "},{"$f":"Техническая_марафон!E55","v":"00:00:00"},{"$f":"IF(Техническая_марафон!G55=\"Ж\",\"спортсменка\",IF(Техническая_марафон!G55=\"М\",\"спортсмен\",\"не понятно кто\"))","v":"спортсмен"},null,{"$f":"Техническая_марафон!B55","v":"МСМК"},{"$f":"Техническая_марафон!H55","v":"Фамилия_1 Имя Отчество"}]
[36,{"$f":"Техническая_марафон!C56","v":"Юноши"},null,{"$f":"Техническая_марафон!D56","v":" "},{"$f":"Техническая_марафон!E56","v":"00:00:00"},{"$f":"IF(Техническая_марафон!G56=\"Ж\",\"спортсменка\",IF(Техническая_марафон!G56=\"М\",\"спортсмен\",\"не понятно кто\"))","v":"спортсмен"},null,{"$f":"Техническая_марафон!B56","v":"МС"},{"$f":"Техническая_марафон!H56","v":"Фамилия_1 Имя Отчество"}]
[37,{"$f":"Техническая_марафон!C57","v":"Юноши"},null,{"$f":"Техническая_марафон!D57","v":" "},{"$f":"Техническая_марафон!E57","v":"00:00:00"},{"$f":"IF(Техническая_марафон!G57=\"Ж\",\"спортсменка\",IF(Техническая_марафон!G57=\"М\",\"спортсмен\",\"не понятно кто\"))","v":"спортсмен"},null,{"$f":"Техническая_марафон!B57","v":"КМС"},{"$f":"Техническая_марафон!H57","v":"Фамилия_1 Имя Отчество"}]
[38,{"$f":"Техническая_марафон!C58","v":"Юноши"},null,{"$f":"Техническая_марафон!D58","v":" "},{"$f":"Техническая_марафон!E58","v":"00:00:00"},{"$f":"IF(Техническая_марафон!G58=\"Ж\",\"спортсменка\",IF(Техническая_марафон!G58=\"М\",\"спортсмен\",\"не понятно кто\"))","v":"спортсмен"},null,{"$f":"Техническая_марафон!B58","v":"КМС"},{"$f":"Техническая_марафон!H58","v":"Фамилия_1 Имя Отчество"}]
[39,{"$f":"Техническая_марафон!C59","v":"Юноши"},null,{"$f":"Техническая_марафон!D59","v":" "},{"$f":"Техническая_марафон!E59","v":"00:00:00"},{"$f":"IF(Техническая_марафон!G59=\"Ж\",\"спортсменка\",IF(Техническая_марафон!G59=\"М\",\"спортсмен\",\"не понятно кто\"))","v":"спортсмен"},null,{"$f":"Техническая_марафон!B59","v":"КМС"},{"$f":"Техническая_марафон!H59","v":"Фамилия_1 Имя Отчество"}]
[40,{"$f":"Техническая_марафон!C60","v":"Юноши"},null,{"$f":"Техническая_марафон!D60","v":" "},{"$f":"Техническая_марафон!E60","v":"00:00:00"},{"$f":"IF(Техническая_марафон!G60=\"Ж\",\"спортсменка\",IF(Техническая_марафон!G60=\"М\",\"спортсмен\",\"не понятно кто\"))","v":"спортсмен"},null,{"$f":"Техническая_марафон!B60","v":"КМС"},{"$f":"Техническая_марафон!H60","v":"Фамилия_1 Имя Отчество"}]
[41,{"$f":"Техническая_марафон!C61","v":"Юноши"},null,{"$f":"Техническая_марафон!D61","v":" "},{"$f":"Техническая_марафон!E61","v":"00:00:00"},{"$f":"IF(Техническая_марафон!G61=\"Ж\",\"спортсменка\",IF(Техническая_марафон!G61=\"М\",\"спортсмен\",\"не понятно кто\"))","v":"спортсмен"},null,{"$f":"Техническая_марафон!B61","v":"КМС"},{"$f":"Техническая_марафон!H61","v":"Фамилия_1 Имя Отчество"}]
[42,{"$f":"Техническая_марафон!C62","v":"Юноши"},null,{"$f":"Техническая_марафон!D62","v":" "},{"$f":"Техническая_марафон!E62","v":"00:00:00"},{"$f":"IF(Техническая_марафон!G62=\"Ж\",\"спортсменка\",IF(Техническая_марафон!G62=\"М\",\"спортсмен\",\"не понятно кто\"))","v":"спортсмен"},null,{"$f":"Техническая_марафон!B62","v":"КМС"},{"$f":"Техническая_марафон!H62","v":"Фамилия_1 Имя Отчество"}]
[43,{"$f":"Техническая_марафон!C63","v":"Юноши"},null,{"$f":"Техническая_марафон!D63","v":" "},{"$f":"Техническая_марафон!E63","v":"00:00:00"},{"$f":"IF(Техническая_марафон!G63=\"Ж\",\"спортсменка\",IF(Техническая_марафон!G63=\"М\",\"спортсмен\",\"не понятно кто\"))","v":"спортсмен"},null,{"$f":"Техническая_марафон!B63","v":"КМС"},{"$f":"Техническая_марафон!H63","v":"Фамилия_1 Имя Отчество"}]
[44,{"$f":"Техническая_марафон!C64","v":"Юноши"},null,{"$f":"Техническая_марафон!D64","v":" "},{"$f":"Техническая_марафон!E64","v":"00:00:00"},{"$f":"IF(Техническая_марафон!G64=\"Ж\",\"спортсменка\",IF(Техническая_марафон!G64=\"М\",\"спортсмен\",\"не понятно кто\"))","v":"спортсмен"},null,{"$f":"Техническая_марафон!B64","v":"КМС"},{"$f":"Техническая_марафон!H64","v":"Фамилия_1 Имя Отчество"}]
[45,{"$f":"Техническая_марафон!C65","v":"Юноши"},null,{"$f":"Техническая_марафон!D65","v":" "},{"$f":"Техническая_марафон!E65","v":"00:00:00"},{"$f":"IF(Техническая_марафон!G65=\"Ж\",\"спортсменка\",IF(Техническая_марафон!G65=\"М\",\"спортсмен\",\"не понятно кто\"))","v":"спортсмен"},null,{"$f":"Техническая_марафон!B65","v":"II юн"},{"$f":"Техническая_марафон!H65","v":"Фамилия_1 Имя Отчество"}]
[46,{"$f":"Техническая_марафон!C66","v":"Юноши"},null,{"$f":"Техническая_марафон!D66","v":" "},{"$f":"Техническая_марафон!E66","v":"00:00:00"},{"$f":"IF(Техническая_марафон!G66=\"Ж\",\"спортсменка\",IF(Техническая_марафон!G66=\"М\",\"спортсмен\",\"не понятно кто\"))","v":"спортсмен"},null,{"$f":"Техническая_марафон!B66","v":"III юн"},{"$f":"Техническая_марафон!H66","v":"Фамилия_1 Имя Отчество"}]
[47,{"$f":"Техническая_марафон!C67","v":"Юноши"},null,{"$f":"Техническая_марафон!D67","v":" "},{"$f":"Техническая_марафон!E67","v":"00:00:00"},{"$f":"IF(Техническая_марафон!G67=\"Ж\",\"спортсменка\",IF(Техническая_марафон!G67=\"М\",\"спортсмен\",\"не понятно кто\"))","v":"спортсмен"},null,{"$f":"Техническая_марафон!B67","v":"I юн"},{"$f":"Техническая_марафон!H67","v":"Фамилия_1 Имя Отчество"}]
[48,{"$f":"Техническая_марафон!C68","v":"Юноши"},null,{"$f":"Техническая_марафон!D68","v":" "},{"$f":"Техническая_марафон!E68","v":"00:00:00"},{"$f":"IF(Техническая_марафон!G68=\"Ж\",\"спортсменка\",IF(Техническая_марафон!G68=\"М\",\"спортсмен\",\"не понятно кто\"))","v":"спортсмен"},null,{"$f":"Техническая_марафон!B68","v":"III"},{"$f":"Техническая_марафон!H68","v":"Фамилия_1 Имя Отчество"}]
[49,{"$f":"Техническая_марафон!C69","v":"Юноши"},null,{"$f":"Техническая_марафон!D69","v":" "},{"$f":"Техническая_марафон!E69","v":"00:00:00"},{"$f":"IF(Техническая_марафон!G69=\"Ж\",\"спортсменка\",IF(Техническая_марафон!G69=\"М\",\"спортсмен\",\"не понятно кто\"))","v":"спортсмен"},null,{"$f":"Техническая_марафон!B69","v":"I юн"},{"$f":"Техническая_марафон!H69","v":"Фамилия_1 Имя Отчество"}]
[50,{"$f":"Техническая_марафон!C70","v":"Юноши"},null,{"$f":"Техническая_марафон!D70","v":" "},{"$f":"Техническая_марафон!E70","v":"00:00:00"},{"$f":"IF(Техническая_марафон!G70=\"Ж\",\"спортсменка\",IF(Техническая_марафон!G70=\"М\",\"спортсмен\",\"не понятно кто\"))","v":"спортсмен"},null,{"$f":"Техническая_марафон!B70","v":"II юн"},{"$f":"Техническая_марафон!H70","v":"Фамилия_1 Имя Отчество"}]
[]
[null,null,"Тренеры:",{"$f":"Техническая_марафон!E76","v":"Фамилия_1 Имя Отчество"},null,null,"Судьи:"]
[{"$nulls":3},{"$f":"Техническая_марафон!E77","v":"Фамилия_2 Имя Отчество"}]
[{"$nulls":3},{"$f":"Техническая_марафон!E78","v":"Фамилия_3 Имя Отчество"}]
[]
[{"$nulls":3},"Представитель команды",{"$nulls":3},{"$f":"Техническая_марафон!E76","v":"Фамилия_1 Имя Отчество"}]
[{"$nulls":5},"подпись",{"$nulls":3},"расшифровка подписи"]
[]
["К соревнованиям допущено",{"$nulls":4},"спортсменов. ","Врач"]
[{"$nulls":8},"подпись",null,"расшифровка подписи"]
[]
["Министр спорта Региона (председатель спорткомитета, директор ДЮСТШ)"]
[{"$nulls":5},"подпись",{"$nulls":3},"расшифровка подписи"]
[]
["Председатель Федерации Подводного Спорта Региона"]
[{"$nulls":5},"подпись",{"$nulls":3},"расшифровка подписи"]

{"sheet":"Техническая параллельный зачет","index":16,"n_rows":112,"n_cols":115,"rows_kept":112,"merged":[[3,1,4,55],[6,1,7,55],[9,7,9,20],[9,24,10,34],[9,35,10,55],[9,59,12,91],[10,8,10,10],[10,14,10,15],[10,19,10,20],[11,8,11,10],[11,14,11,15],[11,19,11,20],[11,24,12,34],[11,35,12,55],[12,8,12,10],[12,14,12,15],[12,19,12,20],[13,7,13,20],[13,24,14,34],[13,35,14,55],[13,59,16,91],[14,8,14,10],[14,14,14,15],[14,19,14,20],[15,8,15,10],[15,14,15,15],[15,19,15,20],[15,24,16,34],[15,35,16,55],[16,8,16,10],[16,14,16,15],[16,19,16,20],[17,7,17,20],[17,24,18,34],[17,35,18,55],[17,59,20,91],[18,8,18,10],[18,14,18,15],[18,19,18,20],[19,8,19,10],[19,14,19,15],[19,19,19,20],[19,24,20,34],[19,35,20,55],[20,8,20,10],[20,14,20,15],[20,19,20,20],[21,7,21,20],[21,24,22,34],[21,35,22,55],[21,59,24,91],[22,8,22,10],[22,14,22,15],[22,19,22,20],[23,8,23,10],[23,14,23,15],[23,19,23,20],[23,24,24,34],[23,35,24,55],[24,8,24,10],[24,14,24,15],[24,19,24,20],[25,0,25,91],[30,0,31,0],[30,1,31,1],[30,2,31,3],[30,4,31,4],[30,5,31,5],[30,6,31,6],[30,7,31,7],[30,8,30,9],[30,10,30,11],[30,12,30,13],[30,14,30,15],[30,16,30,25],[30,26,30,55],[30,56,30,65],[30,66,30,85],[30,86,30,109],[98,1,98,85],[99,1,99,35],[101,1,101,86],[102,1,102,85],[103,1,103,85],[104,1,104,85],[111,1,111,64]]}
[null,"Настройки:"]
[null,"Следует иметь ввиду, что расчет возраста ведется от текущей даты, установленной на компьютере. Это необходимо учитывать, если соревнования будут проходить в следующем году."]
[null,"1. Ввести название соревнований и дату проведения."]
[null,"2. Ввести возраст  от и до количества лет (не годов рождения!!!)  участников соревнований. У участников, возраст которых не попадает в этот диапазон, года рождения будут высвечиваться на красном фоне. "]
[]
[null,"3. Ограничения по разрядам (недопускаемые разряды просто удаляются)"]
[null,"4. Выделяются строки (именно строки!!!) с 1 по 13 (окрашены синим цветом), нажимается правая кнопка мыши и выбирается \"Скрыть\". Сохранить файл  под нужным Вам названием. Для отображения настроек соревнований выделить строки (именно строки!!!) с 14 и вверх , нажать правую кнопку мыши  и выбрать \" Отобразить\" (или \"Показать\")"]
[]
[]
[null,"Сведения о соревнованиях 1:",{"$nulls":5},"Ограничения по разрядам ",{"$nulls":16},"Место проведения:",{"$nulls":10},"г. Город, бассейн \"ААА\", 50 м",{"$nulls":23},"НЕ ИЗМЕНЯТЬ!!! Служебные поля, заполняются организаторами соревнований"]
[null,"Состав команды:",null,"женщин",7,"в  зачет",3,"ЗМС","КМС",{"$nulls":5},"III",{"$nulls":4},"III юн"]
[{"$nulls":3},"мужчин",7,"лично",2,"МСМК","I",{"$nulls":5},"I юн",{"$nulls":4},"б/р",{"$nulls":4},"Сроки проведения:",{"$nulls":10},"02-06 февраля 2015 г."]
[null,null,"Возраст, лет","от",18,"до",null,"МС","II",{"$nulls":5},"II юн"]
[null,"Сведения о соревнованиях 2:",{"$nulls":5},"Ограничения по разрядам ",{"$nulls":16},"Место проведения:",{"$nulls":10},"г. Город, бассейн \"ААА\", 50 м",{"$nulls":23},"НЕ ИЗМЕНЯТЬ!!! Служебные поля, заполняются организаторами соревнований"]
[null,"Состав команды:",null,"женщин",7,"в  зачет",3,"ЗМС","КМС",{"$nulls":5},"III",{"$nulls":4},"III юн"]
[{"$nulls":3},"мужчин",7,"лично",2,"МСМК","I",{"$nulls":5},"I юн",{"$nulls":4},"б/р",{"$nulls":4},"Сроки проведения:",{"$nulls":10},"02-06 февраля 2015 г."]
[null,null,"Возраст, лет","от",18,"до",null,"МС","II",{"$nulls":5},"II юн"]
[null,"Сведения о соревнованиях 3:",{"$nulls":5},"Ограничения по разрядам ",{"$nulls":16},"Место проведения:",{"$nulls":10},"г. Город, бассейн \"ААА\", 50 м",{"$nulls":23},"НЕ ИЗМЕНЯТЬ!!! Служебные поля, заполняются организаторами соревнований"]
[null,"Состав команды:",null,"женщин",7,"в  зачет",3,"ЗМС","КМС",{"$nulls":5},"III",{"$nulls":4},"III юн"]
[{"$nulls":3},"мужчин",7,"лично",2,"МСМК","I",{"$nulls":5},"I юн",{"$nulls":4},"б/р",{"$nulls":4},"Сроки проведения:",{"$nulls":10},"02-06 февраля 2015 г."]
[null,null,"Возраст, лет","от",18,"до",null,"МС","II",{"$nulls":5},"II юн"]
[null,"Сведения о соревнованиях 4:",{"$nulls":5},"Ограничения по разрядам ",{"$nulls":16},"Место проведения:",{"$nulls":10},"г. Город, бассейн \"ААА\", 50 м",{"$nulls":23},"НЕ ИЗМЕНЯТЬ!!! Служебные поля, заполняются организаторами соревнований"]
[null,"Состав команды:",null,"женщин",7,"в  зачет",3,"ЗМС","КМС",{"$nulls":5},"III",{"$nulls":4},"III юн"]
[{"$nulls":3},"мужчин",7,"лично",2,"МСМК","I",{"$nulls":5},"I юн",{"$nulls":4},"б/р",{"$nulls":4},"Сроки проведения:",{"$nulls":10},"02-06 февраля 2015 г."]
[null,null,"Возраст, лет","от",18,"до",null,"МС","II",{"$nulls":5},"II юн"]
["ТЕХНИЧЕСКАЯ ЗАЯВКА"]
[{"$nulls":3},"Сборной команды","Полное Название команды, город (край, область и пр.)"]
[{"$nulls":3},"Краткое название","Сокращенное название"]
[{"$nulls":4},"на участие в соревнованиях",null,"Название Соревнований по подводному спорту (1460008511Я) (плавание в ластах)"]
[]
["№ п/п","Разряд, звание","Фамилия Имя",null,"Год рожд.","Команда","Пол","Тренер","Сор 1",null,"Сор 2",null,"Сор 3",null,"Сор 4",null,"Ныряние",{"$nulls":9},"Плавание в ластах",{"$nulls":29},"Подводное плавание",{"$nulls":9},"Классические ласты",{"$nulls":19},"Эстафета",{"$nulls":24},"Очки","Зачеты","Лично"]
[{"$nulls":8},"Зачетов","Зачетов","Зачетов","Зачетов","Лично","Лично","Лично","Лично","25м","сор 1","сор 2","сор 3","сор 4","50м","сор 1","сор 2","сор 3","сор 4","50м","сор 1","сор 2","сор 3","сор 4","100м","сор 1","сор 2","сор 3","сор 4","200м","сор 1","сор 2","сор 3","сор 4","400м","сор 1","сор 2","сор 3","сор 4","800м","сор 1","сор 2","сор 3","сор 4","1500м","сор 1","сор 2","сор 3","сор 4","100м","сор 1","сор 2","сор 3","сор 4","400м","сор 1","сор 2","сор 3","сор 4","50м","сор 1","сор 2","сор 3","сор 4","100м","сор 1","сор 2","сор 3","сор 4","200м","сор 1","сор 2","сор 3","сор 4","400м","сор 1","сор 2","сор 3","сор 4","4х50м смеш","сор 1","сор 2","сор 3","сор 4","Этап","4х100м","сор 1","сор 2","сор 3","сор 4","Этап","4х100м к/л смеш","сор 1","сор 2","сор 3","сор 4","Этап","4х200м","сор 1","сор 2","сор 3","сор 4","Этап",null,{"$f":"SUMIFS(#REF!,#REF!,$B32,#REF!,$D32,#REF!,$F32)","v":{"$error":"#REF!"}},{"$f":"COUNTIFS(#REF!,$B32,#REF!,$D32,#REF!,$F32,#REF!,\">=0\")","v":{"$error":"#REF!"}},{"$f":"COUNTIFS(#REF!,$B32,#REF!,$D32,#REF!,$F32,#REF!,\"лично\")","v":{"$error":"#REF!"}}]
[1,"I","Девушки",null,null,{"$f":"$E$28","v":"Сокращенное название"},"Ж",{"$f":"E88","v":"Фамилия_1 Имя Отчество"},{"$f":"COUNTIF(N33:CA33,\">1\")-M33","v":0},0,0,{"$f":"U33+Z33+AE33+AJ33+AO33+AT33+AY33+BD33+BI33+BN33+BS33+BX33+CC33+CH33-P33","v":0},{"$f":"COUNTIF(R33,\"л\")+COUNTIF(W33,\"л\")+COUNTIF(AB33,\"л\")+COUNTIF(AG33,\"л\")+COUNTIF(AL33,\"л\")+COUNTIF(AQ33,\"л\")+COUNTIF(AV33,\"л\")+COUNTIF(BA33,\"л\")+COUNTIF(BF33,\"л\")+COUNTIF(BK33,\"л\")+COUNTIF(BP33,\"л\")+COUNTIF(BU33,\"л\")+COUNTIF(BZ33,\"л\")+COUNTIF(CE33,\"л\")","v":0},0,0,{"$f":"COUNTIF(U33,\"л\")+COUNTIF(Z33,\"л\")+COUNTIF(AE33,\"л\")+COUNTIF(AJ33,\"л\")+COUNTIF(AO33,\"л\")+COUNTIF(AT33,\"л\")+COUNTIF(AY33,\"л\")+COUNTIF(BD33,\"л\")+COUNTIF(BI33,\"л\")+COUNTIF(BN33,\"л\")+COUNTIF(BS33,\"л\")+COUNTIF(BX33,\"л\")+COUNTIF(CC33,\"л\")+COUNTIF(CH33,\"л\")","v":0},{"$nulls":95},{"$f":"SUMIFS(#REF!,#REF!,$C33,#REF!,$E33,#REF!,$F33)","v":{"$error":"#REF!"}},{"$f":"COUNTIFS(#REF!,$C33,#REF!,$E33,#REF!,$F33,#REF!,\">=0\")","v":{"$error":"#REF!"}},{"$f":"COUNTIFS(#REF!,$C33,#REF!,$E33,#REF!,$F33,#REF!,\"лично\")","v":{"$error":"#REF!"}},"ЗМС"]
[2,"I","Девушки",null,null,"Сокращенное название","Ж",{"$f":"H33","v":"Фамилия_1 Имя Отчество"},{"$f":"COUNTIF(N34:CA34,\">1\")-M34","v":0},{"$f":"COUNTIF(O34:CB34,\">1\")-N34","v":0},{"$f":"COUNTIF(P34:CC34,\">1\")-O34","v":0},{"$f":"COUNTIF(U34,\"=1\")+Z34+AE34+AJ34+AO34+AT34+AY34+BD34+BI34+BN34+BS34+BX34+CC34+CH34","v":3},{"$f":"COUNTIF(R34,\"л\")+COUNTIF(W34,\"л\")+COUNTIF(AB34,\"л\")+COUNTIF(AG34,\"л\")+COUNTIF(AL34,\"л\")+COUNTIF(AQ34,\"л\")+COUNTIF(AV34,\"л\")+COUNTIF(BA34,\"л\")+COUNTIF(BF34,\"л\")+COUNTIF(BK34,\"л\")+COUNTIF(BP34,\"л\")+COUNTIF(BU34,\"л\")+COUNTIF(BZ34,\"л\")+COUNTIF(CE34,\"л\")","v":0},{"$f":"COUNTIF(S34,\"л\")+COUNTIF(X34,\"л\")+COUNTIF(AC34,\"л\")+COUNTIF(AH34,\"л\")+COUNTIF(AM34,\"л\")+COUNTIF(AR34,\"л\")+COUNTIF(AW34,\"л\")+COUNTIF(BB34,\"л\")+COUNTIF(BG34,\"л\")+COUNTIF(BL34,\"л\")+COUNTIF(BQ34,\"л\")+COUNTIF(BV34,\"л\")+COUNTIF(CA34,\"л\")+COUNTIF(CF34,\"л\")","v":0},{"$f":"COUNTIF(T34,\"л\")+COUNTIF(Y34,\"л\")+COUNTIF(AD34,\"л\")+COUNTIF(AI34,\"л\")+COUNTIF(AN34,\"л\")+COUNTIF(AS34,\"л\")+COUNTIF(AX34,\"л\")+COUNTIF(BC34,\"л\")+COUNTIF(BH34,\"л\")+COUNTIF(BM34,\"л\")+COUNTIF(BR34,\"л\")+COUNTIF(BW34,\"л\")+COUNTIF(CB34,\"л\")+COUNTIF(CG34,\"л\")","v":0},{"$f":"COUNTIF(U34,\"л\")+COUNTIF(Z34,\"л\")+COUNTIF(AE34,\"л\")+COUNTIF(AJ34,\"л\")+COUNTIF(AO34,\"л\")+COUNTIF(AT34,\"л\")+COUNTIF(AY34,\"л\")+COUNTIF(BD34,\"л\")+COUNTIF(BI34,\"л\")+COUNTIF(BN34,\"л\")+COUNTIF(BS34,\"л\")+COUNTIF(BX34,\"л\")+COUNTIF(CC34,\"л\")+COUNTIF(CH34,\"л\")","v":1},null,1,1,1,"л",null,1,1,1,1,1,1,1,1,1,1,1,1,1,1,1,1,1,1,{"$nulls":71},{"$f":"SUMIFS(#REF!,#REF!,$C34,#REF!,$E34,#REF!,$F34)","v":{"$error":"#REF!"}},{"$f":"COUNTIFS(#REF!,$C34,#REF!,$E34,#REF!,$F34,#REF!,\">=0\")","v":{"$error":"#REF!"}},{"$f":"COUNTIFS(#REF!,$C34,#REF!,$E34,#REF!,$F34,#REF!,\"лично\")","v":{"$error":"#REF!"}},"ЗМС"]
[3,"ЗМС","Девушки",null,null,"Сокращенное название","Ж",{"$f":"H34","v":"Фамилия_1 Имя Отчество"},0,0,0,{"$f":"U35+Z35+AE35+AJ35+AO35+AT35+AY35+BD35+BI35+BN35+BS35+BX35+CC35+CH35-P35","v":0},0,0,0,0,{"$nulls":95},{"$f":"SUMIFS(#REF!,#REF!,$C35,#REF!,$E35,#REF!,$F35)","v":{"$error":"#REF!"}},{"$f":"COUNTIFS(#REF!,$C35,#REF!,$E35,#REF!,$F35,#REF!,\">=0\")","v":{"$error":"#REF!"}},{"$f":"COUNTIFS(#REF!,$C35,#REF!,$E35,#REF!,$F35,#REF!,\"лично\")","v":{"$error":"#REF!"}},"МСМК"]
[4,"МСМК","Девушки",null,null,"Сокращенное название","Ж","Фамилия_1 Имя Отчество",0,0,0,0,0,0,0,0,{"$nulls":95},{"$f":"SUMIFS(#REF!,#REF!,$C36,#REF!,$E36,#REF!,$F36)","v":{"$error":"#REF!"}},{"$f":"COUNTIFS(#REF!,$C36,#REF!,$E36,#REF!,$F36,#REF!,\">=0\")","v":{"$error":"#REF!"}},{"$f":"COUNTIFS(#REF!,$C36,#REF!,$E36,#REF!,$F36,#REF!,\"лично\")","v":{"$error":"#REF!"}},"МС"]
[5,"МС","Девушки",null,null,"Сокращенное название","Ж","Фамилия_1 Имя Отчество",0,0,0,0,0,0,0,0,{"$nulls":95},{"$f":"SUMIFS(#REF!,#REF!,$C37,#REF!,$E37,#REF!,$F37)","v":{"$error":"#REF!"}},{"$f":"COUNTIFS(#REF!,$C37,#REF!,$E37,#REF!,$F37,#REF!,\">=0\")","v":{"$error":"#REF!"}},{"$f":"COUNTIFS(#REF!,$C37,#REF!,$E37,#REF!,$F37,#REF!,\"лично\")","v":{"$error":"#REF!"}},"КМС"]
[6,"КМС","Девушки",null,null,"Сокращенное название","Ж","Фамилия_1 Имя Отчество",0,0,0,0,0,0,0,0,{"$nulls":95},{"$f":"SUMIFS(#REF!,#REF!,$C38,#REF!,$E38,#REF!,$F38)","v":{"$error":"#REF!"}},{"$f":"COUNTIFS(#REF!,$C38,#REF!,$E38,#REF!,$F38,#REF!,\">=0\")","v":{"$error":"#REF!"}},{"$f":"COUNTIFS(#REF!,$C38,#REF!,$E38,#REF!,$F38,#REF!,\"лично\")","v":{"$error":"#REF!"}},"I"]
[7,"I","Девушки",null,null,"Сокращенное название","Ж","Фамилия_1 Имя Отчество",0,0,0,0,0,0,0,0,{"$nulls":95},{"$f":"SUMIFS(#REF!,#REF!,$C39,#REF!,$E39,#REF!,$F39)","v":{"$error":"#REF!"}},{"$f":"COUNTIFS(#REF!,$C39,#REF!,$E39,#REF!,$F39,#REF!,\">=0\")","v":{"$error":"#REF!"}},{"$f":"COUNTIFS(#REF!,$C39,#REF!,$E39,#REF!,$F39,#REF!,\"лично\")","v":{"$error":"#REF!"}},"II"]
[8,"I","Девушки",null,null,"Сокращенное название","Ж","Фамилия_1 Имя Отчество",0,0,0,0,0,0,0,0,{"$nulls":95},{"$f":"SUMIFS(#REF!,#REF!,$C40,#REF!,$E40,#REF!,$F40)","v":{"$error":"#REF!"}},{"$f":"COUNTIFS(#REF!,$C40,#REF!,$E40,#REF!,$F40,#REF!,\">=0\")","v":{"$error":"#REF!"}},{"$f":"COUNTIFS(#REF!,$C40,#REF!,$E40,#REF!,$F40,#REF!,\"лично\")","v":{"$error":"#REF!"}},"III"]
[9,"III","Девушки",null,null,"Сокращенное название","Ж","Фамилия_1 Имя Отчество",0,0,0,0,0,0,0,0,{"$nulls":95},{"$f":"SUMIFS(#REF!,#REF!,$C41,#REF!,$E41,#REF!,$F41)","v":{"$error":"#REF!"}},{"$f":"COUNTIFS(#REF!,$C41,#REF!,$E41,#REF!,$F41,#REF!,\">=0\")","v":{"$error":"#REF!"}},{"$f":"COUNTIFS(#REF!,$C41,#REF!,$E41,#REF!,$F41,#REF!,\"лично\")","v":{"$error":"#REF!"}},"I юн"]
[10,"I","Девушки",null,null,"Сокращенное название","Ж","Фамилия_1 Имя Отчество",0,0,0,0,0,0,0,0,{"$nulls":95},{"$f":"SUMIFS(#REF!,#REF!,$C42,#REF!,$E42,#REF!,$F42)","v":{"$error":"#REF!"}},{"$f":"COUNTIFS(#REF!,$C42,#REF!,$E42,#REF!,$F42,#REF!,\">=0\")","v":{"$error":"#REF!"}},{"$f":"COUNTIFS(#REF!,$C42,#REF!,$E42,#REF!,$F42,#REF!,\"лично\")","v":{"$error":"#REF!"}},"II юн"]
[11,"I юн","Девушки",null,null,"Сокращенное название","Ж","Фамилия_1 Имя Отчество",0,0,0,0,0,0,0,0,{"$nulls":95},{"$f":"SUMIFS(#REF!,#REF!,$C43,#REF!,$E43,#REF!,$F43)","v":{"$error":"#REF!"}},{"$f":"COUNTIFS(#REF!,$C43,#REF!,$E43,#REF!,$F43,#REF!,\">=0\")","v":{"$error":"#REF!"}},{"$f":"COUNTIFS(#REF!,$C43,#REF!,$E43,#REF!,$F43,#REF!,\"лично\")","v":{"$error":"#REF!"}},"III юн"]
[12,"КМС","Девушки",null,null,"Сокращенное название","Ж","Фамилия_1 Имя Отчество",0,0,0,0,0,0,0,0,{"$nulls":95},{"$f":"SUMIFS(#REF!,#REF!,$C44,#REF!,$E44,#REF!,$F44)","v":{"$error":"#REF!"}},{"$f":"COUNTIFS(#REF!,$C44,#REF!,$E44,#REF!,$F44,#REF!,\">=0\")","v":{"$error":"#REF!"}},{"$f":"COUNTIFS(#REF!,$C44,#REF!,$E44,#REF!,$F44,#REF!,\"лично\")","v":{"$error":"#REF!"}},"б/р"]
[13,"I","Девушки",null,null,"Сокращенное название","Ж","Фамилия_1 Имя Отчество",0,0,0,0,0,0,0,0,{"$nulls":95},{"$f":"SUMIFS(#REF!,#REF!,$C45,#REF!,$E45,#REF!,$F45)","v":{"$error":"#REF!"}},{"$f":"COUNTIFS(#REF!,$C45,#REF!,$E45,#REF!,$F45,#REF!,\">=0\")","v":{"$error":"#REF!"}},{"$f":"COUNTIFS(#REF!,$C45,#REF!,$E45,#REF!,$F45,#REF!,\"лично\")","v":{"$error":"#REF!"}}]
[14,"I","Девушки",null,null,"Сокращенное название","Ж","Фамилия_1 Имя Отчество",0,0,0,0,0,0,0,0,{"$nulls":95},{"$f":"SUMIFS(#REF!,#REF!,$C46,#REF!,$E46,#REF!,$F46)","v":{"$error":"#REF!"}},{"$f":"COUNTIFS(#REF!,$C46,#REF!,$E46,#REF!,$F46,#REF!,\">=0\")","v":{"$error":"#REF!"}},{"$f":"COUNTIFS(#REF!,$C46,#REF!,$E46,#REF!,$F46,#REF!,\"лично\")","v":{"$error":"#REF!"}}]
[15,"I","Девушки",null,null,"Сокращенное название","Ж","Фамилия_1 Имя Отчество",0,0,0,0,0,0,0,0,{"$nulls":95},{"$f":"SUMIFS(#REF!,#REF!,$C47,#REF!,$E47,#REF!,$F47)","v":{"$error":"#REF!"}},{"$f":"COUNTIFS(#REF!,$C47,#REF!,$E47,#REF!,$F47,#REF!,\">=0\")","v":{"$error":"#REF!"}},{"$f":"COUNTIFS(#REF!,$C47,#REF!,$E47,#REF!,$F47,#REF!,\"лично\")","v":{"$error":"#REF!"}}]
[16,"I","Девушки",null,null,"Сокращенное название","Ж","Фамилия_1 Имя Отчество",0,0,0,0,0,0,0,0,{"$nulls":95},{"$f":"SUMIFS(#REF!,#REF!,$C48,#REF!,$E48,#REF!,$F48)","v":{"$error":"#REF!"}},{"$f":"COUNTIFS(#REF!,$C48,#REF!,$E48,#REF!,$F48,#REF!,\">=0\")","v":{"$error":"#REF!"}},{"$f":"COUNTIFS(#REF!,$C48,#REF!,$E48,#REF!,$F48,#REF!,\"лично\")","v":{"$error":"#REF!"}}]
[17,"I юн","Девушки",null,null,"Сокращенное название","Ж","Фамилия_1 Имя Отчество",0,0,0,0,0,0,0,0,{"$nulls":95},{"$f":"SUMIFS(#REF!,#REF!,$C49,#REF!,$E49,#REF!,$F49)","v":{"$error":"#REF!"}},{"$f":"COUNTIFS(#REF!,$C49,#REF!,$E49,#REF!,$F49,#REF!,\">=0\")","v":{"$error":"#REF!"}},{"$f":"COUNTIFS(#REF!,$C49,#REF!,$E49,#REF!,$F49,#REF!,\"лично\")","v":{"$error":"#REF!"}}]
[18,"II юн","Девушки",null,null,"Сокращенное название","Ж","Фамилия_1 Имя Отчество",0,0,0,0,0,0,0,0,{"$nulls":95},{"$f":"SUMIFS(#REF!,#REF!,$C50,#REF!,$E50,#REF!,$F50)","v":{"$error":"#REF!"}},{"$f":"COUNTIFS(#REF!,$C50,#REF!,$E50,#REF!,$F50,#REF!,\">=0\")","v":{"$error":"#REF!"}},{"$f":"COUNTIFS(#REF!,$C50,#REF!,$E50,#REF!,$F50,#REF!,\"лично\")","v":{"$error":"#REF!"}}]
[19,"III юн","Девушки",null,null,"Сокращенное название","Ж","Фамилия_1 Имя Отчество",0,0,0,0,0,0,0,0,{"$nulls":95},{"$f":"SUMIFS(#REF!,#REF!,$C51,#REF!,$E51,#REF!,$F51)","v":{"$error":"#REF!"}},{"$f":"COUNTIFS(#REF!,$C51,#REF!,$E51,#REF!,$F51,#REF!,\">=0\")","v":{"$error":"#REF!"}},{"$f":"COUNTIFS(#REF!,$C51,#REF!,$E51,#REF!,$F51,#REF!,\"лично\")","v":{"$error":"#REF!"}}]
[20,"МСМК","Девушки",null,null,"Сокращенное название","Ж","Фамилия_1 Имя Отчество",0,0,0,0,0,0,0,0,{"$nulls":95},{"$f":"SUMIFS(#REF!,#REF!,$C52,#REF!,$E52,#REF!,$F52)","v":{"$error":"#REF!"}},{"$f":"COUNTIFS(#REF!,$C52,#REF!,$E52,#REF!,$F52,#REF!,\">=0\")","v":{"$error":"#REF!"}},{"$f":"COUNTIFS(#REF!,$C52,#REF!,$E52,#REF!,$F52,#REF!,\"лично\")","v":{"$error":"#REF!"}}]
[21,"МС","Девушки",null,null,"Сокращенное название","Ж","Фамилия_1 Имя Отчество",0,0,0,0,0,0,0,0,{"$nulls":95},{"$f":"SUMIFS(#REF!,#REF!,$C53,#REF!,$E53,#REF!,$F53)","v":{"$error":"#REF!"}},{"$f":"COUNTIFS(#REF!,$C53,#REF!,$E53,#REF!,$F53,#REF!,\">=0\")","v":{"$error":"#REF!"}},{"$f":"COUNTIFS(#REF!,$C53,#REF!,$E53,#REF!,$F53,#REF!,\"лично\")","v":{"$error":"#REF!"}}]
[22,"I","Девушки",null,null,"Сокращенное название","Ж","Фамилия_1 Имя Отчество",0,0,0,0,0,0,0,0,{"$nulls":95},{"$f":"SUMIFS(#REF!,#REF!,$C54,#REF!,$E54,#REF!,$F54)","v":{"$error":"#REF!"}},{"$f":"COUNTIFS(#REF!,$C54,#REF!,$E54,#REF!,$F54,#REF!,\">=0\")","v":{"$error":"#REF!"}},{"$f":"COUNTIFS(#REF!,$C54,#REF!,$E54,#REF!,$F54,#REF!,\"лично\")","v":{"$error":"#REF!"}}]
[23,"МС","Девушки",null,null,"Сокращенное название","Ж","Фамилия_1 Имя Отчество",0,0,0,0,0,0,0,0,{"$nulls":95},{"$f":"SUMIFS(#REF!,#REF!,$C55,#REF!,$E55,#REF!,$F55)","v":{"$error":"#REF!"}},{"$f":"COUNTIFS(#REF!,$C55,#REF!,$E55,#REF!,$F55,#REF!,\">=0\")","v":{"$error":"#REF!"}},{"$f":"COUNTIFS(#REF!,$C55,#REF!,$E55,#REF!,$F55,#REF!,\"лично\")","v":{"$error":"#REF!"}}]
[24,"I","Девушки",null,null,"Сокращенное название","Ж","Фамилия_1 Имя Отчество",0,0,0,0,0,0,0,0,{"$nulls":95},{"$f":"SUMIFS(#REF!,#REF!,$C56,#REF!,$E56,#REF!,$F56)","v":{"$error":"#REF!"}},{"$f":"COUNTIFS(#REF!,$C56,#REF!,$E56,#REF!,$F56,#REF!,\">=0\")","v":{"$error":"#REF!"}},{"$f":"COUNTIFS(#REF!,$C56,#REF!,$E56,#REF!,$F56,#REF!,\"лично\")","v":{"$error":"#REF!"}}]
[25,"II","Девушки",null,null,"Сокращенное название","Ж","Фамилия_1 Имя Отчество",0,0,0,0,0,0,0,0,{"$nulls":95},{"$f":"SUMIFS(#REF!,#REF!,$C57,#REF!,$E57,#REF!,$F57)","v":{"$error":"#REF!"}},{"$f":"COUNTIFS(#REF!,$C57,#REF!,$E57,#REF!,$F57,#REF!,\">=0\")","v":{"$error":"#REF!"}},{"$f":"COUNTIFS(#REF!,$C57,#REF!,$E57,#REF!,$F57,#REF!,\"лично\")","v":{"$error":"#REF!"}}]
[{"$f":"A57+1","v":26},"III юн","Юноши",null,null,"Сокращенное название","М","Фамилия_1 Имя Отчество",0,0,0,0,0,0,0,0,{"$nulls":95},{"$f":"SUMIFS(#REF!,#REF!,$C58,#REF!,$E58,#REF!,$F58)","v":{"$error":"#REF!"}},{"$f":"COUNTIFS(#REF!,$C58,#REF!,$E58,#REF!,$F58,#REF!,\">=0\")","v":{"$error":"#REF!"}},{"$f":"COUNTIFS(#REF!,$C58,#REF!,$E58,#REF!,$F58,#REF!,\"лично\")","v":{"$error":"#REF!"}}]
[27,"II","Юноши",null,null,"Сокращенное название","М","Фамилия_1 Имя Отчество",0,0,0,0,0,0,0,0,{"$nulls":95},{"$f":"SUMIFS(#REF!,#REF!,$C59,#REF!,$E59,#REF!,$F59)","v":{"$error":"#REF!"}},{"$f":"COUNTIFS(#REF!,$C59,#REF!,$E59,#REF!,$F59,#REF!,\">=0\")","v":{"$error":"#REF!"}},{"$f":"COUNTIFS(#REF!,$C59,#REF!,$E59,#REF!,$F59,#REF!,\"лично\")","v":{"$error":"#REF!"}}]
[28,"ЗМС","Юноши",null,null,"Сокращенное название","М","Фамилия_1 Имя Отчество",0,0,0,0,0,0,0,0,{"$nulls":95},{"$f":"SUMIFS(#REF!,#REF!,$C60,#REF!,$E60,#REF!,$F60)","v":{"$error":"#REF!"}},{"$f":"COUNTIFS(#REF!,$C60,#REF!,$E60,#REF!,$F60,#REF!,\">=0\")","v":{"$error":"#REF!"}},{"$f":"COUNTIFS(#REF!,$C60,#REF!,$E60,#REF!,$F60,#REF!,\"лично\")","v":{"$error":"#REF!"}}]
[29,"МСМК","Юноши",null,null,"Сокращенное название","М","Фамилия_1 Имя Отчество",0,0,0,0,0,0,0,0,{"$nulls":95},{"$f":"SUMIFS(#REF!,#REF!,$C61,#REF!,$E61,#REF!,$F61)","v":{"$error":"#REF!"}},{"$f":"COUNTIFS(#REF!,$C61,#REF!,$E61,#REF!,$F61,#REF!,\">=0\")","v":{"$error":"#REF!"}},{"$f":"COUNTIFS(#REF!,$C61,#REF!,$E61,#REF!,$F61,#REF!,\"лично\")","v":{"$error":"#REF!"}}]
[30,"МС","Юноши",null,null,"Сокращенное название","М","Фамилия_1 Имя Отчество",0,0,0,0,0,0,0,0,{"$nulls":95},{"$f":"SUMIFS(#REF!,#REF!,$C62,#REF!,$E62,#REF!,$F62)","v":{"$error":"#REF!"}},{"$f":"COUNTIFS(#REF!,$C62,#REF!,$E62,#REF!,$F62,#REF!,\">=0\")","v":{"$error":"#REF!"}},{"$f":"COUNTIFS(#REF!,$C62,#REF!,$E62,#REF!,$F62,#REF!,\"лично\")","v":{"$error":"#REF!"}}]
[31,"КМС","Юноши",null,null,"Сокращенное название","М","Фамилия_1 Имя Отчество",0,0,0,0,0,0,0,0,{"$nulls":95},{"$f":"SUMIFS(#REF!,#REF!,$C63,#REF!,$E63,#REF!,$F63)","v":{"$error":"#REF!"}},{"$f":"COUNTIFS(#REF!,$C63,#REF!,$E63,#REF!,$F63,#REF!,\">=0\")","v":{"$error":"#REF!"}},{"$f":"COUNTIFS(#REF!,$C63,#REF!,$E63,#REF!,$F63,#REF!,\"лично\")","v":{"$error":"#REF!"}}]
[32,"КМС","Юноши",null,null,"Сокращенное название","М","Фамилия_1 Имя Отчество",0,0,0,0,0,0,0,0,{"$nulls":95},{"$f":"SUMIFS(#REF!,#REF!,$C64,#REF!,$E64,#REF!,$F64)","v":{"$error":"#REF!"}},{"$f":"COUNTIFS(#REF!,$C64,#REF!,$E64,#REF!,$F64,#REF!,\">=0\")","v":{"$error":"#REF!"}},{"$f":"COUNTIFS(#REF!,$C64,#REF!,$E64,#REF!,$F64,#REF!,\"лично\")","v":{"$error":"#REF!"}}]
[33,"КМС","Юноши",null,null,"Сокращенное название","М","Фамилия_1 Имя Отчество",0,0,0,0,0,0,0,0,{"$nulls":95},{"$f":"SUMIFS(#REF!,#REF!,$C65,#REF!,$E65,#REF!,$F65)","v":{"$error":"#REF!"}},{"$f":"COUNTIFS(#REF!,$C65,#REF!,$E65,#REF!,$F65,#REF!,\">=0\")","v":{"$error":"#REF!"}},{"$f":"COUNTIFS(#REF!,$C65,#REF!,$E65,#REF!,$F65,#REF!,\"лично\")","v":{"$error":"#REF!"}}]
[34,"ЗМС","Юноши",null,null,"Сокращенное название","М","Фамилия_1 Имя Отчество",0,0,0,0,0,0,0,0,{"$nulls":95},{"$f":"SUMIFS(#REF!,#REF!,$C66,#REF!,$E66,#REF!,$F66)","v":{"$error":"#REF!"}},{"$f":"COUNTIFS(#REF!,$C66,#REF!,$E66,#REF!,$F66,#REF!,\">=0\")","v":{"$error":"#REF!"}},{"$f":"COUNTIFS(#REF!,$C66,#REF!,$E66,#REF!,$F66,#REF!,\"лично\")","v":{"$error":"#REF!"}}]
[35,"МСМК","Юноши",null,null,"Сокращенное название","М","Фамилия_1 Имя Отчество",0,0,0,0,0,0,0,0,{"$nulls":95},{"$f":"SUMIFS(#REF!,#REF!,$C67,#REF!,$E67,#REF!,$F67)","v":{"$error":"#REF!"}},{"$f":"COUNTIFS(#REF!,$C67,#REF!,$E67,#REF!,$F67,#REF!,\">=0\")","v":{"$error":"#REF!"}},{"$f":"COUNTIFS(#REF!,$C67,#REF!,$E67,#REF!,$F67,#REF!,\"лично\")","v":{"$error":"#REF!"}}]
[36,"МС","Юноши",null,null,"Сокращенное название","М","Фамилия_1 Имя Отчество",0,0,0,0,0,0,0,0,{"$nulls":95},{"$f":"SUMIFS(#REF!,#REF!,$C68,#REF!,$E68,#REF!,$F68)","v":{"$error":"#REF!"}},{"$f":"COUNTIFS(#REF!,$C68,#REF!,$E68,#REF!,$F68,#REF!,\">=0\")","v":{"$error":"#REF!"}},{"$f":"COUNTIFS(#REF!,$C68,#REF!,$E68,#REF!,$F68,#REF!,\"лично\")","v":{"$error":"#REF!"}}]
[37,"КМС","Юноши",null,null,"Сокращенное название","М","Фамилия_1 Имя Отчество",0,0,0,0,0,0,0,0,{"$nulls":95},{"$f":"SUMIFS(#REF!,#REF!,$C69,#REF!,$E69,#REF!,$F69)","v":{"$error":"#REF!"}},{"$f":"COUNTIFS(#REF!,$C69,#REF!,$E69,#REF!,$F69,#REF!,\">=0\")","v":{"$error":"#REF!"}},{"$f":"COUNTIFS(#REF!,$C69,#REF!,$E69,#REF!,$F69,#REF!,\"лично\")","v":{"$error":"#REF!"}}]
[38,"КМС","Юноши",null,null,"Сокращенное название","М","Фамилия_1 Имя Отчество",0,0,0,0,0,0,0,0,{"$nulls":95},{"$f":"SUMIFS(#REF!,#REF!,$C70,#REF!,$E70,#REF!,$F70)","v":{"$error":"#REF!"}},{"$f":"COUNTIFS(#REF!,$C70,#REF!,$E70,#REF!,$F70,#REF!,\">=0\")","v":{"$error":"#REF!"}},{"$f":"COUNTIFS(#REF!,$C70,#REF!,$E70,#REF!,$F70,#REF!,\"лично\")","v":{"$error":"#REF!"}}]
[39,"КМС","Юноши",null,null,"Сокращенное название","М","Фамилия_1 Имя Отчество",0,0,0,0,0,0,0,0,{"$nulls":95},{"$f":"SUMIFS(#REF!,#REF!,$C71,#REF!,$E71,#REF!,$F71)","v":{"$error":"#REF!"}},{"$f":"COUNTIFS(#REF!,$C71,#REF!,$E71,#REF!,$F71,#REF!,\">=0\")","v":{"$error":"#REF!"}},{"$f":"COUNTIFS(#REF!,$C71,#REF!,$E71,#REF!,$F71,#REF!,\"лично\")","v":{"$error":"#REF!"}}]
[40,"КМС","Юноши",null,null,"Сокращенное название","М","Фамилия_1 Имя Отчество",0,0,0,0,0,0,0,0,{"$nulls":95},{"$f":"SUMIFS(#REF!,#REF!,$C72,#REF!,$E72,#REF!,$F72)","v":{"$error":"#REF!"}},{"$f":"COUNTIFS(#REF!,$C72,#REF!,$E72,#REF!,$F72,#REF!,\">=0\")","v":{"$error":"#REF!"}},{"$f":"COUNTIFS(#REF!,$C72,#REF!,$E72,#REF!,$F72,#REF!,\"лично\")","v":{"$error":"#REF!"}}]
[41,"КМС","Юноши",null,null,"Сокращенное название","М","Фамилия_1 Имя Отчество",0,0,0,0,0,0,0,0,{"$nulls":95},{"$f":"SUMIFS(#REF!,#REF!,$C73,#REF!,$E73,#REF!,$F73)","v":{"$error":"#REF!"}},{"$f":"COUNTIFS(#REF!,$C73,#REF!,$E73,#REF!,$F73,#REF!,\">=0\")","v":{"$error":"#REF!"}},{"$f":"COUNTIFS(#REF!,$C73,#REF!,$E73,#REF!,$F73,#REF!,\"лично\")","v":{"$error":"#REF!"}}]
[42,"КМС","Юноши",null,null,"Сокращенное название","М","Фамилия_1 Имя Отчество",0,0,0,0,0,0,0,0,{"$nulls":95},{"$f":"SUMIFS(#REF!,#REF!,$C74,#REF!,$E74,#REF!,$F74)","v":{"$error":"#REF!"}},{"$f":"COUNTIFS(#REF!,$C74,#REF!,$E74,#REF!,$F74,#REF!,\">=0\")","v":{"$error":"#REF!"}},{"$f":"COUNTIFS(#REF!,$C74,#REF!,$E74,#REF!,$F74,#REF!,\"лично\")","v":{"$error":"#REF!"}}]
[43,"КМС","Юноши",null,null,"Сокращенное название","М","Фамилия_1 Имя Отчество",0,0,0,0,0,0,0,0,{"$nulls":95},{"$f":"SUMIFS(#REF!,#REF!,$C75,#REF!,$E75,#REF!,$F75)","v":{"$error":"#REF!"}},{"$f":"COUNTIFS(#REF!,$C75,#REF!,$E75,#REF!,$F75,#REF!,\">=0\")","v":{"$error":"#REF!"}},{"$f":"COUNTIFS(#REF!,$C75,#REF!,$E75,#REF!,$F75,#REF!,\"лично\")","v":{"$error":"#REF!"}}]
[44,"КМС","Юноши",null,null,"Сокращенное название","М","Фамилия_1 Имя Отчество",0,0,0,0,0,0,0,0,{"$nulls":95},{"$f":"SUMIFS(#REF!,#REF!,$C76,#REF!,$E76,#REF!,$F76)","v":{"$error":"#REF!"}},{"$f":"COUNTIFS(#REF!,$C76,#REF!,$E76,#REF!,$F76,#REF!,\">=0\")","v":{"$error":"#REF!"}},{"$f":"COUNTIFS(#REF!,$C76,#REF!,$E76,#REF!,$F76,#REF!,\"лично\")","v":{"$error":"#REF!"}}]
[45,"II юн","Юноши",null,null,"Сокращенное название","М","Фамилия_1 Имя Отчество",0,0,0,0,0,0,0,0,{"$nulls":95},{"$f":"SUMIFS(#REF!,#REF!,$C77,#REF!,$E77,#REF!,$F77)","v":{"$error":"#REF!"}},{"$f":"COUNTIFS(#REF!,$C77,#REF!,$E77,#REF!,$F77,#REF!,\">=0\")","v":{"$error":"#REF!"}},{"$f":"COUNTIFS(#REF!,$C77,#REF!,$E77,#REF!,$F77,#REF!,\"лично\")","v":{"$error":"#REF!"}}]
[46,"III юн","Юноши",null,null,"Сокращенное название","М","Фамилия_1 Имя Отчество",0,0,0,0,0,0,0,0,{"$nulls":95},{"$f":"SUMIFS(#REF!,#REF!,$C78,#REF!,$E78,#REF!,$F78)","v":{"$error":"#REF!"}},{"$f":"COUNTIFS(#REF!,$C78,#REF!,$E78,#REF!,$F78,#REF!,\">=0\")","v":{"$error":"#REF!"}},{"$f":"COUNTIFS(#REF!,$C78,#REF!,$E78,#REF!,$F78,#REF!,\"лично\")","v":{"$error":"#REF!"}}]
[47,"I юн","Юноши",null,null,"Сокращенное название","М","Фамилия_1 Имя Отчество",0,0,0,0,0,0,0,0,{"$nulls":95},{"$f":"SUMIFS(#REF!,#REF!,$C79,#REF!,$E79,#REF!,$F79)","v":{"$error":"#REF!"}},{"$f":"COUNTIFS(#REF!,$C79,#REF!,$E79,#REF!,$F79,#REF!,\">=0\")","v":{"$error":"#REF!"}},{"$f":"COUNTIFS(#REF!,$C79,#REF!,$E79,#REF!,$F79,#REF!,\"лично\")","v":{"$error":"#REF!"}}]
[48,"III","Юноши",null,null,"Сокращенное название","М","Фамилия_1 Имя Отчество",0,0,0,0,0,0,0,0,{"$nulls":95},{"$f":"SUMIFS(#REF!,#REF!,$C80,#REF!,$E80,#REF!,$F80)","v":{"$error":"#REF!"}},{"$f":"COUNTIFS(#REF!,$C80,#REF!,$E80,#REF!,$F80,#REF!,\">=0\")","v":{"$error":"#REF!"}},{"$f":"COUNTIFS(#REF!,$C80,#REF!,$E80,#REF!,$F80,#REF!,\"лично\")","v":{"$error":"#REF!"}}]
[49,"I юн","Юноши",null,null,"Сокращенное название","М","Фамилия_1 Имя Отчество",0,0,0,0,0,0,0,0,{"$nulls":95},{"$f":"SUMIFS(#REF!,#REF!,$C81,#REF!,$E81,#REF!,$F81)","v":{"$error":"#REF!"}},{"$f":"COUNTIFS(#REF!,$C81,#REF!,$E81,#REF!,$F81,#REF!,\">=0\")","v":{"$error":"#REF!"}},{"$f":"COUNTIFS(#REF!,$C81,#REF!,$E81,#REF!,$F81,#REF!,\"лично\")","v":{"$error":"#REF!"}}]
[50,"II юн","Юноши",null,null,"Сокращенное название","М","Фамилия_1 Имя Отчество",0,0,0,0,0,0,0,0,{"$nulls":95},{"$f":"SUMIFS(#REF!,#REF!,$C82,#REF!,$E82,#REF!,$F82)","v":{"$error":"#REF!"}},{"$f":"COUNTIFS(#REF!,$C82,#REF!,$E82,#REF!,$F82,#REF!,\">=0\")","v":{"$error":"#REF!"}},{"$f":"COUNTIFS(#REF!,$C82,#REF!,$E82,#REF!,$F82,#REF!,\"лично\")","v":{"$error":"#REF!"}}]
[{"$nulls":6},"Итого дистанций:","женщины",{"$f":"SUMIF(A33:A82,\"Ж\",I33:I82)","v":0},{"$f":"SUMIF(A33:A82,\"Ж\",J33:J82)","v":0},{"$f":"SUMIF(C33:C82,\"Ж\",K33:K82)","v":0},{"$f":"SUMIF(C33:C82,\"Ж\",L33:L82)","v":0},{"$f":"SUMIF(E33:E82,\"Ж\",M33:M82)","v":0},{"$f":"SUMIF(E33:E82,\"Ж\",N33:N82)","v":0},{"$f":"SUMIF(G33:G82,\"Ж\",O33:O82)","v":0},{"$f":"SUMIF(G33:G82,\"Ж\",P33:P82)","v":1},{"$nulls":95},{"$f":"SUM(DH33:DH82)","v":{"$error":"#REF!"}},{"$f":"SUM(DI33:DI82)","v":{"$error":"#REF!"}},{"$f":"SUM(DJ33:DJ82)","v":{"$error":"#REF!"}}]
[{"$nulls":7},"мужчины",{"$f":"SUMIF(A33:A82,\"М\",I33:I82)","v":0},{"$f":"SUMIF(A33:A82,\"М\",J33:J82)","v":0},{"$f":"SUMIF(C33:C82,\"М\",K33:K82)","v":0},{"$f":"SUMIF(C33:C82,\"М\",L33:L82)","v":0},{"$f":"SUMIF(E33:E82,\"М\",M33:M82)","v":0},{"$f":"SUMIF(E33:E82,\"М\",N33:N82)","v":0},{"$f":"SUMIF(G33:G82,\"М\",O33:O82)","v":0},{"$f":"SUMIF(G33:G82,\"М\",P33:P82)","v":0}]
[{"$nulls":7},"выступают за команду женщины",{"$f":"COUNTIFS(I33:I82,\">0\",A33:A82,\"Ж\")","v":0},null,{"$f":"COUNTIFS(K33:K82,\">0\",C33:C82,\"Ж\")","v":0},null,{"$f":"COUNTIFS(M33:M82,\">0\",E33:E82,\"Ж\")","v":0},null,{"$f":"COUNTIFS(O33:O82,\">0\",G33:G82,\"Ж\")","v":0}]
[{"$nulls":7},"выступают за команду мужчины",{"$f":"COUNTIFS(I33:I82,\">0\",A33:A82,\"М\")","v":0},null,{"$f":"COUNTIFS(K33:K82,\">0\",C33:C82,\"М\")","v":0},null,{"$f":"COUNTIFS(M33:M82,\">0\",E33:E82,\"М\")","v":0},null,{"$f":"COUNTIFS(O33:O82,\">0\",G33:G82,\"М\")","v":0}]
[]
["Тренер-представитель",{"$nulls":3},"Фамилия_1 Имя Отчество"]
["Тренер-представитель",{"$nulls":3},"Фамилия_2 Имя Отчество"]
["Тренер-представитель",{"$nulls":3},"Фамилия_3 Имя Отчество"]
[]
[]
[null,"ПОРЯДОК ЗАПОЛНЕНИЯ"]
[null,"Заполни полное и краткое название клуба. Краткое название автоматически проставляется у каждого участника"]
[null,"При сохранении заявки в названии файла указать Название команды и(или) Фамилию тренера"]
[null,"При заполнении технической заявки автоматически будет заполняться Именная заявка. Будьте внимательны!"]
[null,"Перед началом работы очистите шаблон от ненужных результатов. Не очищать столбцы Команда, Пол, Тренер, Зачетов, Лично"]
[null,"1. Верхние строки до жирной разделительной линии предназначены для женского пола, нижние для мужского"]
[null,"2. Если не хватает строк у девушек или у юношей - выделить одну или несколько строк, в середине списка девушек или юношей, полностью, правая кнопка мыши- Вставить. После этого выделить ячейку со значением № п/п больше 1, установить курсор мыши на маленький черный квадратик в правом нижнем углу, выделенной ячейки, нажать левую кнопку мыши и потянуть вниз через пустые строки - нумерация должна продолжиться"]
[null,"3. Аналогичные действия произвести для стобцов Команда и Пол"]
[null,"4. Лишнее (например данный текст) удаляется тоже  путем выделения строк, правая кнопка мыши - Удалить"]
[null,"5. Если  участник плывет дистанцию лично - столбце Зачет для этой дистанции  - ставится буква Л, если вне конкурса - буква В. Ячейки окрасятся в желтый и синий цвет соответственно."]
[null,"6. В случае если участник моложе или старше годов рождения, указанных в Положении о соревнованиях, имеет подготовку ниже разряда указанного в Положении о соревнованиях - соответствующая ячейка выделяется красным цветом"]
[null,"7. В случае превышения суммарного количества дистанций на одного участника, количества дистанций  в командном зачете - ячейки с количеством зачетов (или дистанций лично) выделяется красным цветом."]
[null,"8. В случае превышения суммарного количества участников, выступающих за команду  - ячейки с количеством выступающих за команду участников выделяются красным цветом."]
[null,"ВНИМАНИЕ!! Предварительное время проставляется в формате ччммсс,дс. Т.е. вводится только запятая перед десятыми. "]
[null,"Незначащие нули вначале игнорируются. В случае неправильного ввода (ввод точек, лишних запятых, некорректных значений) ячейка выделяется красным цветом."]
[null,"Например, для ввода 16,56 - нужно набрать 16,56, для ввода 1.34,60 - нужно набрать 134,6, для ввода 15.28,00 - достаточно 1528, для ввода 1:23.15,56 - 12315,56"]
[4,"Спортсменам, выступающим в эстафете, проставляется предварительное время команды и номер этапа"]
[null,"Разряды  и звания   проставляются в соответствии с  ЕВСК"]
[]
[null,"Для распечатки, можно скрыть столбцы Звание, Название клуба, Пол, Тренер, выделить необходимые ячейки. В диалоге Печать  выбрать Вывод  на печать  - Выделенный диапазон"]

{"sheet":"Отчет_ГСК_Первенство","index":17,"n_rows":322,"n_cols":15,"rows_kept":322,"merged":[[0,0,0,14],[1,0,1,14],[2,0,2,14],[14,0,14,14],[15,0,15,14],[16,0,16,14],[17,0,17,14],[18,0,18,14],[20,0,20,14],[51,0,51,14],[52,0,52,14],[53,0,53,14],[54,0,54,7],[54,8,54,14],[57,1,57,4],[57,5,57,15],[59,1,59,7],[59,8,59,14],[61,1,61,7],[65,1,65,3],[65,5,65,7],[65,9,65,10],[66,1,66,5],[68,1,68,5],[68,7,68,11],[72,1,72,14],[74,0,75,0],[74,1,75,8],[74,9,74,11],[74,12,75,13],[74,14,75,14],[76,1,76,8],[76,12,76,13],[77,1,77,8],[77,12,77,13],[78,1,78,8],[78,12,78,13],[79,1,79,8],[79,12,79,13],[80,1,80,8],[80,12,80,13],[81,1,81,8],[81,12,81,13],[82,1,82,8],[82,12,82,13],[83,1,83,8],[83,12,83,13],[84,1,84,8],[84,12,84,13],[85,1,85,8],[85,12,85,13],[86,1,86,8],[86,12,86,13],[87,1,87,8],[87,12,87,13],[88,1,88,8],[88,12,88,13],[89,1,89,8],[89,12,89,13],[90,1,90,8],[90,12,90,13],[91,1,91,8],[91,12,91,13],[92,1,92,8],[92,12,92,13],[93,1,93,8],[93,12,93,13],[94,1,94,8],[94,12,94,13],[95,1,95,8],[95,12,95,13],[96,1,96,8],[96,12,96,13],[97,1,97,8],[97,12,97,13],[98,1,98,8],[98,12,98,13],[99,1,99,8],[99,12,99,13],[100,1,100,8],[100,12,100,13],[101,1,101,8],[101,12,101,13],[102,1,102,8],[102,12,102,13],[106,0,107,1],[106,2,106,13],[106,14,107,14],[107,2,107,3],[107,4,107,5],[107,6,107,7],[107,8,107,9],[107,10,107,11],[107,12,107,13],[108,0,108,1],[108,2,108,3],[108,4,108,5],[108,6,108,7],[108,8,108,9],[108,10,108,11],[108,12,108,13],[109,0,109,1],[109,2,109,3],[109,4,109,5],[109,6,109,7],[109,8,109,9],[109,10,109,11],[109,12,109,13],[110,0,110,1],[110,2,110,3],[110,4,110,5],[110,6,110,7],[110,8,110,9],[110,10,110,11],[110,12,110,13],[111,0,111,1],[111,2,111,3],[111,4,111,5],[111,6,111,7],[111,8,111,9],[111,10,111,11],[111,12,111,13],[112,0,112,1],[112,2,112,3],[112,4,112,5],[112,6,112,7],[112,8,112,9],[112,10,112,11],[112,12,112,13],[113,0,113,1],[113,2,113,3],[113,4,113,5],[113,6,113,7],[113,8,113,9],[113,10,113,11],[113,12,113,13],[114,0,114,1],[114,2,114,3],[114,4,114,5],[114,6,114,7],[114,8,114,9],[114,10,114,11],[114,12,114,13],[115,0,115,1],[115,2,115,3],[115,4,115,5],[115,6,115,7],[115,8,115,9],[115,10,115,11],[115,12,115,13],[129,1,129,2],[129,6,129,7],[129,9,129,10],[129,12,129,13],[130,1,130,2],[130,4,130,7],[134,0,135,0],[134,1,134,8],[134,9,134,16],[135,1,135,4],[135,5,135,8],[135,9,135,12],[135,13,135,16],[136,1,136,8],[136,9,136,16],[140,1,140,8],[140,9,140,16],[144,1,144,8],[144,9,144,16],[148,1,148,8],[148,9,148,16],[152,1,152,8],[152,9,152,16],[156,1,156,8],[156,9,156,16],[160,1,160,8],[160,9,160,16],[164,1,164,8],[164,9,164,16],[168,1,168,8],[168,9,168,16],[172,1,172,8],[172,9,172,16],[185,1,185,8],[185,9,185,16],[199,1,199,14],[201,0,202,0],[201,1,202,8],[201,9,201,14],[202,9,202,10],[202,11,202,12],[202,13,202,14],[203,1,203,8],[203,9,203,10],[203,11,203,12],[203,13,203,14],[204,1,204,8],[204,9,204,10],[204,11,204,12],[204,13,204,14],[205,1,205,8],[205,9,205,10],[205,11,205,12],[205,13,205,14],[206,1,206,8],[206,9,206,10],[206,11,206,12],[206,13,206,14],[207,1,207,8],[207,9,207,10],[207,11,207,12],[207,13,207,14],[208,1,208,8],[208,9,208,10],[208,11,208,12],[208,13,208,14],[209,1,209,8],[209,9,209,10],[209,11,209,12],[209,13,209,14],[210,1,210,8],[210,9,210,10],[210,11,210,12],[210,13,210,14],[211,1,211,8],[211,9,211,10],[211,11,211,12],[211,13,211,14],[212,1,212,8],[212,9,212,10],[212,11,212,12],[212,13,212,14],[213,1,213,8],[213,9,213,10],[213,11,213,12],[213,13,213,14],[214,1,214,8],[214,9,214,10],[214,11,214,12],[214,13,214,14],[215,1,215,8],[215,9,215,10],[215,11,215,12],[215,13,215,14],[216,1,216,8],[216,9,216,10],[216,11,216,12],[216,13,216,14],[217,1,217,8],[217,9,217,10],[217,11,217,12],[217,13,217,14],[218,1,218,8],[218,9,218,10],[218,11,218,12],[218,13,218,14],[219,1,219,8],[219,9,219,10],[219,11,219,12],[219,13,219,14],[220,1,220,8],[220,9,220,10],[220,11,220,12],[220,13,220,14],[221,1,221,8],[221,9,221,10],[221,11,221,12],[221,13,221,14],[222,1,222,8],[222,9,222,10],[222,11,222,12],[222,13,222,14],[223,1,223,8],[223,9,223,10],[223,11,223,12],[223,13,223,14],[224,1,224,8],[224,9,224,10],[224,11,224,12],[224,13,224,14],[225,1,225,8],[225,9,225,10],[225,11,225,12],[225,13,225,14],[226,1,226,8],[226,9,226,10],[226,11,226,12],[226,13,226,14],[227,1,227,8],[227,9,227,10],[227,11,227,12],[227,13,227,14],[228,1,228,8],[228,9,228,10],[228,11,228,12],[228,13,228,14],[229,1,229,8],[229,9,229,10],[229,11,229,12],[229,13,229,14],[231,1,231,14],[232,0,232,14],[238,1,238,14],[239,0,239,14],[245,1,245,14],[246,0,246,14],[252,1,252,14],[253,0,253,14],[263,1,263,14],[264,0,264,14],[269,1,269,14],[270,0,270,14],[277,1,277,14],[278,0,278,14],[284,1,284,14],[285,0,285,14],[291,1,291,14],[292,0,292,14],[300,1,300,14],[302,1,302,14],[305,0,308,8],[311,0,311,6],[311,8,311,14],[312,0,312,6],[312,8,312,14],[316,0,316,3],[316,4,316,8],[316,10,316,14],[317,4,317,8],[317,10,317,14],[319,0,319,3],[319,4,319,8],[319,10,319,14],[320,4,320,8],[320,10,320,14]]}
[{"$f":"#REF!","v":{"$error":"#REF!"}}]
[{"$f":"#REF!","v":{"$error":"#REF!"}}]
[{"$f":"#REF!","v":{"$error":"#REF!"}}]
{"$rows_empty":11}
["ОТЧЕТ"]
["главной судейской коллегии"]
[]
[]
[{"$f":"#REF!","v":{"$error":"#REF!"}}]
[]
[{"$f":"#REF!","v":{"$error":"#REF!"}}]
{"$rows_empty":30}
[{"$f":"#REF!","v":{"$error":"#REF!"}}]
[{"$f":"#REF!","v":{"$error":"#REF!"}}]
["ОТЧЕТ"]
["О проведении  первенства России по",{"$nulls":7},{"$f":"A21","v":{"$error":"#REF!"}}]
[]
[null,"          "]
["1. ","Сроки проведения",{"$nulls":3},{"$f":"A53","v":{"$error":"#REF!"}}]
["  "]
["2. ","Место проведения (субъект РФ, город)",{"$nulls":6},{"$f":"A52","v":{"$error":"#REF!"}}]
[]
["3. ","Наименование спортивного сооружения",{"$nulls":6},{"$f":"A52","v":{"$error":"#REF!"}}]
[" "]
["4.   __________ , из  __________ ","Всего участников соревнований",{"$nulls":5},{"$f":"E66+G67","v":{"$error":"#REF!"}},", из",null,"городов Красноярского края"]
[]
[null,"Спортсменов",null,null,{"$f":"I66+L66","v":{"$error":"#REF!"}},"чел. , в том числе",null,null,{"$f":"COUNTIF(#REF!,\"М\")","v":{"$error":"#REF!"}},"мужчин,",null,{"$f":"COUNTIF(#REF!,\"Ж\")","v":{"$error":"#REF!"}},"женщин"]
[null,"Представителей, тренеров ",{"$nulls":4},{"$f":"COUNTIF(#REF!,\"Тренер-представитель\")","v":{"$error":"#REF!"}},"чел.  "]
[]
["5.","Количество судей (всего)",{"$nulls":4},{"$f":"COUNTA(#REF!)","v":1},"чел., в том числе иногородних",{"$nulls":4},{"$f":"G69-COUNTIF(#REF!,\"Красноярск\")","v":{"$error":"#REF!"}},"чел."]
["Уровень подготовки судей по судейским категориям: ",{"$nulls":8},"МК",{"$f":"COUNTIF(#REF!,\"МК\")","v":{"$error":"#REF!"}},", ВК",{"$f":"COUNTIF(#REF!,\"ВК\")","v":{"$error":"#REF!"}},", I кат.",{"$f":"COUNTIF(#REF!,\"I\")","v":{"$error":"#REF!"}}]
[{"$f":"G69-K70-M70-O70","v":{"$error":"#REF!"}},"других категорий."]
[]
["6.","Состав участвующих команд (регионов), в том числе количество спортсменов, тренеров и другого обслуживающего персонала:"]
[]
["№ п/п","Команда (субъект РФ)",{"$nulls":7},"Спортсмены",null,null,"Тренеры и др. обсл. персонал",null,"Всего"]
[{"$nulls":9},"Мужчины","Женщины","Всего"]
[{"$f":"#REF!","v":{"$error":"#REF!"}},{"$f":"#REF!","v":{"$error":"#REF!"}},{"$nulls":7},{"$f":"COUNTIFS(#REF!,B77,#REF!,\"М\")","v":{"$error":"#REF!"}},{"$f":"COUNTIFS(#REF!,B77,#REF!,\"Ж\")","v":{"$error":"#REF!"}},{"$f":"J77+K77","v":{"$error":"#REF!"}},1,null,{"$f":"J77+K77+M77","v":{"$error":"#REF!"}}]
[{"$f":"#REF!","v":{"$error":"#REF!"}},{"$f":"#REF!","v":{"$error":"#REF!"}},{"$nulls":7},{"$f":"COUNTIFS(#REF!,B78,#REF!,\"М\")","v":{"$error":"#REF!"}},{"$f":"COUNTIFS(#REF!,B78,#REF!,\"Ж\")","v":{"$error":"#REF!"}},{"$f":"J78+K78","v":{"$error":"#REF!"}},1,null,{"$f":"J78+K78+M78","v":{"$error":"#REF!"}}]
[{"$f":"#REF!","v":{"$error":"#REF!"}},{"$f":"#REF!","v":{"$error":"#REF!"}},{"$nulls":7},{"$f":"COUNTIFS(#REF!,B79,#REF!,\"М\")","v":{"$error":"#REF!"}},{"$f":"COUNTIFS(#REF!,B79,#REF!,\"Ж\")","v":{"$error":"#REF!"}},{"$error":"#REF!"},1,null,{"$error":"#REF!"}]
[{"$f":"#REF!","v":{"$error":"#REF!"}},{"$f":"#REF!","v":{"$error":"#REF!"}},{"$nulls":7},{"$f":"COUNTIFS(#REF!,B80,#REF!,\"М\")","v":{"$error":"#REF!"}},{"$f":"COUNTIFS(#REF!,B80,#REF!,\"Ж\")","v":{"$error":"#REF!"}},{"$error":"#REF!"},1,null,{"$error":"#REF!"}]
[{"$f":"#REF!","v":{"$error":"#REF!"}},{"$f":"#REF!","v":{"$error":"#REF!"}},{"$nulls":7},{"$f":"COUNTIFS(#REF!,B81,#REF!,\"М\")","v":{"$error":"#REF!"}},{"$f":"COUNTIFS(#REF!,B81,#REF!,\"Ж\")","v":{"$error":"#REF!"}},{"$error":"#REF!"},1,null,{"$error":"#REF!"}]
[{"$f":"#REF!","v":{"$error":"#REF!"}},{"$f":"#REF!","v":{"$error":"#REF!"}},{"$nulls":7},{"$f":"COUNTIFS(#REF!,B82,#REF!,\"М\")","v":{"$error":"#REF!"}},{"$f":"COUNTIFS(#REF!,B82,#REF!,\"Ж\")","v":{"$error":"#REF!"}},{"$error":"#REF!"},1,null,{"$error":"#REF!"}]
[{"$f":"#REF!","v":{"$error":"#REF!"}},{"$f":"#REF!","v":{"$error":"#REF!"}},{"$nulls":7},{"$f":"COUNTIFS(#REF!,B83,#REF!,\"М\")","v":{"$error":"#REF!"}},{"$f":"COUNTIFS(#REF!,B83,#REF!,\"Ж\")","v":{"$error":"#REF!"}},{"$error":"#REF!"},1,null,{"$error":"#REF!"}]
[{"$f":"#REF!","v":{"$error":"#REF!"}},{"$f":"#REF!","v":{"$error":"#REF!"}},{"$nulls":7},{"$f":"COUNTIFS(#REF!,B84,#REF!,\"М\")","v":{"$error":"#REF!"}},{"$f":"COUNTIFS(#REF!,B84,#REF!,\"Ж\")","v":{"$error":"#REF!"}},{"$error":"#REF!"},1,null,{"$error":"#REF!"}]
[{"$f":"#REF!","v":{"$error":"#REF!"}},{"$f":"#REF!","v":{"$error":"#REF!"}},{"$nulls":7},{"$f":"COUNTIFS(#REF!,B85,#REF!,\"М\")","v":{"$error":"#REF!"}},{"$f":"COUNTIFS(#REF!,B85,#REF!,\"Ж\")","v":{"$error":"#REF!"}},{"$error":"#REF!"},1,null,{"$error":"#REF!"}]
[{"$f":"#REF!","v":{"$error":"#REF!"}},{"$f":"#REF!","v":{"$error":"#REF!"}},{"$nulls":7},{"$f":"COUNTIFS(#REF!,B86,#REF!,\"М\")","v":{"$error":"#REF!"}},{"$f":"COUNTIFS(#REF!,B86,#REF!,\"Ж\")","v":{"$error":"#REF!"}},{"$error":"#REF!"},1,null,{"$error":"#REF!"}]
[{"$f":"#REF!","v":{"$error":"#REF!"}},{"$f":"#REF!","v":{"$error":"#REF!"}},{"$nulls":7},{"$f":"COUNTIFS(#REF!,B87,#REF!,\"М\")","v":{"$error":"#REF!"}},{"$f":"COUNTIFS(#REF!,B87,#REF!,\"Ж\")","v":{"$error":"#REF!"}},{"$error":"#REF!"},1,null,{"$error":"#REF!"}]
[{"$f":"#REF!","v":{"$error":"#REF!"}},{"$f":"#REF!","v":{"$error":"#REF!"}},{"$nulls":7},{"$f":"COUNTIFS(#REF!,B88,#REF!,\"М\")","v":{"$error":"#REF!"}},{"$f":"COUNTIFS(#REF!,B88,#REF!,\"Ж\")","v":{"$error":"#REF!"}},{"$error":"#REF!"},1,null,{"$error":"#REF!"}]
[{"$f":"#REF!","v":{"$error":"#REF!"}},{"$f":"#REF!","v":{"$error":"#REF!"}},{"$nulls":7},{"$f":"COUNTIFS(#REF!,B89,#REF!,\"М\")","v":{"$error":"#REF!"}},{"$f":"COUNTIFS(#REF!,B89,#REF!,\"Ж\")","v":{"$error":"#REF!"}},{"$f":"J89+K89","v":{"$error":"#REF!"}},1,null,1]
[{"$f":"#REF!","v":{"$error":"#REF!"}},{"$f":"#REF!","v":{"$error":"#REF!"}},{"$nulls":7},{"$f":"COUNTIFS(#REF!,B90,#REF!,\"М\")","v":{"$error":"#REF!"}},{"$f":"COUNTIFS(#REF!,B90,#REF!,\"Ж\")","v":{"$error":"#REF!"}},{"$error":"#REF!"},1,null,1]
[{"$f":"#REF!","v":{"$error":"#REF!"}},{"$f":"#REF!","v":{"$error":"#REF!"}},{"$nulls":7},{"$f":"COUNTIFS(#REF!,B91,#REF!,\"М\")","v":{"$error":"#REF!"}},{"$f":"COUNTIFS(#REF!,B91,#REF!,\"Ж\")","v":{"$error":"#REF!"}},{"$error":"#REF!"},1,null,1]
[{"$f":"#REF!","v":{"$error":"#REF!"}},{"$f":"#REF!","v":{"$error":"#REF!"}},{"$nulls":7},{"$f":"COUNTIFS(#REF!,B92,#REF!,\"М\")","v":{"$error":"#REF!"}},{"$f":"COUNTIFS(#REF!,B92,#REF!,\"Ж\")","v":{"$error":"#REF!"}},{"$error":"#REF!"},1,null,1]
[{"$f":"#REF!","v":{"$error":"#REF!"}},{"$f":"#REF!","v":{"$error":"#REF!"}},{"$nulls":7},{"$f":"COUNTIFS(#REF!,B93,#REF!,\"М\")","v":{"$error":"#REF!"}},{"$f":"COUNTIFS(#REF!,B93,#REF!,\"Ж\")","v":{"$error":"#REF!"}},{"$error":"#REF!"},1,null,1]
[{"$f":"#REF!","v":{"$error":"#REF!"}},{"$f":"#REF!","v":{"$error":"#REF!"}},{"$nulls":7},{"$f":"COUNTIFS(#REF!,B94,#REF!,\"М\")","v":{"$error":"#REF!"}},{"$f":"COUNTIFS(#REF!,B94,#REF!,\"Ж\")","v":{"$error":"#REF!"}},{"$error":"#REF!"},1,null,1]
[{"$f":"#REF!","v":{"$error":"#REF!"}},{"$f":"#REF!","v":{"$error":"#REF!"}},{"$nulls":7},{"$f":"COUNTIFS(#REF!,B95,#REF!,\"М\")","v":{"$error":"#REF!"}},{"$f":"COUNTIFS(#REF!,B95,#REF!,\"Ж\")","v":{"$error":"#REF!"}},{"$error":"#REF!"},1,null,1]
[{"$f":"#REF!","v":{"$error":"#REF!"}},{"$f":"#REF!","v":{"$error":"#REF!"}},{"$nulls":7},{"$f":"COUNTIFS(#REF!,B96,#REF!,\"М\")","v":{"$error":"#REF!"}},{"$f":"COUNTIFS(#REF!,B96,#REF!,\"Ж\")","v":{"$error":"#REF!"}},{"$error":"#REF!"},1,null,1]
[{"$f":"#REF!","v":{"$error":"#REF!"}},{"$f":"#REF!","v":{"$error":"#REF!"}},{"$nulls":7},{"$f":"COUNTIFS(#REF!,B97,#REF!,\"М\")","v":{"$error":"#REF!"}},{"$f":"COUNTIFS(#REF!,B97,#REF!,\"Ж\")","v":{"$error":"#REF!"}},{"$error":"#REF!"},1,null,1]
[{"$f":"#REF!","v":{"$error":"#REF!"}},{"$f":"#REF!","v":{"$error":"#REF!"}},{"$nulls":7},{"$f":"COUNTIFS(#REF!,B98,#REF!,\"М\")","v":{"$error":"#REF!"}},{"$f":"COUNTIFS(#REF!,B98,#REF!,\"Ж\")","v":{"$error":"#REF!"}},{"$error":"#REF!"},1,null,1]
[{"$f":"#REF!","v":{"$error":"#REF!"}},{"$f":"#REF!","v":{"$error":"#REF!"}},{"$nulls":7},{"$f":"COUNTIFS(#REF!,B99,#REF!,\"М\")","v":{"$error":"#REF!"}},{"$f":"COUNTIFS(#REF!,B99,#REF!,\"Ж\")","v":{"$error":"#REF!"}},{"$error":"#REF!"},1,null,1]
[{"$f":"#REF!","v":{"$error":"#REF!"}},{"$f":"#REF!","v":{"$error":"#REF!"}},{"$nulls":7},{"$f":"COUNTIFS(#REF!,B100,#REF!,\"М\")","v":{"$error":"#REF!"}},{"$f":"COUNTIFS(#REF!,B100,#REF!,\"Ж\")","v":{"$error":"#REF!"}},{"$error":"#REF!"},1,null,1]
[{"$f":"#REF!","v":{"$error":"#REF!"}},{"$f":"#REF!","v":{"$error":"#REF!"}},{"$nulls":7},{"$f":"COUNTIFS(#REF!,B101,#REF!,\"М\")","v":{"$error":"#REF!"}},{"$f":"COUNTIFS(#REF!,B101,#REF!,\"Ж\")","v":{"$error":"#REF!"}},{"$error":"#REF!"},1,null,1]
[{"$f":"#REF!","v":{"$error":"#REF!"}},{"$f":"#REF!","v":{"$error":"#REF!"}},{"$nulls":7},{"$f":"COUNTIFS(#REF!,B102,#REF!,\"М\")","v":{"$error":"#REF!"}},{"$f":"COUNTIFS(#REF!,B102,#REF!,\"Ж\")","v":{"$error":"#REF!"}},{"$error":"#REF!"},1,null,1]
[{"$f":"#REF!","v":{"$error":"#REF!"}},{"$f":"#REF!","v":{"$error":"#REF!"}},{"$nulls":7},{"$f":"COUNTIFS(#REF!,B103,#REF!,\"М\")","v":{"$error":"#REF!"}},{"$f":"COUNTIFS(#REF!,B103,#REF!,\"Ж\")","v":{"$error":"#REF!"}},{"$error":"#REF!"},1,null,1]
[]
["7.","Уровень подготовки спортсменов:"]
[]
[" ",null," Возрастные группы в соответствии  с ЕВСК",{"$nulls":11},"Всего  "]
[null,null,"Юниоры",null,"Юниорки",null,"Юноши ",null,"Девушки",null,"Мальчики",null,"Девочки"]
["ЗМС, МСМК ",{"$nulls":5},{"$f":"COUNTIFS(#REF!,\"МСМК\",#REF!,\"М\")+COUNTIFS(#REF!,\"ЗМС\",#REF!,\"М\")","v":{"$error":"#REF!"}},null,{"$f":"COUNTIFS(#REF!,\"МСМК\",#REF!,\"Ж\")+COUNTIFS(#REF!,\"ЗМС\",#REF!,\"Ж\")","v":{"$error":"#REF!"}},null," ",{"$nulls":3},{"$f":"SUM(C109:N109)","v":{"$error":"#REF!"}}]
["МС",{"$nulls":5},{"$f":"COUNTIFS(#REF!,A110,#REF!,\"М\")","v":{"$error":"#REF!"}},null,{"$f":"COUNTIFS(#REF!,A110,#REF!,\"Ж\")","v":{"$error":"#REF!"}},{"$nulls":5},{"$f":"SUM(C110:N110)","v":{"$error":"#REF!"}}]
["КМС",{"$nulls":5},{"$f":"COUNTIFS(#REF!,A111,#REF!,\"М\")","v":{"$error":"#REF!"}},null,{"$f":"COUNTIFS(#REF!,A111,#REF!,\"Ж\")","v":{"$error":"#REF!"}},{"$nulls":5},{"$error":"#REF!"}]
["I",{"$nulls":5},{"$f":"COUNTIFS(#REF!,A112,#REF!,\"М\")","v":{"$error":"#REF!"}},null,{"$f":"COUNTIFS(#REF!,A112,#REF!,\"Ж\")","v":{"$error":"#REF!"}},{"$nulls":5},{"$error":"#REF!"}]
["II",{"$nulls":5},{"$f":"COUNTIFS(#REF!,A113,#REF!,\"М\")","v":{"$error":"#REF!"}},null,{"$f":"COUNTIFS(#REF!,A113,#REF!,\"Ж\")","v":{"$error":"#REF!"}},{"$nulls":5},{"$error":"#REF!"}]
["III",{"$nulls":5},{"$f":"COUNTIFS(#REF!,A114,#REF!,\"М\")","v":{"$error":"#REF!"}},null,{"$f":"COUNTIFS(#REF!,A114,#REF!,\"Ж\")","v":{"$error":"#REF!"}},{"$nulls":5},{"$error":"#REF!"}]
["I юн",{"$nulls":5},{"$f":"COUNTIFS(#REF!,A115,#REF!,\"М\")","v":{"$error":"#REF!"}},null,{"$f":"COUNTIFS(#REF!,A115,#REF!,\"Ж\")","v":{"$error":"#REF!"}},{"$nulls":5},{"$error":"#REF!"}]
["II юн",{"$nulls":5},{"$f":"COUNTIFS(#REF!,A116,#REF!,\"М\")","v":{"$error":"#REF!"}},null,{"$f":"COUNTIFS(#REF!,A116,#REF!,\"Ж\")","v":{"$error":"#REF!"}},{"$nulls":5},{"$error":"#REF!"}]
[]
["8.","Представительство спортивных организаций:"]
["Вооруженные силы",{"$nulls":4},",  Минобрнауки России",{"$nulls":4},", «Динамо»",null,null,","]
["ФСО профсоюзов «Россия»",{"$nulls":5},", «Юность России»",{"$nulls":3},", РС СО «Спартак»",{"$nulls":3},", "]
["РФСО «Локомотив» ",{"$nulls":4},", спортивные клубы (СК)",{"$nulls":4},",  РССС",null,null,","]
["другие организации",{"$nulls":4},"человек"]
[]
[]
["9.","Принадлежность к спортивной школе:"]
["ДЮСШ",null,null,", СДЮШОР",null,null,", УОР",null,", другие организации",{"$nulls":4},"человек"]
[null,"                              "]
[]
["10.","Выполнение (подтверждение) нормативов (количество показанных результатов):"]
[null,"МСМК",null,{"$f":"#REF!","v":{"$error":"#REF!"}},"МС",{"$f":"#REF!","v":{"$error":"#REF!"}},"КМС",null,{"$f":"#REF!","v":{"$error":"#REF!"}},"1 разряд",null,{"$f":"#REF!","v":{"$error":"#REF!"}},"2 разряд",null,{"$f":"#REF!","v":{"$error":"#REF!"}}]
[null,"3 разряд",null,{"$f":"#REF!","v":{"$error":"#REF!"}},"1 юношеский разряд ",{"$nulls":3},{"$f":"#REF!","v":{"$error":"#REF!"}}]
[]
["11.","Результаты  соревнований:"]
[]
["Занятые места","2005-2006 гг рождения",{"$nulls":7},"2005-2006 гг рождения"]
[null,"Спортсмен",{"$nulls":3},"Команда",{"$nulls":3},"Спортсмен",{"$nulls":3},"Команда"]
[null,"Плавание в ластах - 100 м (1460091811Я),  девушки, 2005-2006 гг. рождения",{"$nulls":7},"Плавание в ластах - 50 м (1460081811Я),  юноши 2005-2006 гг. рождения"]
[1,"Бушкова Мария ",{"$nulls":3},"\"Спутник\"-\"Авангард\" ",{"$nulls":3},"Трофимчик Никита",{"$nulls":3},"\"Спутник\"-\"Авангард\" "]
[2,"Смирнова Арина",{"$nulls":3},"\"КСШ\" г. Ачинск",{"$nulls":3},"Королёв Арсений",{"$nulls":3},"Дианема"]
[3,"Малько Ксения",{"$nulls":3},"\"КСШ\" г. Ачинск",{"$nulls":3},"Кривошеев Артем",{"$nulls":3},"\"КСШ\" г. Ачинск"]
[null,"Плавание в ластах - 100 м (1460091811Я),  юноши 2005-2006 гг. рождения",{"$nulls":7},"Плавание в классических ластах- 50 м (1460241811Я),  девушки 2005-2006 гг. рождения"]
[1,"Савосин Родион",{"$nulls":3},"Дианема",{"$nulls":3},"Магомедалиева Эльмира",{"$nulls":3},"ПК \"Сибирь\""]
[2,"Кривошеев Артем",{"$nulls":3},"\"КСШ\" г. Ачинск",{"$nulls":3},"Селезнева Анна",{"$nulls":3},"ПК \"Сибирь\""]
[3,"Трофимчик Никита",{"$nulls":3},"\"Спутник\"-\"Авангард\" ",{"$nulls":3},"Максакова Ксения",{"$nulls":3},"Дианема"]
[null,"Плавание в классических ластах- 100 м (1460251811Я),  девушки 2005-2006 гг. рождения",{"$nulls":7},"Плавание в классических ластах- 50 м (1460241811Я),  юноши 2005-2006 гг. рождения"]
[1,"Магомедалиева Эльмира",{"$nulls":3},"ПК \"Сибирь\"",{"$nulls":3},"Лосев Матвей",{"$nulls":3},"СШОР-ДВС СибГУ"]
[2,"Селезнева Анна",{"$nulls":3},"ПК \"Сибирь\"",{"$nulls":3},"Федоров Никита",{"$nulls":3},"\"КСШ\" г. Ачинск"]
[3,"Максакова Ксения",{"$nulls":3},"Дианема",{"$nulls":3},"Лазовский Семен",{"$nulls":3},"СШОР-ДВС СибГУ"]
[null,"Плавание в классических ластах- 100 м (1460251811Я),  юноши 2005-2006 гг. рождения",{"$nulls":7},"Плавание в ластах - 200 м (1460101811Я),  девушки 2005-2006 гг. рождения"]
[1,"Федоров Никита",{"$nulls":3},"\"КСШ\" г. Ачинск",{"$nulls":3},"Смирнова Арина",{"$nulls":3},"\"КСШ\" г. Ачинск"]
[2,"Лосев Матвей",{"$nulls":3},"СШОР-ДВС СибГУ",{"$nulls":3},"Бушкова Мария ",{"$nulls":3},"\"Спутник\"-\"Авангард\" "]
[3,"Сухарев Максим",{"$nulls":3},"Дианема",{"$nulls":3},"Карпова Екатерина",{"$nulls":3},"Дианема"]
[null,"Плавание в ластах - 800 м (1460121811Я),  девушки 2005-2006 гг. рождения",{"$nulls":7},"Плавание в ластах - 200 м (1460101811Я),  юноши 2005-2006 гг. рождения"]
[1,"Бушкова Мария ",{"$nulls":3},"\"Спутник\"-\"Авангард\" ",{"$nulls":3},"Королёв Арсений",{"$nulls":3},"Дианема"]
[2,"Смирнова Арина",{"$nulls":3},"\"КСШ\" г. Ачинск",{"$nulls":3},"Трофимчик Никита",{"$nulls":3},"\"Спутник\"-\"Авангард\" "]
[3,"Веккессер Полина",{"$nulls":3},"Дианема",{"$nulls":3},"Савосин Родион",{"$nulls":3},"Дианема"]
[null,"Плавание в ластах - 800 м (1460121811Я),  юноши 2005-2006 гг. рождения",{"$nulls":7},"Плавание в классических ластах- 200 м (1460261811Я),  девушки 2005-2006 гг. рождения"]
[1,"Сухарев Максим",{"$nulls":3},"Дианема",{"$nulls":3},"Магомедалиева Эльмира",{"$nulls":3},"ПК \"Сибирь\""]
[2,"Трофимчик Никита",{"$nulls":3},"\"Спутник\"-\"Авангард\" ",{"$nulls":3},"Селезнева Анна",{"$nulls":3},"ПК \"Сибирь\""]
[3,"Савосин Родион",{"$nulls":3},"Дианема",{"$nulls":3},"Карпова Екатерина",{"$nulls":3},"Дианема"]
[null,"Плавание в ластах - 50 м (1460081811Я),  девушки 2005-2006 гг. рождения",{"$nulls":7},"Плавание в классических ластах- 200 м (1460261811Я),  юноши 2005-2006 гг. рождения"]
[1,"Максакова Ксения",{"$nulls":3},"Дианема",{"$nulls":3},"Сухарев Максим",{"$nulls":3},"Дианема"]
[2,"Стародубцева Арина",{"$nulls":3},"Дианема",{"$nulls":3},"Лосев Матвей",{"$nulls":3},"СШОР-ДВС СибГУ"]
[3,"Корявина Анастасия",{"$nulls":3},"\"КСШ\" г. Ачинск",{"$nulls":3},"Федоров Никита",{"$nulls":3},"\"КСШ\" г. Ачинск"]
[null,"Подводное плавание - 100 м (1460141811Я),  девушки 2005-2006 гг. рождения",{"$nulls":7},"Плавание в ластах - 400 м (1460111811Я),  девушки 2005-2006 гг. рождения"]
[1,"Смирнова Арина",{"$nulls":3},"\"КСШ\" г. Ачинск",{"$nulls":3},"Бушкова Мария ",{"$nulls":3},"\"Спутник\"-\"Авангард\" "]
[2,"Стародубцева Арина",{"$nulls":3},"Дианема",{"$nulls":3},"Смирнова Арина",{"$nulls":3},"\"КСШ\" г. Ачинск"]
[3,"Малько Ксения",{"$nulls":3},"\"КСШ\" г. Ачинск",{"$nulls":3},"Зырянова Алена",{"$nulls":3},"\"Спутник\"-\"Авангард\" "]
[null,"Подводное плавание - 100 м (1460141811Я),  юноши 2005-2006 гг. рождения",{"$nulls":7},"Плавание в ластах - 400 м (1460111811Я),  юноши 2005-2006 гг. рождения"]
[1,"Савосин Родион",{"$nulls":3},"Дианема",{"$nulls":3},"Сухарев Максим",{"$nulls":3},"Дианема"]
[2,"Карпов Владислав",{"$nulls":3},"\"КСШ\" г. Ачинск",{"$nulls":3},"Трофимчик Никита",{"$nulls":3},"\"Спутник\"-\"Авангард\" "]
[3,"Королёв Арсений",{"$nulls":3},"Дианема",{"$nulls":3},"Королёв Арсений",{"$nulls":3},"Дианема"]
[null,"Плавание в ластах - эстафета 4х200 м (1460191811Я), девушки 2005-2006 гг. рождения",{"$nulls":7},"Плавание в ластах - эстафета 4х200 м (1460191811Я), юноши 2005-2006 гг. рождения"]
[1,"Максакова Ксения",{"$nulls":3},"Дианема",{"$nulls":3},"Сухарев Максим",{"$nulls":3},"Дианема"]
[1,"Веккессер Полина",{"$nulls":3},"Дианема",{"$nulls":3},"Иванов Олег",{"$nulls":3},"Дианема"]
[1,"Стародубцева Арина",{"$nulls":3},"Дианема",{"$nulls":3},"Савосин Родион",{"$nulls":3},"Дианема"]
[1,"Карпова Екатерина",{"$nulls":3},"Дианема",{"$nulls":3},"Королёв Арсений",{"$nulls":3},"Дианема"]
[2,"Малько Ксения",{"$nulls":3},"\"КСШ\" г. Ачинск",{"$nulls":3},"Кривошеев Артем",{"$nulls":3},"\"КСШ\" г. Ачинск"]
[2,"Корявина Анастасия",{"$nulls":3},"\"КСШ\" г. Ачинск",{"$nulls":3},"Федоров Никита",{"$nulls":3},"\"КСШ\" г. Ачинск"]
[2,"Маркова Арина",{"$nulls":3},"\"КСШ\" г. Ачинск",{"$nulls":3},"Черкасов Александр",{"$nulls":3},"\"КСШ\" г. Ачинск"]
[2,"Смирнова Арина",{"$nulls":3},"\"КСШ\" г. Ачинск",{"$nulls":3},"Карпов Владислав",{"$nulls":3},"\"КСШ\" г. Ачинск"]
[3,"Бушкова Мария ",{"$nulls":3},"\"Спутник\"-\"Авангард\" "]
[3,"Зырянова Алена",{"$nulls":3},"\"Спутник\"-\"Авангард\" "]
[3,"Шугалей Полина ",{"$nulls":3},"\"Спутник\"-\"Авангард\" "]
[3,"Артемьева Анастасия",{"$nulls":3},"\"Спутник\"-\"Авангард\" "]
[null,"Плавание в ластах - эстафета 4х100 м (1460181811Я), девушки 2005-2006 гг. рождения",{"$nulls":7},"Плавание в ластах - эстафета 4х100 м (1460181811Я), юноши 2005-2006 гг. рождения"]
[1,"Максакова Ксения",{"$nulls":3},"Дианема",{"$nulls":3},"Карпов Владислав",{"$nulls":3},"\"КСШ\" г. Ачинск"]
[1,"Веккессер Полина",{"$nulls":3},"Дианема",{"$nulls":3},"Федоров Никита",{"$nulls":3},"\"КСШ\" г. Ачинск"]
[1,"Карпова Екатерина",{"$nulls":3},"Дианема",{"$nulls":3},"Замяткин Никита",{"$nulls":3},"\"КСШ\" г. Ачинск"]
[1,"Стародубцева Арина",{"$nulls":3},"Дианема",{"$nulls":3},"Кривошеев Артем",{"$nulls":3},"\"КСШ\" г. Ачинск"]
[2,"Зырянова Алена",{"$nulls":3},"\"Спутник\"-\"Авангард\" ",{"$nulls":3},"Сухарев Максим",{"$nulls":3},"Дианема"]
[2,"Бушкова Мария ",{"$nulls":3},"\"Спутник\"-\"Авангард\" ",{"$nulls":3},"Иванов Олег",{"$nulls":3},"Дианема"]
[2,"Шугалей Полина ",{"$nulls":3},"\"Спутник\"-\"Авангард\" ",{"$nulls":3},"Савосин Родион",{"$nulls":3},"Дианема"]
[2,"Торощина Юля",{"$nulls":3},"\"Спутник\"-\"Авангард\" ",{"$nulls":3},"Королёв Арсений",{"$nulls":3},"Дианема"]
[3,"Цыпенко Мария ",{"$nulls":3},"\"Витязь\"",{"$nulls":3},"Жаров Лев",{"$nulls":3},"\"Спутник\"-\"Авангард\" "]
[3,"Сердобинцева Ангелина",{"$nulls":3},"\"Витязь\"",{"$nulls":3},"Панкратьев Вячеслав ",{"$nulls":3},"\"Спутник\"-\"Авангард\" "]
[3,"Бабурина Света",{"$nulls":3},"\"Витязь\"",{"$nulls":3},"Мураев Александр",{"$nulls":3},"\"Спутник\"-\"Авангард\" "]
[3,"Солуянова Марина",{"$nulls":3},"\"Витязь\"",{"$nulls":3},"Трофимчик Никита",{"$nulls":3},"\"Спутник\"-\"Авангард\" "]
[]
["12.","Количество субъектов Российской Федерации команд (перечислить территории согласно занятым местам):"]
[]
["Место","Команда (субъект РФ)",{"$nulls":7},"Количество медалей"]
[{"$nulls":9},"золото",null,"серебро",null,"бронза"]
[1,{"$f":"#REF!","v":{"$error":"#REF!"}},{"$nulls":7},{"$f":"COUNTIFS(#REF!,1,#REF!,B204)","v":{"$error":"#REF!"}},null,{"$f":"COUNTIFS(#REF!,2,#REF!,B204)","v":{"$error":"#REF!"}},null,{"$f":"COUNTIFS(#REF!,3,#REF!,B204)","v":{"$error":"#REF!"}}]
[2,{"$f":"#REF!","v":{"$error":"#REF!"}},{"$nulls":7},{"$f":"COUNTIFS(#REF!,1,#REF!,B205)","v":{"$error":"#REF!"}},null,{"$f":"COUNTIFS(#REF!,2,#REF!,B205)","v":{"$error":"#REF!"}},null,{"$f":"COUNTIFS(#REF!,3,#REF!,B205)","v":{"$error":"#REF!"}}]
[3,{"$f":"#REF!","v":{"$error":"#REF!"}},{"$nulls":7},{"$f":"COUNTIFS(#REF!,1,#REF!,B206)","v":{"$error":"#REF!"}},null,{"$f":"COUNTIFS(#REF!,2,#REF!,B206)","v":{"$error":"#REF!"}},null,{"$f":"COUNTIFS(#REF!,3,#REF!,B206)","v":{"$error":"#REF!"}}]
[4,{"$f":"#REF!","v":{"$error":"#REF!"}},{"$nulls":7},{"$f":"COUNTIFS(#REF!,1,#REF!,B207)","v":{"$error":"#REF!"}},null,{"$f":"COUNTIFS(#REF!,2,#REF!,B207)","v":{"$error":"#REF!"}},null,{"$f":"COUNTIFS(#REF!,3,#REF!,B207)","v":{"$error":"#REF!"}}]
[5,{"$f":"#REF!","v":{"$error":"#REF!"}},{"$nulls":7},{"$f":"COUNTIFS(#REF!,1,#REF!,B208)","v":{"$error":"#REF!"}},null,{"$f":"COUNTIFS(#REF!,2,#REF!,B208)","v":{"$error":"#REF!"}},null,{"$f":"COUNTIFS(#REF!,3,#REF!,B208)","v":{"$error":"#REF!"}}]
[6,{"$f":"#REF!","v":{"$error":"#REF!"}},{"$nulls":7},{"$f":"COUNTIFS(#REF!,1,#REF!,B209)","v":{"$error":"#REF!"}},null,{"$f":"COUNTIFS(#REF!,2,#REF!,B209)","v":{"$error":"#REF!"}},null,{"$f":"COUNTIFS(#REF!,3,#REF!,B209)","v":{"$error":"#REF!"}}]
[7,{"$f":"#REF!","v":{"$error":"#REF!"}},{"$nulls":7},{"$f":"COUNTIFS(#REF!,1,#REF!,B210)","v":{"$error":"#REF!"}},null,{"$f":"COUNTIFS(#REF!,2,#REF!,B210)","v":{"$error":"#REF!"}},null,{"$f":"COUNTIFS(#REF!,3,#REF!,B210)","v":{"$error":"#REF!"}}]
[8,{"$f":"#REF!","v":{"$error":"#REF!"}},{"$nulls":7},{"$f":"COUNTIFS(#REF!,1,#REF!,B211)","v":{"$error":"#REF!"}},null,{"$f":"COUNTIFS(#REF!,2,#REF!,B211)","v":{"$error":"#REF!"}},null,{"$f":"COUNTIFS(#REF!,3,#REF!,B211)","v":{"$error":"#REF!"}}]
[9,{"$f":"#REF!","v":{"$error":"#REF!"}},{"$nulls":7},{"$f":"COUNTIFS(#REF!,1,#REF!,B212)","v":{"$error":"#REF!"}},null,{"$f":"COUNTIFS(#REF!,2,#REF!,B212)","v":{"$error":"#REF!"}},null,{"$f":"COUNTIFS(#REF!,3,#REF!,B212)","v":{"$error":"#REF!"}}]
[10,{"$f":"#REF!","v":{"$error":"#REF!"}},{"$nulls":7},{"$f":"COUNTIFS(#REF!,1,#REF!,B213)","v":{"$error":"#REF!"}},null,{"$f":"COUNTIFS(#REF!,2,#REF!,B213)","v":{"$error":"#REF!"}},null,{"$f":"COUNTIFS(#REF!,3,#REF!,B213)","v":{"$error":"#REF!"}}]
[11,{"$f":"#REF!","v":{"$error":"#REF!"}},{"$nulls":7},{"$f":"COUNTIFS(#REF!,1,#REF!,B214)","v":{"$error":"#REF!"}},null,{"$f":"COUNTIFS(#REF!,2,#REF!,B214)","v":{"$error":"#REF!"}},null,{"$f":"COUNTIFS(#REF!,3,#REF!,B214)","v":{"$error":"#REF!"}}]
[12,{"$f":"#REF!","v":{"$error":"#REF!"}},{"$nulls":7},{"$f":"COUNTIFS(#REF!,1,#REF!,B215)","v":{"$error":"#REF!"}},null,{"$f":"COUNTIFS(#REF!,2,#REF!,B215)","v":{"$error":"#REF!"}},null,{"$f":"COUNTIFS(#REF!,3,#REF!,B215)","v":{"$error":"#REF!"}}]
[13,{"$f":"#REF!","v":{"$error":"#REF!"}},{"$nulls":7},{"$f":"COUNTIFS(#REF!,1,#REF!,B216)","v":{"$error":"#REF!"}},null,{"$f":"COUNTIFS(#REF!,2,#REF!,B216)","v":{"$error":"#REF!"}},null,{"$f":"COUNTIFS(#REF!,3,#REF!,B216)","v":{"$error":"#REF!"}}]
[14,{"$f":"#REF!","v":{"$error":"#REF!"}},{"$nulls":7},{"$f":"COUNTIFS(#REF!,1,#REF!,B217)","v":{"$error":"#REF!"}},null,{"$f":"COUNTIFS(#REF!,2,#REF!,B217)","v":{"$error":"#REF!"}},null,{"$f":"COUNTIFS(#REF!,3,#REF!,B217)","v":{"$error":"#REF!"}}]
[15,{"$f":"#REF!","v":{"$error":"#REF!"}},{"$nulls":7},{"$f":"COUNTIFS(#REF!,1,#REF!,B218)","v":{"$error":"#REF!"}},null,{"$f":"COUNTIFS(#REF!,2,#REF!,B218)","v":{"$error":"#REF!"}},null,{"$f":"COUNTIFS(#REF!,3,#REF!,B218)","v":{"$error":"#REF!"}}]
[16,{"$f":"#REF!","v":{"$error":"#REF!"}},{"$nulls":7},{"$f":"COUNTIFS(#REF!,1,#REF!,B219)","v":{"$error":"#REF!"}},null,{"$f":"COUNTIFS(#REF!,2,#REF!,B219)","v":{"$error":"#REF!"}},null,{"$f":"COUNTIFS(#REF!,3,#REF!,B219)","v":{"$error":"#REF!"}}]
[17,{"$f":"#REF!","v":{"$error":"#REF!"}},{"$nulls":7},{"$f":"COUNTIFS(#REF!,1,#REF!,B220)","v":{"$error":"#REF!"}},null,{"$f":"COUNTIFS(#REF!,2,#REF!,B220)","v":{"$error":"#REF!"}},null,{"$f":"COUNTIFS(#REF!,3,#REF!,B220)","v":{"$error":"#REF!"}}]
[18,{"$f":"#REF!","v":{"$error":"#REF!"}},{"$nulls":7},{"$f":"COUNTIFS(#REF!,1,#REF!,B221)","v":{"$error":"#REF!"}},null,{"$f":"COUNTIFS(#REF!,2,#REF!,B221)","v":{"$error":"#REF!"}},null,{"$f":"COUNTIFS(#REF!,3,#REF!,B221)","v":{"$error":"#REF!"}}]
[19,{"$f":"#REF!","v":{"$error":"#REF!"}},{"$nulls":7},{"$f":"COUNTIFS(#REF!,1,#REF!,B222)","v":{"$error":"#REF!"}},null,{"$f":"COUNTIFS(#REF!,2,#REF!,B222)","v":{"$error":"#REF!"}},null,{"$f":"COUNTIFS(#REF!,3,#REF!,B222)","v":{"$error":"#REF!"}}]
[20,{"$f":"#REF!","v":{"$error":"#REF!"}},{"$nulls":7},{"$f":"COUNTIFS(#REF!,1,#REF!,B223)","v":{"$error":"#REF!"}},null,{"$f":"COUNTIFS(#REF!,2,#REF!,B223)","v":{"$error":"#REF!"}},null,{"$f":"COUNTIFS(#REF!,3,#REF!,B223)","v":{"$error":"#REF!"}}]
[21,{"$f":"#REF!","v":{"$error":"#REF!"}},{"$nulls":7},{"$f":"COUNTIFS(#REF!,1,#REF!,B224)","v":{"$error":"#REF!"}},null,{"$f":"COUNTIFS(#REF!,2,#REF!,B224)","v":{"$error":"#REF!"}},null,{"$f":"COUNTIFS(#REF!,3,#REF!,B224)","v":{"$error":"#REF!"}}]
[22,{"$f":"#REF!","v":{"$error":"#REF!"}},{"$nulls":7},{"$f":"COUNTIFS(#REF!,1,#REF!,B225)","v":{"$error":"#REF!"}},null,{"$f":"COUNTIFS(#REF!,2,#REF!,B225)","v":{"$error":"#REF!"}},null,{"$f":"COUNTIFS(#REF!,3,#REF!,B225)","v":{"$error":"#REF!"}}]
[23,{"$f":"#REF!","v":{"$error":"#REF!"}},{"$nulls":7},{"$f":"COUNTIFS(#REF!,1,#REF!,B226)","v":{"$error":"#REF!"}},null,{"$f":"COUNTIFS(#REF!,2,#REF!,B226)","v":{"$error":"#REF!"}},null,{"$f":"COUNTIFS(#REF!,3,#REF!,B226)","v":{"$error":"#REF!"}}]
[24,{"$f":"#REF!","v":{"$error":"#REF!"}},{"$nulls":7},{"$f":"COUNTIFS(#REF!,1,#REF!,B227)","v":{"$error":"#REF!"}},null,{"$f":"COUNTIFS(#REF!,2,#REF!,B227)","v":{"$error":"#REF!"}},null,{"$f":"COUNTIFS(#REF!,3,#REF!,B227)","v":{"$error":"#REF!"}}]
[25,{"$f":"#REF!","v":{"$error":"#REF!"}},{"$nulls":7},{"$f":"COUNTIFS(#REF!,1,#REF!,B228)","v":{"$error":"#REF!"}},null,{"$f":"COUNTIFS(#REF!,2,#REF!,B228)","v":{"$error":"#REF!"}},null,{"$f":"COUNTIFS(#REF!,3,#REF!,B228)","v":{"$error":"#REF!"}}]
[26,{"$f":"#REF!","v":{"$error":"#REF!"}},{"$nulls":7},{"$f":"COUNTIFS(#REF!,1,#REF!,B229)","v":{"$error":"#REF!"}},null,{"$f":"COUNTIFS(#REF!,2,#REF!,B229)","v":{"$error":"#REF!"}},null,{"$f":"COUNTIFS(#REF!,3,#REF!,B229)","v":{"$error":"#REF!"}}]
[27,{"$f":"#REF!","v":{"$error":"#REF!"}},{"$nulls":7},{"$f":"COUNTIFS(#REF!,1,#REF!,B230)","v":{"$error":"#REF!"}},null,{"$f":"COUNTIFS(#REF!,2,#REF!,B230)","v":{"$error":"#REF!"}},null,{"$f":"COUNTIFS(#REF!,3,#REF!,B230)","v":{"$error":"#REF!"}}]
[]
["13.","Общая оценка состояния спортивной базы, наличие и состояние спортивного оборудования и инвентаря, возможности для разминки и тренировок: "]
["соответствует рангу соревнований"]
[]
[]
[]
[]
[]
["14.","Общая оценка состояния и оснащения служебных помещений - раздевалок для спортсменов, помещений для судей и других служб:"]
["соответствует рангу соревнований"]
[]
[]
[]
[]
[]
["15.","Информационное обеспечение соревнований - табло, радиоинформация, своевременность и доступность стартовых протоколов и результатов соревнований, обеспечение судейской коллегии средствами вычислительной техники и множительной аппаратурой:"]
["соответствует рангу соревнований"]
[]
[]
[]
[]
[]
["16. ","Обеспечение работы средств массовой информации - места на трибунах, помещение для пресс-центра и т.д., в том числе освещение соревнования в местных СМИ (копии публикаций в СМИ прилагаются): "]
["соответствует рангу соревнований"]
{"$rows_empty":7}
["17.","Количество зрителей_________________чел."]
[]
["18.","Общая оценка качества проведения соревнований - точность соблюдения расписания, объективность судейства (с указанием нарушений правил соревнований и т.д.):"]
["соответствует рангу соревнований"]
[]
[]
[]
[]
["19.","Медицинское обеспечение соревнований, в том числе сведения о травмах и других несчастных случаях: "]
["соответствует рангу соревнований"]
[]
[]
[]
[]
[]
[]
["20.","Общая оценка качества размещения, питания, транспортного обслуживания, организации встреч и проводов спортивных делегаций, шефская работа и т.п.: "]
["соответствует рангу соревнований"]
[]
[]
[]
[]
[]
["21.","Общая оценка соблюдения мер по обеспечению безопасности при проведении соревнования:"]
["соответствует рангу соревнований"]
[]
[]
[]
[]
[]
["22.","Выводы и предложения (замечания) по подготовке и проведению соревнования:"]
["соответствует рангу соревнований"]
[]
[]
[]
[]
[]
[]
["Приложения."]
[" 1.","Полный состав судейской коллегии с указанием выполняемых на соревновании функций (судейская категория, субъект РФ, город)."]
["3.  ","Итоги командного первенства. "]
["4.","Протоколы (результаты) соревнований, подписанные главным судьей и главным секретарем."]
[" "]
[]
["Заместитель директора по работе со сборными командами и проведению мероприятий КГАУ \"Центр спортивно подготовки\""]
[]
[]
[]
[]
[]
[{"$nulls":8},"В.И Мусиенко"]
["(подпись) ",{"$nulls":7},"(расшифровка подписи)              печать"]
[]
[]
[]
["Главный судья",{"$nulls":9},{"$f":"#REF!","v":{"$error":"#REF!"}}]
[{"$nulls":4},"(подпись) ",{"$nulls":5},"(расшифровка подписи)"]
[]
["Главный секретарь ",{"$nulls":9},{"$f":"#REF!","v":{"$error":"#REF!"}}]
[{"$nulls":4},"(подпись) ",{"$nulls":5},"(расшифровка подписи)"]
[" «____» _____________ 2014  г."]

{"sheet":"Карточка эстафеты","index":18,"n_rows":41,"n_cols":20,"rows_kept":41,"merged":[[1,0,1,2],[1,11,1,13],[2,0,2,2],[2,11,2,13],[3,0,3,2],[3,11,3,13],[4,0,4,2],[4,11,4,13],[7,1,7,6],[7,12,7,17],[8,1,8,6],[8,12,8,17],[9,1,9,6],[9,12,9,17],[10,1,10,6],[10,12,10,17],[11,1,11,6],[11,12,11,17],[14,0,14,8],[14,11,14,19],[15,2,15,6],[15,13,15,17],[16,2,16,6],[16,13,16,17],[23,0,23,2],[23,11,23,13],[24,0,24,2],[24,11,24,13],[25,0,25,2],[25,11,25,13],[26,0,26,2],[26,11,26,13],[29,1,29,6],[29,12,29,17],[30,1,30,6],[30,12,30,17],[31,1,31,6],[31,12,31,17],[32,1,32,6],[32,12,32,17],[33,1,33,6],[33,12,33,17],[36,0,36,8],[36,11,36,19],[37,2,37,6],[37,13,37,17],[38,2,38,6],[38,13,38,17]]}
[{"$nulls":5},"ЭСТАФЕТНАЯ КАРТОЧКА",{"$nulls":10},"ЭСТАФЕТНАЯ КАРТОЧКА"]
["Вид дистанции",{"$nulls":6},"Мужчины","Женщины",null,null,"Вид дистанции",{"$nulls":6},"Мужчины","Женщины"]
[{"$nulls":7},"Юниоры","Юниорки",{"$nulls":9},"Юниоры","Юниорки"]
["Планируемый результат",{"$nulls":6},"Юноши","Девушки",null,null,"Планируемый результат",{"$nulls":6},"Юноши","Девушки"]
[{"$nulls":7},"Мальчики","Девочки",{"$nulls":9},"Мальчики","Девочки"]
[{"$nulls":3},"Команда",{"$nulls":10},"Команда"]
[]
["Разряд","Фамилия Имя",{"$nulls":5},"Год рожд.","Время",null,null,"Разряд","Фамилия Имя",{"$nulls":5},"Год рожд.","Время"]
[]
[]
[]
[]
[]
["I",null,null,"II",null,null,"III",{"$nulls":4},"I",null,null,"II",null,null,"III"]
["результат",{"$nulls":10},"результат"]
[]
[null,null,"Ст. секундометрист",{"$nulls":10},"Ст. секундометрист"]
["Заплыв",{"$nulls":6},"Место",{"$nulls":3},"Заплыв",{"$nulls":6},"Место"]
["Дорожка",{"$nulls":6},"Очки",{"$nulls":3},"Дорожка",{"$nulls":6},"Очки"]
[]
[]
[]
[{"$nulls":5},"ЭСТАФЕТНАЯ КАРТОЧКА",{"$nulls":10},"ЭСТАФЕТНАЯ КАРТОЧКА"]
["Вид дистанции",{"$nulls":6},"Мужчины","Женщины",null,null,"Вид дистанции",{"$nulls":6},"Мужчины","Женщины"]
[{"$nulls":7},"Юниоры","Юниорки",{"$nulls":9},"Юниоры","Юниорки"]
["Планируемый результат",{"$nulls":6},"Юноши","Девушки",null,null,"Планируемый результат",{"$nulls":6},"Юноши","Девушки"]
[{"$nulls":7},"Мальчики","Девочки",{"$nulls":9},"Мальчики","Девочки"]
[{"$nulls":3},"Команда",{"$nulls":10},"Команда"]
[]
["Разряд","Фамилия Имя",{"$nulls":5},"Год рожд.","Время",null,null,"Разряд","Фамилия Имя",{"$nulls":5},"Год рожд.","Время"]
[]
[]
[]
[]
[]
["I",null,null,"II",null,null,"III",{"$nulls":4},"I",null,null,"II",null,null,"III"]
["результат",{"$nulls":10},"результат"]
[]
[null,null,"Ст. секундометрист",{"$nulls":10},"Ст. секундометрист"]
["Заплыв",{"$nulls":6},"Место",{"$nulls":3},"Заплыв",{"$nulls":6},"Место"]
["Дорожка",{"$nulls":6},"Очки",{"$nulls":3},"Дорожка",{"$nulls":6},"Очки"]

{"sheet":"Дистанции взрослые","index":19,"n_rows":320,"n_cols":11,"rows_kept":320}
["Дистанции женщины, мужчины (18 лет и старше)",{"$nulls":6},{"$f":"YEAR(TODAY())-18","v":2008},"г. рождения и старше",null,"Рекорд края"]
["Выделить и скопировать нужные строки дистанций вместе с рекордами. ",{"$nulls":9},"Рекорд края 16-17 лет"]
["На странице Стартовый протокол - правая кнопка мыши -Вставить",{"$nulls":9},"Рекорд края 14-15 лет"]
[null,null,"Плавание в ластах - 50 м (1460081811Я),  женщины",{"$nulls":7},"Рекорд края 13 лет и младше"]
[{"$nulls":7},{"$f":"$K$1","v":"Рекорд края"},{"$f":"Рекорды!D5","v":17.94}]
[{"$nulls":7},{"$f":"$K$2","v":"Рекорд края 16-17 лет"},{"$f":"Рекорды!B5","v":18.92}]
[{"$nulls":7},{"$f":"$K$3","v":"Рекорд края 14-15 лет"},{"$f":"Рекорды!D73","v":19.11}]
[{"$nulls":7},{"$f":"$K$4","v":"Рекорд края 13 лет и младше"},{"$f":"Рекорды!B73","v":19.85}]
[]
[null,null,"Плавание в ластах - 50 м (1460081811Я),  мужчины"]
[{"$nulls":7},{"$f":"$K$1","v":"Рекорд края"},{"$f":"Рекорды!E5","v":15.92}]
[{"$nulls":7},{"$f":"$K$2","v":"Рекорд края 16-17 лет"},{"$f":"Рекорды!C5","v":15.92}]
[{"$nulls":7},{"$f":"$K$3","v":"Рекорд края 14-15 лет"},{"$f":"Рекорды!E73","v":17.5}]
[{"$nulls":7},{"$f":"$K$4","v":"Рекорд края 13 лет и младше"},{"$f":"Рекорды!C73","v":17.7}]
[]
[null,null,"Плавание в классических ластах- 50 м (1460241811Я),  женщины"]
[{"$nulls":7},{"$f":"$K$1","v":"Рекорд края"},{"$f":"Рекорды!D41","v":21.46}]
[{"$nulls":7},{"$f":"$K$2","v":"Рекорд края 16-17 лет"},{"$f":"Рекорды!B41","v":21.92}]
[{"$nulls":7},{"$f":"$K$3","v":"Рекорд края 14-15 лет"},{"$f":"Рекорды!D109","v":23}]
[{"$nulls":7},{"$f":"$K$4","v":"Рекорд края 13 лет и младше"},{"$f":"Рекорды!B109","v":23.8}]
[]
[null,null,"Плавание в классических ластах- 50 м (1460241811Я),  мужчины"]
[{"$nulls":7},{"$f":"$K$1","v":"Рекорд края"},{"$f":"Рекорды!E41","v":18.77}]
[{"$nulls":7},{"$f":"$K$2","v":"Рекорд края 16-17 лет"},{"$f":"Рекорды!C41","v":20.02}]
[{"$nulls":7},{"$f":"$K$3","v":"Рекорд края 14-15 лет"},{"$f":"Рекорды!E109","v":20.79}]
[{"$nulls":7},{"$f":"$K$4","v":"Рекорд края 13 лет и младше"},{"$f":"Рекорды!C109","v":22}]
[]
[null,null,"Плавание в ластах - 100 м (1460091811Я),  женщины"]
[{"$nulls":7},{"$f":"$K$1","v":"Рекорд края"},{"$f":"Рекорды!D8","v":39.2}]
[{"$nulls":7},{"$f":"$K$2","v":"Рекорд края 16-17 лет"},{"$f":"Рекорды!B8","v":41.2}]
[{"$nulls":7},{"$f":"$K$3","v":"Рекорд края 14-15 лет"},{"$f":"Рекорды!D76","v":41.48}]
[{"$nulls":7},{"$f":"$K$4","v":"Рекорд края 13 лет и младше"},{"$f":"Рекорды!B76","v":43.88}]
[]
[null,null,"Плавание в ластах - 100 м (1460091811Я),  мужчины"]
[{"$nulls":7},{"$f":"$K$1","v":"Рекорд края"},{"$f":"Рекорды!E8","v":35.56}]
[{"$nulls":7},{"$f":"$K$2","v":"Рекорд края 16-17 лет"},{"$f":"Рекорды!C8","v":36.24}]
[{"$nulls":7},{"$f":"$K$3","v":"Рекорд края 14-15 лет"},{"$f":"Рекорды!E76","v":37.69}]
[{"$nulls":7},{"$f":"$K$4","v":"Рекорд края 13 лет и младше"},{"$f":"Рекорды!C76","v":40.55}]
[]
[null,null,"Плавание в классических ластах- 100 м (1460251811Я),  женщины"]
[{"$nulls":7},{"$f":"$K$1","v":"Рекорд края"},{"$f":"Рекорды!D44","v":47.58}]
[{"$nulls":7},{"$f":"$K$2","v":"Рекорд края 16-17 лет"},{"$f":"Рекорды!B44","v":47.91}]
[{"$nulls":7},{"$f":"$K$3","v":"Рекорд края 14-15 лет"},{"$f":"Рекорды!D112","v":50.68}]
[{"$nulls":7},{"$f":"$K$4","v":"Рекорд края 13 лет и младше"},{"$f":"Рекорды!B112","v":53.01}]
[]
[null,null,"Плавание в классических ластах- 100 м (1460251811Я),  мужчины"]
[{"$nulls":7},{"$f":"$K$1","v":"Рекорд края"},{"$f":"Рекорды!E44","v":42.7}]
[{"$nulls":7},{"$f":"$K$2","v":"Рекорд края 16-17 лет"},{"$f":"Рекорды!C44","v":43.77}]
[{"$nulls":7},{"$f":"$K$3","v":"Рекорд края 14-15 лет"},{"$f":"Рекорды!E112","v":45.9}]
[{"$nulls":7},{"$f":"$K$4","v":"Рекорд края 13 лет и младше"},{"$f":"Рекорды!C112","v":48.95}]
[]
[null,null,"Плавание в ластах - 200 м (1460101811Я),  женщины"]
[{"$nulls":7},{"$f":"$K$1","v":"Рекорд края"},{"$f":"Рекорды!D11","v":128.51}]
[{"$nulls":7},{"$f":"$K$2","v":"Рекорд края 16-17 лет"},{"$f":"Рекорды!B11","v":132.52}]
[{"$nulls":7},{"$f":"$K$3","v":"Рекорд края 14-15 лет"},{"$f":"Рекорды!D79","v":137.02}]
[{"$nulls":7},{"$f":"$K$4","v":"Рекорд края 13 лет и младше"},{"$f":"Рекорды!B79","v":139.87}]
[]
[null,null,"Плавание в ластах - 200 м (1460101811Я),  мужчины"]
[{"$nulls":7},{"$f":"$K$1","v":"Рекорд края"},{"$f":"Рекорды!E11","v":121.33}]
[{"$nulls":7},{"$f":"$K$2","v":"Рекорд края 16-17 лет"},{"$f":"Рекорды!C11","v":121.67}]
[{"$nulls":7},{"$f":"$K$3","v":"Рекорд края 14-15 лет"},{"$f":"Рекорды!E79","v":125.51}]
[{"$nulls":7},{"$f":"$K$4","v":"Рекорд края 13 лет и младше"},{"$f":"Рекорды!C79","v":133.17}]
[]
[null,null,"Плавание в классических ластах- 200 м (1460261811Я),  женщины"]
[{"$nulls":7},{"$f":"$K$1","v":"Рекорд края"},{"$f":"Рекорды!D47","v":146.62}]
[{"$nulls":7},{"$f":"$K$2","v":"Рекорд края 16-17 лет"},{"$f":"Рекорды!B47","v":149.49}]
[{"$nulls":7},{"$f":"$K$3","v":"Рекорд края 14-15 лет"},{"$f":"Рекорды!D115","v":154.19}]
[{"$nulls":7},{"$f":"$K$4","v":"Рекорд края 13 лет и младше"},{"$f":"Рекорды!B115","v":158.33}]
[]
[null,null,"Плавание в классических ластах- 200 м (1460261811Я),  мужчины"]
[{"$nulls":7},{"$f":"$K$1","v":"Рекорд края"},{"$f":"Рекорды!E47","v":136.33}]
[{"$nulls":7},{"$f":"$K$2","v":"Рекорд края 16-17 лет"},{"$f":"Рекорды!C47","v":138.86}]
[{"$nulls":7},{"$f":"$K$3","v":"Рекорд края 14-15 лет"},{"$f":"Рекорды!E115","v":144.67}]
[{"$nulls":7},{"$f":"$K$4","v":"Рекорд края 13 лет и младше"},{"$f":"Рекорды!C115","v":149.39}]
[]
[null,null,"Плавание в ластах - 400 м (1460111811Я),  женщины"]
[{"$nulls":7},{"$f":"$K$1","v":"Рекорд края"},{"$f":"Рекорды!D14","v":318.52}]
[{"$nulls":7},{"$f":"$K$2","v":"Рекорд края 16-17 лет"},{"$f":"Рекорды!B14","v":323.09}]
[{"$nulls":7},{"$f":"$K$3","v":"Рекорд края 14-15 лет"},{"$f":"Рекорды!D82","v":331.09}]
[{"$nulls":7},{"$f":"$K$4","v":"Рекорд края 13 лет и младше"},{"$f":"Рекорды!B82","v":339.29}]
[]
[null,null,"Плавание в ластах - 400 м (1460111811Я),  мужчины"]
[{"$nulls":7},{"$f":"$K$1","v":"Рекорд края"},{"$f":"Рекорды!E14","v":305.45}]
[{"$nulls":7},{"$f":"$K$2","v":"Рекорд края 16-17 лет"},{"$f":"Рекорды!C14","v":305.86}]
[{"$nulls":7},{"$f":"$K$3","v":"Рекорд края 14-15 лет"},{"$f":"Рекорды!E82","v":310.17}]
[{"$nulls":7},{"$f":"$K$4","v":"Рекорд края 13 лет и младше"},{"$f":"Рекорды!C82","v":327.27}]
[]
[null,null,"Плавание в классических ластах- 400 м (1460411811Я),  женщины"]
[{"$nulls":7},{"$f":"$K$1","v":"Рекорд края"},{"$f":"Рекорды!D71","v":"Девушки"}]
[{"$nulls":7},{"$f":"$K$2","v":"Рекорд края 16-17 лет"},{"$f":"Рекорды!B71","v":"Девочки"}]
[{"$nulls":7},{"$f":"$K$3","v":"Рекорд края 14-15 лет"},{"$f":"Рекорды!D139","v":0}]
[{"$nulls":7},{"$f":"$K$4","v":"Рекорд края 13 лет и младше"},{"$f":"Рекорды!B139","v":0}]
[]
[null,null,"Плавание в классических ластах- 400 м (1460411811Я),  мужчины"]
[{"$nulls":7},{"$f":"$K$1","v":"Рекорд края"},{"$f":"Рекорды!E71","v":"Юноши"}]
[{"$nulls":7},{"$f":"$K$2","v":"Рекорд края 16-17 лет"},{"$f":"Рекорды!C71","v":"Мальчики"}]
[{"$nulls":7},{"$f":"$K$3","v":"Рекорд края 14-15 лет"},{"$f":"Рекорды!E139","v":0}]
[{"$nulls":7},{"$f":"$K$4","v":"Рекорд края 13 лет и младше"},{"$f":"Рекорды!C139","v":0}]
[]
[null,null,"Плавание в ластах - 800 м (1460121811Я),  женщины"]
[{"$nulls":7},{"$f":"$K$1","v":"Рекорд края"},{"$f":"Рекорды!D17","v":705.36}]
[{"$nulls":7},{"$f":"$K$2","v":"Рекорд края 16-17 лет"},{"$f":"Рекорды!B17","v":709.46}]
[{"$nulls":7},{"$f":"$K$3","v":"Рекорд края 14-15 лет"},{"$f":"Рекорды!D85","v":715.49}]
[{"$nulls":7},{"$f":"$K$4","v":"Рекорд края 13 лет и младше"},{"$f":"Рекорды!B85","v":746.47}]
[]
[null,null,"Плавание в ластах - 800 м (1460121811Я),  мужчины"]
[{"$nulls":7},{"$f":"$K$1","v":"Рекорд края"},{"$f":"Рекорды!E17","v":639.77}]
[{"$nulls":7},{"$f":"$K$2","v":"Рекорд края 16-17 лет"},{"$f":"Рекорды!C17","v":644.39}]
[{"$nulls":7},{"$f":"$K$3","v":"Рекорд края 14-15 лет"},{"$f":"Рекорды!E85","v":649.42}]
[{"$nulls":7},{"$f":"$K$4","v":"Рекорд края 13 лет и младше"},{"$f":"Рекорды!C85","v":723.47}]
[]
[null,null,"Плавание в ластах - 1500 м (1460131811Я),  женщины"]
[{"$nulls":7},{"$f":"$K$1","v":"Рекорд края"},{"$f":"Рекорды!D20","v":1337.4}]
[{"$nulls":7},{"$f":"$K$2","v":"Рекорд края 16-17 лет"},{"$f":"Рекорды!B20","v":1357.87}]
[{"$nulls":7},{"$f":"$K$3","v":"Рекорд края 14-15 лет"},{"$f":"Рекорды!D88","v":1407.7}]
[{"$nulls":7},{"$f":"$K$4","v":"Рекорд края 13 лет и младше"},{"$f":"Рекорды!B88","v":1506.32}]
[]
[null,null,"Плавание в ластах - 1500 м (1460131811Я),  мужчины"]
[{"$nulls":7},{"$f":"$K$1","v":"Рекорд края"},{"$f":"Рекорды!E20","v":1249.71}]
[{"$nulls":7},{"$f":"$K$2","v":"Рекорд края 16-17 лет"},{"$f":"Рекорды!C20","v":1331.73}]
[{"$nulls":7},{"$f":"$K$3","v":"Рекорд края 14-15 лет"},{"$f":"Рекорды!E88","v":1351.37}]
[{"$nulls":7},{"$f":"$K$4","v":"Рекорд края 13 лет и младше"},{"$f":"Рекорды!C88","v":1433.92}]
[]
[null,null,"Ныряние в ластах в длину - 50 м (1460171811Я),  женщины"]
[{"$nulls":7},{"$f":"$K$1","v":"Рекорд края"},{"$f":"Рекорды!D37","v":16.55}]
[{"$nulls":7},{"$f":"$K$2","v":"Рекорд края 16-17 лет"},{"$f":"Рекорды!B37","v":17.52}]
[{"$nulls":7},{"$f":"$K$3","v":"Рекорд края 14-15 лет"},{"$f":"Рекорды!D105","v":17.59}]
[{"$nulls":7},{"$f":"$K$4","v":"Рекорд края 13 лет и младше"},{"$f":"Рекорды!B105","v":18.19}]
[]
[null,null,"Ныряние в ластах в длину - 50 м (1460171811Я),  мужчины"]
[{"$nulls":7},{"$f":"$K$1","v":"Рекорд края"},{"$f":"Рекорды!E37","v":14.92}]
[{"$nulls":7},{"$f":"$K$2","v":"Рекорд края 16-17 лет"},{"$f":"Рекорды!C37","v":15.36}]
[{"$nulls":7},{"$f":"$K$3","v":"Рекорд края 14-15 лет"},{"$f":"Рекорды!E105","v":15.71}]
[{"$nulls":7},{"$f":"$K$4","v":"Рекорд края 13 лет и младше"},{"$f":"Рекорды!C105","v":16.65}]
[]
[null,null,"Подводное плавание - 100 м (1460141811Я),  женщины"]
[{"$nulls":7},{"$f":"$K$1","v":"Рекорд края"},{"$f":"Рекорды!D24","v":36.68}]
[{"$nulls":7},{"$f":"$K$2","v":"Рекорд края 16-17 лет"},{"$f":"Рекорды!B24","v":38.78}]
[{"$nulls":7},{"$f":"$K$3","v":"Рекорд края 14-15 лет"},{"$f":"Рекорды!D92","v":40.01}]
[{"$nulls":7},{"$f":"$K$4","v":"Рекорд края 13 лет и младше"},{"$f":"Рекорды!B92","v":41.41}]
[]
[null,null,"Подводное плавание - 100 м (1460141811Я),  мужчины"]
[{"$nulls":7},{"$f":"$K$1","v":"Рекорд края"},{"$f":"Рекорды!E24","v":33.19}]
[{"$nulls":7},{"$f":"$K$2","v":"Рекорд края 16-17 лет"},{"$f":"Рекорды!C24","v":34.04}]
[{"$nulls":7},{"$f":"$K$3","v":"Рекорд края 14-15 лет"},{"$f":"Рекорды!E92","v":36.48}]
[{"$nulls":7},{"$f":"$K$4","v":"Рекорд края 13 лет и младше"},{"$f":"Рекорды!C92","v":39.1}]
[]
[null,null,"Подводное плавание - 400 м (1460151811Я),  женщины"]
[{"$nulls":7},{"$f":"$K$1","v":"Рекорд края"},{"$f":"Рекорды!D27","v":302.88}]
[{"$nulls":7},{"$f":"$K$2","v":"Рекорд края 16-17 лет"},{"$f":"Рекорды!B27","v":313.58}]
[{"$nulls":7},{"$f":"$K$3","v":"Рекорд края 14-15 лет"},{"$f":"Рекорды!D95","v":323.57}]
[{"$nulls":7},{"$f":"$K$4","v":"Рекорд края 13 лет и младше"},{"$f":"Рекорды!B95","v":339.88}]
[]
[null,null,"Подводное плавание - 400 м (1460151811Я),  мужчины"]
[{"$nulls":7},{"$f":"$K$1","v":"Рекорд края"},{"$f":"Рекорды!E27","v":247.22}]
[{"$nulls":7},{"$f":"$K$2","v":"Рекорд края 16-17 лет"},{"$f":"Рекорды!C27","v":254.92}]
[{"$nulls":7},{"$f":"$K$3","v":"Рекорд края 14-15 лет"},{"$f":"Рекорды!E95","v":304.49}]
[{"$nulls":7},{"$f":"$K$4","v":"Рекорд края 13 лет и младше"},{"$f":"Рекорды!C95","v":338.06}]
[]
[null,null,"Подводное плавание - 800 м (1460161811Я),  женщины"]
[{"$nulls":7},{"$f":"$K$1","v":"Рекорд края"},{"$f":"Рекорды!D30","v":631.67}]
[{"$nulls":7},{"$f":"$K$2","v":"Рекорд края 16-17 лет"},{"$f":"Рекорды!B30","v":649.94}]
[{"$nulls":7},{"$f":"$K$3","v":"Рекорд края 14-15 лет"},{"$f":"Рекорды!D98","v":733.18}]
[{"$nulls":7},{"$f":"$K$4","v":"Рекорд края 13 лет и младше"},{"$f":"Рекорды!B98","v":746.47}]
[]
[null,null,"Подводное плавание - 800 м (1460161811Я),  мужчины"]
[{"$nulls":7},{"$f":"$K$1","v":"Рекорд края"},{"$f":"Рекорды!E30","v":601.66}]
[{"$nulls":7},{"$f":"$K$2","v":"Рекорд края 16-17 лет"},{"$f":"Рекорды!C30","v":617.28}]
[{"$nulls":7},{"$f":"$K$3","v":"Рекорд края 14-15 лет"},{"$f":"Рекорды!E98","v":640.4}]
[{"$nulls":7},{"$f":"$K$4","v":"Рекорд края 13 лет и младше"},{"$f":"Рекорды!C98","v":738.1}]
[]
[null,null,"Ныряние в ластах в длину - 25 м,  женщины"]
[{"$nulls":7},{"$f":"$K$1","v":"Рекорд края"},{"$f":"Рекорды!D34","v":8.1}]
[{"$nulls":7},{"$f":"$K$2","v":"Рекорд края 16-17 лет"},{"$f":"Рекорды!B34","v":8.36}]
[{"$nulls":7},{"$f":"$K$3","v":"Рекорд края 14-15 лет"},{"$f":"Рекорды!D102","v":8.81}]
[{"$nulls":7},{"$f":"$K$4","v":"Рекорд края 13 лет и младше"},{"$f":"Рекорды!B102","v":8.81}]
[]
[null,null,"Ныряние в ластах в длину - 25 м,  мужчины"]
[{"$nulls":7},{"$f":"$K$1","v":"Рекорд края"},{"$f":"Рекорды!E34","v":7.14}]
[{"$nulls":7},{"$f":"$K$2","v":"Рекорд края 16-17 лет"},{"$f":"Рекорды!C34","v":7.31}]
[{"$nulls":7},{"$f":"$K$3","v":"Рекорд края 14-15 лет"},{"$f":"Рекорды!E102","v":7.7}]
[{"$nulls":7},{"$f":"$K$4","v":"Рекорд края 13 лет и младше"},{"$f":"Рекорды!C102","v":8.11}]
[]
[null,null,"Плавание в ластах - эстафета 4х50 м (1460171811Я), женщины"]
[{"$nulls":7},{"$f":"$K$1","v":"Рекорд края"},{"$f":"Рекорды!D51","v":113.61}]
[{"$nulls":7},{"$f":"$K$1","v":"Рекорд края"},{"$f":"Рекорды!D5","v":17.94}]
[{"$nulls":7},{"$f":"$K$2","v":"Рекорд края 16-17 лет"},{"$f":"Рекорды!B51","v":120.15}]
[{"$nulls":7},"Рекорд края 16-17 лет",{"$f":"Рекорды!B5","v":18.92}]
[{"$nulls":7},{"$f":"$K$3","v":"Рекорд края 14-15 лет"},{"$f":"Рекорды!D119","v":124.17}]
[{"$nulls":7},"Рекорд края 14-15 лет",{"$f":"Рекорды!D73","v":19.11}]
[{"$nulls":7},{"$f":"$K$4","v":"Рекорд края 13 лет и младше"},{"$f":"Рекорды!B119","v":125.14}]
[{"$nulls":7},"Рекорд края 13 лет и младше",{"$f":"Рекорды!B73","v":19.85}]
[]
[null,null,"Плавание в ластах - эстафета 4х50 м (1460171811Я), мужчины"]
[{"$nulls":7},{"$f":"$K$1","v":"Рекорд края"},{"$f":"Рекорды!E51","v":106.26}]
[{"$nulls":7},{"$f":"$K$1","v":"Рекорд края"},{"$f":"Рекорды!E5","v":15.92}]
[{"$nulls":7},{"$f":"$K$2","v":"Рекорд края 16-17 лет"},{"$f":"Рекорды!C51","v":109.24}]
[{"$nulls":7},"Рекорд края 16-17 лет",{"$f":"Рекорды!C5","v":15.92}]
[{"$nulls":7},{"$f":"$K$3","v":"Рекорд края 14-15 лет"},{"$f":"Рекорды!E119","v":112.19}]
[{"$nulls":7},"Рекорд края 14-15 лет",{"$f":"Рекорды!E73","v":17.5}]
[{"$nulls":7},{"$f":"$K$4","v":"Рекорд края 13 лет и младше"},{"$f":"Рекорды!C119","v":129.03}]
[{"$nulls":7},"Рекорд края 13 лет и младше",{"$f":"Рекорды!C73","v":17.7}]
[]
[null,null,"Плавание в ластах - эстафета 4х100 м (1460181811Я), женщины"]
[{"$nulls":7},{"$f":"$K$1","v":"Рекорд края"},{"$f":"Рекорды!D57","v":237.96}]
[{"$nulls":7},{"$f":"$K$1","v":"Рекорд края"},{"$f":"Рекорды!D8","v":39.2}]
[{"$nulls":7},{"$f":"$K$2","v":"Рекорд края 16-17 лет"},{"$f":"Рекорды!B57","v":249.04}]
[{"$nulls":7},"Рекорд края 16-17 лет",{"$f":"Рекорды!B8","v":41.2}]
[{"$nulls":7},{"$f":"$K$3","v":"Рекорд края 14-15 лет"},{"$f":"Рекорды!D125","v":259.7}]
[{"$nulls":7},"Рекорд края 14-15 лет",{"$f":"Рекорды!D76","v":41.48}]
[{"$nulls":7},{"$f":"$K$4","v":"Рекорд края 13 лет и младше"},{"$f":"Рекорды!B125","v":308.03}]
[{"$nulls":7},"Рекорд края 13 лет и младше",{"$f":"Рекорды!B76","v":43.88}]
[]
[null,null,"Плавание в ластах - эстафета 4х100 м (1460181811Я), мужчины"]
[{"$nulls":7},{"$f":"$K$1","v":"Рекорд края"},{"$f":"Рекорды!E57","v":221.4}]
[{"$nulls":7},{"$f":"$K$1","v":"Рекорд края"},{"$f":"Рекорды!E8","v":35.56}]
[{"$nulls":7},{"$f":"$K$2","v":"Рекорд края 16-17 лет"},{"$f":"Рекорды!C57","v":232.02}]
[{"$nulls":7},"Рекорд края 16-17 лет",{"$f":"Рекорды!C8","v":36.24}]
[{"$nulls":7},{"$f":"$K$3","v":"Рекорд края 14-15 лет"},{"$f":"Рекорды!E125","v":245.79}]
[{"$nulls":7},"Рекорд края 14-15 лет",{"$f":"Рекорды!E76","v":37.69}]
[{"$nulls":7},{"$f":"$K$4","v":"Рекорд края 13 лет и младше"},{"$f":"Рекорды!C125","v":315.31}]
[{"$nulls":7},"Рекорд края 13 лет и младше",{"$f":"Рекорды!C76","v":40.55}]
[]
[null,null,"Плавание в ластах - эстафета 4х200 м (1460191811Я), женщины"]
[{"$nulls":7},{"$f":"$K$1","v":"Рекорд края"},{"$f":"Рекорды!D63","v":607.39}]
[{"$nulls":7},{"$f":"$K$1","v":"Рекорд края"},{"$f":"Рекорды!D11","v":128.51}]
[{"$nulls":7},{"$f":"$K$2","v":"Рекорд края 16-17 лет"},{"$f":"Рекорды!B63","v":626.87}]
[{"$nulls":7},"Рекорд края 16-17 лет",{"$f":"Рекорды!B11","v":132.52}]
[{"$nulls":7},{"$f":"$K$3","v":"Рекорд края 14-15 лет"},{"$f":"Рекорды!D131","v":651.66}]
[{"$nulls":7},"Рекорд края 14-15 лет",{"$f":"Рекорды!D79","v":137.02}]
[{"$nulls":7},{"$f":"$K$4","v":"Рекорд края 13 лет и младше"},{"$f":"Рекорды!B131","v":709.13}]
[{"$nulls":7},"Рекорд края 13 лет и младше",{"$f":"Рекорды!B79","v":139.87}]
[]
[null,null,"Плавание в ластах - эстафета 4х200 м (1460191811Я), мужчины"]
[{"$nulls":7},{"$f":"$K$1","v":"Рекорд края"},{"$f":"Рекорды!E63","v":528.86}]
[{"$nulls":7},{"$f":"$K$1","v":"Рекорд края"},{"$f":"Рекорды!E11","v":121.33}]
[{"$nulls":7},{"$f":"$K$2","v":"Рекорд края 16-17 лет"},{"$f":"Рекорды!C63","v":554.49}]
[{"$nulls":7},"Рекорд края 16-17 лет",{"$f":"Рекорды!C11","v":121.67}]
[{"$nulls":7},{"$f":"$K$3","v":"Рекорд края 14-15 лет"},{"$f":"Рекорды!E131","v":630}]
[{"$nulls":7},"Рекорд края 14-15 лет",{"$f":"Рекорды!E79","v":125.51}]
[{"$nulls":7},{"$f":"$K$4","v":"Рекорд края 13 лет и младше"},{"$f":"Рекорды!C131","v":723.45}]
[{"$nulls":7},"Рекорд края 13 лет и младше",{"$f":"Рекорды!C79","v":133.17}]
[]
[]
[]
[]
[null,null,"Марафонский заплыв в ластах-эстафета 4х2 км - смешанная (1460221811Я)"]
[{"$nulls":7},"В зависимости от ранга соревнований и занятого места"]
{"$rows_empty":10}
[null,null,"Марафонский заплыв в ластах 6 км (1460201811Я), женщины"]
[null,null,"Марафонский заплыв в ластах 6 км (1460201811Я), мужчины"]
[]
[null,null,"Марафонский заплыв в ластах 12-20 км, женщины"]
[null,null,"Марафонский заплыв в ластах 12-20 км, мужчины"]
[]
[null,null,"Ориентирование- упражнение  \"звезда\" (1460021811Я), женщины"]
[null,null,"Ориентирование- упражнение  \"звезда\" (1460021811Я), мужчины"]
[]
[null,null,"Ориентирование- упражнение  \"зоны\" (1460011811Я), женщины"]
[null,null,"Ориентирование- упражнение  \"зоны\" (1460011811Я), мужчины"]
[]
[null,null,"Ориентирование- упражнение \"карта\" (1460031811Л), женщины"]
[null,null,"Ориентирование- упражнение \"карта\" (1460031811Л), мужчины"]
[]
[null,null,"Ориентирование- упражнение \"ориентиры\" (1460041811Я), женщины"]
[null,null,"Ориентирование- упражнение \"ориентиры\" (1460041811Я), мужчины"]
[]
[null,null,"Ориентирование-групповое упражнение \"карта\" (1460061811Л), женщины"]
[null,null,"Ориентирование-групповое упражнение \"карта\" (1460061811Л), мужчины"]
[]
[null,null,"Ориентирование-групповое упражнение (1460051811Я), женщины"]
[null,null,"Ориентирование-групповое упражнение (1460051811Я), мужчины"]
[]
[null,null,"Ориентирование-параллель (1460071811Я), женщины"]
[null,null,"Ориентирование-параллель (1460071811Я), мужчины"]
[]
[null,null,"Акватлон (борьба в ластах)  (1460281811Я), женщины"]
[null,null,"Акватлон (борьба в ластах)  (1460281811Я), мужчины"]
[]
[null,null,"Апноэ – динамическое  (1460311811Л), женщины"]
[null,null,"Апноэ – динамическое  (1460311811Л), мужчины"]
[]
[null,null,"Апноэ - динамическое в ластах (1460321811Л), женщины"]
[null,null,"Апноэ - динамическое в ластах (1460321811Л), мужчины"]
[]
[null,null,"Апноэ – квадрат (1460331811Л), женщины"]
[null,null,"Апноэ – квадрат (1460331811Л), мужчины"]
[]
[null,null,"Апноэ - скоростное 100 м (1460211811Л), женщины"]
[null,null,"Апноэ - скоростное 100 м (1460211811Л), мужчины"]
[]
[null,null,"Апноэ – статическое (1460341811Л), женщины"]
[null,null,"Апноэ – статическое (1460341811Л), мужчины"]
[]
[null,null,"Дайвинг - комбинированное плавание (1460271811Я), женщины"]
[null,null,"Дайвинг - комбинированное плавание (1460271811Я), мужчины"]
[]
[null,null,"Дайвинг – ночной (1460351811Я), женщины"]
[null,null,"Дайвинг – ночной (1460351811Я), мужчины"]
[]
[null,null,"Дайвинг - подъем груза (1460361811Я), женщины"]
[null,null,"Дайвинг - подъем груза (1460361811Я), мужчины"]
[]
[null,null,"Дайвинг - полоса препятствий (1460301811Я), женщины"]
[null,null,"Дайвинг - полоса препятствий (1460301811Я), мужчины"]
[]
[null,null,"Подводная охота (1460231811Л), женщины"]
[null,null,"Подводная охота (1460231811Л), мужчины"]
[]
[null,null,"Подводное регби (1460292811Я), женщины"]
[null,null,"Подводное регби (1460292811Я), мужчины"]

{"sheet":"Рекорды","index":20,"n_rows":136,"n_cols":5,"rows_kept":136,"merged":[[0,0,0,4],[1,0,2,0],[1,1,1,2],[1,3,1,4],[3,0,3,4],[4,0,6,0],[7,0,9,0],[10,0,12,0],[13,0,15,0],[16,0,18,0],[19,0,21,0],[22,0,22,4],[23,0,25,0],[26,0,28,0],[29,0,31,0],[32,0,32,4],[33,0,35,0],[36,0,38,0],[39,0,39,4],[40,0,42,0],[43,0,45,0],[46,0,48,0],[49,0,49,4],[50,0,55,0],[56,0,61,0],[62,0,67,0],[68,0,68,4],[69,0,70,0],[69,1,69,2],[69,3,69,4],[71,0,71,4],[72,0,74,0],[75,0,77,0],[78,0,80,0],[81,0,83,0],[84,0,86,0],[87,0,89,0],[90,0,90,4],[91,0,93,0],[94,0,96,0],[97,0,99,0],[100,0,100,4],[101,0,103,0],[104,0,106,0],[107,0,107,4],[108,0,110,0],[111,0,113,0],[114,0,116,0],[117,0,117,4],[118,0,123,0],[124,0,129,0],[130,0,135,0]]}
["Рекорды Красноярского края по плаванию в ластах на 01.11.2016 (желтым - электроника)"]
["Дистанция","Юниоры (16-17 лет )",null,"Взрослые (18 лет и старше )"]
[null,"Девушки","Юноши","Женщины","Мужчины"]
["Плавание в ластах"]
["50 м",18.92,15.92,17.94,15.92]
[null,"Марковцова Алина","Коваль Никита","Марковцова Алина","Коваль Никита"]
[null,"17.12.10 Красноярск","09.05.12 Ярославль","01.05.16   Санкт-Петербург","09.05.12 Ярославль "]
["100 м",41.2,36.24,39.2,35.56]
[null,"Жаткина Анастасия","Попов Вячеслав","Тимофеева Маргарита","Дроздов Михаил"]
[null,"10.05.12 Ярославль ","22.11.15 Новосибирск","30.04.16   Санкт-Петербург","30.04.16   Санкт-Петербург"]
["200 м",132.52,121.67,128.51,121.33]
[null,"Чудинова Елена","Попов Вячеслав ","Тимофеева Маргарита","Попов Вячеслав "]
[null,"04.05.14 С-Петербург","04.05.14 С-Петербург","01.05.16   Санкт-Петербург","01.05.16   Санкт-Петербург"]
["400 м",323.09,305.86,318.52,305.45]
[null,"Чудинова Елена","Попов Вячеслав ","Кононова Елена ","Попов Вячеслав "]
[null,"28.06.14 Ханья","03.07.15 Белград","21.06.13 Челябинск","03.05.16   Санкт-Петербург"]
["800 м",709.46,644.39,705.36,639.77]
[null,"Бабкина Марина","Прус Сергей","Кононова Елена ","Айтов Максим"]
[null,"21.07.04 Егер","10.05.07 Пермь","13.06.12 С-Петербург","04.06.10 Пикалево "]
["1500 м",1357.87,1331.73,1337.4,1249.71]
[null,"Бабкина Марина ","Бойченко Егор","Кононова Елена ","Айтов Максим"]
[null,"23.07.04 Егер","23.01.16 Красноярск","25.06.13 Челябинск","30.07.10 Казань"]
["Подводное плавание"]
["100 м",38.78,34.04,36.68,33.19]
[null,"Марковцова Алина","Бабаев Федор","Марковцова Алина","Пиляев Никита"]
[null," 16.12.10 Красноярск","26.02.05 Кемерово","01.05.16   Санкт-Петербург","01.05.16   Санкт-Петербург"]
["400 м",313.58,254.92,302.88,247.22]
[null,"Жаткина Анастасия","Аршанов Денис","Жаткина Анастасия","Пиляев Никита"]
[null,"16.07.12 Грац ","22.05.14 Челябинск","22.05.14 Челябинск ","02.05.16   Санкт-Петербург"]
["800 м",649.94,617.28,631.67,601.66]
[null,"Жаткина Анастасия","Бабаев Федор","Яровицкая Вера","Бабаев Федор"]
[null,"23.02.13 Бийск ","16.06.05 Москва","09.08.13 Казань","06.08.13 Казань "]
["Ныряние"]
["25 м",8.36,7.31,8.1,7.14]
[null,"Варламова Надежда","Марченко Леонид","Яровицкая Вера","Дроздов Михаил"]
[null,"25.11.15 Красноярск","24.11.12 Красноярск","25.11.15 Красноярск","25.11.15   Красноярск"]
["50 м",17.52,15.36,16.55,14.92]
[null,"Горохова Кристина","Марченко Леонид","Марковцова Алина","Прус Сергей"]
[null,"12.05.16 Челябинск","18.07.12 Грац","03.05.16   Санкт-Петербург","15.04.11 Красноярск"]
["Плавание в классических ластах"]
["50 м",21.92,20.02,21.46,18.77]
[null,"Бодня Валерия","Марченко Леонид","Мельникова Елизавета","Кондратьев Виктор "]
[null,"10.05.16 Челябинск","04.02.12 Тосмск","01.05.16   Санкт-Петербург","22.06.13 Челябинск "]
["100 м",47.91,43.77,47.58,42.7]
[null,"Бодня Валерия","Минаев Семён","Мельникова Елизавета","Зотов Константин"]
[null,"09.05.16 Челябинск","10.07.13 Шецин ","30.04.16   Санкт-Петербург","16.12.09 С.Петербург "]
["200 м",149.49,138.86,146.62,136.33]
[null,"Бодня Валерия","Нуриев Ринат","Харина Анна","Степанов Алексей"]
[null,"11.05.16 Челябинск"," 26.10.14 Ольштен ","01.05.16   Санкт-Петербург","15.06.12 С-Петербург "]
["Эстафетное плавание"]
["4х50 м",120.15,109.24,113.61,106.26]
[null,"Кузнецова Анна","Коваль Никита","Яровицкая Вера","Дроздов Михаил"]
[null,"Калинина Даяна","Аршанов Денис","Варламова Надежда","Соколов Владимир"]
[null,"Плотникова Полина","Попов Вячеслав","Плотникова Полина","Пиляев Никита"]
[null,"Кочнева Валерия","Марченко Леонид","Мельникова Елизавета","Волков Сергей"]
[null,"11.12.14 Красноярск","13.12.12 Красноярск","25.11.2015 Красноярск","22.11.14  Красноярск"]
["4х100 м",249.04,232.02,237.96,221.4]
[null,"Кочнева Валерия","Попов Вячеслав","Тимофеева Маргарита","Аршанов Денис"]
[null,"Варламова Надежда","Чернецких И.","Кононова Елена","Пиляев Никита"]
[null,"Горохова Кристина","Логунов С.","Марковцова Алина","Попов Вячеслав"]
[null,"Кузнецова Анна","Аршанов Денис","Яровицкая Вера","Дроздов михаил"]
[null,"04.05.15 С-Петербург ","04.05.14 С-Петербург","03.05.16   Санкт-Петербург","03.05.16   Санкт-Петербург"]
["4х200 м",626.87,554.49,607.39,528.86]
[null,"Варламова Надежда","Попов Вячеслав","Тимофеева Маргарита","Попов Вячеслав"]
[null,"Плотникова Полина","Одинокин Павел","Яровицкая Вера","Аршанов Денис"]
[null,"Кочнева Валерия","Логунов Семен","Кононова Елена","Пиляев Никита"]
[null,"Кузнецова Анна","Аршанов Денис","Жаткина Анастасия","Дроздов Михаил"]
[null,"03.05.15   Санкт-Петербург","02.05.14 С-Петербург","02.05.16   Санкт-Петербург","02.05.16   Санкт-Петербург"]
["Рекорды Красноярского края по плаванию в ластах на 01.11.2014 (желтым - электроника)"]
["Дистанция","Младшие юноши (13 лет и младше)",null,"Старшие юноши (14-15 лет)"]
[null,"Девочки","Мальчики","Девушки","Юноши"]
["Плавание в ластах"]
["50 м",19.85,17.7,19.11,17.5]
[null,"Кочнева Валерия","Логунов Семён","Кочнева Валерия","Логунов Семен"]
[null,"03.05.13 С-Петербург","17.05.13 Ачинск","02.05.15   Санкт-Петербург","03.05.14 С-Петербург"]
["100 м",43.88,40.55,41.48,37.69]
[null,"Кочнева Валерия","Логунов Семён","Кочнева Валерия","Попов Вячеслав"]
[null,"02.05.13 С-Петербург","18.05.13 Ачинск","01.05.15   Санкт-Петербург","12.12.13 Красноярск "]
["200 м",139.87,133.17,137.02,125.51]
[null,"Тимофеева Маргарита","Попов Вячеслав","Тимофеева Маргарита","Попов Вячеслав"]
[null,"17.06.09 С-Петербург","18.12.11 Новосибирск","18.03.11 Красноярск","12.07.13 Шецин"]
["400 м",339.29,327.27,331.09,310.17]
[null,"Тимофеева Маргарита","Попов Вячеслав","Бабкина Марина","Бабаев Федор"]
[null,"19.06.09 С-Петербург","17.12.11 Новосибирск","10.05.03 Красноярск","02.09.03 Чеджудо"]
["800 м",746.47,723.47,715.49,649.42]
[null,"Кононова Елена","Бабаев Федор","Кононова Елена","Бабаев Федор"]
[null,"03.03.04 Красноярск","01.05.01 Красноярск","02.08.05 Островец","07.05.03 Красноярск"]
["1500 м",1506.32,1433.92,1407.7,1351.37]
[null,"Кононова Елена","Бабаев Федор","Кононова Елена","Евтушенко Евгений"]
[null,"05.03.04 Красноярск","24.01.02 Красноярск","04.08.05 Островец","06.04.00 Красноярск"]
["Подводное плавание"]
["100 м",41.41,39.1,40.01,36.48]
[null,"Ямковая Дарья","Одинокин Павел","Ямковая Дарья","Одиновик Павел"]
[null,"27.03.14 Челябинск","04.04.13 Красноярск","02.05.15   Санкт-Петербург","02.05.15   Санкт-Петербург"]
["400 м",339.88,338.06,323.57,304.49]
[null,"Ямковая Дарья ","Аршанов Денис","Ямковая Дарья","Аршанов Денис"]
[null,"02.05.14 С-Петербург","05.04.11 Бийск","03.05.15   Санкт-Петербург","02.05.13 С-Петербург "]
["800 м",746.47,738.1,733.18,640.4]
[null,"Кононова Елена","Бабаев Федор","Пахомова Маргарита","Аршанов Денис"]
[null,"02.02.04 Красноярск","23.01.02 Красноярск","11.04.09 Красноярск","27.04.13 Красноярск"]
["Ныряние"]
["25 м",8.81,8.11,8.81,7.7]
[null,"Ямковая Дарья","Логунов Семен","Ямковая Дарья","Попов Вячеслав"]
[null,"24.11.12 Красноярск","24.11.12 Красноярск","24.11.12 Красноярск","27.11.13 Красноярск"]
["50 м",18.19,16.65,17.59,15.71]
[null,"Красносельцева Евгения","Логунов Семен","Ямковая Дарья","Логунов Семён"]
[null,"28.02.15 Красноярск","01.05.13 Красноярск ","28.02.15 Красноярск","04.05.14 С-Петербург"]
["Плавание в классических ластах"]
["50 м",23.8,22,23,20.79]
[null,"Аникина Екатерина","Зыков Анатолий","Майстренко Дарья ","Коваль Никита"]
[null,"18.03.15 Красноярск ","06.03.12 Красноярск","15.10.11 Красноярск","05.10.10 Красноярск"]
["100 м",53.01,48.95,50.68,45.9]
[null,"Кочнева Валерия ","Зыков Анатолий","Мельникова Елизавета ","Минаев Семён"]
[null,"14.03.13 Красноярск ","08.12.12 Ачинск ","11.12.10 Новосибирск","15.10.11 Красноярск"]
["200 м",158.33,149.39,154.19,144.67]
[null,"Просалова Алина","Зыков Анатолий","Харина Анна","Минаев Семён"]
[null,"30.03.16 Ярославль","07.12.12 Ачинск ","04.05.13 С-Петербург","06.05.11 Балаково"]
["Эстафетное плавание"]
["4х50 м",125.14,129.03,124.17,112.19]
[null,"Красносельцева Евгения","Соколов Владимир","Кочнева Валерия","Марченко Леонид "]
[null,"Эйсмонт Юлия","Пономарев Сергей","Плотникова Полина","Константинов Иван"]
[null,"Аникина Екатерина","Пель Е.вгений","Кузнецова Анна","Михневич Анатолий"]
[null,"Кузнецова Алёна","Бабаев Федор","Калинина Даяна","Коваль Никита"]
[null,"11.12.14 Красноярск","02.05.99 Красноярск","27.11.13 Красноярск ","16.12.10 Красноярск"]
["4х100 м",308.03,315.31,259.7,245.79]
[null,"Аникина Екатерина","Кочан Никита","Горохова Кристина","Зыков Анатолий"]
[null,"Моложаева София","Стопа Александр","Кузнецова Аллена","Бойченко Егор"]
[null,"Ермолаева София","Кондратенко Алексей","Сухарева Алина","Одинокин Павел"]
[null,"Никифорова Ирина","Бабаев Федор","Кочнева Валерия","Логунов Егор"]
[null,"31.03.16 Ярославль","09.01.01 Томск","28.03.14 Челябинск","28.03.14 Челябинск"]
["4х200 м",709.13,723.45,651.66,630]
[null,"Моложаева София","Пель Евгений","Кочнева Валерия","Михневич Анатолий"]
[null,"Карагашева Стефания","Пономарев Сергей","Горохова Кристина","Попов Вячеслав"]
[null,"Ермолаева София","Брагин Константин","Замятина Дарья","Марченко Леонид "]
[null,"Шилова кристина","Бабаев Федор","Сухарева Алина","Коваль Никита"]
[null,"29.03.16 Ярославль","23.04.99 Красноярск","27.03.14 Челябинск","08.04.10 Пермь"]

{"sheet":"Протокол прохождения марафон","index":21,"n_rows":33,"n_cols":13,"rows_kept":33,"merged":[[1,1,1,2],[1,3,1,4],[1,5,1,6],[1,7,1,8],[1,9,1,10],[1,11,1,12]]}
["Протокол прохождения дистанции ______________"]
[null,"1 круг",null,"2 круг",null,"3 круг",null,"4 круг",null,"5 круг",null,"6 круг"]
[null,"время","№","время","№","время","№","время","№","время","№","время","№"]
[1]
[2]
[3]
[4]
[5]
[6]
[7]
[8]
[9]
[10]
[11]
[12]
[13]
[14]
[15]
[16]
[17]
[18]
[19]
[20]
[21]
[22]
[23]
[24]
[25]
[26]
[27]
[28]
[29]
[30]

{"sheet":"Протокол_прохождения","index":22,"n_rows":27,"n_cols":7,"rows_kept":27,"merged":[[0,0,0,3],[0,4,0,7],[9,0,9,3],[9,4,9,7],[18,0,18,3],[18,4,18,7]]}
["Заплыв __________ дорожка_____",{"$nulls":3},{"$f":"A1","v":"Заплыв __________ дорожка_____"}]
[100,null,{"$f":"900","v":900},null,100,null,{"$f":"900","v":900}]
[{"$f":"A2+100","v":200},null,{"$f":"C2+100","v":1000},null,{"$f":"E2+100","v":200},null,{"$f":"G2+100","v":1000}]
[{"$f":"A3+100","v":300},null,1100,null,{"$f":"E3+100","v":300},null,{"$f":"G3+100","v":1100}]
[400,null,1200,null,400,null,1200]
[500,null,1300,null,500,null,1300]
[600,null,1400,null,600,null,1400]
[700,null,1500,null,700,null,1500]
[800,{"$nulls":3},800]
[{"$f":"A1","v":"Заплыв __________ дорожка_____"},{"$nulls":3},{"$f":"A1","v":"Заплыв __________ дорожка_____"}]
[100,null,900,null,100,null,900]
[200,null,1000,null,{"$f":"E11+100","v":200},null,{"$f":"G11+100","v":1000}]
[300,null,1100,null,300,null,1100]
[400,null,1200,null,400,null,1200]
[500,null,1300,null,500,null,1300]
[600,null,1400,null,600,null,1400]
[700,null,1500,null,700,null,1500]
[800,{"$nulls":3},800]
[{"$f":"A1","v":"Заплыв __________ дорожка_____"},{"$nulls":3},{"$f":"A1","v":"Заплыв __________ дорожка_____"}]
[100,null,900,null,100,null,900]
[{"$f":"A20+100","v":200},null,{"$f":"C20+100","v":1000},null,{"$f":"E20+100","v":200},null,{"$f":"G20+100","v":1000}]
[300,null,1100,null,300,null,1100]
[400,null,1200,null,400,null,1200]
[500,null,1300,null,500,null,1300]
[600,null,1400,null,600,null,1400]
[700,null,1500,null,700,null,1500]
[800,{"$nulls":3},800]

{"sheet":"Грамоты_МИНСПОРТА","index":23,"n_rows":35,"n_cols":6,"rows_kept":35,"merged":[[1,1,1,5],[3,1,3,5],[4,1,4,5],[5,3,5,5],[6,4,6,5],[14,1,14,5],[16,1,16,5],[17,1,17,5],[18,3,18,5],[19,4,19,5],[27,1,27,5],[29,1,29,5],[30,1,30,5],[31,3,31,5],[32,4,32,5]]}
[]
[null,{"$f":"#REF!","v":{"$error":"#REF!"}}]
[{"$nulls":3},"за",{"$f":"#REF!","v":{"$error":"#REF!"}},"место"]
[null,"на Первенстве России"]
[null,"по подводному спорту (марафонские заплывы в ластах)"]
[null,null,"на дистанции",{"$f":"#REF!","v":{"$error":"#REF!"}}]
[{"$nulls":3},"с результатом",{"$f":"#REF!","v":{"$error":"#REF!"}}]
[]
[null,"06-19 мая 2016 г.",{"$nulls":3},"г. Кропоткин"]
[]
[]
[]
[]
[]
[null,{"$f":"#REF!","v":{"$error":"#REF!"}}]
[{"$nulls":3},"за",{"$f":"#REF!","v":{"$error":"#REF!"}},"место"]
[null,"на Первенстве России"]
[null,"по подводному спорту (марафонские заплывы в ластах)"]
[null,null,"на дистанции",{"$f":"#REF!","v":{"$error":"#REF!"}}]
[{"$nulls":3},"с результатом",{"$f":"#REF!","v":{"$error":"#REF!"}}]
[]
[null,"06-19 мая 2016 г.",{"$nulls":3},"г. Кропоткин"]
[]
[]
[]
[]
[]
[null,{"$f":"#REF!","v":{"$error":"#REF!"}}]
[{"$nulls":3},"за",{"$f":"#REF!","v":{"$error":"#REF!"}},"место"]
[null,"на Первенстве России"]
[null,"по подводному спорту (марафонские заплывы в ластах)"]
[null,null,"на дистанции",{"$f":"#REF!","v":{"$error":"#REF!"}}]
[{"$nulls":3},"с результатом",{"$f":"#REF!","v":{"$error":"#REF!"}}]
[]
[null,"06-19 мая 2016 г.",{"$nulls":3},"г. Кропоткин"]

{"sheet":"нормы_с_28.02.20","index":24,"n_rows":109,"n_cols":22,"rows_kept":109,"merged":[[0,0,0,21],[2,2,2,21],[3,2,3,21],[4,2,4,21],[5,2,5,21],[6,2,6,21],[7,2,7,21],[8,2,8,21],[9,2,9,21],[10,2,10,21],[11,2,11,21],[12,3,12,21],[13,0,15,0],[13,1,15,1],[13,2,15,2],[13,3,15,3],[13,4,14,5],[13,6,14,7],[13,8,14,9],[13,10,13,15],[13,16,13,21],[14,10,14,11],[14,12,14,13],[14,14,14,15],[14,16,14,17],[14,18,14,19],[14,20,14,21],[17,3,17,21],[23,0,24,0],[23,1,24,1],[25,0,26,0],[25,1,26,1],[27,0,28,0],[27,1,28,1],[29,0,30,0],[29,1,30,1],[31,0,32,0],[31,1,32,1],[33,0,34,0],[33,1,34,1],[35,0,36,0],[35,1,36,1],[37,0,38,0],[37,1,38,1],[39,0,40,0],[39,1,40,1],[41,0,42,0],[41,1,42,1],[43,0,44,0],[43,1,44,1],[45,0,46,0],[45,1,46,1],[47,0,48,0],[47,1,48,1],[49,0,50,0],[49,1,50,1],[51,0,52,0],[51,1,52,1],[53,0,54,0],[53,1,54,1],[55,0,56,0],[55,1,56,1],[57,0,58,0],[57,1,58,1],[59,0,60,0],[59,1,60,1],[61,0,62,0],[61,1,62,1],[63,0,64,0],[63,1,64,1],[65,0,66,0],[65,1,66,1],[67,0,68,0],[67,1,68,1],[69,0,70,0],[69,1,70,1],[71,0,72,0],[71,1,72,1],[75,0,84,1],[75,2,75,21],[76,2,76,21],[77,2,77,21],[78,2,78,21],[79,2,79,21],[80,2,80,21],[81,2,81,21],[82,2,82,21],[83,2,83,21],[84,2,84,21],[85,0,93,1],[85,2,85,21],[86,2,86,21],[87,2,87,21],[88,2,88,21],[89,2,89,21],[90,2,90,21],[91,2,91,21],[92,2,92,21],[93,2,93,21],[94,0,96,1],[94,2,94,21],[95,2,95,21],[96,2,96,21],[97,0,97,1],[97,3,97,20],[98,0,98,21],[99,0,99,21],[100,0,100,21],[101,0,101,21],[102,0,102,21],[103,0,103,21],[104,0,104,21],[105,0,105,21],[106,0,106,21],[107,0,107,21],[108,0,108,21]]}
["4. Нормы и условия их выполнения для присвоения спортивных званий и спортивных разрядов."]
[]
[null,null,"МСМК выполняется в спортивных дисциплинах в наименованиях которых содержатся слова:"]
[null,null,"«апноэ» с 18 лет; «дайвинг» с 16 лет; «ныряние», «плавание» с 14 лет;"]
[null,null,"МС выполняется в спортивных дисциплинах в наименованиях которых содержатся слова:"]
[null,null,"«апноэ» с 18 лет; «дайвинг», «ныряние» с 14 лет;  «плавание» с 12 лет; «ориентирование» с 15 лет;"]
[null,null,"КМС выполняется в спортивных дисциплинах в наименованиях которых содержатся слова:"]
[null,null,"«апноэ» с 18 лет; «дайвинг», «ныряние» с 14 лет; «плавание» с 9 лет (за исключением  «плавание в ластах - 1500 м», «подводное плавание»); «плавание в ластах - 1500 м», «подводное плавание» с  12 лет;  «ориентирование» с 15 лет;"]
[null,null,"I, II, III спортивные разряды выполняются в спортивных дисциплинах в наименованиях которых содержатся слова:"]
[null,null,"«апноэ» с 18 лет; «дайвинг» с 13 лет; «ныряние» с 14 лет; «плавание» с 9 лет (за исключением «плавание в ластах - 1500 м», «подводное плавание»); «плавание в ластах - 1500 м», «подводное плавание» - с 12 лет;  «ориентирование» с 15 лет;"]
[null,null,"юношеские спортивные разряды выполняются в спортивных дисциплинах в наименованиях которых содержатся слова:"]
[null,null,"«дайвинг» с 13 лет; «плавание» с 9 лет (за исключением «подводное плавание - 100 м»); «подводное плавание -   100 м» с 12 лет"]
[]
["№ п/п","Спортивная дисциплина, стартующий","Хроно-метраж","Едини-цы измере-ния","МСМК",null,"МС",null,"КМС",null,"Спортивные разряды",{"$nulls":5},"Юношеские спортивные разряды"]
[{"$nulls":10},"I ",null,"II ",null,"III ",null,"I ",null,"II ",null,"III "]
[{"$nulls":4},"М","Ж","М","Ж","М","Ж","М","Ж","М","Ж","М","Ж","М","Ж","М","Ж","М","Ж"]
[1,{"$f":"A17+1","v":2},{"$f":"B17+1","v":3},{"$f":"C17+1","v":4},5,6,7,8,9,10,11,12,13,14,15,16,17,18,19,20,21,{"$f":"U17+1","v":22}]
[]
[1,"Апноэ - динамическое",null,"метры",{"v":185,"d":"185.00"},{"v":155,"d":"155.00"},{"v":155,"d":"155.00"},{"v":128,"d":"128.00"},{"v":130,"d":"130.00"},{"v":103,"d":"103.00"},{"v":115,"d":"115.00"},{"v":88,"d":"88.00"},{"v":96,"d":"96.00"},{"v":71,"d":"71.00"},{"v":76,"d":"76.00"},{"v":53,"d":"53.00"}]
[2,"Апноэ - динамическое           в ластах",null,"метры",{"v":248,"d":"248.00"},{"v":219,"d":"219.00"},{"v":208,"d":"208.00"},{"v":178,"d":"178.00"},{"v":180,"d":"180.00"},{"v":148,"d":"148.00"},{"v":148,"d":"148.00"},{"v":115,"d":"115.00"},{"v":104,"d":"104.00"},{"v":82,"d":"82.00"},{"v":85,"d":"85.00"},{"v":64,"d":"64.00"}]
[{"$f":"A20+1","v":3},"Апноэ - ныряние в глубину",null,"метры",{"v":72,"d":"72.00"},{"v":55,"d":"55.00"},{"v":66,"d":"66.00"},{"v":50,"d":"50.00"},{"v":60,"d":"60.00"},{"v":45,"d":"45.00"},{"v":54,"d":"54.00"},{"v":40,"d":"40.00"},{"v":48,"d":"48.00"},{"v":35,"d":"35.00"},{"v":42,"d":"42.00"},{"v":30,"d":"30.00"}]
[{"$f":"A21+1","v":4},"Апноэ - ныряние в глубину в классических ластах",null,"метры",{"v":85,"d":"85.00"},{"v":76,"d":"76.00"},{"v":79,"d":"79.00"},{"v":70,"d":"70.00"},{"v":73,"d":"73.00"},{"v":64,"d":"64.00"},{"v":67,"d":"67.00"},{"v":58,"d":"58.00"},{"v":61,"d":"61.00"},{"v":52,"d":"52.00"},{"v":55,"d":"55.00"},{"v":46,"d":"46.00"}]
[{"$f":"A22+1","v":5},"Апноэ - ныряние в глубину в ластах",null,"метры",{"v":97,"d":"97.00"},{"v":80,"d":"80.00"},{"v":90,"d":"90.00"},{"v":74,"d":"74.00"},{"v":83,"d":"83.00"},{"v":68,"d":"68.00"},{"v":76,"d":"76.00"},{"v":62,"d":"62.00"},{"v":67,"d":"67.00"},{"v":56,"d":"56.00"},{"v":60,"d":"60.00"},{"v":50,"d":"50.00"}]
[6,"Апноэ -                    скоростное \n100 м","Ручной хроно-метраж","мин, с",{"$nulls":4},"00:00:39.600","00:00:41.600","00:00:42.200","00:00:45","00:00:45.600","00:00:48.600","00:00:49.500","00:00:53"]
[null,null,"Авто-хроно-метраж","мин, с","00:32,80","00:37,20","00:35,00","00:39,50","00:39,80","00:41,80","00:42,40","00:45,20","00:45,80","00:48,80","00:49,70","00:53,20"]
[7,"Дайвинг - полоса препятствий","Ручной хроно-метраж","мин, с",{"$nulls":4},"00:01:41","00:01:55.500","00:01:52.500","00:02:07.500","00:02:02.500","00:02:16","00:02:12","00:02:26.500","00:02:25.500","00:02:41","00:02:40","00:02:55","00:02:54","00:03:10"]
[null,null,"Авто-хроно-метраж","мин, с","01:16,40","01:28,80","01:30,50","01:43,00","01:41,20","01:55,70","01:52,70","02:07,70","02:02,70","02:16,20","02:12,20","02:26,70","02:25,70","02:41,20","02:40,20","02:55,20","02:54,20","03:10,20"]
[8,"Дайвинг - комбиниро-ванное плавание","Ручной хроно-метраж","мин, с",{"$nulls":4},"00:03:51.300","00:04:20","00:04:16.500","00:04:44","00:04:36.500","00:04:58","00:05:00","00:05:34","00:05:28","00:05:55","00:05:52.500","00:06:32","00:06:28","00:07:00"]
[null,null,"Авто-хроно-метраж","мин, с","03:16,00","03:37,70","03:34,60","03:58,00","03:51,50","04:20,20","04:16,70","04:44,20","04:36,70","04:58,20","05:00,20","05:34,20","05:28,20","05:55,20","05:52,70","06:32,20","06:28,20","07:00,20"]
[9,"Дайвинг -                            подъем груза","Ручной хроно-метраж","мин, с",{"$nulls":4},"00:00:20.800","00:00:25.800","00:00:23","00:00:28","00:00:25.500","00:00:30.300","00:00:29.600","00:00:35","00:00:33","00:00:38.500","00:00:36.200","00:00:41","00:00:39","00:00:45"]
[null,null,"Авто-хроно-метраж","мин, с","00:15,90","00:19,00","00:18,10","00:21,00","00:21,00","00:26,00","00:23,2","00:28,20","00:25,70","00:30,50","00:29,80","00:35,20","00:33,20","00:38,70","00:36,40","00:41,20","00:39,20","00:45,20"]
[{"$f":"A30+1","v":10},"Ныряние в ластах в длину - 50 м ","Ручной хроно-метраж","мин, с",{"$nulls":4},"00:00:16.200","00:00:18.200","00:00:17.300","00:00:19.400","00:00:18.800","00:00:21.100","00:00:20.400","00:00:22.900"]
[null,null,"Авто-хроно-метраж","мин, с","00:14,90","00:16,70","00:15,60","00:17,50","00:16,40","00:18,40","00:17,50","00:19,60","00:19,00","00:21,30","00:20,60","00:23,10"]
[11,"Плавание            в классических ластах - 50 м","Ручной хроно-метраж","мин, с",{"$nulls":4},"00:00:21.300","00:00:24.600","00:00:23","00:00:26.400","00:00:24.800","00:00:28","00:00:26.500","00:00:30.500","00:00:29.800","00:00:33.500","00:00:32.400","00:00:36.700","00:35,5","00:00:39.800"]
[null,null,"Авто-хроно-метраж","мин, с","00:19,40","00:22,30","00:20,50","00:23,70","00:21,50","00:24,80","00:23,20","00:26,60","00:25,00","00:28,20","00:26,70","00:30,70","00:30,00","00:33,70","00:32,60","00:36,90","00:35,70","00:40,00"]
[12,"Плавание            в классических ластах -\n100 м","Ручной хроно-метраж","мин, с",{"$nulls":4},"00:00:47.300","00:00:53.300","00:00:50.800","00:00:57.300","00:00:55.900","00:01:01.900","00:01:00.400","00:01:07.800","00:01:06","00:01:13.500","00:01:12","00:01:19.600","00:01:18.500","00:01:26"]
[null,null,"Авто-хроно-метраж","мин, с","00:43,30","00:48,10","00:45,10","00:51,00","00:47,50","00:53,50","00:51,00","00:57,50","00:56,10","01:02,10","01:00,60","01:08,00","01:06,20","01:13,70","01:12,20","01:19,80","01:18,70","01:26,20"]
[13,"Плавание           в классических ластах -\n200 м","Ручной хроно-метраж","мин, с",{"$nulls":4},"00:01:45.800","00:01:57.600","00:01:54.600","00:02:07.300","00:02:03.800","00:02:16.300","00:02:14.600","00:02:28","00:02:28.500","00:02:44","00:02:42","00:02:58.500","00:02:55","00:03:12"]
[null,null,"Авто-хроно-метраж","мин, с","01:36,50","01:47,50","01:41,40","01:52,60","01:46,00","01:57,80","01:54,80","02:07,50","02:04,00","02:16,50","02:14,80","02:28,20","02:28,70","02:44,20","02:42,20","02:58,70","02:55,20","03:12,20"]
[14,"Плавание            в классических ластах -\n400 м","Ручной хроно-метраж","мин, с",{"$nulls":4},"03:55,0","04:14,0","04:10,0","04:30,0","04:28,0","04:48,0","04:48,0","5:08,0","5:12,5","5:34,0","5:38,5","6:01,0","06:07,0","06:30,0"]
[null,null,"Авто-хроно-метраж","мин, с","03:32,50","03:49,00","03:45,20","04:04,40","03:55,20","04:14,20","04:10,20","04:30,20","04:28,20","04:48,20","04:48,20","5:08,20","5:12,70","5:34,20","5:38,70","6:01,20","06:07,20","06:30,20"]
[{"$f":"A40+1","v":15},"Плавание в классических ластах - эстафета               4х100 м - смешанная (только для спортсмена, стартующего первым)","Ручной хроно-метраж","мин, с",{"$nulls":4},"00:00:48.100","00:00:53.800","00:00:51.500","00:00:57.600","00:00:56","00:01:02","00:01:00.500","00:01:08","00:01:06","00:01:13.500","00:01:12","00:01:19.600","00:01:18.500","00:01:26"]
[null,null,"Авто-хроно-метраж","мин, с","00:44,00","00:48,80","00:46,00","00:51,50","00:48,30","00:54,00","00:51,70","00:57,80","00:56,20","01:02,20","01:00,70","01:08,20","01:06,20","01:13,70","01:12,20","01:19,80","01:18,70","01:26,20"]
[{"$f":"A42+1","v":16},"Плавание в ластах - 50 м","Ручной хроно-метраж","мин, с",{"$nulls":4},"00:00:17.600","00:00:19.700","00:00:18.500","00:00:21.100","00:00:20.100","00:00:22.900","00:00:21.900","00:00:24.800","00:24,0","00:27,4","00:26,2","00:30,0","00:28,4","00:32,4"]
[null,null,"Авто-хроно-метраж","мин, с","00:15,90","00:18,10","00:16,90","00:19,0","00:17,80","00:19,90","00:18,70","00:21,30","00:20,30","00:23,10","00:22,10","00:25,00","00:24,20","00:27,60","00:26,40","00:30,20","00:28,60","00:32,60"]
[{"$f":"A44+1","v":17},"Плавание в ластах - 100 м ","Ручной хроно-метраж","мин, с",{"$nulls":4},"00:00:39.400","00:00:43.800","00:00:42.300","00:00:47","00:00:45.900","00:00:51","00:00:49.800","00:00:55.200","00:54,6","00:59,8","00:59,6","01:05,4","01:04,6","00:01:10.400"]
[null,null,"Авто-хроно-метраж","мин, с","00:36,00","00:40,00","00:37,80","00:42,00","00:39,60","00:44,00","00:42,50","00:47,20","00:46,10","00:51,20","00:50,00","00:55,40","00:54,80","00:60,00","00:59,80","01:05,60","01:04,80","01:10,60"]
[{"$f":"A46+1","v":18},"Плавание в ластах - 200 м ","Ручной хроно-метраж","мин, с",{"$nulls":4},"00:01:31.500","00:01:41","00:01:38","00:01:47.500","00:01:47","00:01:57.500","00:01:55.500","00:02:06.200","02:07,5","02:20,0","02:19,3","02:31,2","02:31,0","02:42,2"]
[null,null,"Авто-хроно-метраж","мин, с","01:23,20","01:30,80","01:27,40","01:36,20","01:31,70","01:41,20","01:38,20","01:47,70","01:47,20","01:57,70","01:55,70","02:06,40","02:07,70","02:20,20","02:19,50","02:31,40","02:31,20","02:42,40"]
[{"$f":"A48+1","v":19},"Плавание в ластах - 400 м ","Ручной хроно-метраж","мин, с",{"$nulls":4},"00:03:22","00:03:38.600","00:03:36.800","00:03:55.200","00:03:54.800","00:04:13.400","00:04:12.800","00:04:33","04:41,7","05:00,0","05:07,6","05:30,0","05:33,5","05:55,0"]
[null,null,"Авто-хроно-метраж","мин, с","03:04,20","03:18,20","03:14,00","03:28,60","03:22,20","03:38,80","03:37,00","03:55,40","03:55,00","04:13,60","04:13,00","04:33,20","04:41,90","05:00,20","05:07,80","05:30,20","05:33,70","05:55,20"]
[{"$f":"A50+1","v":20},"Плавание в ластах - 800 м ","Ручной хроно-метраж","мин, с",{"$nulls":4},"00:07:14.500","00:07:48","00:07:36","00:08:20.500","00:08:25","00:09:02.500","00:09:05.200","00:09:44.500","00:09:55","00:10:38.500","00:10:54","00:11:42","00:11:50.500","00:12:36.500"]
[null,null,"Авто-хроно-метраж","мин, с","06:34,70","07:05,20","06:52,20","07:25,70","07:14,70","07:48,20","07:36,20","08:20,70","08:25,20","09:02,70","09:05,40","09:44,70","09:55,20","10:38,70","10:54,20","11:42,20","11:50,70","12:36,70"]
[{"$f":"A52+1","v":21},"Плавание в ластах -                                          1500 м","Ручной хроно-метраж","мин, с",{"$nulls":4},"00:13:58","00:14:58.500","00:14:52.500","00:16:00","00:16:15","00:17:24.500","00:17:33","00:18:50"]
[null,null,"Авто-хроно-метраж","мин, с","12:41,20","13:39,20","13:20,70","14:18,20","13:58,20","14:58,70","14:52,70","16:00,20","16:15,20","17:24,70","17:33,20","18:50,20"]
[{"$f":"A54+1","v":22},"Плавание в ластах - эстафета               4х50 м - смешанная (только для спортсмена, стартующего первым)","Ручной хроно-метраж","мин, с",{"$nulls":4},"00:00:17.600","00:00:19.700","00:00:18.500","00:00:21.100","00:00:20.100","00:00:22.900","00:00:21.900","00:00:24.800","00:24,0","00:27,4","00:26,2","00:30,0","00:28,4","00:32,4"]
[null,null,"Авто-хроно-метраж","мин, с","00:15,90","00:18,10","00:16,90","00:19,0","00:17,80","00:19,90","00:18,70","00:21,30","00:20,30","00:23,10","00:22,10","00:25,00","00:24,20","00:27,60","00:26,40","00:30,20","00:28,60","00:32,60"]
[{"$f":"A56+1","v":23},"Плавание в ластах - эстафета              4х100 м (только для спортсмена, стартующего первым)","Ручной хроно-метраж","мин, с",{"$nulls":4},"00:00:39.400","00:00:43.800","00:00:42.300","00:00:47","00:00:45.900","00:00:51","00:00:49.800","00:00:55.200","00:54,6","00:59,8","00:59,6","01:05,4","01:04,6","00:01:10.400"]
[null,null,"Авто-хроно-метраж","мин, с","00:36,00","00:40,00","00:37,80","00:42,00","00:39,60","00:44,00","00:42,50","00:47,20","00:46,10","00:51,20","00:50,00","00:55,40","00:54,80","00:60,00","00:59,80","01:05,60","01:04,80","01:10,60"]
[{"$f":"A58+1","v":24},"Плавание в ластах - эстафета               4х200 м (только для спортсмена, стартующего первым)","Ручной хроно-метраж","мин, с",{"$nulls":4},"00:01:31.500","00:01:41","00:01:38","00:01:47.500","00:01:47","00:01:57.500","00:01:55.500","00:02:06.200","02:07,5","02:20,0","02:19,3","02:31,2","02:31,0","02:42,2"]
[null,null,"Авто-хроно-метраж","мин, с","01:23,20","01:30,80","01:27,40","01:36,20","01:31,70","01:41,20","01:38,20","01:47,70","01:47,20","01:57,70","01:55,70","02:06,40","02:07,70","02:20,20","02:19,50","02:31,40","02:31,20","02:42,40"]
[{"$f":"A60+1","v":25},"Подводное плавание -\n100 м ","Ручной хроно-метраж","мин, с",{"$nulls":4},"00:00:36.200","00:00:39.700","00:00:38.800","00:00:42.600","00:00:42.100","00:00:46.200","00:00:45.800","00:00:50.200","00:50,2","00:55,0","00:54,8","01:00,0","00:59,4","01:05,2"]
[null,null,"Авто-хроно-метраж","мин, с","00:33,10","00:36,30","00:34,70","00:38,10","00:36,40","00:39,90","00:40,00","00:42,80","00:42,30","00:46,40","00:46,00","00:50,40","00:50,40","00:55,20","00:55,00","01:00,20","00:59,60","01:05,40"]
[{"$f":"A62+1","v":26},"Подводное плавание -\n400 м ","Ручной хроно-метраж","мин, с",{"$nulls":4},"00:03:07.700","00:03:23","00:03:21","00:03:38","00:03:38","00:03:56","00:03:56.500","00:04:15"]
[null,null,"Авто-хроно-метраж","мин, с","02:50,20","03:04,60","02:59,20","03:14,40","03:07,90","03:23,20","03:21,20","03:38,20","03:38,20","03:56,20","03:56,70","04:15,20"]
[{"$f":"A64+1","v":27},"Ориентиро-\nвание  - упражнение \"зоны\"","Ручной хроно-метраж","мин, с",{"$nulls":4},"00:06:21","00:06:55","00:06:54","00:07:35","00:07:59","00:08:50","00:09:30","00:10:26"]
[null,null,"Авто-хроно-метраж","мин, с",null,null,"05:40,20","06:08,20","06:21,20","06:55,20","06:54,20","07:35,20","07:59,20","08:50,20","09:30,20","10:26,20"]
[{"$f":"A66+1","v":28},"Ориентиро-\nвание  - упражнение \"ориентиры\"","Ручной хроно-метраж","мин, с",{"$nulls":4},"00:07:00","00:07:42","00:07:42","00:08:25","00:08:52","00:09:45","00:10:20","00:11:28"]
[null,null,"Авто-хроно-метраж","мин, с",null,null,"06:18,20","07:06,20","07:00,20","07:42,20","07:42,20","08:25,20","08:52,20","09:45,20","10:20,20","11:28,20"]
[{"$f":"A68+1","v":29},"Ориентиро-\nвание  - упражнение \"звезда\"","Ручной хроно-метраж","мин, с",{"$nulls":4},"00:06:50","00:07:30","00:07:32","00:08:18","00:08:43","00:09:37","00:10:09","00:11:18"]
[null,null,"Авто-хроно-метраж","мин, с",null,null,"06:08,20","06:56,20","06:50,20","07:30,20","07:32,20","08:18,20","08:43,20","09:37,20","10:09,20","11:18,20"]
[30,"Апноэ - 16 раз х 50 м","Ручной хроно-метраж","мин, с",{"$nulls":4},"00:11:29.800","00:15:59.800","00:14:59.800","00:17:39.800","00:16:14.800","00:18:44.800","00:17:19.800","00:19:44.800"]
[null,null,"Авто-хроно-метраж","мин, с","09:38,00","12:11,00","10:09,00","13:56,00","11:30,00","16:00,00","15:00,00","17:40,00","16:15,00","18:45,00","17:20,00","19:45,00"]
[31,"Апноэ - динамическое             в  классических ластах",null,"метры",{"v":225,"d":"225.00"},{"v":205,"d":"205.00"},{"v":195,"d":"195.00"},{"v":151,"d":"151.00"},{"v":152,"d":"152.00"},{"v":118,"d":"118.00"},{"v":125,"d":"125.00"},{"v":98,"d":"98.00"},{"v":98,"d":"98.00"},{"v":75,"d":"75.00"},{"v":78,"d":"78.00"},{"v":58,"d":"58.00"}]
[32,"Апноэ - ныряние            в глубину              по тросу",null,"метры",{"v":91,"d":"91.00"},{"v":85,"d":"85.00"},{"v":80,"d":"80.00"},{"v":71,"d":"71.00"},{"v":73,"d":"73.00"},{"v":64,"d":"64.00"},{"v":65,"d":"65.00"},{"v":58,"d":"58.00"},{"v":60,"d":"60.00"},{"v":52,"d":"52.00"},{"v":50,"d":"50.00"},{"v":45,"d":"45.00"}]
["Иные условия",null,"1. Условия выполнения норм для спортивных дисциплин, содержащих в своих наименованиях слово «апноэ»:                                                                                                                                  "]
[null,null,"1.1. МСМК присваивается за выполнение нормы: на чемпионате мира, кубке мира (финал) и занятии при этом 1-6 места в соответствующем виде программы; чемпионате Европы, кубке Европы (финал) и занятии при этом 1-4 места в соответствующем виде программы; других международных спортивных соревнованиях, включенных в ЕКП, и занятии при этом 1 места в соответствующем виде программы.                                                                                                                    "]
[null,null,"1.2. МС присваивается за выполнение нормы: на чемпионате России и занятии при этом 1-4 места в соответствующем виде программы; на Кубке России и занятии при этом 1-3 места в соответствующем виде программы; других всероссийских спортивных соревнованиях, включенных в ЕКП и занятии при этом 1-2 места в соответствующем виде программы.                    "]
[null,null,"1.3. КМС присваивается за выполнение нормы: на чемпионате России и занятии при этом не ниже 5-8 места в соответствующем виде программы; на Кубке России и занятии при этом не ниже 4-6 места в соответствующем виде программы; других всероссийских спортивных соревнованиях, включенных в ЕКП и занятии при этом не ниже 3-4 места в соответствующем виде программы.     "]
[null,null,"1.4. I спортивный разряд присваивается за выполнение нормы на спортивных соревнованиях, имеющих статус не ниже статуса официальных спортивных соревнований субъекта Российской Федерации."]
[null,null,"1.5. II, III спортивные разряды присваиваются за выполнение нормы на спортивных соревнованиях любого статуса."]
[null,null,"2. Условия выполнения норм для спортивных дисциплин, содержащих в своих наименованиях слова «дайвинг», «ныряние», «плавание»:"]
[null,null,"2.1. МСМК присваивается за выполнение нормы на международных спортивных соревнованиях, включенных в ЕКП.   "]
[null,null,"2.2. МС присваивается за выполнение нормы на спортивных соревнованиях, имеющих статус не ниже всероссийских спортивных соревнований, включенных в ЕКП."]
[null,null,"2.3.   КМС присваивается за выполнение нормы на спортивных соревнованиях не ниже статуса официальных спортивных соревнований субъекта Российской Федерации."]
[null,null,"2.4.   I спортивный разряд присваивается за выполнение нормы на спортивных соревнованиях, имеющих статус не ниже статуса официальных спортивных соревнований субъекта Российской Федерации."]
[null,null,"2.5. II, III спортивные разряды и юношеские спортивные разряды присваиваются за выполнение нормы на спортивных соревнованиях любого статуса."]
[null,null,"3. Условия выполнения норм для спортивных дисциплин, содержащих в своих наименованиях слово «ориентирование»:                                                                                                                                  "]
[null,null,"3.1. МС присваивается за выполнение нормы: на международных спортивных соревнованиях, включенных в ЕКП; на чемпионате России и занятии при этом 1-4 места в соответствующем виде программы; на Кубке России и занятии при этом 1-3 места в соответствующем виде программы; на первенстве России и занятии при этом 1-2 места в соответствующем виде программы; других всероссийских спортивных соревнованиях, включенных в ЕКП, и занятии при этом 1-2 места в соответствующем виде программы.                    "]
[null,null,"3.2. КМС присваивается за выполнение нормы: на международных спортивных соревнованиях, включенных в ЕКП; на чемпионате России и занятии при этом не ниже 5-8 места в соответствующем виде программы; на Кубке России и занятии при этом не ниже 4-6 места в соответствующем виде программы; на первенстве России и занятии при этом не ниже 3-4 места в соответствующем виде программы; других всероссийских спортивных соревнованиях, включенных в ЕКП, и занятии при этом не ниже 3-4 места в соответствующем виде программы.     "]
[null,null,"3.3. I спортивный разряд присваивается за выполнение нормы на спортивных соревнованиях, имеющих статус не ниже статуса официальных спортивных соревнований субъекта Российской Федерации."]
[null,null,"3.4. II, III спортивные разряды присваиваются за выполнение нормы на спортивных соревнованиях любого статуса."]
[null,null,"4. Первенства России, всероссийские спортивные соревнования, включенные в ЕКП, среди лиц с ограничением верхней границы возраста, первенства федерального округа, двух и более федеральных округов, первенства г. Москвы, г. Санкт-Петербурга, проводятся: по спортивным дисциплинам, содержащим в своих наименованиях слова «дайвинг», «ныряние» в возрастной группе: юниоры-юниорки (14-17 лет);  по                                    спортивным дисциплинам, содержащим в своих наименованиях слово «плавание» в возрастных группах: юниоры, юниорки (14-17 лет), юноши, девушки (12-13 лет); по спортивным дисциплинам, содержащим в своих наименованиях слово «ориентирование» в возрастной группе: юниоры, юниорки (15-21 год)."]
[null,null,"5. Первенства субъекта Российской Федерации, другие официальные спортивные соревнования субъекта Российской Федерации среди лиц с ограничением верхней границы возраста, первенства муниципального образования, другие официальные спортивные соревнования                               муниципального образования среди лиц с ограничением верхней границы возраста проводятся: по спортивным дисциплинам, содержащим в своих наименованиях слова «дайвинг», «ныряние» в возрастной группе: юниоры-юниорки (14-17 лет); по спортивным дисциплинам, содержащим                                 в своих наименованиях слово «плавание» (за исключением «плавание в ластах - 1500 м», «подводное плавание -100 м», «подводное плавание - 400 м») в возрастных группах: юниоры, юниорки (14-17 лет), юноши, девушки (12-13 лет), мальчики, девочки (9-11 лет); по спортивным дисциплинам «плавание в ластах - 1500 м», «подводное плавание - 100 м», «подводное плавание -400 м» в возрастной группе: юниоры, юниорки (14-17 лет), юноши, девушки (12-13 лет); по спортивным дисциплинам, содержащим в своих наименованиях слово «ориентирование» в возрастной группе: юниоры, юниорки (15-21 год)."]
[null,null,"6. Первенство мира среди студентов, первенство Европы среди студентов, другие международные спортивные соревнования среди студентов, всероссийские спортивные соревнования среди студентов, включенные в ЕКП, проводятся в возрастной группе юниоры, юниорки (17-25 лет)."]
[null,null,"7. Для участия в спортивных соревнованиях спортсмен должен достичь установленного возраста в календарный год проведения спортивных соревнований (за исключением спортивных дисциплин в наименованиях которых содержится слово «апноэ»)."]
[null,null,"8. В спортивных дисциплинах в наименованиях которых содержится слово «апноэ» спортсмен должен достичь установленного возраста до дня начала спортивного соревнования."]
[]
["Сокращения, используемые в настоящих нормах, требованиях и условиях их выполнения по виду спорта «подводный спорт»:"]
["МСМК - спортивное звание мастер спорта России международного класса;"]
["МС - спортивное звание мастер спорта России;"]
["КМС - спортивный разряд кандидат в мастера спорта;"]
["I - первый спортивный разряд;"]
["II - второй спортивный разряд;  "]
["III - третий спортивный разряд;"]
["ЕКП - Единый календарный план межрегиональных, всероссийских и международных физкультурных мероприятий и спортивных мероприятий;"]
["М - мужской пол;"]
["Ж - женский пол;"]
["мин - минута."]

{"sheet":"Нормы 2018-1921","index":25,"n_rows":105,"n_cols":22,"rows_kept":105,"merged":[[0,0,0,21],[2,2,2,21],[3,2,3,21],[4,2,4,21],[5,2,5,21],[6,2,6,21],[7,2,7,21],[8,2,8,21],[9,2,9,21],[10,2,10,21],[11,2,11,21],[12,3,12,21],[13,0,15,0],[13,1,15,1],[13,2,15,2],[13,3,15,3],[13,4,14,5],[13,6,14,7],[13,8,14,9],[13,10,13,15],[13,16,13,21],[14,10,14,11],[14,12,14,13],[14,14,14,15],[14,16,14,17],[14,18,14,19],[14,20,14,21],[23,0,24,0],[23,1,24,1],[25,0,26,0],[25,1,26,1],[27,0,28,0],[27,1,28,1],[29,0,30,0],[29,1,30,1],[31,0,32,0],[31,1,32,1],[33,0,34,0],[33,1,34,1],[35,0,36,0],[35,1,36,1],[37,0,38,0],[37,1,38,1],[39,0,40,0],[39,1,40,1],[41,0,42,0],[41,1,42,1],[43,0,44,0],[43,1,44,1],[45,0,46,0],[45,1,46,1],[47,0,48,0],[47,1,48,1],[49,0,50,0],[49,1,50,1],[51,0,52,0],[51,1,52,1],[53,0,54,0],[53,1,54,1],[55,0,56,0],[55,1,56,1],[57,0,58,0],[57,1,58,1],[59,0,60,0],[59,1,60,1],[61,0,62,0],[61,1,62,1],[63,0,64,0],[63,1,64,1],[65,0,66,0],[65,1,66,1],[67,0,68,0],[67,1,68,1],[69,0,70,0],[69,1,70,1],[71,0,80,1],[71,2,71,21],[72,2,72,21],[73,2,73,21],[74,2,74,21],[75,2,75,21],[76,2,76,21],[77,2,77,21],[78,2,78,21],[79,2,79,21],[80,2,80,21],[81,0,89,1],[81,2,81,21],[82,2,82,21],[83,2,83,21],[84,2,84,21],[85,2,85,21],[86,2,86,21],[87,2,87,21],[88,2,88,21],[89,2,89,21],[90,0,92,1],[90,2,90,21],[91,2,91,21],[92,2,92,21],[93,0,93,1],[93,3,93,20],[94,0,94,21],[95,0,95,21],[96,0,96,21],[97,0,97,21],[98,0,98,21],[99,0,99,21],[100,0,100,21],[101,0,101,21],[102,0,102,21],[103,0,103,21],[104,0,104,21]]}
["4. Нормы и условия их выполнения для присвоения спортивных званий и спортивных разрядов."]
[]
[null,null,"МСМК выполняется в спортивных дисциплинах в наименованиях которых содержатся слова:"]
[null,null,"«апноэ» с 18 лет; «дайвинг» с 16 лет; «ныряние», «плавание» с 14 лет;"]
[null,null,"МС выполняется в спортивных дисциплинах в наименованиях которых содержатся слова:"]
[null,null,"«апноэ» с 18 лет; «дайвинг», «ныряние» с 14 лет;  «плавание» с 12 лет; «ориентирование» с 15 лет;"]
[null,null,"КМС выполняется в спортивных дисциплинах в наименованиях которых содержатся слова:"]
[null,null,"«апноэ» с 18 лет; «дайвинг», «ныряние» с 14 лет; «плавание» с 9 лет (за исключением  «плавание в ластах - 1500 м», «подводное плавание»); «плавание в ластах - 1500 м», «подводное плавание» с  12 лет;  «ориентирование» с 15 лет;"]
[null,null,"I, II, III спортивные разряды выполняются в спортивных дисциплинах в наименованиях которых содержатся слова:"]
[null,null,"«апноэ» с 18 лет; «дайвинг» с 13 лет; «ныряние» с 14 лет; «плавание» с 9 лет (за исключением «плавание в ластах - 1500 м», «подводное плавание»); «плавание в ластах - 1500 м», «подводное плавание» - с 12 лет;  «ориентирование» с 15 лет;"]
[null,null,"юношеские спортивные разряды выполняются в спортивных дисциплинах в наименованиях которых содержатся слова:"]
[null,null,"«дайвинг» с 13 лет; «плавание» с 9 лет (за исключением «подводное плавание - 100 м»); «подводное плавание -   100 м» с 12 лет"]
[]
["№ п/п","Спортивная дисциплина, стартующий","Хроно-метраж","Едини-цы измере-ния","МСМК",null,"МС",null,"КМС",null,"Спортивные разряды",{"$nulls":5},"Юношеские спортивные разряды"]
[{"$nulls":10},"I ",null,"II ",null,"III ",null,"I ",null,"II ",null,"III "]
[{"$nulls":4},"М","Ж","М","Ж","М","Ж","М","Ж","М","Ж","М","Ж","М","Ж","М","Ж","М","Ж"]
[1,{"$f":"A17+1","v":2},{"$f":"B17+1","v":3},{"$f":"C17+1","v":4},5,6,7,8,9,10,11,12,13,14,15,16,17,18,19,20,21,{"$f":"U17+1","v":22}]
[]
[{"$f":"A18+1","v":1},"Апноэ - динамическое",null,"метры",{"v":155,"d":"155.00"},{"v":128,"d":"128.00"},{"v":140,"d":"140.00"},{"v":112,"d":"112.00"},{"v":127,"d":"127.00"},{"v":100,"d":"100.00"},{"v":112,"d":"112.00"},{"v":87,"d":"87.00"},{"v":95,"d":"95.00"},{"v":70,"d":"70.00"},{"v":75,"d":"75.00"},{"v":52,"d":"52.00"}]
[2,"Апноэ - динамическое в ластах",null,"метры",{"v":230,"d":"230.00"},{"v":200,"d":"200.00"},{"v":202,"d":"202.00"},{"v":174,"d":"174.00"},{"v":172,"d":"172.00"},{"v":145,"d":"145.00"},{"v":142,"d":"142.00"},{"v":114,"d":"114.00"},{"v":100,"d":"100.00"},{"v":81,"d":"81.00"},{"v":80,"d":"80.00"},{"v":62,"d":"62.00"}]
[3,"Апноэ - ныряние в глубину",null,"метры",{"v":72,"d":"72.00"},{"v":55,"d":"55.00"},{"v":66,"d":"66.00"},{"v":50,"d":"50.00"},{"v":60,"d":"60.00"},{"v":45,"d":"45.00"},{"v":54,"d":"54.00"},{"v":40,"d":"40.00"},{"v":48,"d":"48.00"},{"v":35,"d":"35.00"},{"v":42,"d":"42.00"},{"v":30,"d":"30.00"}]
[4,"Апноэ - ныряние в глубину в классических ластах",null,"метры",{"v":85,"d":"85.00"},{"v":76,"d":"76.00"},{"v":79,"d":"79.00"},{"v":70,"d":"70.00"},{"v":73,"d":"73.00"},{"v":64,"d":"64.00"},{"v":67,"d":"67.00"},{"v":58,"d":"58.00"},{"v":61,"d":"61.00"},{"v":52,"d":"52.00"},{"v":55,"d":"55.00"},{"v":46,"d":"46.00"}]
[5,"Апноэ - ныряние в глубину в ластах",null,"метры",{"v":97,"d":"97.00"},{"v":80,"d":"80.00"},{"v":90,"d":"90.00"},{"v":74,"d":"74.00"},{"v":83,"d":"83.00"},{"v":68,"d":"68.00"},{"v":76,"d":"76.00"},{"v":62,"d":"62.00"},{"v":67,"d":"67.00"},{"v":56,"d":"56.00"},{"v":60,"d":"60.00"},{"v":50,"d":"50.00"}]
[6,"Апноэ -                    скоростное 100 м","Ручной хроно-метраж","мин, с",{"$nulls":4},"00:00:39.600","00:00:41.600","00:00:42.200","00:00:45","00:00:45.600","00:00:48.600","00:00:49.500","00:00:53"]
[null,null,"Авто-хроно-метраж","мин, с","00:34,80","00:38,00","00:36,80","00:40,20","00:39,80","00:41,80","00:42,40","00:45,20","00:45,80","00:48,80","00:49,70","00:53,20"]
[{"$f":"A24+1","v":7},"Дайвинг - полоса препятствий","Ручной хроно-метраж","мин, с",{"$nulls":4},"00:01:45","00:01:58.500","00:01:52.500","00:02:07.500","00:02:02.500","00:02:16","00:02:12","00:02:26.500","00:02:25.500","00:02:41","00:02:40","00:02:55","00:02:54","00:03:10"]
[null,null,"Авто-хроно-метраж","мин, с","01:32,20","01:44,20","01:38,70","01:51,20","01:45,20","01:58,70","01:52,70","02:07,70","02:02,70","02:16,20","02:12,20","02:26,70","02:25,70","02:41,20","02:40,20","02:55,20","02:54,20","03:10,20"]
[{"$f":"A26+1","v":8},"Дайвинг - комбиниро-ванное плавание","Ручной хроно-метраж","мин, с",{"$nulls":4},"00:04:00","00:04:27.500","00:04:16.500","00:04:44","00:04:36.500","00:04:58","00:05:00","00:05:34","00:05:28","00:05:55","00:05:52.500","00:06:32","00:06:28","00:07:00"]
[null,null,"Авто-хроно-метраж","мин, с","03:26,20","03:52,70","03:44,20","04:10,20","04:00,20","04:27,70","04:16,70","04:44,20","04:36,70","04:58,20","05:00,20","05:34,20","05:28,20","05:55,20","05:52,70","06:32,20","06:28,20","07:00,20"]
[{"$f":"A28+1","v":9},"Дайвинг -                            подъем груза","Ручной хроно-метраж","мин, с",{"$nulls":4},"00:00:20.800","00:00:25.800","00:00:23","00:00:28","00:00:25.500","00:00:30.300","00:00:29.600","00:00:35","00:00:33","00:00:38.500","00:00:36.200","00:00:41","00:00:39","00:00:45"]
[null,null,"Авто-хроно-метраж","мин, с","00:18,20","00:23,00","00:19,60","00:24,70","00:21,00","00:26,00","00:23,2","00:28,20","00:25,70","00:30,50","00:29,80","00:35,20","00:33,20","00:38,70","00:36,40","00:41,20","00:39,20","00:45,20"]
[{"$f":"A30+1","v":10},"Ныряние в ластах в длину - 50 м ","Ручной хроно-метраж","мин, с",{"$nulls":4},"00:00:16.200","00:00:18.200","00:00:17.300","00:00:19.400","00:00:18.800","00:00:21.100","00:00:20.400","00:00:22.900"]
[null,null,"Авто-хроно-метраж","мин, с","00:14,90","00:16,70","00:15,60","00:17,50","00:16,40","00:18,40","00:17,50","00:19,60","00:19,00","00:21,30","00:20,60","00:23,10"]
[{"$f":"A32+1","v":11},"Плавание в классических ластах - 50 м","Ручной хроно-метраж","мин, с",{"$nulls":4},"00:00:21.700","00:00:25","00:00:23.100","00:00:26.600","00:00:25","00:00:28.500","00:00:26.800","00:00:30.800","00:00:29.800","00:00:33.500","00:00:32.400","00:00:36.700","00:35,5","00:00:39.800"]
[null,null,"Авто-хроно-метраж","мин, с","00:19,70","00:22,80","00:20,90","00:24,10","00:21,90","00:25,20","00:23,30","00:26,80","00:25,20","00:28,70","00:27,00","00:31,00","00:30,00","00:33,70","00:32,60","00:36,90","00:35,70","00:40,00"]
[{"$f":"A34+1","v":12},"Плавание в классических ластах -\n100 м","Ручной хроно-метраж","мин, с",{"$nulls":4},"00:00:48.100","00:00:53.800","00:00:51.500","00:00:57.600","00:00:56","00:01:02","00:01:00.500","00:01:08","00:01:06","00:01:13.500","00:01:12","00:01:19.600","00:01:18.500","00:01:26"]
[null,null,"Авто-хроно-метраж","мин, с","00:44,00","00:48,80","00:46,00","00:51,50","00:48,30","00:54,00","00:51,70","00:57,80","00:56,20","01:02,20","01:00,70","01:08,20","01:06,20","01:13,70","01:12,20","01:19,80","01:18,70","01:26,20"]
[{"$f":"A36+1","v":13},"Плавание в классических ластах -\n200 м","Ручной хроно-метраж","мин, с",{"$nulls":4},"00:01:48","00:01:59.600","00:01:55.800","00:02:08.400","00:02:05","00:02:17.500","00:02:16","00:02:29.500","00:02:28.500","00:02:44","00:02:42","00:02:58.500","00:02:55","00:03:12"]
[null,null,"Авто-хроно-метраж","мин, с","01:38,40","01:48,70","01:43,10","01:54,70","01:48,20","01:59,80","01:56,00","02:08,60","02:05,20","02:17,70","02:16,20","02:29,70","02:28,70","02:44,20","02:42,20","02:58,70","02:55,20","03:12,20"]
[{"$f":"A38+1","v":14},"Плавание в классических ластах -\n400 м","Ручной хроно-метраж","мин, с",{"$nulls":4},"03:57,0","04:15,0","04:10,0","04:30,0","04:28,0","04:48,0","04:48,0","5:08,0","5:12,5","5:34,0","5:38,5","6:01,0","06:07,0","06:30,0"]
[null,null,"Авто-хроно-метраж","мин, с","03:38,40","03:55,30","03:47,80","04:05,50","03:57,20","04:15,20","04:10,20","04:30,20","04:28,20","04:48,20","04:48,20","5:08,20","5:12,70","5:34,20","5:38,70","6:01,20","06:07,20","06:30,20"]
[{"$f":"A40+1","v":15},"Плавание в классических ластах - эстафета               4х100 м - смешанная (только для спортсмена, стартующего первым)","Ручной хроно-метраж","мин, с",{"$nulls":4},"00:00:48.100","00:00:53.800","00:00:51.500","00:00:57.600","00:00:56","00:01:02","00:01:00.500","00:01:08","00:01:06","00:01:13.500","00:01:12","00:01:19.600","00:01:18.500","00:01:26"]
[null,null,"Авто-хроно-метраж","мин, с","00:44,00","00:48,80","00:46,00","00:51,50","00:48,30","00:54,00","00:51,70","00:57,80","00:56,20","01:02,20","01:00,70","01:08,20","01:06,20","01:13,70","01:12,20","01:19,80","01:18,70","01:26,20"]
[{"$f":"A42+1","v":16},"Плавание в ластах - 50 м","Ручной хроно-метраж","мин, с",{"$nulls":4},"00:00:17.600","00:00:19.700","00:00:18.500","00:00:21.100","00:00:20.100","00:00:22.900","00:00:21.900","00:00:24.800","00:24,0","00:27,4","00:26,2","00:30,0","00:28,4","00:32,4"]
[null,null,"Авто-хроно-метраж","мин, с","00:15,90","00:18,10","00:16,90","00:19,0","00:17,80","00:19,90","00:18,70","00:21,30","00:20,30","00:23,10","00:22,10","00:25,00","00:24,20","00:27,60","00:26,40","00:30,20","00:28,60","00:32,60"]
[{"$f":"A44+1","v":17},"Плавание в ластах - 100 м ","Ручной хроно-метраж","мин, с",{"$nulls":4},"00:00:39.400","00:00:43.800","00:00:42.300","00:00:47","00:00:45.900","00:00:51","00:00:49.800","00:00:55.200","00:54,6","00:59,8","00:59,6","01:05,4","01:04,6","00:01:10.400"]
[null,null,"Авто-хроно-метраж","мин, с","00:36,00","00:40,00","00:37,80","00:42,00","00:39,60","00:44,00","00:42,50","00:47,20","00:46,10","00:51,20","00:50,00","00:55,40","00:54,80","00:60,00","00:59,80","01:05,60","01:04,80","01:10,60"]
[{"$f":"A46+1","v":18},"Плавание в ластах - 200 м ","Ручной хроно-метраж","мин, с",{"$nulls":4},"00:01:31.500","00:01:41","00:01:38","00:01:47.500","00:01:47","00:01:57.500","00:01:55.500","00:02:06.200","02:07,5","02:20,0","02:19,3","02:31,2","02:31,0","02:42,2"]
[null,null,"Авто-хроно-метраж","мин, с","01:23,20","01:30,80","01:27,40","01:36,20","01:31,70","01:41,20","01:38,20","01:47,70","01:47,20","01:57,70","01:55,70","02:06,40","02:07,70","02:20,20","02:19,50","02:31,40","02:31,20","02:42,40"]
[{"$f":"A48+1","v":19},"Плавание в ластах - 400 м ","Ручной хроно-метраж","мин, с",{"$nulls":4},"00:03:22","00:03:38.600","00:03:36.800","00:03:55.200","00:03:54.800","00:04:13.400","00:04:12.800","00:04:33","04:41,7","05:00,0","05:07,6","05:30,0","05:33,5","05:55,0"]
[null,null,"Авто-хроно-метраж","мин, с","03:04,20","03:18,20","03:14,00","03:28,60","03:22,20","03:38,80","03:37,00","03:55,40","03:55,00","04:13,60","04:13,00","04:33,20","04:41,90","05:00,20","05:07,80","05:30,20","05:33,70","05:55,20"]
[{"$f":"A50+1","v":20},"Плавание в ластах - 800 м ","Ручной хроно-метраж","мин, с",{"$nulls":4},"00:07:14.500","00:07:48","00:07:36","00:08:20.500","00:08:25","00:09:02.500","00:09:05.200","00:09:44.500","00:09:55","00:10:38.500","00:10:54","00:11:42","00:11:50.500","00:12:36.500"]
[null,null,"Авто-хроно-метраж","мин, с","06:34,70","07:05,20","06:52,20","07:25,70","07:14,70","07:48,20","07:36,20","08:20,70","08:25,20","09:02,70","09:05,40","09:44,70","09:55,20","10:38,70","10:54,20","11:42,20","11:50,70","12:36,70"]
[{"$f":"A52+1","v":21},"Плавание в ластах -                                          1500 м","Ручной хроно-метраж","мин, с",{"$nulls":4},"00:13:58","00:14:58.500","00:14:52.500","00:16:00","00:16:15","00:17:24.500","00:17:33","00:18:50"]
[null,null,"Авто-хроно-метраж","мин, с","12:41,20","13:39,20","13:20,70","14:18,20","13:58,20","14:58,70","14:52,70","16:00,20","16:15,20","17:24,70","17:33,20","18:50,20"]
[{"$f":"A54+1","v":22},"Плавание в ластах - эстафета               4х50 м - смешанная (только для спортсмена, стартующего первым)","Ручной хроно-метраж","мин, с",{"$nulls":4},"00:00:17.600","00:00:19.700","00:00:18.500","00:00:21.100","00:00:20.100","00:00:22.900","00:00:21.900","00:00:24.800","00:24,0","00:27,4","00:26,2","00:30,0","00:28,4","00:32,4"]
[null,null,"Авто-хроно-метраж","мин, с","00:15,90","00:18,10","00:16,90","00:19,0","00:17,80","00:19,90","00:18,70","00:21,30","00:20,30","00:23,10","00:22,10","00:25,00","00:24,20","00:27,60","00:26,40","00:30,20","00:28,60","00:32,60"]
[{"$f":"A56+1","v":23},"Плавание в ластах - эстафета              4х100 м (только для спортсмена, стартующего первым)","Ручной хроно-метраж","мин, с",{"$nulls":4},"00:00:39.400","00:00:43.800","00:00:42.300","00:00:47","00:00:45.900","00:00:51","00:00:49.800","00:00:55.200","00:54,6","00:59,8","00:59,6","01:05,4","01:04,6","00:01:10.400"]
[null,null,"Авто-хроно-метраж","мин, с","00:36,00","00:40,00","00:37,80","00:42,00","00:39,60","00:44,00","00:42,50","00:47,20","00:46,10","00:51,20","00:50,00","00:55,40","00:54,80","00:60,00","00:59,80","01:05,60","01:04,80","01:10,60"]
[{"$f":"A58+1","v":24},"Плавание в ластах - эстафета               4х200 м (только для спортсмена, стартующего первым)","Ручной хроно-метраж","мин, с",{"$nulls":4},"00:01:31.500","00:01:41","00:01:38","00:01:47.500","00:01:47","00:01:57.500","00:01:55.500","00:02:06.200","02:07,5","02:20,0","02:19,3","02:31,2","02:31,0","02:42,2"]
[null,null,"Авто-хроно-метраж","мин, с","01:23,20","01:30,80","01:27,40","01:36,20","01:31,70","01:41,20","01:38,20","01:47,70","01:47,20","01:57,70","01:55,70","02:06,40","02:07,70","02:20,20","02:19,50","02:31,40","02:31,20","02:42,40"]
[{"$f":"A60+1","v":25},"Подводное плавание -\n100 м ","Ручной хроно-метраж","мин, с",{"$nulls":4},"00:00:36.200","00:00:39.700","00:00:38.800","00:00:42.600","00:00:42.100","00:00:46.200","00:00:45.800","00:00:50.200","00:50,2","00:55,0","00:54,8","01:00,0","00:59,4","01:05,2"]
[null,null,"Авто-хроно-метраж","мин, с","00:33,10","00:36,30","00:34,70","00:38,10","00:36,40","00:39,90","00:40,00","00:42,80","00:42,30","00:46,40","00:46,00","00:50,40","00:50,40","00:55,20","00:55,00","01:00,20","00:59,60","01:05,40"]
[{"$f":"A62+1","v":26},"Подводное плавание -\n400 м ","Ручной хроно-метраж","мин, с",{"$nulls":4},"00:03:07.700","00:03:23","00:03:21","00:03:38","00:03:38","00:03:56","00:03:56.500","00:04:15"]
[null,null,"Авто-хроно-метраж","мин, с","02:50,20","03:04,60","02:59,20","03:14,40","03:07,90","03:23,20","03:21,20","03:38,20","03:38,20","03:56,20","03:56,70","04:15,20"]
[{"$f":"A64+1","v":27},"Ориентиро-\nвание  - упражнение \"зоны\"","Ручной хроно-метраж","мин, с",{"$nulls":4},"00:06:21","00:06:55","00:06:54","00:07:35","00:07:59","00:08:50","00:09:30","00:10:26"]
[null,null,"Авто-хроно-метраж","мин, с",null,null,"05:40,20","06:08,20","06:21,20","06:55,20","06:54,20","07:35,20","07:59,20","08:50,20","09:30,20","10:26,20"]
[{"$f":"A66+1","v":28},"Ориентиро-\nвание  - упражнение \"ориентиры\"","Ручной хроно-метраж","мин, с",{"$nulls":4},"00:07:00","00:07:42","00:07:42","00:08:25","00:08:52","00:09:45","00:10:20","00:11:28"]
[null,null,"Авто-хроно-метраж","мин, с",null,null,"06:18,20","07:06,20","07:00,20","07:42,20","07:42,20","08:25,20","08:52,20","09:45,20","10:20,20","11:28,20"]
[{"$f":"A68+1","v":29},"Ориентиро-\nвание  - упражнение \"звезда\"","Ручной хроно-метраж","мин, с",{"$nulls":4},"00:06:50","00:07:30","00:07:32","00:08:18","00:08:43","00:09:37","00:10:09","00:11:18"]
[null,null,"Авто-хроно-метраж","мин, с",null,null,"06:08,20","06:56,20","06:50,20","07:30,20","07:32,20","08:18,20","08:43,20","09:37,20","10:09,20","11:18,20"]
["Иные условия",null,"1. Условия выполнения норм для спортивных дисциплин, содержащих в своих наименованиях слово «апноэ»:                                                                                                                                  "]
[null,null,"1.1. МСМК присваивается за выполнение нормы: на чемпионате мира, кубке мира (финал) и занятии при этом 1-6 места в соответствующем виде программы; чемпионате Европы, кубке Европы (финал) и занятии при этом 1-4 места в соответствующем виде программы; других международных спортивных соревнованиях, включенных в ЕКП, и занятии при этом 1 места в соответствующем виде программы.                                                                                                                    "]
[null,null,"1.2. МС присваивается за выполнение нормы: на чемпионате России и занятии при этом 1-4 места в соответствующем виде программы; на Кубке России и занятии при этом 1-3 места в соответствующем виде программы; других всероссийских спортивных соревнованиях, включенных в ЕКП и занятии при этом 1-2 места в соответствующем виде программы.                    "]
[null,null,"1.3. КМС присваивается за выполнение нормы: на чемпионате России и занятии при этом не ниже 5-8 места в соответствующем виде программы; на Кубке России и занятии при этом не ниже 4-6 места в соответствующем виде программы; других всероссийских спортивных соревнованиях, включенных в ЕКП и занятии при этом не ниже 3-4 места в соответствующем виде программы.     "]
[null,null,"1.4. I спортивный разряд присваивается за выполнение нормы на спортивных соревнованиях, имеющих статус не ниже статуса официальных спортивных соревнований субъекта Российской Федерации."]
[null,null,"1.5. II, III спортивные разряды присваиваются за выполнение нормы на спортивных соревнованиях любого статуса."]
[null,null,"2. Условия выполнения норм для спортивных дисциплин, содержащих в своих наименованиях слова «дайвинг», «ныряние», «плавание»:"]
[null,null,"2.1. МСМК присваивается за выполнение нормы на международных спортивных соревнованиях, включенных в ЕКП.   "]
[null,null,"2.2. МС присваивается за выполнение нормы на спортивных соревнованиях, имеющих статус не ниже всероссийских спортивных соревнований, включенных в ЕКП."]
[null,null,"2.3.   КМС присваивается за выполнение нормы на спортивных соревнованиях не ниже статуса официальных спортивных соревнований субъекта Российской Федерации."]
[null,null,"2.4.   I спортивный разряд присваивается за выполнение нормы на спортивных соревнованиях, имеющих статус не ниже статуса официальных спортивных соревнований субъекта Российской Федерации."]
[null,null,"2.5. II, III спортивные разряды и юношеские спортивные разряды присваиваются за выполнение нормы на спортивных соревнованиях любого статуса."]
[null,null,"3. Условия выполнения норм для спортивных дисциплин, содержащих в своих наименованиях слово «ориентирование»:                                                                                                                                  "]
[null,null,"3.1. МС присваивается за выполнение нормы: на международных спортивных соревнованиях, включенных в ЕКП; на чемпионате России и занятии при этом 1-4 места в соответствующем виде программы; на Кубке России и занятии при этом 1-3 места в соответствующем виде программы; на первенстве России и занятии при этом 1-2 места в соответствующем виде программы; других всероссийских спортивных соревнованиях, включенных в ЕКП, и занятии при этом 1-2 места в соответствующем виде программы.                    "]
[null,null,"3.2. КМС присваивается за выполнение нормы: на международных спортивных соревнованиях, включенных в ЕКП; на чемпионате России и занятии при этом не ниже 5-8 места в соответствующем виде программы; на Кубке России и занятии при этом не ниже 4-6 места в соответствующем виде программы; на первенстве России и занятии при этом не ниже 3-4 места в соответствующем виде программы; других всероссийских спортивных соревнованиях, включенных в ЕКП, и занятии при этом не ниже 3-4 места в соответствующем виде программы.     "]
[null,null,"3.3. I спортивный разряд присваивается за выполнение нормы на спортивных соревнованиях, имеющих статус не ниже статуса официальных спортивных соревнований субъекта Российской Федерации."]
[null,null,"3.4. II, III спортивные разряды присваиваются за выполнение нормы на спортивных соревнованиях любого статуса."]
[null,null,"4. Первенства России, всероссийские спортивные соревнования, включенные в ЕКП, среди лиц с ограничением верхней границы возраста, первенства федерального округа, двух и более федеральных округов, первенства г. Москвы, г. Санкт-Петербурга, проводятся: по спортивным дисциплинам, содержащим в своих наименованиях слова «дайвинг», «ныряние» в возрастной группе: юниоры-юниорки (14-17 лет);  по                                    спортивным дисциплинам, содержащим в своих наименованиях слово «плавание» в возрастных группах: юниоры, юниорки (14-17 лет), юноши, девушки (12-13 лет); по спортивным дисциплинам, содержащим в своих наименованиях слово «ориентирование» в возрастной группе: юниоры, юниорки (15-21 год)."]
[null,null,"5. Первенства субъекта Российской Федерации, другие официальные спортивные соревнования субъекта Российской Федерации среди лиц с ограничением верхней границы возраста, первенства муниципального образования, другие официальные спортивные соревнования                               муниципального образования среди лиц с ограничением верхней границы возраста проводятся: по спортивным дисциплинам, содержащим в своих наименованиях слова «дайвинг», «ныряние» в возрастной группе: юниоры-юниорки (14-17 лет); по спортивным дисциплинам, содержащим                                 в своих наименованиях слово «плавание» (за исключением «плавание в ластах - 1500 м», «подводное плавание -100 м», «подводное плавание - 400 м») в возрастных группах: юниоры, юниорки (14-17 лет), юноши, девушки (12-13 лет), мальчики, девочки (9-11 лет); по спортивным дисциплинам «плавание в ластах - 1500 м», «подводное плавание - 100 м», «подводное плавание -400 м» в возрастной группе: юниоры, юниорки (14-17 лет), юноши, девушки (12-13 лет); по спортивным дисциплинам, содержащим в своих наименованиях слово «ориентирование» в возрастной группе: юниоры, юниорки (15-21 год)."]
[null,null,"6. Первенство мира среди студентов, первенство Европы среди студентов, другие международные спортивные соревнования среди студентов, всероссийские спортивные соревнования среди студентов, включенные в ЕКП, проводятся в возрастной группе юниоры, юниорки (17-25 лет)."]
[null,null,"7. Для участия в спортивных соревнованиях спортсмен должен достичь установленного возраста в календарный год проведения спортивных соревнований (за исключением спортивных дисциплин в наименованиях которых содержится слово «апноэ»)."]
[null,null,"8. В спортивных дисциплинах в наименованиях которых содержится слово «апноэ» спортсмен должен достичь установленного возраста до дня начала спортивного соревнования."]
[]
["Сокращения, используемые в настоящих нормах, требованиях и условиях их выполнения по виду спорта «подводный спорт»:"]
["МСМК - спортивное звание мастер спорта России международного класса;"]
["МС - спортивное звание мастер спорта России;"]
["КМС - спортивный разряд кандидат в мастера спорта;"]
["I - первый спортивный разряд;"]
["II - второй спортивный разряд;  "]
["III - третий спортивный разряд;"]
["ЕКП - Единый календарный план межрегиональных, всероссийских и международных физкультурных мероприятий и спортивных мероприятий;"]
["М - мужской пол;"]
["Ж - женский пол;"]
["мин - минута."]